Workbook
Name ⑥内国旅費・交通費2: #REF!
Name ⑥内国旅費・交通費2: #REF!
Name ⑥内国旅費・交通費2: #REF!
Name ⑥内国旅費・交通費2: #REF!
Name ⑥内国旅費・交通費2: #REF!
Name ⑥内国旅費・交通費2: #REF!
Name ⑥内国旅費・交通費2: #REF!
Name ⑥内国旅費・交通費2: #REF!
Name ⑥内国旅費・交通費2: #REF!
Name ⑥内国旅費・交通費2: チェックリスト!#REF!
Name ⑥内国旅費・交通費2: #REF!
Name DATA: #REF!
Name DATA: #REF!
Name DATA: #REF!
Name DATA: #REF!
Name DATA: #REF!
Name DATA: #REF!
Name DATA: #REF!
Name DATA: #REF!
Name DATA: #REF!
Name rate: #REF!
Name rate: #REF!
Name rate: #REF!
Name rate: #REF!
Name rate: #REF!
Name rate: #REF!
Name rate: #REF!
Name rate: #REF!
Name rate: チェックリスト!#REF!
Name rate: #REF!
Name あ: [1]四半期支出状況報告書総括表!#REF!+100
Name あ: [1]四半期支出状況報告書総括表!#REF!+100
Name あ: [1]四半期支出状況報告書総括表!#REF!+100
Name あ: [1]四半期支出状況報告書総括表!#REF!+100
Name あ: [1]四半期支出状況報告書総括表!#REF!+100
Name あ: [1]四半期支出状況報告書総括表!#REF!+100
Name あ: [1]四半期支出状況報告書総括表!#REF!+100
Name あ: [1]四半期支出状況報告書総括表!#REF!+100
Name あ: [1]四半期支出状況報告書総括表!#REF!+100
Name あ: [1]四半期支出状況報告書総括表!#REF!+100
Name く: #REF!
Name く: #REF!
Name く: #REF!
Name く: #REF!
Name く: #REF!
Name く: #REF!
Name く: #REF!
Name く: #REF!
Name く: #REF!
Name く: チェックリスト!#REF!
Name く: #REF!
Name だ: #REF!
Name だ: #REF!
Name だ: #REF!
Name だ: #REF!
Name だ: #REF!
Name だ: #REF!
Name だ: #REF!
Name だ: #REF!
Name だ: #REF!

Sheet ★マスタ（最初にこちらを入力）
A1: マスタシート
A2: ※次シート以降に自動反映しますので、最初に以下入力して下さい
A3: （各シートでそれぞれ手入力も可能です。）
A5: 案件名 | D5: 20●●年度採択世界の人びとのためのJICA基金活用事業
D6: 「●●」
A7: 団体名 | D7: ●●
A8: 対象国 | D8: ●●
A9: 事業実施期間 | D9: 20●●年●月●日～20●●年●月●日

Sheet 表紙
A2: 様式08 終了時経費精算報告書（一括払）
T4: 202●年●月●日
A6: 独立行政法人国際協力機構
A7: ●●センター
A8: 契約担当役所長 ●● 殿
N9: (団体名) | Q9: ='★マスタ（最初にこちらを入力）'!D7 -> ●●
N10: (代表者) | Q10: 役職・氏名
A13: 世界の人びとのためのJICA基金活用事業
A14: 終了時経費精算報告書
A17: 20●●年●●月●●日付覚書第6条第2項及び第3項に基づき、下記のとおり支出状況報告書を提出します。
A20: 記
A22: 案 件 名 称 ： | F22: ='★マスタ（最初にこちらを入力）'!D5 -> 20●●年度採択世界の人びとのためのJICA基金活用事業
F23: ='★マスタ（最初にこちらを入力）'!D6 -> 「●●」
A25: 事業実施期間： | F25: ='★マスタ（最初にこちらを入力）'!D9 -> 20●●年●月●日～20●●年●月●日
A27: 事業経費総額： | F27: ='終了時経費精算報告書総括表 '!E30 -> 0 | L27: 円 | M27: （JICA負担額）
A28: 精算総額： | F28: ='終了時経費精算報告書総括表 '!G30 -> 0 | L28: 円
A29: 経費精算内訳： | F29: 別紙のとおり
A31: 添 付 書 類 ： | F31: (1)終了時経費精算報告書総括表
F32: (2)費目別支払簿（１．旅費（航空賃））
F33: (3)項目別立替金精算書
F34: （２．活動経費（海外・国内で行う活動のために必要な経費）、３．その他経費）
F35: (4)証憑（写し）一式
A37: 本報告書への押印を省略される場合は、以下の全ての情報を記入してください。 また、本報告書を電子メールにて提出される場合は、提出時の電子メールを責任者本人から送付するか、責任者をCCに入れて送付してください。
B39: 氏 名 | H39: 所属先、役職 | O39: 電話番号 | S39: メールアドレス
A40: 責任者
A41: 担当者
AA44: 以 上

Sheet 終了時経費精算報告書総括表 
B2: 様式07 終了時経費精算報告書（一括払）
B4: 団体名: | C4: ='★マスタ（最初にこちらを入力）'!D7 -> ●●
B6: 終了時経費精算報告書総括表
B7: 20●●年●●月 終了
B9: 1. 精 算： | G9: （単位：円）
B10: 事業経費（JICA負担総額）（税込） | F10: =E30 -> 0
B11: 精算総額（税込） | F11: =G30 -> 0
B14: 2. 内 訳：
B15: 経費項目 | E15: 覚書締結時 | F15: 項目間流用後 | G15: 支出額
B17: １．旅費（航空賃）
B18: （１）現地渡航費（航空運賃） | G18: ='1.旅費(1)現地渡航費（航空運賃）'!G14 -> 0
B19: （２）本邦渡航費（航空運賃） | G19: ='1.旅費(2)本邦渡航費（航空運賃） '!H16 -> 0
B20: ２．活動経費
B21: （１）現地国内旅費・日本国内旅費 | G21: ='2.活動経費(1)現地・日本国内旅費'!G269 -> 0
B22: （２）傭人費 ・謝金 | G22: ='2.活動経費(2)傭人費・謝金'!F269 -> 0
B23: （３）セミナー等関連費 | G23: ='2.活動経費(3)セミナー等関連費'!F269 -> 0
B24: （４）物品・機材購入費 | G24: ='2.活動経費(4)物品・機材購入費'!F269 -> 0
B25: （５）輸送費・遠隔活動費 | G25: ='2.活動経費(5)輸送費・遠隔活動費'!F269 -> 0
B26: （６）保険料 | G26: ='2.活動経費(6)保険料'!F269 -> 0
B27: ３．その他経費
B28: （１）施設・設備等関連費 | G28: ='3.その他経費(1)施設・設備等関連費'!F269 -> 0
B29: （２）その他経費 | G29: ='3.その他経費(2)その他経費'!F269 -> 0
B30: 合計金額 | E30: =SUM(E18:E19,E22:E29) -> 0 | G30: =SUM(G18:G19,G22:G29) -> 0
B31: 合計金額のうち、課税分 ＊インボイス事業者 ・国内で支払を行ったもの | G31: ='1.旅費(1)現地渡航費（航空運賃）'!H16+'2.活動経費(2)傭人費・謝金'!J269+'2.活動経費(1)現地・日本国内旅費'!K269+'2.活動経費(3)セミナー等関連費'!J269+'2.活動経費(3)セミナー等関連費'!J271+'2.活動経費(5)輸送費・遠隔活動費'!J269+'3.その他経費(1)施設・設備等関連費'!J269+'2.活動経費(4)物品・機材購入費'!J269+'3.その他経費(2)その他経費'!J269 -> 0
B32: 合計金額のうち、課税分 ＊非インボイス事業者 ・国内で支払を行ったもの | G32: ='1.旅費(1)現地渡航費（航空運賃）'!H17+'2.活動経費(2)傭人費・謝金'!J270+'2.活動経費(1)現地・日本国内旅費'!K270+'2.活動経費(3)セミナー等関連費'!J270+'2.活動経費(3)セミナー等関連費'!J272+'2.活動経費(5)輸送費・遠隔活動費'!J270+'3.その他経費(1)施設・設備等関連費'!J270+'2.活動経費(4)物品・機材購入費'!J270+'3.その他経費(2)その他経費'!J270 -> 0
B33: 合計金額のうち、不課税分 ・海外で支払を行ったもの、査証代など | G33: ='1.旅費(1)現地渡航費（航空運賃）'!H18+'1.旅費(2)本邦渡航費（航空運賃） '!H16+'2.活動経費(2)傭人費・謝金'!J271+'2.活動経費(1)現地・日本国内旅費'!K271+'2.活動経費(3)セミナー等関連費'!J273+'2.活動経費(5)輸送費・遠隔活動費'!J271+'3.その他経費(1)施設・設備等関連費'!J271+'2.活動経費(4)物品・機材購入費'!J271+'3.その他経費(2)その他経費'!J271 -> 0
B34: 合計金額のうち、非課税分 ・保険料など | G34: ='2.活動経費(2)傭人費・謝金'!J272+'2.活動経費(1)現地・日本国内旅費'!K272+'2.活動経費(3)セミナー等関連費'!J274+'2.活動経費(5)輸送費・遠隔活動費'!J272+'3.その他経費(1)施設・設備等関連費'!J272+'2.活動経費(4)物品・機材購入費'!J272+'3.その他経費(2)その他経費'!J272 -> 0
B35: 合計金額のうち、免税分 ・国内で購入した航空券（空港施設使用料・旅客保安サービス料・発券手数料を除く） | G35: ='1.旅費(1)現地渡航費（航空運賃）'!J14 -> 0
B37: ※JICA国内機関使用欄
B38: 12HC外部専門家等-旅費 （航空賃） 1.旅費（1）現地渡航費（2）本邦渡航費 | E38: インボイス10% | F38: ='1.旅費(1)現地渡航費（航空運賃）'!H16 -> 0
E39: 非インボイス10% | F39: ='1.旅費(1)現地渡航費（航空運賃）'!H17 -> 0
E40: 免税 | F40: ='1.旅費(1)現地渡航費（航空運賃）'!J14 -> 0
E41: 不課税 | F41: ='1.旅費(1)現地渡航費（航空運賃）'!H18+'1.旅費(2)本邦渡航費（航空運賃） '!H16 -> 0
B42: 12HD外部専門家等-旅費 （航空賃） 2.活動経費（1）現地国内旅費・日本国内旅費 | E42: インボイス10% | F42: ='2.活動経費(1)現地・日本国内旅費'!E272 -> 0
E43: 非インボイス10% | F43: ='2.活動経費(1)現地・日本国内旅費'!E273 -> 0
E44: 不課税 | F44: ='2.活動経費(1)現地・日本国内旅費'!E274 -> 0
B45: 12HD外部専門家等-旅費 （航空賃以外） 2.活動経費（1）現地国内旅費・日本国内旅費 | E45: インボイス10% | F45: ='2.活動経費(1)現地・日本国内旅費'!K269-'2.活動経費(1)現地・日本国内旅費'!E272 -> 0
E46: 非インボイス10% | F46: ='2.活動経費(1)現地・日本国内旅費'!K270-'2.活動経費(1)現地・日本国内旅費'!E273 -> 0
E47: 不課税 | F47: ='2.活動経費(1)現地・日本国内旅費'!K271-'2.活動経費(1)現地・日本国内旅費'!E274 -> 0
B48: 12HB外部専門家等-謝金・報酬 2.活動経費（2）傭人費、謝金 | E48: インボイス10% | F48: ='2.活動経費(2)傭人費・謝金'!J269 -> 0
...

Sheet 1.旅費(1)現地渡航費（航空運賃）
A1: 団体名： | B1: ='★マスタ（最初にこちらを入力）'!D7 -> ●● | J1: 一括払
A2: 対象国： | B2: ='★マスタ（最初にこちらを入力）'!D8 -> ●●
G4: 項目別支払簿
A5: １．旅費（航空賃）（１）現地渡航費（航空運賃）
A6: 証拠 書類 番号 | B6: 氏名 | D6: 担当業務 | E6: 渡航日 | G6: 航空券代 | K6: 備 考
E7: 出国日 (本邦出発日) | F7: 帰国日 (本邦到着日) | G7: 総額（A） | H7: 課税分 | I7: 消費税区分 | J7: 免税分
H8: 空港施設使用料、旅客保安サービス料、各種手数料(B) | J8: 航空賃等(課税分を除く)（C） (A)-(B)
A9: 1 | J9: =G9-H9 -> 0
A10: 2 | J10: =G10-H10 -> 0
A11: 3 | J11: =G11-H11 -> 0
A12: 4 | J12: =G12-H12 -> 0
A13: 5 | J13: =G13-H13 -> 0
A14: 現地渡航費（航空運賃）合計 | G14: =SUM(G9:G13) -> 0 | H14: =SUM(H9:H13) -> 0 | J14: =SUM(J9:J13) -> 0
F15: 消費税内訳 | H15: 税額
F16: 合計（インボイス事業者） | H16: =SUMIFS(H9:H13,I9:I13,"インボイス") -> 0
F17: 合計（非インボイス事業者） | H17: =SUMIFS(H9:H13,I9:I13,"非インボイス") -> 0
F18: 合計（不課税） | H18: =SUMIFS(G9:G13,I9:I13,"不課税") -> 0

Sheet 1.旅費(2)本邦渡航費（航空運賃） 
A1: 団体名： | B1: ='★マスタ（最初にこちらを入力）'!D7 -> ●● | I1: 一括払
A2: 対象国： | B2: ='★マスタ（最初にこちらを入力）'!D8 -> ●●
E3: 項目別支払簿
H4: US＄
A5: １．旅費（航空賃）（２）本邦渡航費（航空運賃） | H5: 現地通貨
A6: 証拠 書類 番号 | B6: 氏名 | D6: 担当業務 | E6: 渡航日 | G6: 航空券代（総額） | I6: 備 考
E7: 出国日 (対象国出発日) | F7: 帰国日 (対象国到着日) | G7: US＄ | H7: =H5 -> 現地通貨
A8: 1
A9: 2
A10: 3
A11: 4
A12: 5
A13: 合計額 | G13: =SUM(G8:G12) -> 0 | H13: =SUM(H8:H12) -> 0
A14: 円貨換算支出額 | G14: =ROUNDDOWN(G13*I4,0) -> 0 | H14: =ROUNDDOWN(H13*I5,0) -> 0
A16: 本邦渡航費（航空運賃）合計 | H16: =G14+H14 -> 0

Sheet 2.活動経費(1)現地・日本国内旅費
A1: ='1.旅費(1)現地渡航費（航空運賃）'!A1 -> 団体名： | B1: ='★マスタ（最初にこちらを入力）'!D7 -> ●● | K1: 一括払
A2: ='1.旅費(1)現地渡航費（航空運賃）'!A2 -> 対象国： | B2: ='★マスタ（最初にこちらを入力）'!D8 -> ●●
F4: 項目別立替金精算書
A5: ２．活動経費（１）現地・日本国内旅費 | J5: US＄
J6: 現地通貨 | T6: 課税(インボイス)
A7: 証拠 書類 番号 | B7: 日付 | C7: ※航空賃の場合のみ入力 | D7: 摘要（内容、品目、数量等） | E7: 支出金額 | H7: 税率 | I7: 税額 ※手入力してください | J7: 消費税区分 | K7: 備 考 | T7: 課税(非インボイス)
E8: US＄ | F8: =J6 -> 現地通貨 | G8: 日本円 | T8: 不課税
A9: 1 | T9: 非課税
A10: 2 | T10: 免税
A11: 3
A12: 4
A13: 5
A14: 6
A15: 7
A16: 8
A17: 9
A18: 10
A19: 月額合計額 | E19: =SUM(E9:E18) -> 0 | F19: =SUM(F9:F18) -> 0 | G19: =SUM(G9:G18) -> 0 | I19: 円貨換算支出 ●月分合計
A20: 円貨換算支出額 | E20: =ROUNDDOWN(E19*K5,0) -> 0 | F20: =ROUNDDOWN(F19*K6,0) -> 0 | J20: =E20+F20+G19 -> 0
E21: 消費税内訳 | G21: 支出金額 | H21: 税率 | I21: 税額
E22: 合計（インボイス事業者） | G22: =SUMIFS(G9:G18,H9:H18,0.1,J9:J18,"課税(インボイス)") -> 0 | H22: 0.1 | I22: =SUMIFS(I9:I18,H9:H18,0.1,J9:J18,"課税(インボイス)") -> 0 | K22: 日本円 | L22: 現地通貨（円換算） | M22: ドル（円換算） | N22: 計 | O22: 航空賃
E23: 合計（非インボイス事業者） | G23: =SUMIFS(G9:G18,H9:H18,0.1,J9:J18,"課税(非インボイス)") -> 0 | H23: 0.1 | I23: =SUMIFS(I9:I18,H9:H18,0.1,J9:J18,"課税(非インボイス)") -> 0 | J23: 不課税 | K23: =SUMIFS(G9:G18,J9:J18,"不課税") -> 0 | L23: =ROUNDDOWN(SUMIFS(F9:F18,J9:J18,"不課税")*K6,0) -> 0 | M23: =ROUNDDOWN(SUMIFS(E9:E18,J9:J18,"不課税")*K5,0) -> 0 | N23: =SUM(K23:M23) -> 0 | O23: =ROUNDDOWN(SUMIFS(E9:E18,C9:C18,"航空賃",J9:J18,"不課税")*K5,0)+ROUNDDOWN(SUMIFS(F9:F18,C9:C18,"航空賃",J9:J18,"不課税")*K6,0) -> 0
E24: 合計（インボイス事業者） | G24: =SUMIFS(G9:G18,H9:H18,0.08,J9:J18,"課税(インボイス)") -> 0 | H24: 0.08 | I24: =SUMIFS(I9:I18,H9:H18,0.08,J9:J18,"課税(インボイス)") -> 0 | J24: 非課税
E25: 合計（非インボイス事業者） | G25: =SUMIFS(G9:G18,H9:H18,0.08,J9:J18,"課税(非インボイス)") -> 0 | H25: 0.08 | I25: =SUMIFS(I9:I18,H9:H18,0.08,J9:J18,"課税(非インボイス)") -> 0
J27: US＄
J28: 現地通貨
A29: 証拠 書類 番号 | B29: 日付 | C29: ※航空賃の場合のみ入力 | D29: 摘要（内容、品目、数量等） | E29: 支出金額 | H29: 税率 | I29: 税額 ※手入力してください | J29: 消費税区分 | K29: 備 考
E30: US＄ | F30: =J28 -> 現地通貨 | G30: 日本円
A31: 1
A32: 2
A33: 3
A34: 4
A35: 5
A36: 6
A37: 7
A38: 8
A39: 9
A40: 10
A41: 月額合計額 | E41: =SUM(E31:E40) -> 0 | F41: =SUM(F31:F40) -> 0 | G41: =SUM(G31:G40) -> 0 | I41: 円貨換算支出 ●月分合計
A42: 円貨換算支出額 | E42: =ROUNDDOWN(E41*K27,0) -> 0 | F42: =ROUNDDOWN(F41*K28,0) -> 0 | J42: =E42+F42+G41 -> 0
...

Sheet 2.活動経費(2)傭人費・謝金
A1: ='1.旅費(1)現地渡航費（航空運賃）'!A1 -> 団体名： | B1: ='★マスタ（最初にこちらを入力）'!D7 -> ●● | J1: 一括払
A2: ='1.旅費(1)現地渡航費（航空運賃）'!A2 -> 対象国： | B2: ='★マスタ（最初にこちらを入力）'!D8 -> ●●
E4: 項目別立替金精算書
A5: ２．活動経費（１）傭人費・謝金 | I5: US＄
I6: 現地通貨 | S6: 課税(インボイス)
A7: 証拠 書類 番号 | B7: 日付 | C7: 摘要（内容、品目、数量等） | D7: 支出金額 | G7: 税率 | H7: 税額 ※手入力してください | I7: 消費税区分 | J7: 備 考 | S7: 課税(非インボイス)
D8: US＄ | E8: =I6 -> 現地通貨 | F8: 日本円 | S8: 不課税
A9: 1 | S9: 非課税
A10: 2 | S10: 免税
A11: 3
A12: 4
A13: 5
A14: 6
A15: 7
A16: 8
A17: 9
A18: 10
A19: 月額合計額 | D19: =SUM(D9:D18) -> 0 | E19: =SUM(E9:E18) -> 0 | F19: =SUM(F9:F18) -> 0 | H19: 円貨換算支出 ●月分合計
A20: 円貨換算支出額 | D20: =ROUNDDOWN(D19*J5,0) -> 0 | E20: =ROUNDDOWN(E19*J6,0) -> 0 | I20: =D20+E20+F19 -> 0
D21: 消費税内訳 | F21: 支出金額 | G21: 税率 | H21: 税額
D22: 合計（インボイス事業者） | F22: =SUMIFS(F9:F18,G9:G18,0.1,I9:I18,"課税(インボイス)") -> 0 | G22: 0.1 | H22: =SUMIFS(H9:H18,G9:G18,0.1,I9:I18,"課税(インボイス)") -> 0 | J22: 日本円 | K22: 現地通貨（円換算） | L22: ドル（円換算） | M22: 計
D23: 合計（非インボイス事業者） | F23: =SUMIFS(F9:F18,G9:G18,0.1,I9:I18,"課税(非インボイス)") -> 0 | G23: 0.1 | H23: =SUMIFS(H9:H18,G9:G18,0.1,I9:I18,"課税(非インボイス)") -> 0 | I23: 不課税 | J23: =SUMIFS(F9:F18,I9:I18,"不課税") -> 0 | K23: =ROUNDDOWN(SUMIFS(E9:E18,I9:I18,"不課税")*J6,0) -> 0 | L23: =ROUNDDOWN(SUMIFS(D9:D18,I9:I18,"不課税")*J5,0) -> 0 | M23: =SUM(J23:L23) -> 0
D24: 合計（インボイス事業者） | F24: =SUMIFS(F9:F18,G9:G18,0.08,I9:I18,"課税(インボイス)") -> 0 | G24: 0.08 | H24: =SUMIFS(H9:H18,G9:G18,0.08,I9:I18,"課税(インボイス)") -> 0 | I24: 非課税
D25: 合計（非インボイス事業者） | F25: =SUMIFS(F9:F18,G9:G18,0.08,I9:I18,"課税(非インボイス)") -> 0 | G25: 0.08 | H25: =SUMIFS(H9:H18,G9:G18,0.08,I9:I18,"課税(非インボイス)") -> 0
I27: US＄
I28: 現地通貨
A29: 証拠 書類 番号 | B29: 日付 | C29: 摘要（内容、品目、数量等） | D29: 支出金額 | G29: 税率 | H29: 税額 ※手入力してください | I29: 消費税区分 | J29: 備 考
D30: US＄ | E30: =I28 -> 現地通貨 | F30: 日本円
A31: 1
A32: 2
A33: 3
A34: 4
A35: 5
A36: 6
A37: 7
A38: 8
A39: 9
A40: 10
A41: 月額合計額 | D41: =SUM(D31:D40) -> 0 | E41: =SUM(E31:E40) -> 0 | F41: =SUM(F31:F40) -> 0 | H41: 円貨換算支出 ●月分合計
A42: 円貨換算支出額 | D42: =ROUNDDOWN(D41*J27,0) -> 0 | E42: =ROUNDDOWN(E41*J28,0) -> 0 | I42: =D42+E42+F41 -> 0
...

Sheet 2.活動経費(3)セミナー等関連費
A1: ='1.旅費(1)現地渡航費（航空運賃）'!A1 -> 団体名： | B1: ='★マスタ（最初にこちらを入力）'!D7 -> ●● | J1: 一括払
A2: ='1.旅費(1)現地渡航費（航空運賃）'!A2 -> 対象国： | B2: ='★マスタ（最初にこちらを入力）'!D8 -> ●●
E4: 項目別立替金精算書
A5: ２．活動経費（３）セミナー等関連費 | I5: US＄
I6: 現地通貨 | R6: 課税(インボイス)
A7: 証拠 書類 番号 | B7: 日付 | C7: 摘要（内容、品目、数量等） | D7: 支出金額 | G7: 税率 | H7: 税額 ※手入力してください | I7: 消費税区分 | J7: 備 考 | R7: 課税(非インボイス)
D8: US＄ | E8: =I6 -> 現地通貨 | F8: 日本円 | R8: 不課税
A9: 1 | R9: 非課税
A10: 2 | R10: 免税
A11: 3
A12: 4
A13: 5
A14: 6
A15: 7
A16: 8
A17: 9
A18: 10
A19: 月額合計額 | D19: =SUM(D9:D18) -> 0 | E19: =SUM(E9:E18) -> 0 | F19: =SUM(F9:F18) -> 0 | H19: 円貨換算支出 ●月分合計
A20: 円貨換算支出額 | D20: =ROUNDDOWN(D19*J5,0) -> 0 | E20: =ROUNDDOWN(E19*J6,0) -> 0 | I20: =D20+E20+F19 -> 0
D21: 消費税内訳 | F21: 支出金額 | G21: 税率 | H21: 税額
D22: 合計（インボイス事業者） | F22: =SUMIFS(F9:F18,G9:G18,0.1,I9:I18,"課税(インボイス)") -> 0 | G22: 0.1 | H22: =SUMIFS(H9:H18,G9:G18,0.1,I9:I18,"課税(インボイス)") -> 0 | J22: 日本円 | K22: 現地通貨（円換算） | L22: ドル（円換算） | M22: 計
D23: 合計（非インボイス事業者） | F23: =SUMIFS(F9:F18,G9:G18,0.1,I9:I18,"課税(非インボイス)") -> 0 | G23: 0.1 | H23: =SUMIFS(H9:H18,G9:G18,0.1,I9:I18,"課税(非インボイス)") -> 0 | I23: 不課税 | J23: =SUMIFS(F9:F18,I9:I18,"不課税") -> 0 | K23: =ROUNDDOWN(SUMIFS(E9:E18,I9:I18,"不課税")*J6,0) -> 0 | L23: =ROUNDDOWN(SUMIFS(D9:D18,I9:I18,"不課税")*J5,0) -> 0 | M23: =SUM(J23:L23) -> 0
D24: 合計（インボイス事業者） | F24: =SUMIFS(F9:F18,G9:G18,0.08,I9:I18,"課税(インボイス)") -> 0 | G24: 0.08 | H24: =SUMIFS(H9:H18,G9:G18,0.08,I9:I18,"課税(インボイス)") -> 0 | I24: 非課税 | J24: =SUMIFS(F9:F18,I9:I18,"非課税") -> 0
D25: 合計（非インボイス事業者） | F25: =SUMIFS(F9:F18,G9:G18,0.08,I9:I18,"課税(非インボイス)") -> 0 | G25: 0.08 | H25: =SUMIFS(H9:H18,G9:G18,0.08,I9:I18,"課税(非インボイス)") -> 0
I27: US＄
I28: 現地通貨
A29: 証拠 書類 番号 | B29: 日付 | C29: 摘要（内容、品目、数量等） | D29: 支出金額 | G29: 税率 | H29: 税額 ※手入力してください | I29: 消費税区分 | J29: 備 考
D30: US＄ | E30: =I28 -> 現地通貨 | F30: 日本円
A31: 1
A32: 2
A33: 3
A34: 4
A35: 5
A36: 6
A37: 7
A38: 8
A39: 9
A40: 10
A41: 月額合計額 | D41: =SUM(D31:D40) -> 0 | E41: =SUM(E31:E40) -> 0 | F41: =SUM(F31:F40) -> 0 | H41: 円貨換算支出 ●月分合計
A42: 円貨換算支出額 | D42: =ROUNDDOWN(D41*J27,0) -> 0 | E42: =ROUNDDOWN(E41*J28,0) -> 0 | I42: =D42+E42+F41 -> 0
...

Sheet 2.活動経費(4)物品・機材購入費
A1: ='1.旅費(1)現地渡航費（航空運賃）'!A1 -> 団体名： | B1: ='★マスタ（最初にこちらを入力）'!D7 -> ●● | J1: 一括払
A2: ='1.旅費(1)現地渡航費（航空運賃）'!A2 -> 対象国： | B2: ='★マスタ（最初にこちらを入力）'!D8 -> ●●
E4: 項目別立替金精算書
A5: ２．活動経費（４）物品・機材購入費 | I5: US＄
I6: 現地通貨 | S6: 課税(インボイス)
A7: 証拠 書類 番号 | B7: 日付 | C7: 摘要（内容、品目、数量等） | D7: 支出金額 | G7: 税率 | H7: 税額 ※手入力してください | I7: 消費税区分 | J7: 備 考 | S7: 課税(非インボイス)
D8: US＄ | E8: =I6 -> 現地通貨 | F8: 日本円 | S8: 不課税
A9: 1 | S9: 非課税
A10: 2 | S10: 免税
A11: 3
A12: 4
A13: 5
A14: 6
A15: 7
A16: 8
A17: 9
A18: 10
A19: 月額合計額 | D19: =SUM(D9:D18) -> 0 | E19: =SUM(E9:E18) -> 0 | F19: =SUM(F9:F18) -> 0 | H19: 円貨換算支出 ●月分合計
A20: 円貨換算支出額 | D20: =ROUNDDOWN(D19*J5,0) -> 0 | E20: =ROUNDDOWN(E19*J6,0) -> 0 | I20: =D20+E20+F19 -> 0
D21: 消費税内訳 | F21: 支出金額 | G21: 税率 | H21: 税額
D22: 合計（インボイス事業者） | F22: =SUMIFS(F9:F18,G9:G18,0.1,I9:I18,"課税(インボイス)") -> 0 | G22: 0.1 | H22: =SUMIFS(H9:H18,G9:G18,0.1,I9:I18,"課税(インボイス)") -> 0 | J22: 日本円 | K22: 現地通貨（円換算） | L22: ドル（円換算） | M22: 計
D23: 合計（非インボイス事業者） | F23: =SUMIFS(F9:F18,G9:G18,0.1,I9:I18,"課税(非インボイス)") -> 0 | G23: 0.1 | H23: =SUMIFS(H9:H18,G9:G18,0.1,I9:I18,"課税(非インボイス)") -> 0 | I23: 不課税 | J23: =SUMIFS(F9:F18,I9:I18,"不課税") -> 0 | K23: =ROUNDDOWN(SUMIFS(E9:E18,I9:I18,"不課税")*J6,0) -> 0 | L23: =ROUNDDOWN(SUMIFS(D9:D18,I9:I18,"不課税")*J5,0) -> 0 | M23: =SUM(J23:L23) -> 0
D24: 合計（インボイス事業者） | F24: =SUMIFS(F9:F18,G9:G18,0.08,I9:I18,"課税(インボイス)") -> 0 | G24: 0.08 | H24: =SUMIFS(H9:H18,G9:G18,0.08,I9:I18,"課税(インボイス)") -> 0 | I24: 非課税 | J24: =SUMIFS(F9:F18,I9:I18,"非課税") -> 0
D25: 合計（非インボイス事業者） | F25: =SUMIFS(F9:F18,G9:G18,0.08,I9:I18,"課税(非インボイス)") -> 0 | G25: 0.08 | H25: =SUMIFS(H9:H18,G9:G18,0.08,I9:I18,"課税(非インボイス)") -> 0
I27: US＄
I28: 現地通貨
A29: 証拠 書類 番号 | B29: 日付 | C29: 摘要（内容、品目、数量等） | D29: 支出金額 | G29: 税率 | H29: 税額 ※手入力してください | I29: 消費税区分 | J29: 備 考
D30: US＄ | E30: =I28 -> 現地通貨 | F30: 日本円
A31: 1
A32: 2
A33: 3
A34: 4
A35: 5
A36: 6
A37: 7
A38: 8
A39: 9
A40: 10
A41: 月額合計額 | D41: =SUM(D31:D40) -> 0 | E41: =SUM(E31:E40) -> 0 | F41: =SUM(F31:F40) -> 0 | H41: 円貨換算支出 ●月分合計
A42: 円貨換算支出額 | D42: =ROUNDDOWN(D41*J27,0) -> 0 | E42: =ROUNDDOWN(E41*J28,0) -> 0 | I42: =D42+E42+F41 -> 0
...

Sheet 2.活動経費(5)輸送費・遠隔活動費
A1: ='1.旅費(1)現地渡航費（航空運賃）'!A1 -> 団体名： | B1: ='★マスタ（最初にこちらを入力）'!D7 -> ●● | J1: 一括払
A2: ='1.旅費(1)現地渡航費（航空運賃）'!A2 -> 対象国： | B2: ='★マスタ（最初にこちらを入力）'!D8 -> ●●
E4: 項目別立替金精算書
A5: ２．活動経費（５）輸送費・遠隔活動費 | I5: US＄
I6: 現地通貨 | S6: 課税(インボイス)
A7: 証拠 書類 番号 | B7: 日付 | C7: 摘要（内容、品目、数量等） | D7: 支出金額 | G7: 税率 | H7: 税額 ※手入力してください | I7: 消費税区分 | J7: 備 考 | S7: 課税(非インボイス)
D8: US＄ | E8: =I6 -> 現地通貨 | F8: 日本円 | S8: 不課税
A9: 1 | S9: 非課税
A10: 2 | S10: 免税
A11: 3
A12: 4
A13: 5
A14: 6
A15: 7
A16: 8
A17: 9
A18: 10
A19: 月額合計額 | D19: =SUM(D9:D18) -> 0 | E19: =SUM(E9:E18) -> 0 | F19: =SUM(F9:F18) -> 0 | H19: 円貨換算支出 ●月分合計
A20: 円貨換算支出額 | D20: =ROUNDDOWN(D19*J5,0) -> 0 | E20: =ROUNDDOWN(E19*J6,0) -> 0 | I20: =D20+E20+F19 -> 0
D21: 消費税内訳 | F21: 支出金額 | G21: 税率 | H21: 税額
D22: 合計（インボイス事業者） | F22: =SUMIFS(F9:F18,G9:G18,0.1,I9:I18,"課税(インボイス)") -> 0 | G22: 0.1 | H22: =SUMIFS(H9:H18,G9:G18,0.1,I9:I18,"課税(インボイス)") -> 0 | J22: 日本円 | K22: 現地通貨（円換算） | L22: ドル（円換算） | M22: 計
D23: 合計（非インボイス事業者） | F23: =SUMIFS(F9:F18,G9:G18,0.1,I9:I18,"課税(非インボイス)") -> 0 | G23: 0.1 | H23: =SUMIFS(H9:H18,G9:G18,0.1,I9:I18,"課税(非インボイス)") -> 0 | I23: 不課税 | J23: =SUMIFS(F9:F18,I9:I18,"不課税") -> 0 | K23: =ROUNDDOWN(SUMIFS(E9:E18,I9:I18,"不課税")*J6,0) -> 0 | L23: =ROUNDDOWN(SUMIFS(D9:D18,I9:I18,"不課税")*J5,0) -> 0 | M23: =SUM(J23:L23) -> 0
D24: 合計（インボイス事業者） | F24: =SUMIFS(F9:F18,G9:G18,0.08,I9:I18,"課税(インボイス)") -> 0 | G24: 0.08 | H24: =SUMIFS(H9:H18,G9:G18,0.08,I9:I18,"課税(インボイス)") -> 0 | I24: 非課税 | J24: =SUMIFS(F9:F18,I9:I18,"非課税") -> 0
D25: 合計（非インボイス事業者） | F25: =SUMIFS(F9:F18,G9:G18,0.08,I9:I18,"課税(非インボイス)") -> 0 | G25: 0.08 | H25: =SUMIFS(H9:H18,G9:G18,0.08,I9:I18,"課税(非インボイス)") -> 0
I27: US＄
I28: 現地通貨
A29: 証拠 書類 番号 | B29: 日付 | C29: 摘要（内容、品目、数量等） | D29: 支出金額 | G29: 税率 | H29: 税額 ※手入力してください | I29: 消費税区分 | J29: 備 考
D30: US＄ | E30: =I28 -> 現地通貨 | F30: 日本円
A31: 1
A32: 2
A33: 3
A34: 4
A35: 5
A36: 6
A37: 7
A38: 8
A39: 9
A40: 10
A41: 月額合計額 | D41: =SUM(D31:D40) -> 0 | E41: =SUM(E31:E40) -> 0 | F41: =SUM(F31:F40) -> 0 | H41: 円貨換算支出 ●月分合計
A42: 円貨換算支出額 | D42: =ROUNDDOWN(D41*J27,0) -> 0 | E42: =ROUNDDOWN(E41*J28,0) -> 0 | I42: =D42+E42+F41 -> 0
...

Sheet 2.活動経費(6)保険料
A1: ='1.旅費(1)現地渡航費（航空運賃）'!A1 -> 団体名： | B1: ='★マスタ（最初にこちらを入力）'!D7 -> ●● | J1: 一括払
A2: ='1.旅費(1)現地渡航費（航空運賃）'!A2 -> 対象国： | B2: ='★マスタ（最初にこちらを入力）'!D8 -> ●●
E4: 項目別立替金精算書
A5: ２．活動経費（６）保険料 | I5: US＄
C6: 税区分は非課税を選んでください | I6: 現地通貨 | S6: 課税(インボイス)
A7: 証拠 書類 番号 | B7: 日付 | C7: 摘要（内容、品目、数量等） | D7: 支出金額 | G7: 税率 | H7: 税額 ※手入力してください | I7: 消費税区分 | J7: 備 考 | S7: 課税(非インボイス)
D8: US＄ | E8: =I6 -> 現地通貨 | F8: 日本円 | S8: 不課税
A9: 1 | S9: 非課税
A10: 2 | S10: 免税
A11: 3
A12: 4
A13: 5
A14: 6
A15: 7
A16: 8
A17: 9
A18: 10
A19: 月額合計額 | D19: =SUM(D9:D18) -> 0 | E19: =SUM(E9:E18) -> 0 | F19: =SUM(F9:F18) -> 0 | H19: 円貨換算支出 ●月分合計
A20: 円貨換算支出額 | D20: =ROUNDDOWN(D19*J5,0) -> 0 | E20: =ROUNDDOWN(E19*J6,0) -> 0 | I20: =D20+E20+F19 -> 0
D21: 消費税内訳 | F21: 支出金額 | G21: 税率 | H21: 税額
D22: 合計（インボイス事業者） | F22: =SUMIFS(F9:F18,G9:G18,0.1,I9:I18,"課税(インボイス)") -> 0 | G22: 0.1 | H22: =SUMIFS(H9:H18,G9:G18,0.1,I9:I18,"課税(インボイス)") -> 0 | K22: 現地通貨（円換算） | L22: ドル（円換算） | M22: 計
D23: 合計（非インボイス事業者） | F23: =SUMIFS(F9:F18,G9:G18,0.1,I9:I18,"課税(非インボイス)") -> 0 | G23: 0.1 | H23: =SUMIFS(H9:H18,G9:G18,0.1,I9:I18,"課税(非インボイス)") -> 0 | I23: 不課税 | J23: =SUMIFS(F9:F18,I9:I18,"不課税") -> 0 | K23: =ROUNDDOWN(SUMIFS(E9:E18,I9:I18,"不課税")*J6,0) -> 0 | L23: =ROUNDDOWN(SUMIFS(D9:D18,I9:I18,"不課税")*J5,0) -> 0 | M23: =SUM(J23:L23) -> 0
D24: 合計（インボイス事業者） | F24: =SUMIFS(F9:F18,G9:G18,0.08,I9:I18,"課税(インボイス)") -> 0 | G24: 0.08 | H24: =SUMIFS(H9:H18,G9:G18,0.08,I9:I18,"課税(インボイス)") -> 0 | I24: 非課税 | J24: =SUMIFS(F9:F18,I9:I18,"非課税") -> 0
D25: 合計（非インボイス事業者） | F25: =SUMIFS(F9:F18,G9:G18,0.08,I9:I18,"課税(非インボイス)") -> 0 | G25: 0.08 | H25: =SUMIFS(H9:H18,G9:G18,0.08,I9:I18,"課税(非インボイス)") -> 0
I27: US＄
I28: 現地通貨
A29: 証拠 書類 番号 | B29: 日付 | C29: 摘要（内容、品目、数量等） | D29: 支出金額 | G29: 税率 | H29: 税額 ※手入力してください | I29: 消費税区分 | J29: 備 考
D30: US＄ | E30: =I28 -> 現地通貨 | F30: 日本円
A31: 1
A32: 2
A33: 3
A34: 4
A35: 5
A36: 6
A37: 7
A38: 8
A39: 9
A40: 10
A41: 月額合計額 | D41: =SUM(D31:D40) -> 0 | E41: =SUM(E31:E40) -> 0 | F41: =SUM(F31:F40) -> 0 | H41: 円貨換算支出 ●月分合計
A42: 円貨換算支出額 | D42: =ROUNDDOWN(D41*J27,0) -> 0 | E42: =ROUNDDOWN(E41*J28,0) -> 0 | I42: =D42+E42+F41 -> 0
...

Sheet 3.その他経費(1)施設・設備等関連費
A1: ='1.旅費(1)現地渡航費（航空運賃）'!A1 -> 団体名： | B1: ='★マスタ（最初にこちらを入力）'!D7 -> ●● | J1: 一括払
A2: ='1.旅費(1)現地渡航費（航空運賃）'!A2 -> 対象国： | B2: ='★マスタ（最初にこちらを入力）'!D8 -> ●●
E4: 項目別立替金精算書
A5: ３．その他経費（１）施設・設備等関連費 | I5: US＄
I6: 現地通貨 | S6: 課税(インボイス)
A7: 証拠 書類 番号 | B7: 日付 | C7: 摘要（内容、品目、数量等） | D7: 支出金額 | G7: 税率 | H7: 税額 ※手入力してください | I7: 消費税区分 | J7: 備 考 | S7: 課税(非インボイス)
D8: US＄ | E8: =I6 -> 現地通貨 | F8: 日本円 | S8: 不課税
A9: 1 | S9: 非課税
A10: 2 | S10: 免税
A11: 3
A12: 4
A13: 5
A14: 6
A15: 7
A16: 8
A17: 9
A18: 10
A19: 月額合計額 | D19: =SUM(D9:D18) -> 0 | E19: =SUM(E9:E18) -> 0 | F19: =SUM(F9:F18) -> 0 | H19: 円貨換算支出 ●月分合計
A20: 円貨換算支出額 | D20: =ROUNDDOWN(D19*J5,0) -> 0 | E20: =ROUNDDOWN(E19*J6,0) -> 0 | I20: =D20+E20+F19 -> 0
D21: 消費税内訳 | F21: 支出金額 | G21: 税率 | H21: 税額
D22: 合計（インボイス事業者） | F22: =SUMIFS(F9:F18,G9:G18,0.1,I9:I18,"課税(インボイス)") -> 0 | G22: 0.1 | H22: =SUMIFS(H9:H18,G9:G18,0.1,I9:I18,"課税(インボイス)") -> 0 | K22: 現地通貨（円換算） | L22: ドル（円換算） | M22: 計
D23: 合計（非インボイス事業者） | F23: =SUMIFS(F9:F18,G9:G18,0.1,I9:I18,"課税(非インボイス)") -> 0 | G23: 0.1 | H23: =SUMIFS(H9:H18,G9:G18,0.1,I9:I18,"課税(非インボイス)") -> 0 | I23: 不課税 | J23: =SUMIFS(F9:F18,I9:I18,"不課税") -> 0 | K23: =ROUNDDOWN(SUMIFS(E9:E18,I9:I18,"不課税")*J6,0) -> 0 | L23: =ROUNDDOWN(SUMIFS(D9:D18,I9:I18,"不課税")*J5,0) -> 0 | M23: =SUM(J23:L23) -> 0
D24: 合計（インボイス事業者） | F24: =SUMIFS(F9:F18,G9:G18,0.08,I9:I18,"課税(インボイス)") -> 0 | G24: 0.08 | H24: =SUMIFS(H9:H18,G9:G18,0.08,I9:I18,"課税(インボイス)") -> 0 | I24: 非課税 | J24: =SUMIFS(F9:F18,I9:I18,"非課税") -> 0
D25: 合計（非インボイス事業者） | F25: =SUMIFS(F9:F18,G9:G18,0.08,I9:I18,"課税(非インボイス)") -> 0 | G25: 0.08 | H25: =SUMIFS(H9:H18,G9:G18,0.08,I9:I18,"課税(非インボイス)") -> 0
I27: US＄
I28: 現地通貨
A29: 証拠 書類 番号 | B29: 日付 | C29: 摘要（内容、品目、数量等） | D29: 支出金額 | G29: 税率 | H29: 税額 ※手入力してください | I29: 消費税区分 | J29: 備 考
D30: US＄ | E30: =I28 -> 現地通貨 | F30: 日本円
A31: 1
A32: 2
A33: 3
A34: 4
A35: 5
A36: 6
A37: 7
A38: 8
A39: 9
A40: 10
A41: 月額合計額 | D41: =SUM(D31:D40) -> 0 | E41: =SUM(E31:E40) -> 0 | F41: =SUM(F31:F40) -> 0 | H41: 円貨換算支出 ●月分合計
A42: 円貨換算支出額 | D42: =ROUNDDOWN(D41*J27,0) -> 0 | E42: =ROUNDDOWN(E41*J28,0) -> 0 | I42: =D42+E42+F41 -> 0
...

Sheet 3.その他経費(2)その他経費
A1: ='1.旅費(1)現地渡航費（航空運賃）'!A1 -> 団体名： | B1: ='★マスタ（最初にこちらを入力）'!D7 -> ●● | J1: 一括払
A2: ='1.旅費(1)現地渡航費（航空運賃）'!A2 -> 対象国： | B2: ='★マスタ（最初にこちらを入力）'!D8 -> ●●
E4: 項目別立替金精算書
A5: ３．その他経費 | I5: US＄
I6: 現地通貨 | R6: 課税(インボイス)
A7: 証拠 書類 番号 | B7: 日付 | C7: 摘要（内容、品目、数量等） | D7: 支出金額 | G7: 税率 | H7: 税額 ※手入力してください | I7: 消費税区分 | J7: 備 考 | R7: 課税(非インボイス)
D8: US＄ | E8: =I6 -> 現地通貨 | F8: 日本円 | R8: 不課税
A9: 1 | R9: 非課税
A10: 2 | R10: 免税
A11: 3
A12: 4
A13: 5
A14: 6
A15: 7
A16: 8
A17: 9
A18: 10
A19: 月額合計額 | D19: =SUM(D9:D18) -> 0 | E19: =SUM(E9:E18) -> 0 | F19: =SUM(F9:F18) -> 0 | H19: 円貨換算支出 ●月分合計
A20: 円貨換算支出額 | D20: =ROUNDDOWN(D19*J5,0) -> 0 | E20: =ROUNDDOWN(E19*J6,0) -> 0 | I20: =D20+E20+F19 -> 0
D21: 消費税内訳 | F21: 支出金額 | G21: 税率 | H21: 税額
D22: 合計（インボイス事業者） | F22: =SUMIFS(F9:F18,G9:G18,0.1,I9:I18,"課税(インボイス)") -> 0 | G22: 0.1 | H22: =SUMIFS(H9:H18,G9:G18,0.1,I9:I18,"課税(インボイス)") -> 0 | J22: 日本円 | K22: 現地通貨（円換算） | L22: ドル（円換算） | M22: 計
D23: 合計（非インボイス事業者） | F23: =SUMIFS(F9:F18,G9:G18,0.1,I9:I18,"課税(非インボイス)") -> 0 | G23: 0.1 | H23: =SUMIFS(H9:H18,G9:G18,0.1,I9:I18,"課税(非インボイス)") -> 0 | I23: 不課税 | J23: =SUMIFS(F9:F18,I9:I18,"不課税") -> 0 | K23: =ROUNDDOWN(SUMIFS(E9:E18,I9:I18,"不課税")*J6,0) -> 0 | L23: =ROUNDDOWN(SUMIFS(D9:D18,I9:I18,"不課税")*J5,0) -> 0 | M23: =SUM(J23:L23) -> 0
D24: 合計（インボイス事業者） | F24: =SUMIFS(F9:F18,G9:G18,0.08,I9:I18,"課税(インボイス)") -> 0 | G24: 0.08 | H24: =SUMIFS(H9:H18,G9:G18,0.08,I9:I18,"課税(インボイス)") -> 0 | I24: 非課税 | J24: =SUMIFS(F9:F18,I9:I18,"非課税") -> 0
D25: 合計（非インボイス事業者） | F25: =SUMIFS(F9:F18,G9:G18,0.08,I9:I18,"課税(非インボイス)") -> 0 | G25: 0.08 | H25: =SUMIFS(H9:H18,G9:G18,0.08,I9:I18,"課税(非インボイス)") -> 0
I27: US＄
I28: 現地通貨
A29: 証拠 書類 番号 | B29: 日付 | C29: 摘要（内容、品目、数量等） | D29: 支出金額 | G29: 税率 | H29: 税額 ※手入力してください | I29: 消費税区分 | J29: 備 考
D30: US＄ | E30: =I28 -> 現地通貨 | F30: 日本円
A31: 1
A32: 2
A33: 3
A34: 4
A35: 5
A36: 6
A37: 7
A38: 8
A39: 9
A40: 10
A41: 月額合計額 | D41: =SUM(D31:D40) -> 0 | E41: =SUM(E31:E40) -> 0 | F41: =SUM(F31:F40) -> 0 | H41: 円貨換算支出 ●月分合計
A42: 円貨換算支出額 | D42: =ROUNDDOWN(D41*J27,0) -> 0 | E42: =ROUNDDOWN(E41*J28,0) -> 0 | I42: =D42+E42+F41 -> 0
...

Sheet チェックリスト
A1: 経費精算報告書チェックリスト
A2: 事項 | B2: 確認事項 | C2: 確認欄
A3: 全体 | B3: 「覚書」で合意した内容や事業経費項目に則った支出となっていますか？本事業の支払い対象経費であることを改めて確認してください。 | C3: □はい □いいえ
B4: 覚書の実施期間外の支出は含まれていませんか？ | C4: □はい □いいえ
B5: 事業実施期間と報告対象期間の年月日の記載に間違いはありませんか？ | C5: □はい □いいえ
B6: 支出状況報告書と証憑書類（領収書）コピーに記載した事業経費項目は、覚書に沿った項目が記載されていますか？ | C6: □はい □いいえ
B7: 外貨を邦貨に換算する際、支出した月のJICAの外貨換算レートで計算していますか？ 小数点以下は切り捨てで計算されていますか？ ※外貨換算レートは下記JICAウエブサイトでご確認ください。 | C7: □はい □いいえ □該当なし
B8: https://www.jica.go.jp/announce/manual/form/consul_g/rate.html
B9: 金額の表記は、3桁ごとに「,（カンマ）」はついていますか？（「.」になっていないですか） | C9: □はい □いいえ
A10: 支出総括表 | B10: 報告書総括表には、各事業経費項目の合計額が入力されていますか？ | C10: □はい □いいえ
B11: 既に精算が終わっている回については、JICAからの経費確定通知にて通知された額を入力していますか？ | C11: □はい □いいえ □該当なし
A12: 費目別立替金精算書 | B12: 各月・項目毎に支払簿・立替金精算書を作成していますか？ | C12: □はい □いいえ
B13: 月毎に外貨換算レートが入力されていますか？ | C13: □はい □いいえ □該当なし
A14: １．旅費（航空賃） （１）現地渡航費（対象：業務従事者・講師等） （２）本邦渡航費（対象：相手国側事業関係者） | B14: 現地渡航費（航空賃）、本邦渡航費（航空賃）の精算には、1）領収書（写し） 2）Eチケット控え 3)搭乗証明書や航空券半券が添付されていますか？ | C14: □はい □いいえ □該当なし
B15: 出発地と帰着地は同じになっていますか？（原則同一であること） ※業務従事者・講師等が他の用務のために渡航前後の出発地と帰着地が異なる場合には、往路・帰路のどちらかのみ採算対象です。 | C15: □はい □いいえ □該当なし
B16: 旅費の精算については、現金またはクレジットカードで支払っていますか？（溜まったマイルやコイン・ポイントの利用は支払対象外です） | C16: □はい □いいえ □該当なし
A17: ２．活動経費（海外・国内で行う活動のために必要な経費） | B17: 日本国内で発生した交通費（公共交通機関）は、「公共交通機関利用情報」（様式12）を使って報告していますか？ | C17: □はい □いいえ □該当なし
B18: 公共交通機関を利用した際は、乗換案内情報を添付していますか？ | C18: □はい □いいえ □該当なし
B19: 傭人費・謝金は、領収書に以下項目を記載の上、事後払いになっていますか？ ①氏名（ブロック体）②対象期間（○年○月分）③担当業務内容④単価（月額/日額/時間単価等）⑤本人の受領サイン⑥受領日 | C19: □はい □いいえ □該当なし
B20: 日本での講義に対する謝金を支払う場合、「草の根技術協力経理ガイドライン」講師謝金単価を適用していますか。これ以外の単価を適用する場合は、JICAと事前に合意していますか？ ※草の根技術協力経理ガイドライン（2024年6月）P.42～参照 | C20: □はい □いいえ □該当なし
B21: https://www.jica.go.jp/about/announce/manual/guideline/kusanone/__icsFiles/afieldfile/2024/06/27/GuidelineC202406.pdf
A22: 証憑書類（領収書） | B22: 領収書のコピーを添付していますか？ ※原本は実施団体にて10年間保管してください。 | C22: □はい □いいえ
B23: 領収書コピーの余白に、証憑番号（事業経費項目●月-番号）を記載していますか？ | C23: □はい □いいえ
B24: 証憑番号は、事業経費項目ごとに日付の古い順番に附番していますか？ | C24: □はい □いいえ
B25: 領収書に①日付②宛名（実施団体名）③発行者（支払先）④領収印又は領収サイン⑤支出内容（品目・単価・数量）、⑥金額（通貨単位）の記載はありますか？ ※領収書に支出内容の詳細が記載されてない場合は、支出内容の詳細を確認できる書類を添付してください。（請求書、納品書など） | C25: □はい □いいえ
B26: 日本国内での支出の場合、インボイス事業者への支払いは、インボイスに対応した請求書や領収書を受領していますか？ ①日付②宛名（実施団体名）③発行者（支払先）④領収印又は領収サイン⑤支出内容⑥登録番号⑦税抜又は税込金額の合計額（税率ごと）⑧適用税率⑨消費税額（税率ごと） | C26: □はい □いいえ □該当なし
B27: 最終的な受領者のサインを取り付けていますか？（カウンターパート等の代理受領は認められません） ※個人への支払の場合、受取人の名前（サイン）がブロック体で記載されていますか。 | C27: □はい □いいえ □該当なし
B28: 証憑が請求書（INVOICE）の場合はPAID（またはRECEIVED）の記載と支払日の記載がありますか？ | C28: □はい □いいえ □該当なし
B29: 証憑書類（領収書）の支払先・宛名・日付・支出内容（品目・単価・数量・金額）が日本語または英語以外の言語で記入されている場合は、和訳または英訳をつけていますか？ | C29: □はい □いいえ □該当なし
B30: 領収書に明細などの訳を直接記載する場合、鉛筆で書かれていますか？ ※領収書本紙にボールペンなどで書き込むと、領収書の改ざんとみなされます。 ※領収書上に補記→鉛筆書き／領収書コピーの余白、証憑台紙上に補記→ボールペン書き | C30: □はい □いいえ □該当なし
B31: 支払先から領収書が発行されない場合、団体が用意するレシートフォームまたはレシート参考様式（様式11）を使用していますか？ | C31: □はい □いいえ □該当なし
B32: 領収書コピーがA4サイズよりも大きい場合は折りたたんでいますか？記載内容が読み取れる程度に縮小コピーして提出することも可能です。 | C32: □はい □いいえ □該当なし
B33: 感熱紙の領収書は原本のコピーをお手元にお持ちですか？ ※感熱紙は劣化すると判読不能になるため、必ず原本に加えてコピーの保管をお願いします。 | C33: □はい □いいえ □該当なし
