Workbook

Sheet ○表紙西暦
E1: 2021 | G1: 年 | H1: 4 | I1: 月 | J1: 1 | K1: 日
B5: (仮称)○○○○○○ビル新築工事
B8: 工 事 費 内 訳 書

Sheet △表紙年号令和
E1: 令和 | F1: 3 | G1: 年 | H1: 4 | I1: 月 | J1: 1 | K1: 日
B5: (仮称)○○○○○○ビル新築工事
B8: 工 事 費 内 訳 書

Sheet (2)小科目S3
B1: 名 称 | C1: 摘 要 | E1: 数 量 | F1: 単位 | G1: 単 価 | H1: 金 額 | I1: 備 考
A2: Ⅰ-(2)-1 | B2: ステップＳ３（宿泊棟）
A3: 4-1 | B3: 衛生器具設備 | H3: =IF(B3<>"計",ROUNDDOWN(E3*G3,0),SUM(H$1:H2)) -> 0
A7: 1. | B7: 衛生器具設備 | E7: 1 | F7: 式
B11: 計
A14: Ⅰ-(2)-1 | B14: ステップＳ３（宿泊棟）
A15: 4-2 | B15: 給水設備
A19: 1. | B19: 給水設備 | E19: 1 | F19: 式
B23: 計
A26: Ⅰ-(2)-1 | B26: ステップＳ３（宿泊棟）
A27: 4-3 | B27: 排水設備
A31: 1. | B31: 排水設備 | E31: 1 | F31: 式
B35: 計
A38: Ⅰ-(2)-1 | B38: ステップＳ３（宿泊棟）
A39: 4-4 | B39: 給湯設備
A43: 1. | B43: 給湯設備 | E43: 1 | F43: 式
B47: 計
A50: Ⅰ-(2)-1 | B50: ステップＳ３（宿泊棟）
A51: 4-5 | B51: 消火設備
A55: 1. | B55: 消火設備 | E55: 1 | F55: 式
B59: 計
A62: Ⅰ-(2)-1 | B62: ステップＳ３（宿泊棟）
A63: 4-6 | B63: 撤去工事
A67: 1. | B67: 撤去工事 | E67: 1 | F67: 式
B71: 計
A74: Ⅰ-(2)-1 | B74: ステップＳ３（宿泊棟）
A75: 4-7 | B75: 発生材処理
A79: 1. | B79: 発生材処理 | E79: 1 | F79: 式
B83: 計
H93: =IF(B93<>"計",ROUNDDOWN(E93*G93,0),SUM(H$1:H92)) -> 0
H95: =IF(B95<>"計",ROUNDDOWN(E95*G95,0),SUM(H$1:H94)) -> 0
H97: =IF(B97<>"計",ROUNDDOWN(E97*G97,0),SUM(H$1:H96)) -> 0
H99: =IF(B99<>"計",ROUNDDOWN(E99*G99,0),SUM(H$1:H98)) -> 0
H101: =IF(B101<>"計",ROUNDDOWN(E101*G101,0),SUM(H$1:H100)) -> 0
H103: =IF(B103<>"計",ROUNDDOWN(E103*G103,0),SUM(H$1:H102)) -> 0
H105: =IF(B105<>"計",ROUNDDOWN(E105*G105,0),SUM(H$1:H104)) -> 0
H107: =IF(B107<>"計",ROUNDDOWN(E107*G107,0),SUM(H$1:H106)) -> 0
H109: =IF(B109<>"計",ROUNDDOWN(E109*G109,0),SUM(H$1:H108)) -> 0

Sheet （1）建築
B1: 名 称 | C1: 摘 要 | E1: 数 量 | F1: 単位 | G1: 単 価 | H1: 金 額 | I1: 備 考 | M1: 検算欄 | N1: 検算差額
M2: 下以降一式と合計は各自設定 | N2: 差額が0であればOK
A3: （1） | B3: 建築工事 | H3: =IF(B3<>"計",ROUNDDOWN(E3*G3,0),SUM(H$1:H2)) -> 0 | M3: =IF(B3<>"計",ROUNDDOWN(E3*G3,0),SUM(M$1:M2)) -> 0 | N3: =IF((+H3-M3)<>0,H3-M3,IF(H3>0,"0",""))
H5: =IF(B5<>"計",ROUNDDOWN(E5*G5,0),SUM(H$1:H4)) -> 0 | M5: =IF(B5<>"計",ROUNDDOWN(E5*G5,0),SUM(M$1:M4)) -> 0 | N5: =IF((+H5-M5)<>0,H5-M5,IF(H5>0,"0",""))
A7: 1. | B7: 直接仮設 | E7: 1 | F7: 式 | H7: =IF(B7<>"計",ROUNDDOWN(E7*G7,0),SUM(H$1:H6)) -> 0 | M7: =IF(B7<>"計",ROUNDDOWN(E7*G7,0),SUM(M$1:M6)) -> 0 | N7: =IF((+H7-M7)<>0,H7-M7,IF(H7>0,"0",""))
A9: 2. | B9: 土工 | E9: 1 | F9: 式 | H9: =IF(B9<>"計",ROUNDDOWN(E9*G9,0),SUM(H$1:H8)) -> 0 | M9: =IF(B9<>"計",ROUNDDOWN(E9*G9,0),SUM(M$1:M8)) -> 0 | N9: =IF((+H9-M9)<>0,H9-M9,IF(H9>0,"0",""))
A11: 3. | B11: 地業 | E11: 1 | F11: 式 | H11: =IF(B11<>"計",ROUNDDOWN(E11*G11,0),SUM(H$1:H10)) -> 0 | M11: =IF(B11<>"計",ROUNDDOWN(E11*G11,0),SUM(M$1:M10)) -> 0 | N11: =IF((+H11-M11)<>0,H11-M11,IF(H11>0,"0",""))
A13: 4. | B13: 鉄筋 | E13: 1 | F13: 式 | H13: =IF(B13<>"計",ROUNDDOWN(E13*G13,0),SUM(H$1:H12)) -> 0 | M13: =IF(B13<>"計",ROUNDDOWN(E13*G13,0),SUM(M$1:M12)) -> 0 | N13: =IF((+H13-M13)<>0,H13-M13,IF(H13>0,"0",""))
A15: 5. | B15: コンクリ－ト | E15: 1 | F15: 式 | H15: =IF(B15<>"計",ROUNDDOWN(E15*G15,0),SUM(H$1:H14)) -> 0 | M15: =IF(B15<>"計",ROUNDDOWN(E15*G15,0),SUM(M$1:M14)) -> 0 | N15: =IF((+H15-M15)<>0,H15-M15,IF(H15>0,"0",""))
A17: 6. | B17: 型枠 | E17: 1 | F17: 式 | H17: =IF(B17<>"計",ROUNDDOWN(E17*G17,0),SUM(H$1:H16)) -> 0 | M17: =IF(B17<>"計",ROUNDDOWN(E17*G17,0),SUM(M$1:M16)) -> 0 | N17: =IF((+H17-M17)<>0,H17-M17,IF(H17>0,"0",""))
A19: 7. | B19: 鉄骨 | E19: 1 | F19: 式 | H19: =IF(B19<>"計",ROUNDDOWN(E19*G19,0),SUM(H$1:H18)) -> 0 | M19: =IF(B19<>"計",ROUNDDOWN(E19*G19,0),SUM(M$1:M18)) -> 0 | N19: =IF((+H19-M19)<>0,H19-M19,IF(H19>0,"0",""))
A21: 8. | B21: 既製コンクリ－ト | E21: 1 | F21: 式 | H21: =IF(B21<>"計",ROUNDDOWN(E21*G21,0),SUM(H$1:H20)) -> 0 | M21: =IF(B21<>"計",ROUNDDOWN(E21*G21,0),SUM(M$1:M20)) -> 0 | N21: =IF((+H21-M21)<>0,H21-M21,IF(H21>0,"0",""))
A23: 9. | B23: 防水 | E23: 1 | F23: 式 | H23: =IF(B23<>"計",ROUNDDOWN(E23*G23,0),SUM(H$1:H22)) -> 0 | M23: =IF(B23<>"計",ROUNDDOWN(E23*G23,0),SUM(M$1:M22)) -> 0 | N23: =IF((+H23-M23)<>0,H23-M23,IF(H23>0,"0",""))
A25: 10. | B25: 石 | E25: 1 | F25: 式 | H25: =IF(B25<>"計",ROUNDDOWN(E25*G25,0),SUM(H$1:H24)) -> 0 | M25: =IF(B25<>"計",ROUNDDOWN(E25*G25,0),SUM(M$1:M24)) -> 0 | N25: =IF((+H25-M25)<>0,H25-M25,IF(H25>0,"0",""))
A27: 11. | B27: タイル | E27: 1 | F27: 式 | H27: =IF(B27<>"計",ROUNDDOWN(E27*G27,0),SUM(H$1:H26)) -> 0 | M27: =IF(B27<>"計",ROUNDDOWN(E27*G27,0),SUM(M$1:M26)) -> 0 | N27: =IF((+H27-M27)<>0,H27-M27,IF(H27>0,"0",""))
A29: 12. | B29: 木工 | E29: 1 | F29: 式 | H29: =IF(B29<>"計",ROUNDDOWN(E29*G29,0),SUM(H$1:H28)) -> 0 | M29: =IF(B29<>"計",ROUNDDOWN(E29*G29,0),SUM(M$1:M28)) -> 0 | N29: =IF((+H29-M29)<>0,H29-M29,IF(H29>0,"0",""))
... A47: 21. | B47: 発生材処理 | E47: 1 | F47: 式 | H47: =IF(B47<>"計",ROUNDDOWN(E47*G47,0),SUM(H$1:H46)) -> 0 | M47: =IF(B47<>"計",ROUNDDOWN(E47*G47,0),SUM(M$1:M46)) -> 0 | N47: =IF((+H47-M47)<>0,H47-M47,IF(H47>0,"0",""))
H49: =IF(B49<>"計",ROUNDDOWN(E49*G49,0),SUM(H$1:H48)) -> 0 | M49: =IF(B49<>"計",ROUNDDOWN(E49*G49,0),SUM(M$1:M48)) -> 0 | N49: =IF((+H49-M49)<>0,H49-M49,IF(H49>0,"0",""))
H51: =IF(B51<>"計",ROUNDDOWN(E51*G51,0),SUM(H$1:H50)) -> 0 | M51: =IF(B51<>"計",ROUNDDOWN(E51*G51,0),SUM(M$1:M50)) -> 0 | N51: =IF((+H51-M51)<>0,H51-M51,IF(H51>0,"0",""))
H53: =IF(B53<>"計",ROUNDDOWN(E53*G53,0),SUM(H$1:H52)) -> 0 | M53: =IF(B53<>"計",ROUNDDOWN(E53*G53,0),SUM(M$1:M52)) -> 0 | N53: =IF((+H53-M53)<>0,H53-M53,IF(H53>0,"0",""))
H55: =IF(B55<>"計",ROUNDDOWN(E55*G55,0),SUM(H$1:H54)) -> 0 | M55: =IF(B55<>"計",ROUNDDOWN(E55*G55,0),SUM(M$1:M54)) -> 0 | N55: =IF((+H55-M55)<>0,H55-M55,IF(H55>0,"0",""))
H57: =IF(B57<>"計",ROUNDDOWN(E57*G57,0),SUM(H$1:H56)) -> 0 | M57: =IF(B57<>"計",ROUNDDOWN(E57*G57,0),SUM(M$1:M56)) -> 0 | N57: =IF((+H57-M57)<>0,H57-M57,IF(H57>0,"0",""))
H59: =IF(B59<>"計",ROUNDDOWN(E59*G59,0),SUM(H$1:H58)) -> 0 | M59: =IF(B59<>"計",ROUNDDOWN(E59*G59,0),SUM(M$1:M58)) -> 0 | N59: =IF((+H59-M59)<>0,H59-M59,IF(H59>0,"0",""))
H61: =IF(B61<>"計",ROUNDDOWN(E61*G61,0),SUM(H$1:H60)) -> 0 | M61: =IF(B61<>"計",ROUNDDOWN(E61*G61,0),SUM(M$1:M60)) -> 0 | N61: =IF((+H61-M61)<>0,H61-M61,IF(H61>0,"0",""))
H63: =IF(B63<>"計",ROUNDDOWN(E63*G63,0),SUM(H$1:H62)) -> 0 | M63: =IF(B63<>"計",ROUNDDOWN(E63*G63,0),SUM(M$1:M62)) -> 0 | N63: =IF((+H63-M63)<>0,H63-M63,IF(H63>0,"0",""))
H65: =IF(B65<>"計",ROUNDDOWN(E65*G65,0),SUM(H$1:H64)) -> 0 | M65: =IF(B65<>"計",ROUNDDOWN(E65*G65,0),SUM(M$1:M64)) -> 0 | N65: =IF((+H65-M65)<>0,H65-M65,IF(H65>0,"0",""))
H67: =IF(B67<>"計",ROUNDDOWN(E67*G67,0),SUM(H$1:H66)) -> 0 | M67: =IF(B67<>"計",ROUNDDOWN(E67*G67,0),SUM(M$1:M66)) -> 0 | N67: =IF((+H67-M67)<>0,H67-M67,IF(H67>0,"0",""))
H69: =IF(B69<>"計",ROUNDDOWN(E69*G69,0),SUM(H$1:H68)) -> 0 | M69: =IF(B69<>"計",ROUNDDOWN(E69*G69,0),SUM(M$1:M68)) -> 0 | N69: =IF((+H69-M69)<>0,H69-M69,IF(H69>0,"0",""))
B71: 計 | H71: =IF(B71<>"計",ROUNDDOWN(E71*G71,0),SUM(H$1:H70)) -> 0 | M71: =IF(B71<>"計",ROUNDDOWN(E71*G71,0),SUM(M$1:M70)) -> 0 | N71: =IF((+H71-M71)<>0,H71-M71,IF(H71>0,"0",""))
H73: =IF(B73<>"計",ROUNDDOWN(E73*G73,0),SUM(H$1:H72)) -> 0 | M73: =IF(B73<>"計",ROUNDDOWN(E73*G73,0),SUM(M$1:M72)) -> 0 | N73: =IF((+H73-M73)<>0,H73-M73,IF(H73>0,"0",""))
H75: =ROUNDDOWN(E75*G75,0) -> 0
H77: =ROUNDDOWN(E77*G77,0) -> 0
H79: =ROUNDDOWN(E79*G79,0) -> 0
H81: =ROUNDDOWN(E81*G81,0) -> 0
H83: =ROUNDDOWN(E83*G83,0) -> 0
H85: =ROUNDDOWN(E85*G85,0) -> 0
H87: =ROUNDDOWN(E87*G87,0) -> 0
H89: =ROUNDDOWN(E89*G89,0) -> 0
H91: =ROUNDDOWN(E91*G91,0) -> 0
H93: =ROUNDDOWN(E93*G93,0) -> 0
H95: =ROUNDDOWN(E95*G95,0) -> 0
H97: =ROUNDDOWN(E97*G97,0) -> 0
... H167: =ROUNDDOWN(E167*G167,0) -> 0

Sheet 建築内訳
B1: 名 称 | C1: 摘 要 | E1: 数 量 | F1: 単位 | G1: 単 価 | H1: 金 額 | I1: 備 考 | M1: 検算欄 | N1: 検算差額
M2: 下以降一式と合計は各自設定 | N2: 差額が0であればOK
H3: =IF(B3<>"計",ROUNDDOWN(E3*G3,0),SUM(H$1:H2)) -> 0 | M3: =IF(B3<>"計",ROUNDDOWN(E3*G3,0),SUM(M$1:M2)) -> 0 | N3: =IF((+H3-M3)<>0,H3-M3,IF(H3>0,"0",""))
H5: =IF(B5<>"計",ROUNDDOWN(E5*G5,0),SUM(H$1:H4)) -> 0 | M5: =IF(B5<>"計",ROUNDDOWN(E5*G5,0),SUM(M$1:M4)) -> 0 | N5: =IF((+H5-M5)<>0,H5-M5,IF(H5>0,"0",""))
H7: =IF(B7<>"計",ROUNDDOWN(E7*G7,0),SUM(H$1:H6)) -> 0 | M7: =IF(B7<>"計",ROUNDDOWN(E7*G7,0),SUM(M$1:M6)) -> 0 | N7: =IF((+H7-M7)<>0,H7-M7,IF(H7>0,"0",""))
H9: =IF(B9<>"計",ROUNDDOWN(E9*G9,0),SUM(H$1:H8)) -> 0 | M9: =IF(B9<>"計",ROUNDDOWN(E9*G9,0),SUM(M$1:M8)) -> 0 | N9: =IF((+H9-M9)<>0,H9-M9,IF(H9>0,"0",""))
H11: =IF(B11<>"計",ROUNDDOWN(E11*G11,0),SUM(H$1:H10)) -> 0 | M11: =IF(B11<>"計",ROUNDDOWN(E11*G11,0),SUM(M$1:M10)) -> 0 | N11: =IF((+H11-M11)<>0,H11-M11,IF(H11>0,"0",""))
H13: =IF(B13<>"計",ROUNDDOWN(E13*G13,0),SUM(H$1:H12)) -> 0 | M13: =IF(B13<>"計",ROUNDDOWN(E13*G13,0),SUM(M$1:M12)) -> 0 | N13: =IF((+H13-M13)<>0,H13-M13,IF(H13>0,"0",""))
H15: =IF(B15<>"計",ROUNDDOWN(E15*G15,0),SUM(H$1:H14)) -> 0 | M15: =IF(B15<>"計",ROUNDDOWN(E15*G15,0),SUM(M$1:M14)) -> 0 | N15: =IF((+H15-M15)<>0,H15-M15,IF(H15>0,"0",""))
H17: =IF(B17<>"計",ROUNDDOWN(E17*G17,0),SUM(H$1:H16)) -> 0 | M17: =IF(B17<>"計",ROUNDDOWN(E17*G17,0),SUM(M$1:M16)) -> 0 | N17: =IF((+H17-M17)<>0,H17-M17,IF(H17>0,"0",""))
H19: =IF(B19<>"計",ROUNDDOWN(E19*G19,0),SUM(H$1:H18)) -> 0 | M19: =IF(B19<>"計",ROUNDDOWN(E19*G19,0),SUM(M$1:M18)) -> 0 | N19: =IF((+H19-M19)<>0,H19-M19,IF(H19>0,"0",""))
H21: =IF(B21<>"計",ROUNDDOWN(E21*G21,0),SUM(H$1:H20)) -> 0 | M21: =IF(B21<>"計",ROUNDDOWN(E21*G21,0),SUM(M$1:M20)) -> 0 | N21: =IF((+H21-M21)<>0,H21-M21,IF(H21>0,"0",""))
H23: =IF(B23<>"計",ROUNDDOWN(E23*G23,0),SUM(H$1:H22)) -> 0 | M23: =IF(B23<>"計",ROUNDDOWN(E23*G23,0),SUM(M$1:M22)) -> 0 | N23: =IF((+H23-M23)<>0,H23-M23,IF(H23>0,"0",""))
H25: =IF(B25<>"計",ROUNDDOWN(E25*G25,0),SUM(H$1:H24)) -> 0 | M25: =IF(B25<>"計",ROUNDDOWN(E25*G25,0),SUM(M$1:M24)) -> 0 | N25: =IF((+H25-M25)<>0,H25-M25,IF(H25>0,"0",""))
... H37: =IF(B37<>"計",ROUNDDOWN(E37*G37,0),SUM(H$1:H36)) -> 0 | M37: =IF(B37<>"計",ROUNDDOWN(E37*G37,0),SUM(M$1:M36)) -> 0 | N37: =IF((+H37-M37)<>0,H37-M37,IF(H37>0,"0",""))
H39: =IF(B39<>"計",ROUNDDOWN(E39*G39,0),SUM(H$1:H38)) -> 0
H41: =IF(B41<>"計",ROUNDDOWN(E41*G41,0),SUM(H$1:H40)) -> 0 | M41: =IF(B41<>"計",ROUNDDOWN(E41*G41,0),SUM(M$1:M40)) -> 0 | N41: =IF((+H41-M41)<>0,H41-M41,IF(H41>0,"0",""))
H43: =IF(B43<>"計",ROUNDDOWN(E43*G43,0),SUM(H$1:H42)) -> 0 | M43: =IF(B43<>"計",ROUNDDOWN(E43*G43,0),SUM(M$1:M42)) -> 0 | N43: =IF((+H43-M43)<>0,H43-M43,IF(H43>0,"0",""))
H45: =IF(B45<>"計",ROUNDDOWN(E45*G45,0),SUM(H$1:H44)) -> 0 | M45: =IF(B45<>"計",ROUNDDOWN(E45*G45,0),SUM(M$1:M44)) -> 0 | N45: =IF((+H45-M45)<>0,H45-M45,IF(H45>0,"0",""))
H47: =IF(B47<>"計",ROUNDDOWN(E47*G47,0),SUM(H$1:H46)) -> 0 | M47: =IF(B47<>"計",ROUNDDOWN(E47*G47,0),SUM(M$1:M46)) -> 0 | N47: =IF((+H47-M47)<>0,H47-M47,IF(H47>0,"0",""))
H49: =IF(B49<>"計",ROUNDDOWN(E49*G49,0),SUM(H$1:H48)) -> 0 | M49: =IF(B49<>"計",ROUNDDOWN(E49*G49,0),SUM(M$1:M48)) -> 0 | N49: =IF((+H49-M49)<>0,H49-M49,IF(H49>0,"0",""))
H51: =IF(B51<>"計",ROUNDDOWN(E51*G51,0),SUM(H$1:H50)) -> 0 | M51: =IF(B51<>"計",ROUNDDOWN(E51*G51,0),SUM(M$1:M50)) -> 0 | N51: =IF((+H51-M51)<>0,H51-M51,IF(H51>0,"0",""))
H53: =IF(B53<>"計",ROUNDDOWN(E53*G53,0),SUM(H$1:H52)) -> 0 | M53: =IF(B53<>"計",ROUNDDOWN(E53*G53,0),SUM(M$1:M52)) -> 0 | N53: =IF((+H53-M53)<>0,H53-M53,IF(H53>0,"0",""))
H55: =IF(B55<>"計",ROUNDDOWN(E55*G55,0),SUM(H$1:H54)) -> 0 | M55: =IF(B55<>"計",ROUNDDOWN(E55*G55,0),SUM(M$1:M54)) -> 0 | N55: =IF((+H55-M55)<>0,H55-M55,IF(H55>0,"0",""))
H57: =IF(B57<>"計",ROUNDDOWN(E57*G57,0),SUM(H$1:H56)) -> 0 | M57: =IF(B57<>"計",ROUNDDOWN(E57*G57,0),SUM(M$1:M56)) -> 0 | N57: =IF((+H57-M57)<>0,H57-M57,IF(H57>0,"0",""))
H59: =IF(B59<>"計",ROUNDDOWN(E59*G59,0),SUM(H$1:H58)) -> 0 | M59: =IF(B59<>"計",ROUNDDOWN(E59*G59,0),SUM(M$1:M58)) -> 0 | N59: =IF((+H59-M59)<>0,H59-M59,IF(H59>0,"0",""))
H61: =IF(B61<>"計",ROUNDDOWN(E61*G61,0),SUM(H$1:H60)) -> 0 | M61: =IF(B61<>"計",ROUNDDOWN(E61*G61,0),SUM(M$1:M60)) -> 0 | N61: =IF((+H61-M61)<>0,H61-M61,IF(H61>0,"0",""))
H63: =IF(B63<>"計",ROUNDDOWN(E63*G63,0),SUM(H$1:H62)) -> 0 | M63: =IF(B63<>"計",ROUNDDOWN(E63*G63,0),SUM(M$1:M62)) -> 0 | N63: =IF((+H63-M63)<>0,H63-M63,IF(H63>0,"0",""))
... H181: =IF(B181<>"計",ROUNDDOWN(E181*G181,0),SUM(H$1:H180)) -> 0 | M181: =IF(B181<>"計",ROUNDDOWN(E181*G181,0),SUM(M$1:M180)) -> 0 | N181: =IF((+H181-M181)<>0,H181-M181,IF(H181>0,"0",""))

Sheet （2）電気
B1: 名 称 | C1: 摘 要 | E1: 数 量 | F1: 単位 | G1: 単 価 | H1: 金 額 | I1: 備 考 | L1: 050930改 | M1: 検算欄 | N1: 検算差額
M2: 下以降一式と合計は各自設定 | N2: 差額が0であればOK
A3: （2） | B3: 電気設備工事 | H3: =IF(B3<>"計",ROUNDDOWN(E3*G3,0),SUM(H$1:H2)) -> 0 | M3: =IF(B3<>"計",ROUNDDOWN(E3*G3,0),SUM(M$1:M2)) -> 0 | N3: =IF((+H3-M3)<>0,H3-M3,IF(H3>0,"0",""))
H5: =IF(B5<>"計",ROUNDDOWN(E5*G5,0),SUM(H$1:H4)) -> 0 | M5: =IF(B5<>"計",ROUNDDOWN(E5*G5,0),SUM(M$1:M4)) -> 0 | N5: =IF((+H5-M5)<>0,H5-M5,IF(H5>0,"0",""))
A7: 1. | B7: 電灯設備 | E7: 1 | F7: 式 | H7: =IF(B7<>"計",ROUNDDOWN(E7*G7,0),SUM(H$1:H6)) -> 0 | M7: =IF(B7<>"計",ROUNDDOWN(E7*G7,0),SUM(M$1:M6)) -> 0 | N7: =IF((+H7-M7)<>0,H7-M7,IF(H7>0,"0",""))
A9: 1.1 | B9: 照明設備 | E9: 1 | F9: 式 | H9: =IF(B9<>"計",ROUNDDOWN(E9*G9,0),SUM(H$1:H8)) -> 0 | M9: =IF(B9<>"計",ROUNDDOWN(E9*G9,0),SUM(M$1:M8)) -> 0 | N9: =IF((+H9-M9)<>0,H9-M9,IF(H9>0,"0",""))
A11: 1.2 | B11: コンセント設備 | E11: 1 | F11: 式 | H11: =IF(B11<>"計",ROUNDDOWN(E11*G11,0),SUM(H$1:H10)) -> 0 | M11: =IF(B11<>"計",ROUNDDOWN(E11*G11,0),SUM(M$1:M10)) -> 0 | N11: =IF((+H11-M11)<>0,H11-M11,IF(H11>0,"0",""))
A13: 1.3 | B13: 非常照明･誘導灯設備 | E13: 1 | F13: 式 | H13: =IF(B13<>"計",ROUNDDOWN(E13*G13,0),SUM(H$1:H12)) -> 0 | M13: =IF(B13<>"計",ROUNDDOWN(E13*G13,0),SUM(M$1:M12)) -> 0 | N13: =IF((+H13-M13)<>0,H13-M13,IF(H13>0,"0",""))
A15: 2. | B15: 動力設備 | E15: 1 | F15: 式 | H15: =IF(B15<>"計",ROUNDDOWN(E15*G15,0),SUM(H$1:H14)) -> 0 | M15: =IF(B15<>"計",ROUNDDOWN(E15*G15,0),SUM(M$1:M14)) -> 0 | N15: =IF((+H15-M15)<>0,H15-M15,IF(H15>0,"0",""))
A17: 3. | B17: 電熱設備 | E17: 1 | F17: 式 | H17: =IF(B17<>"計",ROUNDDOWN(E17*G17,0),SUM(H$1:H16)) -> 0 | M17: =IF(B17<>"計",ROUNDDOWN(E17*G17,0),SUM(M$1:M16)) -> 0 | N17: =IF((+H17-M17)<>0,H17-M17,IF(H17>0,"0",""))
A19: 4. | B19: 接地設備 | E19: 1 | F19: 式 | H19: =IF(B19<>"計",ROUNDDOWN(E19*G19,0),SUM(H$1:H18)) -> 0 | M19: =IF(B19<>"計",ROUNDDOWN(E19*G19,0),SUM(M$1:M18)) -> 0 | N19: =IF((+H19-M19)<>0,H19-M19,IF(H19>0,"0",""))
A21: 5. | B21: 幹線設備 | E21: 1 | F21: 式 | H21: =IF(B21<>"計",ROUNDDOWN(E21*G21,0),SUM(H$1:H20)) -> 0 | M21: =IF(B21<>"計",ROUNDDOWN(E21*G21,0),SUM(M$1:M20)) -> 0 | N21: =IF((+H21-M21)<>0,H21-M21,IF(H21>0,"0",""))
A23: 5.1 | B23: 電灯幹線設備 | E23: 1 | F23: 式 | H23: =IF(B23<>"計",ROUNDDOWN(E23*G23,0),SUM(H$1:H22)) -> 0 | M23: =IF(B23<>"計",ROUNDDOWN(E23*G23,0),SUM(M$1:M22)) -> 0 | N23: =IF((+H23-M23)<>0,H23-M23,IF(H23>0,"0",""))
A25: 5.2 | B25: 動力幹線設備 | E25: 1 | F25: 式 | H25: =IF(B25<>"計",ROUNDDOWN(E25*G25,0),SUM(H$1:H24)) -> 0 | M25: =IF(B25<>"計",ROUNDDOWN(E25*G25,0),SUM(M$1:M24)) -> 0 | N25: =IF((+H25-M25)<>0,H25-M25,IF(H25>0,"0",""))
A27: 6. | B27: 雷保護設備 | E27: 1 | F27: 式 | H27: =IF(B27<>"計",ROUNDDOWN(E27*G27,0),SUM(H$1:H26)) -> 0 | M27: =IF(B27<>"計",ROUNDDOWN(E27*G27,0),SUM(M$1:M26)) -> 0 | N27: =IF((+H27-M27)<>0,H27-M27,IF(H27>0,"0",""))
A29: 7. | B29: 航空障害灯等設備 | E29: 1 | F29: 式 | H29: =IF(B29<>"計",ROUNDDOWN(E29*G29,0),SUM(H$1:H28)) -> 0 | M29: =IF(B29<>"計",ROUNDDOWN(E29*G29,0),SUM(M$1:M28)) -> 0 | N29: =IF((+H29-M29)<>0,H29-M29,IF(H29>0,"0",""))
... A111: 29. | B111: 雑費 | E111: 1 | F111: 式 | H111: =IF(B111<>"計",ROUNDDOWN(E111*G111,0),SUM(H$1:H110)) -> 0 | M111: =IF(B111<>"計",ROUNDDOWN(E111*G111,0),SUM(M$1:M110)) -> 0 | N111: =IF((+H111-M111)<>0,H111-M111,IF(H111>0,"0",""))
H113: =IF(B113<>"計",ROUNDDOWN(E113*G113,0),SUM(H$1:H112)) -> 0 | M113: =IF(B113<>"計",ROUNDDOWN(E113*G113,0),SUM(M$1:M112)) -> 0 | N113: =IF((+H113-M113)<>0,H113-M113,IF(H113>0,"0",""))
H115: =IF(B115<>"計",ROUNDDOWN(E115*G115,0),SUM(H$1:H114)) -> 0 | M115: =IF(B115<>"計",ROUNDDOWN(E115*G115,0),SUM(M$1:M114)) -> 0 | N115: =IF((+H115-M115)<>0,H115-M115,IF(H115>0,"0",""))
H117: =IF(B117<>"計",ROUNDDOWN(E117*G117,0),SUM(H$1:H116)) -> 0 | M117: =IF(B117<>"計",ROUNDDOWN(E117*G117,0),SUM(M$1:M116)) -> 0 | N117: =IF((+H117-M117)<>0,H117-M117,IF(H117>0,"0",""))
H119: =IF(B119<>"計",ROUNDDOWN(E119*G119,0),SUM(H$1:H118)) -> 0 | M119: =IF(B119<>"計",ROUNDDOWN(E119*G119,0),SUM(M$1:M118)) -> 0 | N119: =IF((+H119-M119)<>0,H119-M119,IF(H119>0,"0",""))
H121: =IF(B121<>"計",ROUNDDOWN(E121*G121,0),SUM(H$1:H120)) -> 0 | M121: =IF(B121<>"計",ROUNDDOWN(E121*G121,0),SUM(M$1:M120)) -> 0 | N121: =IF((+H121-M121)<>0,H121-M121,IF(H121>0,"0",""))
H123: =IF(B123<>"計",ROUNDDOWN(E123*G123,0),SUM(H$1:H122)) -> 0 | M123: =IF(B123<>"計",ROUNDDOWN(E123*G123,0),SUM(M$1:M122)) -> 0 | N123: =IF((+H123-M123)<>0,H123-M123,IF(H123>0,"0",""))
H125: =IF(B125<>"計",ROUNDDOWN(E125*G125,0),SUM(H$1:H124)) -> 0 | M125: =IF(B125<>"計",ROUNDDOWN(E125*G125,0),SUM(M$1:M124)) -> 0 | N125: =IF((+H125-M125)<>0,H125-M125,IF(H125>0,"0",""))
H127: =IF(B127<>"計",ROUNDDOWN(E127*G127,0),SUM(H$1:H126)) -> 0 | M127: =IF(B127<>"計",ROUNDDOWN(E127*G127,0),SUM(M$1:M126)) -> 0 | N127: =IF((+H127-M127)<>0,H127-M127,IF(H127>0,"0",""))
H129: =IF(B129<>"計",ROUNDDOWN(E129*G129,0),SUM(H$1:H128)) -> 0 | M129: =IF(B129<>"計",ROUNDDOWN(E129*G129,0),SUM(M$1:M128)) -> 0 | N129: =IF((+H129-M129)<>0,H129-M129,IF(H129>0,"0",""))
H131: =IF(B131<>"計",ROUNDDOWN(E131*G131,0),SUM(H$1:H130)) -> 0 | M131: =IF(B131<>"計",ROUNDDOWN(E131*G131,0),SUM(M$1:M130)) -> 0 | N131: =IF((+H131-M131)<>0,H131-M131,IF(H131>0,"0",""))
H133: =IF(B133<>"計",ROUNDDOWN(E133*G133,0),SUM(H$1:H132)) -> 0 | M133: =IF(B133<>"計",ROUNDDOWN(E133*G133,0),SUM(M$1:M132)) -> 0 | N133: =IF((+H133-M133)<>0,H133-M133,IF(H133>0,"0",""))
H135: =IF(B135<>"計",ROUNDDOWN(E135*G135,0),SUM(H$1:H134)) -> 0 | M135: =IF(B135<>"計",ROUNDDOWN(E135*G135,0),SUM(M$1:M134)) -> 0 | N135: =IF((+H135-M135)<>0,H135-M135,IF(H135>0,"0",""))
... H141: =IF(B141<>"計",ROUNDDOWN(E141*G141,0),SUM(H$1:H140)) -> 0 | M141: =IF(B141<>"計",ROUNDDOWN(E141*G141,0),SUM(M$1:M140)) -> 0 | N141: =IF((+H141-M141)<>0,H141-M141,IF(H141>0,"0",""))
B143: 計 | H143: =IF(B143<>"計",ROUNDDOWN(E143*G143,0),SUM(H$1:H142)) -> 0 | M143: =IF(B143<>"計",ROUNDDOWN(E143*G143,0),SUM(M$1:M142)) -> 0 | N143: =IF((+H143-M143)<>0,H143-M143,IF(H143>0,"0",""))
H145: =IF(B145<>"計",ROUNDDOWN(E145*G145,0),SUM(H$1:H144)) -> 0 | M145: =IF(B145<>"計",ROUNDDOWN(E145*G145,0),SUM(M$1:M144)) -> 0 | N145: =IF((+H145-M145)<>0,H145-M145,IF(H145>0,"0",""))
H146: =ROUNDDOWN(E146*G146,0) -> 0
H148: =ROUNDDOWN(E148*G148,0) -> 0
H150: =ROUNDDOWN(E150*G150,0) -> 0
H152: =ROUNDDOWN(E152*G152,0) -> 0
H154: =ROUNDDOWN(E154*G154,0) -> 0
H156: =ROUNDDOWN(E156*G156,0) -> 0
H158: =ROUNDDOWN(E158*G158,0) -> 0
H160: =ROUNDDOWN(E160*G160,0) -> 0
H162: =ROUNDDOWN(E162*G162,0) -> 0
H164: =ROUNDDOWN(E164*G164,0) -> 0
H166: =ROUNDDOWN(E166*G166,0) -> 0
H168: =ROUNDDOWN(E168*G168,0) -> 0
... H296: =ROUNDDOWN(E296*G296,0) -> 0

Sheet 電気内訳
B1: 名 称 | C1: 摘 要 | E1: 数 量 | F1: 単位 | G1: 単 価 | H1: 金 額 | I1: 備 考 | M1: 検算欄 | N1: 検算差額
M2: 下以降一式と合計は各自設定 | N2: 差額が0であればOK
H3: =IF(B3<>"計",ROUNDDOWN(E3*G3,0),SUM(H$1:H2)) -> 0 | M3: =IF(B3<>"計",ROUNDDOWN(E3*G3,0),SUM(M$1:M2)) -> 0 | N3: =IF((+H3-M3)<>0,H3-M3,IF(H3>0,"0",""))
H5: =IF(B5<>"計",ROUNDDOWN(E5*G5,0),SUM(H$1:H4)) -> 0 | M5: =IF(B5<>"計",ROUNDDOWN(E5*G5,0),SUM(M$1:M4)) -> 0 | N5: =IF((+H5-M5)<>0,H5-M5,IF(H5>0,"0",""))
H7: =IF(B7<>"計",ROUNDDOWN(E7*G7,0),SUM(H$1:H6)) -> 0 | M7: =IF(B7<>"計",ROUNDDOWN(E7*G7,0),SUM(M$1:M6)) -> 0 | N7: =IF((+H7-M7)<>0,H7-M7,IF(H7>0,"0",""))
H9: =IF(B9<>"計",ROUNDDOWN(E9*G9,0),SUM(H$1:H8)) -> 0 | M9: =IF(B9<>"計",ROUNDDOWN(E9*G9,0),SUM(M$1:M8)) -> 0 | N9: =IF((+H9-M9)<>0,H9-M9,IF(H9>0,"0",""))
H11: =IF(B11<>"計",ROUNDDOWN(E11*G11,0),SUM(H$1:H10)) -> 0 | M11: =IF(B11<>"計",ROUNDDOWN(E11*G11,0),SUM(M$1:M10)) -> 0 | N11: =IF((+H11-M11)<>0,H11-M11,IF(H11>0,"0",""))
H13: =IF(B13<>"計",ROUNDDOWN(E13*G13,0),SUM(H$1:H12)) -> 0 | M13: =IF(B13<>"計",ROUNDDOWN(E13*G13,0),SUM(M$1:M12)) -> 0 | N13: =IF((+H13-M13)<>0,H13-M13,IF(H13>0,"0",""))
H15: =IF(B15<>"計",ROUNDDOWN(E15*G15,0),SUM(H$1:H14)) -> 0 | M15: =IF(B15<>"計",ROUNDDOWN(E15*G15,0),SUM(M$1:M14)) -> 0 | N15: =IF((+H15-M15)<>0,H15-M15,IF(H15>0,"0",""))
H17: =IF(B17<>"計",ROUNDDOWN(E17*G17,0),SUM(H$1:H16)) -> 0 | M17: =IF(B17<>"計",ROUNDDOWN(E17*G17,0),SUM(M$1:M16)) -> 0 | N17: =IF((+H17-M17)<>0,H17-M17,IF(H17>0,"0",""))
H19: =IF(B19<>"計",ROUNDDOWN(E19*G19,0),SUM(H$1:H18)) -> 0 | M19: =IF(B19<>"計",ROUNDDOWN(E19*G19,0),SUM(M$1:M18)) -> 0 | N19: =IF((+H19-M19)<>0,H19-M19,IF(H19>0,"0",""))
H21: =IF(B21<>"計",ROUNDDOWN(E21*G21,0),SUM(H$1:H20)) -> 0 | M21: =IF(B21<>"計",ROUNDDOWN(E21*G21,0),SUM(M$1:M20)) -> 0 | N21: =IF((+H21-M21)<>0,H21-M21,IF(H21>0,"0",""))
H23: =IF(B23<>"計",ROUNDDOWN(E23*G23,0),SUM(H$1:H22)) -> 0 | M23: =IF(B23<>"計",ROUNDDOWN(E23*G23,0),SUM(M$1:M22)) -> 0 | N23: =IF((+H23-M23)<>0,H23-M23,IF(H23>0,"0",""))
H25: =IF(B25<>"計",ROUNDDOWN(E25*G25,0),SUM(H$1:H24)) -> 0 | M25: =IF(B25<>"計",ROUNDDOWN(E25*G25,0),SUM(M$1:M24)) -> 0 | N25: =IF((+H25-M25)<>0,H25-M25,IF(H25>0,"0",""))
... H181: =IF(B181<>"計",ROUNDDOWN(E181*G181,0),SUM(H$1:H180)) -> 0 | M181: =IF(B181<>"計",ROUNDDOWN(E181*G181,0),SUM(M$1:M180)) -> 0 | N181: =IF((+H181-M181)<>0,H181-M181,IF(H181>0,"0",""))
H183: =ROUNDDOWN(E183*G183,0) -> 0
H185: =ROUNDDOWN(E185*G185,0) -> 0
H187: =ROUNDDOWN(E187*G187,0) -> 0
H189: =ROUNDDOWN(E189*G189,0) -> 0
H191: =ROUNDDOWN(E191*G191,0) -> 0
H193: =ROUNDDOWN(E193*G193,0) -> 0
H195: =ROUNDDOWN(E195*G195,0) -> 0
H197: =ROUNDDOWN(E197*G197,0) -> 0
H199: =ROUNDDOWN(E199*G199,0) -> 0
H201: =ROUNDDOWN(E201*G201,0) -> 0
H203: =ROUNDDOWN(E203*G203,0) -> 0
H205: =ROUNDDOWN(E205*G205,0) -> 0
... H333: =ROUNDDOWN(E333*G333,0) -> 0

Sheet （3）空調
B1: 名 称 | C1: 摘 要 | E1: 数 量 | F1: 単位 | G1: 単 価 | H1: 金 額 | I1: 備 考 | M1: 検算欄 | N1: 検算差額
M2: 下以降一式と合計は各自設定 | N2: 差額が0であればOK
A3: （3） | B3: 空気調和設備工事 | H3: =IF(B3<>"計",ROUNDDOWN(E3*G3,0),SUM(H$1:H2)) -> 0 | M3: =IF(B3<>"計",ROUNDDOWN(E3*G3,0),SUM(M$1:M2)) -> 0 | N3: =IF((+H3-M3)<>0,H3-M3,IF(H3>0,"0",""))
H5: =IF(B5<>"計",ROUNDDOWN(E5*G5,0),SUM(H$1:H4)) -> 0 | M5: =IF(B5<>"計",ROUNDDOWN(E5*G5,0),SUM(M$1:M4)) -> 0 | N5: =IF((+H5-M5)<>0,H5-M5,IF(H5>0,"0",""))
A7: 1. | B7: 空気調和設備 | E7: 1 | F7: 式 | H7: =IF(B7<>"計",ROUNDDOWN(E7*G7,0),SUM(H$1:H6)) -> 0 | M7: =IF(B7<>"計",ROUNDDOWN(E7*G7,0),SUM(M$1:M6)) -> 0 | N7: =IF((+H7-M7)<>0,H7-M7,IF(H7>0,"0",""))
A9: 2. | B9: 換気設備 | E9: 1 | F9: 式 | H9: =IF(B9<>"計",ROUNDDOWN(E9*G9,0),SUM(H$1:H8)) -> 0 | M9: =IF(B9<>"計",ROUNDDOWN(E9*G9,0),SUM(M$1:M8)) -> 0 | N9: =IF((+H9-M9)<>0,H9-M9,IF(H9>0,"0",""))
A11: 3. | B11: 排煙設備 | E11: 1 | F11: 式 | H11: =IF(B11<>"計",ROUNDDOWN(E11*G11,0),SUM(H$1:H10)) -> 0 | M11: =IF(B11<>"計",ROUNDDOWN(E11*G11,0),SUM(M$1:M10)) -> 0 | N11: =IF((+H11-M11)<>0,H11-M11,IF(H11>0,"0",""))
A13: 4. | B13: 自動制御設備 | E13: 1 | F13: 式 | H13: =IF(B13<>"計",ROUNDDOWN(E13*G13,0),SUM(H$1:H12)) -> 0 | M13: =IF(B13<>"計",ROUNDDOWN(E13*G13,0),SUM(M$1:M12)) -> 0 | N13: =IF((+H13-M13)<>0,H13-M13,IF(H13>0,"0",""))
A15: 5. | B15: 雑費 | E15: 1 | F15: 式 | H15: =IF(B15<>"計",ROUNDDOWN(E15*G15,0),SUM(H$1:H14)) -> 0 | M15: =IF(B15<>"計",ROUNDDOWN(E15*G15,0),SUM(M$1:M14)) -> 0 | N15: =IF((+H15-M15)<>0,H15-M15,IF(H15>0,"0",""))
H17: =IF(B17<>"計",ROUNDDOWN(E17*G17,0),SUM(H$1:H16)) -> 0 | M17: =IF(B17<>"計",ROUNDDOWN(E17*G17,0),SUM(M$1:M16)) -> 0 | N17: =IF((+H17-M17)<>0,H17-M17,IF(H17>0,"0",""))
H19: =IF(B19<>"計",ROUNDDOWN(E19*G19,0),SUM(H$1:H18)) -> 0 | M19: =IF(B19<>"計",ROUNDDOWN(E19*G19,0),SUM(M$1:M18)) -> 0 | N19: =IF((+H19-M19)<>0,H19-M19,IF(H19>0,"0",""))
H21: =IF(B21<>"計",ROUNDDOWN(E21*G21,0),SUM(H$1:H20)) -> 0 | M21: =IF(B21<>"計",ROUNDDOWN(E21*G21,0),SUM(M$1:M20)) -> 0 | N21: =IF((+H21-M21)<>0,H21-M21,IF(H21>0,"0",""))
H23: =IF(B23<>"計",ROUNDDOWN(E23*G23,0),SUM(H$1:H22)) -> 0 | M23: =IF(B23<>"計",ROUNDDOWN(E23*G23,0),SUM(M$1:M22)) -> 0 | N23: =IF((+H23-M23)<>0,H23-M23,IF(H23>0,"0",""))
H25: =IF(B25<>"計",ROUNDDOWN(E25*G25,0),SUM(H$1:H24)) -> 0 | M25: =IF(B25<>"計",ROUNDDOWN(E25*G25,0),SUM(M$1:M24)) -> 0 | N25: =IF((+H25-M25)<>0,H25-M25,IF(H25>0,"0",""))
H27: =IF(B27<>"計",ROUNDDOWN(E27*G27,0),SUM(H$1:H26)) -> 0 | M27: =IF(B27<>"計",ROUNDDOWN(E27*G27,0),SUM(M$1:M26)) -> 0 | N27: =IF((+H27-M27)<>0,H27-M27,IF(H27>0,"0",""))
H29: =IF(B29<>"計",ROUNDDOWN(E29*G29,0),SUM(H$1:H28)) -> 0 | M29: =IF(B29<>"計",ROUNDDOWN(E29*G29,0),SUM(M$1:M28)) -> 0 | N29: =IF((+H29-M29)<>0,H29-M29,IF(H29>0,"0",""))
H31: =IF(B31<>"計",ROUNDDOWN(E31*G31,0),SUM(H$1:H30)) -> 0 | M31: =IF(B31<>"計",ROUNDDOWN(E31*G31,0),SUM(M$1:M30)) -> 0 | N31: =IF((+H31-M31)<>0,H31-M31,IF(H31>0,"0",""))
H33: =IF(B33<>"計",ROUNDDOWN(E33*G33,0),SUM(H$1:H32)) -> 0 | M33: =IF(B33<>"計",ROUNDDOWN(E33*G33,0),SUM(M$1:M32)) -> 0 | N33: =IF((+H33-M33)<>0,H33-M33,IF(H33>0,"0",""))
B35: 計 | H35: =IF(B35<>"計",ROUNDDOWN(E35*G35,0),SUM(H$1:H34)) -> 0 | M35: =IF(B35<>"計",ROUNDDOWN(E35*G35,0),SUM(M$1:M34)) -> 0 | N35: =IF((+H35-M35)<>0,H35-M35,IF(H35>0,"0",""))
H37: =IF(B37<>"計",ROUNDDOWN(E37*G37,0),SUM(H$1:H36)) -> 0 | M37: =IF(B37<>"計",ROUNDDOWN(E37*G37,0),SUM(M$1:M36)) -> 0 | N37: =IF((+H37-M37)<>0,H37-M37,IF(H37>0,"0",""))
H39: =IF(B39<>"計",ROUNDDOWN(E39*G39,0),SUM(H$1:H38)) -> 0 | M39: =IF(B39<>"計",ROUNDDOWN(E39*G39,0),SUM(M$1:M38)) -> 0 | N39: =IF((+H39-M39)<>0,H39-M39,IF(H39>0,"0",""))
H41: =IF(B41<>"計",ROUNDDOWN(E41*G41,0),SUM(H$1:H40)) -> 0 | M41: =IF(B41<>"計",ROUNDDOWN(E41*G41,0),SUM(M$1:M40)) -> 0 | N41: =IF((+H41-M41)<>0,H41-M41,IF(H41>0,"0",""))
H43: =IF(B43<>"計",ROUNDDOWN(E43*G43,0),SUM(H$1:H42)) -> 0 | M43: =IF(B43<>"計",ROUNDDOWN(E43*G43,0),SUM(M$1:M42)) -> 0 | N43: =IF((+H43-M43)<>0,H43-M43,IF(H43>0,"0",""))
H45: =IF(B45<>"計",ROUNDDOWN(E45*G45,0),SUM(H$1:H44)) -> 0 | M45: =IF(B45<>"計",ROUNDDOWN(E45*G45,0),SUM(M$1:M44)) -> 0 | N45: =IF((+H45-M45)<>0,H45-M45,IF(H45>0,"0",""))
H47: =IF(B47<>"計",ROUNDDOWN(E47*G47,0),SUM(H$1:H46)) -> 0 | M47: =IF(B47<>"計",ROUNDDOWN(E47*G47,0),SUM(M$1:M46)) -> 0 | N47: =IF((+H47-M47)<>0,H47-M47,IF(H47>0,"0",""))
H49: =IF(B49<>"計",ROUNDDOWN(E49*G49,0),SUM(H$1:H48)) -> 0 | M49: =IF(B49<>"計",ROUNDDOWN(E49*G49,0),SUM(M$1:M48)) -> 0 | N49: =IF((+H49-M49)<>0,H49-M49,IF(H49>0,"0",""))
H51: =IF(B51<>"計",ROUNDDOWN(E51*G51,0),SUM(H$1:H50)) -> 0 | M51: =IF(B51<>"計",ROUNDDOWN(E51*G51,0),SUM(M$1:M50)) -> 0 | N51: =IF((+H51-M51)<>0,H51-M51,IF(H51>0,"0",""))
H53: =IF(B53<>"計",ROUNDDOWN(E53*G53,0),SUM(H$1:H52)) -> 0 | M53: =IF(B53<>"計",ROUNDDOWN(E53*G53,0),SUM(M$1:M52)) -> 0 | N53: =IF((+H53-M53)<>0,H53-M53,IF(H53>0,"0",""))
H55: =IF(B55<>"計",ROUNDDOWN(E55*G55,0),SUM(H$1:H54)) -> 0 | M55: =IF(B55<>"計",ROUNDDOWN(E55*G55,0),SUM(M$1:M54)) -> 0 | N55: =IF((+H55-M55)<>0,H55-M55,IF(H55>0,"0",""))
H57: =IF(B57<>"計",ROUNDDOWN(E57*G57,0),SUM(H$1:H56)) -> 0 | M57: =IF(B57<>"計",ROUNDDOWN(E57*G57,0),SUM(M$1:M56)) -> 0 | N57: =IF((+H57-M57)<>0,H57-M57,IF(H57>0,"0",""))
H59: =IF(B59<>"計",ROUNDDOWN(E59*G59,0),SUM(H$1:H58)) -> 0 | M59: =IF(B59<>"計",ROUNDDOWN(E59*G59,0),SUM(M$1:M58)) -> 0 | N59: =IF((+H59-M59)<>0,H59-M59,IF(H59>0,"0",""))
... H73: =IF(B73<>"計",ROUNDDOWN(E73*G73,0),SUM(H$1:H72)) -> 0 | M73: =IF(B73<>"計",ROUNDDOWN(E73*G73,0),SUM(M$1:M72)) -> 0 | N73: =IF((+H73-M73)<>0,H73-M73,IF(H73>0,"0",""))
H75: =IF(B75<>"計",ROUNDDOWN(E75*G75,0),SUM(H$1:H74)) -> 0
H77: =IF(B77<>"計",ROUNDDOWN(E77*G77,0),SUM(H$1:H76)) -> 0
H79: =IF(B79<>"計",ROUNDDOWN(E79*G79,0),SUM(H$1:H78)) -> 0
H81: =IF(B81<>"計",ROUNDDOWN(E81*G81,0),SUM(H$1:H80)) -> 0
H83: =IF(B83<>"計",ROUNDDOWN(E83*G83,0),SUM(H$1:H82)) -> 0
H85: =IF(B85<>"計",ROUNDDOWN(E85*G85,0),SUM(H$1:H84)) -> 0
H87: =IF(B87<>"計",ROUNDDOWN(E87*G87,0),SUM(H$1:H86)) -> 0
H89: =IF(B89<>"計",ROUNDDOWN(E89*G89,0),SUM(H$1:H88)) -> 0
H91: =IF(B91<>"計",ROUNDDOWN(E91*G91,0),SUM(H$1:H90)) -> 0
H93: =IF(B93<>"計",ROUNDDOWN(E93*G93,0),SUM(H$1:H92)) -> 0
H95: =IF(B95<>"計",ROUNDDOWN(E95*G95,0),SUM(H$1:H94)) -> 0
H97: =IF(B97<>"計",ROUNDDOWN(E97*G97,0),SUM(H$1:H96)) -> 0
... H181: =IF(B181<>"計",ROUNDDOWN(E181*G181,0),SUM(H$1:H180)) -> 0
H183: =ROUNDDOWN(E183*G183,0) -> 0
H185: =ROUNDDOWN(E185*G185,0) -> 0
H187: =ROUNDDOWN(E187*G187,0) -> 0
H189: =ROUNDDOWN(E189*G189,0) -> 0
H191: =ROUNDDOWN(E191*G191,0) -> 0
H193: =ROUNDDOWN(E193*G193,0) -> 0
H195: =ROUNDDOWN(E195*G195,0) -> 0
H197: =ROUNDDOWN(E197*G197,0) -> 0
H199: =ROUNDDOWN(E199*G199,0) -> 0
H201: =ROUNDDOWN(E201*G201,0) -> 0
H203: =ROUNDDOWN(E203*G203,0) -> 0
H205: =ROUNDDOWN(E205*G205,0) -> 0
... H225: =ROUNDDOWN(E225*G225,0) -> 0

Sheet 空調内訳
B1: 名 称 | C1: 摘 要 | E1: 数 量 | F1: 単位 | G1: 単 価 | H1: 金 額 | I1: 備 考 | M1: 検算欄 | N1: 検算差額
M2: 下以降一式と合計は各自設定 | N2: 差額が0であればOK
H3: =IF(B3<>"計",ROUNDDOWN(E3*G3,0),SUM(H$1:H2)) -> 0 | M3: =IF(B3<>"計",ROUNDDOWN(E3*G3,0),SUM(M$1:M2)) -> 0 | N3: =IF((+H3-M3)<>0,H3-M3,IF(H3>0,"0",""))
H5: =IF(B5<>"計",ROUNDDOWN(E5*G5,0),SUM(H$1:H4)) -> 0 | M5: =IF(B5<>"計",ROUNDDOWN(E5*G5,0),SUM(M$1:M4)) -> 0 | N5: =IF((+H5-M5)<>0,H5-M5,IF(H5>0,"0",""))
H7: =IF(B7<>"計",ROUNDDOWN(E7*G7,0),SUM(H$1:H6)) -> 0 | M7: =IF(B7<>"計",ROUNDDOWN(E7*G7,0),SUM(M$1:M6)) -> 0 | N7: =IF((+H7-M7)<>0,H7-M7,IF(H7>0,"0",""))
H9: =IF(B9<>"計",ROUNDDOWN(E9*G9,0),SUM(H$1:H8)) -> 0 | M9: =IF(B9<>"計",ROUNDDOWN(E9*G9,0),SUM(M$1:M8)) -> 0 | N9: =IF((+H9-M9)<>0,H9-M9,IF(H9>0,"0",""))
H11: =IF(B11<>"計",ROUNDDOWN(E11*G11,0),SUM(H$1:H10)) -> 0 | M11: =IF(B11<>"計",ROUNDDOWN(E11*G11,0),SUM(M$1:M10)) -> 0 | N11: =IF((+H11-M11)<>0,H11-M11,IF(H11>0,"0",""))
H13: =IF(B13<>"計",ROUNDDOWN(E13*G13,0),SUM(H$1:H12)) -> 0 | M13: =IF(B13<>"計",ROUNDDOWN(E13*G13,0),SUM(M$1:M12)) -> 0 | N13: =IF((+H13-M13)<>0,H13-M13,IF(H13>0,"0",""))
H15: =IF(B15<>"計",ROUNDDOWN(E15*G15,0),SUM(H$1:H14)) -> 0 | M15: =IF(B15<>"計",ROUNDDOWN(E15*G15,0),SUM(M$1:M14)) -> 0 | N15: =IF((+H15-M15)<>0,H15-M15,IF(H15>0,"0",""))
H17: =IF(B17<>"計",ROUNDDOWN(E17*G17,0),SUM(H$1:H16)) -> 0 | M17: =IF(B17<>"計",ROUNDDOWN(E17*G17,0),SUM(M$1:M16)) -> 0 | N17: =IF((+H17-M17)<>0,H17-M17,IF(H17>0,"0",""))
H19: =IF(B19<>"計",ROUNDDOWN(E19*G19,0),SUM(H$1:H18)) -> 0 | M19: =IF(B19<>"計",ROUNDDOWN(E19*G19,0),SUM(M$1:M18)) -> 0 | N19: =IF((+H19-M19)<>0,H19-M19,IF(H19>0,"0",""))
H21: =IF(B21<>"計",ROUNDDOWN(E21*G21,0),SUM(H$1:H20)) -> 0 | M21: =IF(B21<>"計",ROUNDDOWN(E21*G21,0),SUM(M$1:M20)) -> 0 | N21: =IF((+H21-M21)<>0,H21-M21,IF(H21>0,"0",""))
H23: =IF(B23<>"計",ROUNDDOWN(E23*G23,0),SUM(H$1:H22)) -> 0 | M23: =IF(B23<>"計",ROUNDDOWN(E23*G23,0),SUM(M$1:M22)) -> 0 | N23: =IF((+H23-M23)<>0,H23-M23,IF(H23>0,"0",""))
H25: =IF(B25<>"計",ROUNDDOWN(E25*G25,0),SUM(H$1:H24)) -> 0 | M25: =IF(B25<>"計",ROUNDDOWN(E25*G25,0),SUM(M$1:M24)) -> 0 | N25: =IF((+H25-M25)<>0,H25-M25,IF(H25>0,"0",""))
... H181: =IF(B181<>"計",ROUNDDOWN(E181*G181,0),SUM(H$1:H180)) -> 0 | M181: =IF(B181<>"計",ROUNDDOWN(E181*G181,0),SUM(M$1:M180)) -> 0 | N181: =IF((+H181-M181)<>0,H181-M181,IF(H181>0,"0",""))
H183: =ROUNDDOWN(E183*G183,0) -> 0
H185: =ROUNDDOWN(E185*G185,0) -> 0
H187: =ROUNDDOWN(E187*G187,0) -> 0
H189: =ROUNDDOWN(E189*G189,0) -> 0
H191: =ROUNDDOWN(E191*G191,0) -> 0
H193: =ROUNDDOWN(E193*G193,0) -> 0
H195: =ROUNDDOWN(E195*G195,0) -> 0
H197: =ROUNDDOWN(E197*G197,0) -> 0
H199: =ROUNDDOWN(E199*G199,0) -> 0
H201: =ROUNDDOWN(E201*G201,0) -> 0
H203: =ROUNDDOWN(E203*G203,0) -> 0
H205: =ROUNDDOWN(E205*G205,0) -> 0
... H333: =ROUNDDOWN(E333*G333,0) -> 0

Sheet （4）衛生
B1: 名 称 | C1: 摘 要 | E1: 数 量 | F1: 単位 | G1: 単 価 | H1: 金 額 | I1: 備 考 | M1: 検算欄 | N1: 検算差額
M2: 下以降一式と合計は各自設定 | N2: 差額が0であればOK
A3: （4） | B3: 給排水衛生設備工事 | H3: =IF(B3<>"計",ROUNDDOWN(E3*G3,0),SUM(H$1:H2)) -> 0 | M3: =IF(B3<>"計",ROUNDDOWN(E3*G3,0),SUM(M$1:M2)) -> 0 | N3: =IF((+H3-M3)<>0,H3-M3,IF(H3>0,"0",""))
H5: =IF(B5<>"計",ROUNDDOWN(E5*G5,0),SUM(H$1:H4)) -> 0 | M5: =IF(B5<>"計",ROUNDDOWN(E5*G5,0),SUM(M$1:M4)) -> 0 | N5: =IF((+H5-M5)<>0,H5-M5,IF(H5>0,"0",""))
A7: 1. | B7: 衛生器具設備 | E7: 1 | F7: 式 | H7: =IF(B7<>"計",ROUNDDOWN(E7*G7,0),SUM(H$1:H6)) -> 0 | M7: =IF(B7<>"計",ROUNDDOWN(E7*G7,0),SUM(M$1:M6)) -> 0 | N7: =IF((+H7-M7)<>0,H7-M7,IF(H7>0,"0",""))
A9: 2. | B9: 給水設備 | E9: 1 | F9: 式 | H9: =IF(B9<>"計",ROUNDDOWN(E9*G9,0),SUM(H$1:H8)) -> 0 | M9: =IF(B9<>"計",ROUNDDOWN(E9*G9,0),SUM(M$1:M8)) -> 0 | N9: =IF((+H9-M9)<>0,H9-M9,IF(H9>0,"0",""))
A11: 3. | B11: 排水設備 | E11: 1 | F11: 式 | H11: =IF(B11<>"計",ROUNDDOWN(E11*G11,0),SUM(H$1:H10)) -> 0 | M11: =IF(B11<>"計",ROUNDDOWN(E11*G11,0),SUM(M$1:M10)) -> 0 | N11: =IF((+H11-M11)<>0,H11-M11,IF(H11>0,"0",""))
A13: 4. | B13: 給湯設備 | E13: 1 | F13: 式 | H13: =IF(B13<>"計",ROUNDDOWN(E13*G13,0),SUM(H$1:H12)) -> 0 | M13: =IF(B13<>"計",ROUNDDOWN(E13*G13,0),SUM(M$1:M12)) -> 0 | N13: =IF((+H13-M13)<>0,H13-M13,IF(H13>0,"0",""))
A15: 5. | B15: 消火設備 | E15: 1 | F15: 式 | H15: =IF(B15<>"計",ROUNDDOWN(E15*G15,0),SUM(H$1:H14)) -> 0 | M15: =IF(B15<>"計",ROUNDDOWN(E15*G15,0),SUM(M$1:M14)) -> 0 | N15: =IF((+H15-M15)<>0,H15-M15,IF(H15>0,"0",""))
A17: 6. | B17: 厨房機器設備 | E17: 1 | F17: 式 | H17: =IF(B17<>"計",ROUNDDOWN(E17*G17,0),SUM(H$1:H16)) -> 0 | M17: =IF(B17<>"計",ROUNDDOWN(E17*G17,0),SUM(M$1:M16)) -> 0 | N17: =IF((+H17-M17)<>0,H17-M17,IF(H17>0,"0",""))
A19: 7. | B19: ガス設備 | E19: 1 | F19: 式 | H19: =IF(B19<>"計",ROUNDDOWN(E19*G19,0),SUM(H$1:H18)) -> 0 | M19: =IF(B19<>"計",ROUNDDOWN(E19*G19,0),SUM(M$1:M18)) -> 0 | N19: =IF((+H19-M19)<>0,H19-M19,IF(H19>0,"0",""))
A21: 8. | B21: 雑費 | E21: 1 | F21: 式 | H21: =IF(B21<>"計",ROUNDDOWN(E21*G21,0),SUM(H$1:H20)) -> 0 | M21: =IF(B21<>"計",ROUNDDOWN(E21*G21,0),SUM(M$1:M20)) -> 0 | N21: =IF((+H21-M21)<>0,H21-M21,IF(H21>0,"0",""))
H23: =IF(B23<>"計",ROUNDDOWN(E23*G23,0),SUM(H$1:H22)) -> 0 | M23: =IF(B23<>"計",ROUNDDOWN(E23*G23,0),SUM(M$1:M22)) -> 0 | N23: =IF((+H23-M23)<>0,H23-M23,IF(H23>0,"0",""))
H25: =IF(B25<>"計",ROUNDDOWN(E25*G25,0),SUM(H$1:H24)) -> 0 | M25: =IF(B25<>"計",ROUNDDOWN(E25*G25,0),SUM(M$1:M24)) -> 0 | N25: =IF((+H25-M25)<>0,H25-M25,IF(H25>0,"0",""))
H27: =IF(B27<>"計",ROUNDDOWN(E27*G27,0),SUM(H$1:H26)) -> 0 | M27: =IF(B27<>"計",ROUNDDOWN(E27*G27,0),SUM(M$1:M26)) -> 0 | N27: =IF((+H27-M27)<>0,H27-M27,IF(H27>0,"0",""))
H29: =IF(B29<>"計",ROUNDDOWN(E29*G29,0),SUM(H$1:H28)) -> 0 | M29: =IF(B29<>"計",ROUNDDOWN(E29*G29,0),SUM(M$1:M28)) -> 0 | N29: =IF((+H29-M29)<>0,H29-M29,IF(H29>0,"0",""))
H31: =IF(B31<>"計",ROUNDDOWN(E31*G31,0),SUM(H$1:H30)) -> 0 | M31: =IF(B31<>"計",ROUNDDOWN(E31*G31,0),SUM(M$1:M30)) -> 0 | N31: =IF((+H31-M31)<>0,H31-M31,IF(H31>0,"0",""))
H33: =IF(B33<>"計",ROUNDDOWN(E33*G33,0),SUM(H$1:H32)) -> 0 | M33: =IF(B33<>"計",ROUNDDOWN(E33*G33,0),SUM(M$1:M32)) -> 0 | N33: =IF((+H33-M33)<>0,H33-M33,IF(H33>0,"0",""))
B35: 計 | H35: =IF(B35<>"計",ROUNDDOWN(E35*G35,0),SUM(H$1:H34)) -> 0 | M35: =IF(B35<>"計",ROUNDDOWN(E35*G35,0),SUM(M$1:M34)) -> 0 | N35: =IF((+H35-M35)<>0,H35-M35,IF(H35>0,"0",""))
H37: =IF(B37<>"計",ROUNDDOWN(E37*G37,0),SUM(H$1:H36)) -> 0 | M37: =IF(B37<>"計",ROUNDDOWN(E37*G37,0),SUM(M$1:M36)) -> 0 | N37: =IF((+H37-M37)<>0,H37-M37,IF(H37>0,"0",""))
H39: =IF(B39<>"計",ROUNDDOWN(E39*G39,0),SUM(H$1:H38)) -> 0 | M39: =IF(B39<>"計",ROUNDDOWN(E39*G39,0),SUM(M$1:M38)) -> 0 | N39: =IF((+H39-M39)<>0,H39-M39,IF(H39>0,"0",""))
H41: =IF(B41<>"計",ROUNDDOWN(E41*G41,0),SUM(H$1:H40)) -> 0 | M41: =IF(B41<>"計",ROUNDDOWN(E41*G41,0),SUM(M$1:M40)) -> 0 | N41: =IF((+H41-M41)<>0,H41-M41,IF(H41>0,"0",""))
H43: =IF(B43<>"計",ROUNDDOWN(E43*G43,0),SUM(H$1:H42)) -> 0 | M43: =IF(B43<>"計",ROUNDDOWN(E43*G43,0),SUM(M$1:M42)) -> 0 | N43: =IF((+H43-M43)<>0,H43-M43,IF(H43>0,"0",""))
H45: =IF(B45<>"計",ROUNDDOWN(E45*G45,0),SUM(H$1:H44)) -> 0 | M45: =IF(B45<>"計",ROUNDDOWN(E45*G45,0),SUM(M$1:M44)) -> 0 | N45: =IF((+H45-M45)<>0,H45-M45,IF(H45>0,"0",""))
H47: =IF(B47<>"計",ROUNDDOWN(E47*G47,0),SUM(H$1:H46)) -> 0 | M47: =IF(B47<>"計",ROUNDDOWN(E47*G47,0),SUM(M$1:M46)) -> 0 | N47: =IF((+H47-M47)<>0,H47-M47,IF(H47>0,"0",""))
H49: =IF(B49<>"計",ROUNDDOWN(E49*G49,0),SUM(H$1:H48)) -> 0 | M49: =IF(B49<>"計",ROUNDDOWN(E49*G49,0),SUM(M$1:M48)) -> 0 | N49: =IF((+H49-M49)<>0,H49-M49,IF(H49>0,"0",""))
H51: =IF(B51<>"計",ROUNDDOWN(E51*G51,0),SUM(H$1:H50)) -> 0 | M51: =IF(B51<>"計",ROUNDDOWN(E51*G51,0),SUM(M$1:M50)) -> 0 | N51: =IF((+H51-M51)<>0,H51-M51,IF(H51>0,"0",""))
H53: =IF(B53<>"計",ROUNDDOWN(E53*G53,0),SUM(H$1:H52)) -> 0 | M53: =IF(B53<>"計",ROUNDDOWN(E53*G53,0),SUM(M$1:M52)) -> 0 | N53: =IF((+H53-M53)<>0,H53-M53,IF(H53>0,"0",""))
H55: =IF(B55<>"計",ROUNDDOWN(E55*G55,0),SUM(H$1:H54)) -> 0 | M55: =IF(B55<>"計",ROUNDDOWN(E55*G55,0),SUM(M$1:M54)) -> 0 | N55: =IF((+H55-M55)<>0,H55-M55,IF(H55>0,"0",""))
H57: =IF(B57<>"計",ROUNDDOWN(E57*G57,0),SUM(H$1:H56)) -> 0 | M57: =IF(B57<>"計",ROUNDDOWN(E57*G57,0),SUM(M$1:M56)) -> 0 | N57: =IF((+H57-M57)<>0,H57-M57,IF(H57>0,"0",""))
H59: =IF(B59<>"計",ROUNDDOWN(E59*G59,0),SUM(H$1:H58)) -> 0 | M59: =IF(B59<>"計",ROUNDDOWN(E59*G59,0),SUM(M$1:M58)) -> 0 | N59: =IF((+H59-M59)<>0,H59-M59,IF(H59>0,"0",""))
... H73: =IF(B73<>"計",ROUNDDOWN(E73*G73,0),SUM(H$1:H72)) -> 0 | M73: =IF(B73<>"計",ROUNDDOWN(E73*G73,0),SUM(M$1:M72)) -> 0 | N73: =IF((+H73-M73)<>0,H73-M73,IF(H73>0,"0",""))
H191: =ROUNDDOWN(E191*G191,0) -> 0
H193: =ROUNDDOWN(E193*G193,0) -> 0
H195: =ROUNDDOWN(E195*G195,0) -> 0
H197: =ROUNDDOWN(E197*G197,0) -> 0
H199: =ROUNDDOWN(E199*G199,0) -> 0
H201: =ROUNDDOWN(E201*G201,0) -> 0
H203: =ROUNDDOWN(E203*G203,0) -> 0
H205: =ROUNDDOWN(E205*G205,0) -> 0
H207: =ROUNDDOWN(E207*G207,0) -> 0
H209: =ROUNDDOWN(E209*G209,0) -> 0
H211: =ROUNDDOWN(E211*G211,0) -> 0
H213: =ROUNDDOWN(E213*G213,0) -> 0
... H225: =ROUNDDOWN(E225*G225,0) -> 0

Sheet 衛生内訳
B1: 名 称 | C1: 摘 要 | E1: 数 量 | F1: 単位 | G1: 単 価 | H1: 金 額 | I1: 備 考 | M1: 検算欄 | N1: 検算差額
M2: 下以降一式と合計は各自設定 | N2: 差額が0であればOK
H3: =IF(B3<>"計",ROUNDDOWN(E3*G3,0),SUM(H$1:H2)) -> 0 | M3: =IF(B3<>"計",ROUNDDOWN(E3*G3,0),SUM(M$1:M2)) -> 0 | N3: =IF((+H3-M3)<>0,H3-M3,IF(H3>0,"0",""))
H5: =IF(B5<>"計",ROUNDDOWN(E5*G5,0),SUM(H$1:H4)) -> 0 | M5: =IF(B5<>"計",ROUNDDOWN(E5*G5,0),SUM(M$1:M4)) -> 0 | N5: =IF((+H5-M5)<>0,H5-M5,IF(H5>0,"0",""))
H7: =IF(B7<>"計",ROUNDDOWN(E7*G7,0),SUM(H$1:H6)) -> 0 | M7: =IF(B7<>"計",ROUNDDOWN(E7*G7,0),SUM(M$1:M6)) -> 0 | N7: =IF((+H7-M7)<>0,H7-M7,IF(H7>0,"0",""))
H9: =IF(B9<>"計",ROUNDDOWN(E9*G9,0),SUM(H$1:H8)) -> 0 | M9: =IF(B9<>"計",ROUNDDOWN(E9*G9,0),SUM(M$1:M8)) -> 0 | N9: =IF((+H9-M9)<>0,H9-M9,IF(H9>0,"0",""))
H11: =IF(B11<>"計",ROUNDDOWN(E11*G11,0),SUM(H$1:H10)) -> 0 | M11: =IF(B11<>"計",ROUNDDOWN(E11*G11,0),SUM(M$1:M10)) -> 0 | N11: =IF((+H11-M11)<>0,H11-M11,IF(H11>0,"0",""))
H13: =IF(B13<>"計",ROUNDDOWN(E13*G13,0),SUM(H$1:H12)) -> 0 | M13: =IF(B13<>"計",ROUNDDOWN(E13*G13,0),SUM(M$1:M12)) -> 0 | N13: =IF((+H13-M13)<>0,H13-M13,IF(H13>0,"0",""))
H15: =IF(B15<>"計",ROUNDDOWN(E15*G15,0),SUM(H$1:H14)) -> 0 | M15: =IF(B15<>"計",ROUNDDOWN(E15*G15,0),SUM(M$1:M14)) -> 0 | N15: =IF((+H15-M15)<>0,H15-M15,IF(H15>0,"0",""))
H17: =IF(B17<>"計",ROUNDDOWN(E17*G17,0),SUM(H$1:H16)) -> 0 | M17: =IF(B17<>"計",ROUNDDOWN(E17*G17,0),SUM(M$1:M16)) -> 0 | N17: =IF((+H17-M17)<>0,H17-M17,IF(H17>0,"0",""))
H19: =IF(B19<>"計",ROUNDDOWN(E19*G19,0),SUM(H$1:H18)) -> 0 | M19: =IF(B19<>"計",ROUNDDOWN(E19*G19,0),SUM(M$1:M18)) -> 0 | N19: =IF((+H19-M19)<>0,H19-M19,IF(H19>0,"0",""))
H21: =IF(B21<>"計",ROUNDDOWN(E21*G21,0),SUM(H$1:H20)) -> 0 | M21: =IF(B21<>"計",ROUNDDOWN(E21*G21,0),SUM(M$1:M20)) -> 0 | N21: =IF((+H21-M21)<>0,H21-M21,IF(H21>0,"0",""))
H23: =IF(B23<>"計",ROUNDDOWN(E23*G23,0),SUM(H$1:H22)) -> 0 | M23: =IF(B23<>"計",ROUNDDOWN(E23*G23,0),SUM(M$1:M22)) -> 0 | N23: =IF((+H23-M23)<>0,H23-M23,IF(H23>0,"0",""))
H25: =IF(B25<>"計",ROUNDDOWN(E25*G25,0),SUM(H$1:H24)) -> 0 | M25: =IF(B25<>"計",ROUNDDOWN(E25*G25,0),SUM(M$1:M24)) -> 0 | N25: =IF((+H25-M25)<>0,H25-M25,IF(H25>0,"0",""))
... H181: =IF(B181<>"計",ROUNDDOWN(E181*G181,0),SUM(H$1:H180)) -> 0 | M181: =IF(B181<>"計",ROUNDDOWN(E181*G181,0),SUM(M$1:M180)) -> 0 | N181: =IF((+H181-M181)<>0,H181-M181,IF(H181>0,"0",""))
H183: =ROUNDDOWN(E183*G183,0) -> 0
H185: =ROUNDDOWN(E185*G185,0) -> 0
H187: =ROUNDDOWN(E187*G187,0) -> 0
H189: =ROUNDDOWN(E189*G189,0) -> 0
H191: =ROUNDDOWN(E191*G191,0) -> 0
H193: =ROUNDDOWN(E193*G193,0) -> 0
H195: =ROUNDDOWN(E195*G195,0) -> 0
H197: =ROUNDDOWN(E197*G197,0) -> 0
H199: =ROUNDDOWN(E199*G199,0) -> 0
H201: =ROUNDDOWN(E201*G201,0) -> 0
H203: =ROUNDDOWN(E203*G203,0) -> 0
H205: =ROUNDDOWN(E205*G205,0) -> 0
... H333: =ROUNDDOWN(E333*G333,0) -> 0

Sheet （5）昇降機　説明
B1: 名 称 | C1: 摘 要 | E1: 数 量 | F1: 単位 | G1: 単 価 | H1: 金 額 | I1: 備 考 | M1: 検算欄 | N1: 検算差額
M2: 下以降一式と合計は各自設定 | N2: 差額が0であればOK
A3: （5) | B3: 昇降機設備工事 | H3: =IF(B3<>"計",ROUNDDOWN(E3*G3,0),SUM(H$1:H2)) -> 0 | M3: =IF(B3<>"計",ROUNDDOWN(E3*G3,0),SUM(M$1:M2)) -> 0 | N3: =IF((+H3-M3)<>0,H3-M3,IF(H3>0,"0",""))
H5: =IF(B5<>"計",ROUNDDOWN(E5*G5,0),SUM(H$1:H4)) -> 0 | M5: =IF(B5<>"計",ROUNDDOWN(E5*G5,0),SUM(M$1:M4)) -> 0 | N5: =IF((+H5-M5)<>0,H5-M5,IF(H5>0,"0",""))
A7: No1 | B7: 乗用エレベーター | C7: 積載荷重 1,600kg | E7: 1 | F7: 台 | H7: =IF(B7<>"計",ROUNDDOWN(E7*G7,0),SUM(H$1:H6)) -> 0 | M7: =IF(B7<>"計",ROUNDDOWN(E7*G7,0),SUM(M$1:M6)) -> 0 | N7: =IF((+H7-M7)<>0,H7-M7,IF(H7>0,"0",""))
C8: 定員 24名
C9: 速度 150m/分 | H9: =IF(B9<>"計",ROUNDDOWN(E9*G9,0),SUM(H$1:H8)) -> 0 | M9: =IF(B9<>"計",ROUNDDOWN(E9*G9,0),SUM(M$1:M8)) -> 0 | N9: =IF((+H9-M9)<>0,H9-M9,IF(H9>0,"0",""))
C10: 停止個所 17個所(B1～16階)
C11: 地震時管制運転(Ｐ波ｾﾝｻ-) | H11: =IF(B11<>"計",ROUNDDOWN(E11*G11,0),SUM(H$1:H10)) -> 0 | M11: =IF(B11<>"計",ROUNDDOWN(E11*G11,0),SUM(M$1:M10)) -> 0 | N11: =IF((+H11-M11)<>0,H11-M11,IF(H11>0,"0",""))
C12: 火災時管制運転
C13: 停電時自動着床装置 | E13: 1 | F13: 台 | H13: =IF(B13<>"計",ROUNDDOWN(E13*G13,0),SUM(H$1:H12)) -> 0 | M13: =IF(B13<>"計",ROUNDDOWN(E13*G13,0),SUM(M$1:M12)) -> 0 | N13: =IF((+H13-M13)<>0,H13-M13,IF(H13>0,"0",""))
C14: 三方枠 大枠ｽﾃﾝﾚｽHL仕上
C15: ｸ-ﾗ-付 | H15: =IF(B15<>"計",ROUNDDOWN(E15*G15,0),SUM(H$1:H14)) -> 0 | M15: =IF(B15<>"計",ROUNDDOWN(E15*G15,0),SUM(M$1:M14)) -> 0 | N15: =IF((+H15-M15)<>0,H15-M15,IF(H15>0,"0",""))
H17: =IF(B17<>"計",ROUNDDOWN(E17*G17,0),SUM(H$1:H16)) -> 0 | M17: =IF(B17<>"計",ROUNDDOWN(E17*G17,0),SUM(M$1:M16)) -> 0 | N17: =IF((+H17-M17)<>0,H17-M17,IF(H17>0,"0",""))
A19: No2 | B19: 人荷兼非常用エレベーター | C19: 積載荷重 1,900kg | H19: =IF(B19<>"計",ROUNDDOWN(E19*G19,0),SUM(H$1:H18)) -> 0 | M19: =IF(B19<>"計",ROUNDDOWN(E19*G19,0),SUM(M$1:M18)) -> 0 | N19: =IF((+H19-M19)<>0,H19-M19,IF(H19>0,"0",""))
C20: 定員 29名
C21: 速度 105m/分 | H21: =IF(B21<>"計",ROUNDDOWN(E21*G21,0),SUM(H$1:H20)) -> 0 | M21: =IF(B21<>"計",ROUNDDOWN(E21*G21,0),SUM(M$1:M20)) -> 0 | N21: =IF((+H21-M21)<>0,H21-M21,IF(H21>0,"0",""))
C22: 停止個所 18個所(B2～16階)
C23: 地震時管制運転(Ｐ波ｾﾝｻ-) | H23: =IF(B23<>"計",ROUNDDOWN(E23*G23,0),SUM(H$1:H22)) -> 0 | M23: =IF(B23<>"計",ROUNDDOWN(E23*G23,0),SUM(M$1:M22)) -> 0 | N23: =IF((+H23-M23)<>0,H23-M23,IF(H23>0,"0",""))
C24: 三方枠 大枠ｽﾃﾝﾚｽHL仕上
C25: 車椅子仕様付 | H25: =IF(B25<>"計",ROUNDDOWN(E25*G25,0),SUM(H$1:H24)) -> 0 | M25: =IF(B25<>"計",ROUNDDOWN(E25*G25,0),SUM(M$1:M24)) -> 0 | N25: =IF((+H25-M25)<>0,H25-M25,IF(H25>0,"0",""))
H27: =IF(B27<>"計",ROUNDDOWN(E27*G27,0),SUM(H$1:H26)) -> 0 | M27: =IF(B27<>"計",ROUNDDOWN(E27*G27,0),SUM(M$1:M26)) -> 0 | N27: =IF((+H27-M27)<>0,H27-M27,IF(H27>0,"0",""))
B29: 監視盤 | E29: 1 | F29: 式 | H29: =IF(B29<>"計",ROUNDDOWN(E29*G29,0),SUM(H$1:H28)) -> 0 | M29: =IF(B29<>"計",ROUNDDOWN(E29*G29,0),SUM(M$1:M28)) -> 0 | N29: =IF((+H29-M29)<>0,H29-M29,IF(H29>0,"0",""))
H31: =IF(B31<>"計",ROUNDDOWN(E31*G31,0),SUM(H$1:H30)) -> 0 | M31: =IF(B31<>"計",ROUNDDOWN(E31*G31,0),SUM(M$1:M30)) -> 0 | N31: =IF((+H31-M31)<>0,H31-M31,IF(H31>0,"0",""))
H33: =IF(B33<>"計",ROUNDDOWN(E33*G33,0),SUM(H$1:H32)) -> 0 | M33: =IF(B33<>"計",ROUNDDOWN(E33*G33,0),SUM(M$1:M32)) -> 0 | N33: =IF((+H33-M33)<>0,H33-M33,IF(H33>0,"0",""))
B35: 計 | H35: =IF(B35<>"計",ROUNDDOWN(E35*G35,0),SUM(H$1:H34)) -> 0 | M35: =IF(B35<>"計",ROUNDDOWN(E35*G35,0),SUM(M$1:M34)) -> 0 | N35: =IF((+H35-M35)<>0,H35-M35,IF(H35>0,"0",""))
H37: =IF(B37<>"計",ROUNDDOWN(E37*G37,0),SUM(H$1:H36)) -> 0 | M37: =IF(B37<>"計",ROUNDDOWN(E37*G37,0),SUM(M$1:M36)) -> 0 | N37: =IF((+H37-M37)<>0,H37-M37,IF(H37>0,"0",""))
H39: =IF(B39<>"計",ROUNDDOWN(E39*G39,0),SUM(H$1:H38)) -> 0 | M39: =IF(B39<>"計",ROUNDDOWN(E39*G39,0),SUM(M$1:M38)) -> 0 | N39: =IF((+H39-M39)<>0,H39-M39,IF(H39>0,"0",""))
H41: =IF(B41<>"計",ROUNDDOWN(E41*G41,0),SUM(H$1:H40)) -> 0 | M41: =IF(B41<>"計",ROUNDDOWN(E41*G41,0),SUM(M$1:M40)) -> 0 | N41: =IF((+H41-M41)<>0,H41-M41,IF(H41>0,"0",""))
H43: =IF(B43<>"計",ROUNDDOWN(E43*G43,0),SUM(H$1:H42)) -> 0 | M43: =IF(B43<>"計",ROUNDDOWN(E43*G43,0),SUM(M$1:M42)) -> 0 | N43: =IF((+H43-M43)<>0,H43-M43,IF(H43>0,"0",""))
H45: =IF(B45<>"計",ROUNDDOWN(E45*G45,0),SUM(H$1:H44)) -> 0 | M45: =IF(B45<>"計",ROUNDDOWN(E45*G45,0),SUM(M$1:M44)) -> 0 | N45: =IF((+H45-M45)<>0,H45-M45,IF(H45>0,"0",""))
H47: =IF(B47<>"計",ROUNDDOWN(E47*G47,0),SUM(H$1:H46)) -> 0 | M47: =IF(B47<>"計",ROUNDDOWN(E47*G47,0),SUM(M$1:M46)) -> 0 | N47: =IF((+H47-M47)<>0,H47-M47,IF(H47>0,"0",""))
H49: =IF(B49<>"計",ROUNDDOWN(E49*G49,0),SUM(H$1:H48)) -> 0 | M49: =IF(B49<>"計",ROUNDDOWN(E49*G49,0),SUM(M$1:M48)) -> 0 | N49: =IF((+H49-M49)<>0,H49-M49,IF(H49>0,"0",""))
H51: =IF(B51<>"計",ROUNDDOWN(E51*G51,0),SUM(H$1:H50)) -> 0 | M51: =IF(B51<>"計",ROUNDDOWN(E51*G51,0),SUM(M$1:M50)) -> 0 | N51: =IF((+H51-M51)<>0,H51-M51,IF(H51>0,"0",""))
H53: =IF(B53<>"計",ROUNDDOWN(E53*G53,0),SUM(H$1:H52)) -> 0 | M53: =IF(B53<>"計",ROUNDDOWN(E53*G53,0),SUM(M$1:M52)) -> 0 | N53: =IF((+H53-M53)<>0,H53-M53,IF(H53>0,"0",""))
H55: =IF(B55<>"計",ROUNDDOWN(E55*G55,0),SUM(H$1:H54)) -> 0 | M55: =IF(B55<>"計",ROUNDDOWN(E55*G55,0),SUM(M$1:M54)) -> 0 | N55: =IF((+H55-M55)<>0,H55-M55,IF(H55>0,"0",""))
H57: =IF(B57<>"計",ROUNDDOWN(E57*G57,0),SUM(H$1:H56)) -> 0 | M57: =IF(B57<>"計",ROUNDDOWN(E57*G57,0),SUM(M$1:M56)) -> 0 | N57: =IF((+H57-M57)<>0,H57-M57,IF(H57>0,"0",""))
H59: =IF(B59<>"計",ROUNDDOWN(E59*G59,0),SUM(H$1:H58)) -> 0 | M59: =IF(B59<>"計",ROUNDDOWN(E59*G59,0),SUM(M$1:M58)) -> 0 | N59: =IF((+H59-M59)<>0,H59-M59,IF(H59>0,"0",""))
... H73: =IF(B73<>"計",ROUNDDOWN(E73*G73,0),SUM(H$1:H72)) -> 0 | M73: =IF(B73<>"計",ROUNDDOWN(E73*G73,0),SUM(M$1:M72)) -> 0 | N73: =IF((+H73-M73)<>0,H73-M73,IF(H73>0,"0",""))
H75: =ROUNDDOWN(E75*G75,0) -> 0
H77: =ROUNDDOWN(E77*G77,0) -> 0
H79: =ROUNDDOWN(E79*G79,0) -> 0
H81: =ROUNDDOWN(E81*G81,0) -> 0
H83: =ROUNDDOWN(E83*G83,0) -> 0
H85: =ROUNDDOWN(E85*G85,0) -> 0
H87: =ROUNDDOWN(E87*G87,0) -> 0
H89: =ROUNDDOWN(E89*G89,0) -> 0
H91: =ROUNDDOWN(E91*G91,0) -> 0
H93: =ROUNDDOWN(E93*G93,0) -> 0
H95: =ROUNDDOWN(E95*G95,0) -> 0
H97: =ROUNDDOWN(E97*G97,0) -> 0
... H119: =ROUNDDOWN(E119*G119,0) -> 0

Sheet （6）機械　説明
B1: 名 称 | C1: 摘 要 | E1: 数 量 | F1: 単位 | G1: 単 価 | H1: 金 額 | I1: 備 考 | M1: 検算欄 | N1: 検算差額
M2: 下以降一式と合計は各自設定 | N2: 差額が0であればOK
A3: （6) | B3: 機械駐車設備工事 | H3: =IF(B3<>"計",ROUNDDOWN(E3*G3,0),SUM(H$1:H2)) -> 0 | M3: =IF(B3<>"計",ROUNDDOWN(E3*G3,0),SUM(M$1:M2)) -> 0 | N3: =IF((+H3-M3)<>0,H3-M3,IF(H3>0,"0",""))
H5: =IF(B5<>"計",ROUNDDOWN(E5*G5,0),SUM(H$1:H4)) -> 0 | M5: =IF(B5<>"計",ROUNDDOWN(E5*G5,0),SUM(M$1:M4)) -> 0 | N5: =IF((+H5-M5)<>0,H5-M5,IF(H5>0,"0",""))
B7: 機械式駐車設備 | C7: 昇降・横行二段式 | E7: 1 | F7: 式 | H7: =IF(B7<>"計",ROUNDDOWN(E7*G7,0),SUM(H$1:H6)) -> 0 | M7: =IF(B7<>"計",ROUNDDOWN(E7*G7,0),SUM(M$1:M6)) -> 0 | N7: =IF((+H7-M7)<>0,H7-M7,IF(H7>0,"0",""))
C8: 小型車 16台収容
H9: =IF(B9<>"計",ROUNDDOWN(E9*G9,0),SUM(H$1:H8)) -> 0 | M9: =IF(B9<>"計",ROUNDDOWN(E9*G9,0),SUM(M$1:M8)) -> 0 | N9: =IF((+H9-M9)<>0,H9-M9,IF(H9>0,"0",""))
B11: 機械式駐車設備 | C11: 昇降・横行二段式 | E11: 1 | F11: 式 | H11: =IF(B11<>"計",ROUNDDOWN(E11*G11,0),SUM(H$1:H10)) -> 0 | M11: =IF(B11<>"計",ROUNDDOWN(E11*G11,0),SUM(M$1:M10)) -> 0 | N11: =IF((+H11-M11)<>0,H11-M11,IF(H11>0,"0",""))
C12: 中型車 33台収容
H13: =IF(B13<>"計",ROUNDDOWN(E13*G13,0),SUM(H$1:H12)) -> 0 | M13: =IF(B13<>"計",ROUNDDOWN(E13*G13,0),SUM(M$1:M12)) -> 0 | N13: =IF((+H13-M13)<>0,H13-M13,IF(H13>0,"0",""))
H15: =IF(B15<>"計",ROUNDDOWN(E15*G15,0),SUM(H$1:H14)) -> 0 | M15: =IF(B15<>"計",ROUNDDOWN(E15*G15,0),SUM(M$1:M14)) -> 0 | N15: =IF((+H15-M15)<>0,H15-M15,IF(H15>0,"0",""))
H17: =IF(B17<>"計",ROUNDDOWN(E17*G17,0),SUM(H$1:H16)) -> 0 | M17: =IF(B17<>"計",ROUNDDOWN(E17*G17,0),SUM(M$1:M16)) -> 0 | N17: =IF((+H17-M17)<>0,H17-M17,IF(H17>0,"0",""))
H19: =IF(B19<>"計",ROUNDDOWN(E19*G19,0),SUM(H$1:H18)) -> 0 | M19: =IF(B19<>"計",ROUNDDOWN(E19*G19,0),SUM(M$1:M18)) -> 0 | N19: =IF((+H19-M19)<>0,H19-M19,IF(H19>0,"0",""))
H21: =IF(B21<>"計",ROUNDDOWN(E21*G21,0),SUM(H$1:H20)) -> 0 | M21: =IF(B21<>"計",ROUNDDOWN(E21*G21,0),SUM(M$1:M20)) -> 0 | N21: =IF((+H21-M21)<>0,H21-M21,IF(H21>0,"0",""))
H23: =IF(B23<>"計",ROUNDDOWN(E23*G23,0),SUM(H$1:H22)) -> 0 | M23: =IF(B23<>"計",ROUNDDOWN(E23*G23,0),SUM(M$1:M22)) -> 0 | N23: =IF((+H23-M23)<>0,H23-M23,IF(H23>0,"0",""))
H25: =IF(B25<>"計",ROUNDDOWN(E25*G25,0),SUM(H$1:H24)) -> 0 | M25: =IF(B25<>"計",ROUNDDOWN(E25*G25,0),SUM(M$1:M24)) -> 0 | N25: =IF((+H25-M25)<>0,H25-M25,IF(H25>0,"0",""))
H27: =IF(B27<>"計",ROUNDDOWN(E27*G27,0),SUM(H$1:H26)) -> 0 | M27: =IF(B27<>"計",ROUNDDOWN(E27*G27,0),SUM(M$1:M26)) -> 0 | N27: =IF((+H27-M27)<>0,H27-M27,IF(H27>0,"0",""))
H29: =IF(B29<>"計",ROUNDDOWN(E29*G29,0),SUM(H$1:H28)) -> 0 | M29: =IF(B29<>"計",ROUNDDOWN(E29*G29,0),SUM(M$1:M28)) -> 0 | N29: =IF((+H29-M29)<>0,H29-M29,IF(H29>0,"0",""))
H31: =IF(B31<>"計",ROUNDDOWN(E31*G31,0),SUM(H$1:H30)) -> 0 | M31: =IF(B31<>"計",ROUNDDOWN(E31*G31,0),SUM(M$1:M30)) -> 0 | N31: =IF((+H31-M31)<>0,H31-M31,IF(H31>0,"0",""))
H33: =IF(B33<>"計",ROUNDDOWN(E33*G33,0),SUM(H$1:H32)) -> 0 | M33: =IF(B33<>"計",ROUNDDOWN(E33*G33,0),SUM(M$1:M32)) -> 0 | N33: =IF((+H33-M33)<>0,H33-M33,IF(H33>0,"0",""))
B35: 計 | H35: =IF(B35<>"計",ROUNDDOWN(E35*G35,0),SUM(H$1:H34)) -> 0 | M35: =IF(B35<>"計",ROUNDDOWN(E35*G35,0),SUM(M$1:M34)) -> 0 | N35: =IF((+H35-M35)<>0,H35-M35,IF(H35>0,"0",""))
H37: =IF(B37<>"計",ROUNDDOWN(E37*G37,0),SUM(H$1:H36)) -> 0 | M37: =IF(B37<>"計",ROUNDDOWN(E37*G37,0),SUM(M$1:M36)) -> 0 | N37: =IF((+H37-M37)<>0,H37-M37,IF(H37>0,"0",""))
H189: =ROUNDDOWN(E189*G189,0) -> 0
H191: =ROUNDDOWN(E191*G191,0) -> 0
H193: =ROUNDDOWN(E193*G193,0) -> 0
H195: =ROUNDDOWN(E195*G195,0) -> 0
H197: =ROUNDDOWN(E197*G197,0) -> 0
H199: =ROUNDDOWN(E199*G199,0) -> 0
H201: =ROUNDDOWN(E201*G201,0) -> 0
H203: =ROUNDDOWN(E203*G203,0) -> 0
H205: =ROUNDDOWN(E205*G205,0) -> 0
H207: =ROUNDDOWN(E207*G207,0) -> 0
H209: =ROUNDDOWN(E209*G209,0) -> 0
H211: =ROUNDDOWN(E211*G211,0) -> 0
... H221: =ROUNDDOWN(E221*G221,0) -> 0

Sheet （7） 屋外 
B1: 名 称 | C1: 摘 要 | E1: 数 量 | F1: 単位 | G1: 単 価 | H1: 金 額 | I1: 備 考 | M1: 検算欄 | N1: 検算差額
M2: 下以降一式と合計は各自設定 | N2: 差額が0であればOK
A3: （7) | B3: 屋外施設工事 | H3: =IF(B3<>"計",ROUNDDOWN(E3*G3,0),SUM(H$1:H2)) -> 0 | M3: =IF(B3<>"計",ROUNDDOWN(E3*G3,0),SUM(M$1:M2)) -> 0 | N3: =IF((+H3-M3)<>0,H3-M3,IF(H3>0,"0",""))
H5: =IF(B5<>"計",ROUNDDOWN(E5*G5,0),SUM(H$1:H4)) -> 0 | M5: =IF(B5<>"計",ROUNDDOWN(E5*G5,0),SUM(M$1:M4)) -> 0 | N5: =IF((+H5-M5)<>0,H5-M5,IF(H5>0,"0",""))
A7: 1. | B7: 直接仮設 | E7: 1 | F7: 式 | H7: =IF(B7<>"計",ROUNDDOWN(E7*G7,0),SUM(H$1:H6)) -> 0 | M7: =IF(B7<>"計",ROUNDDOWN(E7*G7,0),SUM(M$1:M6)) -> 0 | N7: =IF((+H7-M7)<>0,H7-M7,IF(H7>0,"0",""))
A9: 2. | B9: 舗装 | E9: 1 | F9: 式 | H9: =IF(B9<>"計",ROUNDDOWN(E9*G9,0),SUM(H$1:H8)) -> 0 | M9: =IF(B9<>"計",ROUNDDOWN(E9*G9,0),SUM(M$1:M8)) -> 0 | N9: =IF((+H9-M9)<>0,H9-M9,IF(H9>0,"0",""))
A11: 3. | B11: 屋外排水設備 | E11: 1 | F11: 式 | H11: =IF(B11<>"計",ROUNDDOWN(E11*G11,0),SUM(H$1:H10)) -> 0 | M11: =IF(B11<>"計",ROUNDDOWN(E11*G11,0),SUM(M$1:M10)) -> 0 | N11: =IF((+H11-M11)<>0,H11-M11,IF(H11>0,"0",""))
A13: 4. | B13: 造園 | E13: 1 | F13: 式 | H13: =IF(B13<>"計",ROUNDDOWN(E13*G13,0),SUM(H$1:H12)) -> 0 | M13: =IF(B13<>"計",ROUNDDOWN(E13*G13,0),SUM(M$1:M12)) -> 0 | N13: =IF((+H13-M13)<>0,H13-M13,IF(H13>0,"0",""))
A15: 5. | B15: 囲障 | E15: 1 | F15: 式 | H15: =IF(B15<>"計",ROUNDDOWN(E15*G15,0),SUM(H$1:H14)) -> 0 | M15: =IF(B15<>"計",ROUNDDOWN(E15*G15,0),SUM(M$1:M14)) -> 0 | N15: =IF((+H15-M15)<>0,H15-M15,IF(H15>0,"0",""))
A17: 6. | B17: 外部工作物 | E17: 1 | F17: 式 | H17: =IF(B17<>"計",ROUNDDOWN(E17*G17,0),SUM(H$1:H16)) -> 0 | M17: =IF(B17<>"計",ROUNDDOWN(E17*G17,0),SUM(M$1:M16)) -> 0 | N17: =IF((+H17-M17)<>0,H17-M17,IF(H17>0,"0",""))
H19: =IF(B19<>"計",ROUNDDOWN(E19*G19,0),SUM(H$1:H18)) -> 0 | M19: =IF(B19<>"計",ROUNDDOWN(E19*G19,0),SUM(M$1:M18)) -> 0 | N19: =IF((+H19-M19)<>0,H19-M19,IF(H19>0,"0",""))
H21: =IF(B21<>"計",ROUNDDOWN(E21*G21,0),SUM(H$1:H20)) -> 0 | M21: =IF(B21<>"計",ROUNDDOWN(E21*G21,0),SUM(M$1:M20)) -> 0 | N21: =IF((+H21-M21)<>0,H21-M21,IF(H21>0,"0",""))
H23: =IF(B23<>"計",ROUNDDOWN(E23*G23,0),SUM(H$1:H22)) -> 0 | M23: =IF(B23<>"計",ROUNDDOWN(E23*G23,0),SUM(M$1:M22)) -> 0 | N23: =IF((+H23-M23)<>0,H23-M23,IF(H23>0,"0",""))
H25: =IF(B25<>"計",ROUNDDOWN(E25*G25,0),SUM(H$1:H24)) -> 0 | M25: =IF(B25<>"計",ROUNDDOWN(E25*G25,0),SUM(M$1:M24)) -> 0 | N25: =IF((+H25-M25)<>0,H25-M25,IF(H25>0,"0",""))
H27: =IF(B27<>"計",ROUNDDOWN(E27*G27,0),SUM(H$1:H26)) -> 0 | M27: =IF(B27<>"計",ROUNDDOWN(E27*G27,0),SUM(M$1:M26)) -> 0 | N27: =IF((+H27-M27)<>0,H27-M27,IF(H27>0,"0",""))
H29: =IF(B29<>"計",ROUNDDOWN(E29*G29,0),SUM(H$1:H28)) -> 0 | M29: =IF(B29<>"計",ROUNDDOWN(E29*G29,0),SUM(M$1:M28)) -> 0 | N29: =IF((+H29-M29)<>0,H29-M29,IF(H29>0,"0",""))
H31: =IF(B31<>"計",ROUNDDOWN(E31*G31,0),SUM(H$1:H30)) -> 0 | M31: =IF(B31<>"計",ROUNDDOWN(E31*G31,0),SUM(M$1:M30)) -> 0 | N31: =IF((+H31-M31)<>0,H31-M31,IF(H31>0,"0",""))
H33: =IF(B33<>"計",ROUNDDOWN(E33*G33,0),SUM(H$1:H32)) -> 0 | M33: =IF(B33<>"計",ROUNDDOWN(E33*G33,0),SUM(M$1:M32)) -> 0 | N33: =IF((+H33-M33)<>0,H33-M33,IF(H33>0,"0",""))
B35: 計 | H35: =IF(B35<>"計",ROUNDDOWN(E35*G35,0),SUM(H$1:H34)) -> 0 | M35: =IF(B35<>"計",ROUNDDOWN(E35*G35,0),SUM(M$1:M34)) -> 0 | N35: =IF((+H35-M35)<>0,H35-M35,IF(H35>0,"0",""))
H37: =IF(B37<>"計",ROUNDDOWN(E37*G37,0),SUM(H$1:H36)) -> 0 | M37: =IF(B37<>"計",ROUNDDOWN(E37*G37,0),SUM(M$1:M36)) -> 0 | N37: =IF((+H37-M37)<>0,H37-M37,IF(H37>0,"0",""))
H39: =ROUNDDOWN(E39*G39,0) -> 0
H41: =ROUNDDOWN(E41*G41,0) -> 0
H43: =ROUNDDOWN(E43*G43,0) -> 0
H45: =ROUNDDOWN(E45*G45,0) -> 0
H47: =ROUNDDOWN(E47*G47,0) -> 0
H49: =ROUNDDOWN(E49*G49,0) -> 0
H51: =ROUNDDOWN(E51*G51,0) -> 0
H53: =ROUNDDOWN(E53*G53,0) -> 0
H55: =ROUNDDOWN(E55*G55,0) -> 0
H57: =ROUNDDOWN(E57*G57,0) -> 0
H59: =ROUNDDOWN(E59*G59,0) -> 0
H61: =ROUNDDOWN(E61*G61,0) -> 0
... H191: =ROUNDDOWN(E191*G191,0) -> 0

Sheet 屋外内訳 
B1: 名 称 | C1: 摘 要 | E1: 数 量 | F1: 単位 | G1: 単 価 | H1: 金 額 | I1: 備 考 | M1: 検算欄 | N1: 検算差額
M2: 下以降一式と合計は各自設定 | N2: 差額が0であればOK
H3: =IF(B3<>"計",ROUNDDOWN(E3*G3,0),SUM(H$1:H2)) -> 0 | M3: =IF(B3<>"計",ROUNDDOWN(E3*G3,0),SUM(M$1:M2)) -> 0 | N3: =IF((+H3-M3)<>0,H3-M3,IF(H3>0,"0",""))
H5: =IF(B5<>"計",ROUNDDOWN(E5*G5,0),SUM(H$1:H4)) -> 0 | M5: =IF(B5<>"計",ROUNDDOWN(E5*G5,0),SUM(M$1:M4)) -> 0 | N5: =IF((+H5-M5)<>0,H5-M5,IF(H5>0,"0",""))
H7: =IF(B7<>"計",ROUNDDOWN(E7*G7,0),SUM(H$1:H6)) -> 0 | M7: =IF(B7<>"計",ROUNDDOWN(E7*G7,0),SUM(M$1:M6)) -> 0 | N7: =IF((+H7-M7)<>0,H7-M7,IF(H7>0,"0",""))
H9: =IF(B9<>"計",ROUNDDOWN(E9*G9,0),SUM(H$1:H8)) -> 0 | M9: =IF(B9<>"計",ROUNDDOWN(E9*G9,0),SUM(M$1:M8)) -> 0 | N9: =IF((+H9-M9)<>0,H9-M9,IF(H9>0,"0",""))
H11: =IF(B11<>"計",ROUNDDOWN(E11*G11,0),SUM(H$1:H10)) -> 0 | M11: =IF(B11<>"計",ROUNDDOWN(E11*G11,0),SUM(M$1:M10)) -> 0 | N11: =IF((+H11-M11)<>0,H11-M11,IF(H11>0,"0",""))
H13: =IF(B13<>"計",ROUNDDOWN(E13*G13,0),SUM(H$1:H12)) -> 0 | M13: =IF(B13<>"計",ROUNDDOWN(E13*G13,0),SUM(M$1:M12)) -> 0 | N13: =IF((+H13-M13)<>0,H13-M13,IF(H13>0,"0",""))
H15: =IF(B15<>"計",ROUNDDOWN(E15*G15,0),SUM(H$1:H14)) -> 0 | M15: =IF(B15<>"計",ROUNDDOWN(E15*G15,0),SUM(M$1:M14)) -> 0 | N15: =IF((+H15-M15)<>0,H15-M15,IF(H15>0,"0",""))
H17: =IF(B17<>"計",ROUNDDOWN(E17*G17,0),SUM(H$1:H16)) -> 0 | M17: =IF(B17<>"計",ROUNDDOWN(E17*G17,0),SUM(M$1:M16)) -> 0 | N17: =IF((+H17-M17)<>0,H17-M17,IF(H17>0,"0",""))
H19: =IF(B19<>"計",ROUNDDOWN(E19*G19,0),SUM(H$1:H18)) -> 0 | M19: =IF(B19<>"計",ROUNDDOWN(E19*G19,0),SUM(M$1:M18)) -> 0 | N19: =IF((+H19-M19)<>0,H19-M19,IF(H19>0,"0",""))
H21: =IF(B21<>"計",ROUNDDOWN(E21*G21,0),SUM(H$1:H20)) -> 0 | M21: =IF(B21<>"計",ROUNDDOWN(E21*G21,0),SUM(M$1:M20)) -> 0 | N21: =IF((+H21-M21)<>0,H21-M21,IF(H21>0,"0",""))
H23: =IF(B23<>"計",ROUNDDOWN(E23*G23,0),SUM(H$1:H22)) -> 0 | M23: =IF(B23<>"計",ROUNDDOWN(E23*G23,0),SUM(M$1:M22)) -> 0 | N23: =IF((+H23-M23)<>0,H23-M23,IF(H23>0,"0",""))
H25: =IF(B25<>"計",ROUNDDOWN(E25*G25,0),SUM(H$1:H24)) -> 0 | M25: =IF(B25<>"計",ROUNDDOWN(E25*G25,0),SUM(M$1:M24)) -> 0 | N25: =IF((+H25-M25)<>0,H25-M25,IF(H25>0,"0",""))
... H37: =IF(B37<>"計",ROUNDDOWN(E37*G37,0),SUM(H$1:H36)) -> 0 | M37: =IF(B37<>"計",ROUNDDOWN(E37*G37,0),SUM(M$1:M36)) -> 0 | N37: =IF((+H37-M37)<>0,H37-M37,IF(H37>0,"0",""))
H39: =IF(B39<>"計",ROUNDDOWN(E39*G39,0),SUM(H$1:H38)) -> 0
H41: =IF(B41<>"計",ROUNDDOWN(E41*G41,0),SUM(H$1:H40)) -> 0 | M41: =IF(B41<>"計",ROUNDDOWN(E41*G41,0),SUM(M$1:M40)) -> 0 | N41: =IF((+H41-M41)<>0,H41-M41,IF(H41>0,"0",""))
H43: =IF(B43<>"計",ROUNDDOWN(E43*G43,0),SUM(H$1:H42)) -> 0 | M43: =IF(B43<>"計",ROUNDDOWN(E43*G43,0),SUM(M$1:M42)) -> 0 | N43: =IF((+H43-M43)<>0,H43-M43,IF(H43>0,"0",""))
H45: =IF(B45<>"計",ROUNDDOWN(E45*G45,0),SUM(H$1:H44)) -> 0 | M45: =IF(B45<>"計",ROUNDDOWN(E45*G45,0),SUM(M$1:M44)) -> 0 | N45: =IF((+H45-M45)<>0,H45-M45,IF(H45>0,"0",""))
H47: =IF(B47<>"計",ROUNDDOWN(E47*G47,0),SUM(H$1:H46)) -> 0 | M47: =IF(B47<>"計",ROUNDDOWN(E47*G47,0),SUM(M$1:M46)) -> 0 | N47: =IF((+H47-M47)<>0,H47-M47,IF(H47>0,"0",""))
H49: =IF(B49<>"計",ROUNDDOWN(E49*G49,0),SUM(H$1:H48)) -> 0 | M49: =IF(B49<>"計",ROUNDDOWN(E49*G49,0),SUM(M$1:M48)) -> 0 | N49: =IF((+H49-M49)<>0,H49-M49,IF(H49>0,"0",""))
H51: =IF(B51<>"計",ROUNDDOWN(E51*G51,0),SUM(H$1:H50)) -> 0 | M51: =IF(B51<>"計",ROUNDDOWN(E51*G51,0),SUM(M$1:M50)) -> 0 | N51: =IF((+H51-M51)<>0,H51-M51,IF(H51>0,"0",""))
H53: =IF(B53<>"計",ROUNDDOWN(E53*G53,0),SUM(H$1:H52)) -> 0 | M53: =IF(B53<>"計",ROUNDDOWN(E53*G53,0),SUM(M$1:M52)) -> 0 | N53: =IF((+H53-M53)<>0,H53-M53,IF(H53>0,"0",""))
H55: =IF(B55<>"計",ROUNDDOWN(E55*G55,0),SUM(H$1:H54)) -> 0 | M55: =IF(B55<>"計",ROUNDDOWN(E55*G55,0),SUM(M$1:M54)) -> 0 | N55: =IF((+H55-M55)<>0,H55-M55,IF(H55>0,"0",""))
H57: =IF(B57<>"計",ROUNDDOWN(E57*G57,0),SUM(H$1:H56)) -> 0 | M57: =IF(B57<>"計",ROUNDDOWN(E57*G57,0),SUM(M$1:M56)) -> 0 | N57: =IF((+H57-M57)<>0,H57-M57,IF(H57>0,"0",""))
H59: =IF(B59<>"計",ROUNDDOWN(E59*G59,0),SUM(H$1:H58)) -> 0 | M59: =IF(B59<>"計",ROUNDDOWN(E59*G59,0),SUM(M$1:M58)) -> 0 | N59: =IF((+H59-M59)<>0,H59-M59,IF(H59>0,"0",""))
H61: =IF(B61<>"計",ROUNDDOWN(E61*G61,0),SUM(H$1:H60)) -> 0 | M61: =IF(B61<>"計",ROUNDDOWN(E61*G61,0),SUM(M$1:M60)) -> 0 | N61: =IF((+H61-M61)<>0,H61-M61,IF(H61>0,"0",""))
H63: =IF(B63<>"計",ROUNDDOWN(E63*G63,0),SUM(H$1:H62)) -> 0 | M63: =IF(B63<>"計",ROUNDDOWN(E63*G63,0),SUM(M$1:M62)) -> 0 | N63: =IF((+H63-M63)<>0,H63-M63,IF(H63>0,"0",""))
... H181: =IF(B181<>"計",ROUNDDOWN(E181*G181,0),SUM(H$1:H180)) -> 0 | M181: =IF(B181<>"計",ROUNDDOWN(E181*G181,0),SUM(M$1:M180)) -> 0 | N181: =IF((+H181-M181)<>0,H181-M181,IF(H181>0,"0",""))

Sheet 部分別種目
B1: 名 称 | C1: 摘 要 | E1: 数 量 | F1: 単位 | G1: 単 価 | H1: 金 額 | I1: 備 考 | M1: 検算欄 | N1: 検算差額
M2: 下以降一式と合計は各自設定 | N2: 差額が0であればOK
B3: ○○○新築工事 | H3: =ROUNDDOWN(E3*G3,0) -> 0 | M3: =IF(B3<>"計",ROUNDDOWN(E3*G3,0),SUM(M$1:M2)) -> 0 | N3: =IF((+H3-M3)<>0,H3-M3,IF(H3>0,"0",""))
A5: Ⅰ | B5: 直接工事費 | H5: =ROUNDDOWN(E5*G5,0) -> 0 | M5: =IF(B5<>"計",ROUNDDOWN(E5*G5,0),SUM(M$1:M4)) -> 0 | N5: =IF((+H5-M5)<>0,H5-M5,IF(H5>0,"0",""))
A7: (1) | B7: 建築工事 | E7: 1 | F7: 式 | H7: =IF(B7<>"計",ROUNDDOWN(E7*G7,0),SUM(H$1:H6)) -> 0 | M7: =IF(B7<>"計",ROUNDDOWN(E7*G7,0),SUM(M$1:M6)) -> 0 | N7: =IF((+H7-M7)<>0,H7-M7,IF(H7>0,"0",""))
A9: (2) | B9: 電気設備工事 | E9: 1 | F9: 式 | H9: =IF(B9<>"計",ROUNDDOWN(E9*G9,0),SUM(H$1:H8)) -> 0 | M9: =IF(B9<>"計",ROUNDDOWN(E9*G9,0),SUM(M$1:M8)) -> 0 | N9: =IF((+H9-M9)<>0,H9-M9,IF(H9>0,"0",""))
A11: (3) | B11: 空気調和設備工事 | E11: 1 | F11: 式 | H11: =IF(B11<>"計",ROUNDDOWN(E11*G11,0),SUM(H$1:H10)) -> 0 | M11: =IF(B11<>"計",ROUNDDOWN(E11*G11,0),SUM(M$1:M10)) -> 0 | N11: =IF((+H11-M11)<>0,H11-M11,IF(H11>0,"0",""))
A13: (4) | B13: 給排水衛生設備工事 | E13: 1 | F13: 式 | H13: =IF(B13<>"計",ROUNDDOWN(E13*G13,0),SUM(H$1:H12)) -> 0 | M13: =IF(B13<>"計",ROUNDDOWN(E13*G13,0),SUM(M$1:M12)) -> 0 | N13: =IF((+H13-M13)<>0,H13-M13,IF(H13>0,"0",""))
A15: (5) | B15: 昇降機設備工事 | E15: 1 | F15: 式 | H15: =IF(B15<>"計",ROUNDDOWN(E15*G15,0),SUM(H$1:H14)) -> 0 | M15: =IF(B15<>"計",ROUNDDOWN(E15*G15,0),SUM(M$1:M14)) -> 0 | N15: =IF((+H15-M15)<>0,H15-M15,IF(H15>0,"0",""))
A17: (6) | B17: 機械駐車設備工事 | E17: 1 | F17: 式 | H17: =IF(B17<>"計",ROUNDDOWN(E17*G17,0),SUM(H$1:H16)) -> 0 | M17: =IF(B17<>"計",ROUNDDOWN(E17*G17,0),SUM(M$1:M16)) -> 0 | N17: =IF((+H17-M17)<>0,H17-M17,IF(H17>0,"0",""))
A19: (7) | B19: 屋外施設工事 | E19: 1 | F19: 式 | H19: =IF(B19<>"計",ROUNDDOWN(E19*G19,0),SUM(H$1:H18)) -> 0 | M19: =IF(B19<>"計",ROUNDDOWN(E19*G19,0),SUM(M$1:M18)) -> 0 | N19: =IF((+H19-M19)<>0,H19-M19,IF(H19>0,"0",""))
B21: 計 | H21: =IF(B21<>"計",ROUNDDOWN(E21*G21,0),SUM(H$1:H20)) -> 0 | M21: =IF(B21<>"計",ROUNDDOWN(E21*G21,0),SUM(M$1:M20)) -> 0 | N21: =IF((+H21-M21)<>0,H21-M21,IF(H21>0,"0",""))
A23: Ⅱ | B23: 共通費 | H23: =ROUNDDOWN(E23*G23,0) -> 0 | M23: =IF(B23<>"計",ROUNDDOWN(E23*G23,0),SUM(M$1:M22)) -> 0 | N23: =IF((+H23-M23)<>0,H23-M23,IF(H23>0,"0",""))
A25: (1) | B25: 共通仮設費 | E25: 1 | F25: 式 | G25: =ROUNDDOWN(H21*I25,-4) -> 0 | H25: =IF(B25<>"計",ROUNDDOWN(E25*G25,0),SUM(H$1:H24)) -> 0 | I25: 0.04 | M25: =IF(B25<>"計",ROUNDDOWN(E25*G25,0),SUM(M$1:M24)) -> 0 | N25: =IF((+H25-M25)<>0,H25-M25,IF(H25>0,"0",""))
A27: (2) | B27: 諸経費 | E27: 1 | F27: 式 | G27: =+H31-H21-H25 -> 0 | H27: =IF(B27<>"計",ROUNDDOWN(E27*G27,0),SUM(H$1:H26)) -> 0 | I27: 0.1 | M27: =IF(B27<>"計",ROUNDDOWN(E27*G27,0),SUM(M$1:M26)) -> 0 | N27: =IF((+H27-M27)<>0,H27-M27,IF(H27>0,"0",""))
B29: 計 | H29: =SUM(H24:H27) -> 0 | M29: =IF(B29<>"計",ROUNDDOWN(E29*G29,0),SUM(M$24:M28)) -> 0 | N29: =IF((+H29-M29)<>0,H29-M29,IF(H29>0,"0",""))
B31: 合計（工事価格） | H31: =ROUNDDOWN((H21+H25)*(1+I27),-4) -> 0 | M31: =+M21+M29 -> 0 | N31: =IF((+H31-M31)<>0,H31-M31,IF(H31>0,"0",""))
A33: Ⅲ | B33: 消費税等相当額 | E33: 1 | F33: 式 | G33: =ROUNDDOWN(H31*I33,0) -> 0 | H33: =IF(B33<>"計",ROUNDDOWN(E33*G33,0),SUM(H$1:H32)) -> 0 | I33: 0.08 | M33: =IF(B33<>"計",ROUNDDOWN(E33*G33,0),SUM(M$1:M32)) -> 0 | N33: =IF((+H33-M33)<>0,H33-M33,IF(H33>0,"0",""))
B35: 総合計（工事費） | H35: =+H31+H33 -> 0 | M35: =+M31+M33 -> 0 | N35: =IF((+H35-M35)<>0,H35-M35,IF(H35>0,"0",""))
H37: =ROUNDDOWN(E37*G37,0) -> 0 | M37: =IF(B37<>"計",ROUNDDOWN(E37*G37,0),SUM(M$1:M36)) -> 0 | N37: =IF((+H37-M37)<>0,H37-M37,IF(H37>0,"0",""))
H38: =ROUNDDOWN(E38*G38,0) -> 0
H40: =ROUNDDOWN(E40*G40,0) -> 0
H42: =ROUNDDOWN(E42*G42,0) -> 0
H44: =ROUNDDOWN(E44*G44,0) -> 0
H46: =ROUNDDOWN(E46*G46,0) -> 0
H48: =ROUNDDOWN(E48*G48,0) -> 0
H50: =ROUNDDOWN(E50*G50,0) -> 0
H52: =ROUNDDOWN(E52*G52,0) -> 0
H54: =ROUNDDOWN(E54*G54,0) -> 0
H56: =ROUNDDOWN(E56*G56,0) -> 0
H58: =ROUNDDOWN(E58*G58,0) -> 0
H60: =ROUNDDOWN(E60*G60,0) -> 0
... H148: =ROUNDDOWN(E148*G148,0) -> 0

Sheet 部分別建築
B1: 名 称 | C1: 摘 要 | E1: 数 量 | F1: 単位 | G1: 単 価 | H1: 金 額 | I1: 備 考 | M1: 検算欄 | N1: 検算差額
M2: 下以降一式と合計は各自設定 | N2: 差額が0であればOK
A3: （1） | B3: 建築工事 | H3: =IF(B3<>"計",ROUNDDOWN(E3*G3,0),SUM(H$1:H2)) -> 0 | M3: =IF(B3<>"計",ROUNDDOWN(E3*G3,0),SUM(M$1:M2)) -> 0 | N3: =IF((+H3-M3)<>0,H3-M3,IF(H3>0,"0",""))
H5: =IF(B5<>"計",ROUNDDOWN(E5*G5,0),SUM(H$1:H4)) -> 0 | M5: =IF(B5<>"計",ROUNDDOWN(E5*G5,0),SUM(M$1:M4)) -> 0 | N5: =IF((+H5-M5)<>0,H5-M5,IF(H5>0,"0",""))
A7: 1. | B7: 直接仮設 | E7: 1 | F7: 式 | H7: =IF(B7<>"計",ROUNDDOWN(E7*G7,0),SUM(H$1:H6)) -> 0 | M7: =IF(B7<>"計",ROUNDDOWN(E7*G7,0),SUM(M$1:M6)) -> 0 | N7: =IF((+H7-M7)<>0,H7-M7,IF(H7>0,"0",""))
A9: 2. | B9: 土工・地業 | E9: 1 | F9: 式 | H9: =IF(B9<>"計",ROUNDDOWN(E9*G9,0),SUM(H$1:H8)) -> 0 | M9: =IF(B9<>"計",ROUNDDOWN(E9*G9,0),SUM(M$1:M8)) -> 0 | N9: =IF((+H9-M9)<>0,H9-M9,IF(H9>0,"0",""))
A11: 3. | B11: 躯体 | E11: 1 | F11: 式 | H11: =IF(B11<>"計",ROUNDDOWN(E11*G11,0),SUM(H$1:H10)) -> 0 | M11: =IF(B11<>"計",ROUNDDOWN(E11*G11,0),SUM(M$1:M10)) -> 0 | N11: =IF((+H11-M11)<>0,H11-M11,IF(H11>0,"0",""))
A13: 4. | B13: 外部仕上 | E13: 1 | F13: 式 | H13: =IF(B13<>"計",ROUNDDOWN(E13*G13,0),SUM(H$1:H12)) -> 0 | M13: =IF(B13<>"計",ROUNDDOWN(E13*G13,0),SUM(M$1:M12)) -> 0 | N13: =IF((+H13-M13)<>0,H13-M13,IF(H13>0,"0",""))
A15: 5. | B15: 内部仕上 | E15: 1 | F15: 式 | H15: =IF(B15<>"計",ROUNDDOWN(E15*G15,0),SUM(H$1:H14)) -> 0 | M15: =IF(B15<>"計",ROUNDDOWN(E15*G15,0),SUM(M$1:M14)) -> 0 | N15: =IF((+H15-M15)<>0,H15-M15,IF(H15>0,"0",""))
H17: =IF(B17<>"計",ROUNDDOWN(E17*G17,0),SUM(H$1:H16)) -> 0 | M17: =IF(B17<>"計",ROUNDDOWN(E17*G17,0),SUM(M$1:M16)) -> 0 | N17: =IF((+H17-M17)<>0,H17-M17,IF(H17>0,"0",""))
H19: =IF(B19<>"計",ROUNDDOWN(E19*G19,0),SUM(H$1:H18)) -> 0 | M19: =IF(B19<>"計",ROUNDDOWN(E19*G19,0),SUM(M$1:M18)) -> 0 | N19: =IF((+H19-M19)<>0,H19-M19,IF(H19>0,"0",""))
H21: =IF(B21<>"計",ROUNDDOWN(E21*G21,0),SUM(H$1:H20)) -> 0 | M21: =IF(B21<>"計",ROUNDDOWN(E21*G21,0),SUM(M$1:M20)) -> 0 | N21: =IF((+H21-M21)<>0,H21-M21,IF(H21>0,"0",""))
H23: =IF(B23<>"計",ROUNDDOWN(E23*G23,0),SUM(H$1:H22)) -> 0 | M23: =IF(B23<>"計",ROUNDDOWN(E23*G23,0),SUM(M$1:M22)) -> 0 | N23: =IF((+H23-M23)<>0,H23-M23,IF(H23>0,"0",""))
H25: =IF(B25<>"計",ROUNDDOWN(E25*G25,0),SUM(H$1:H24)) -> 0 | M25: =IF(B25<>"計",ROUNDDOWN(E25*G25,0),SUM(M$1:M24)) -> 0 | N25: =IF((+H25-M25)<>0,H25-M25,IF(H25>0,"0",""))
H27: =IF(B27<>"計",ROUNDDOWN(E27*G27,0),SUM(H$1:H26)) -> 0 | M27: =IF(B27<>"計",ROUNDDOWN(E27*G27,0),SUM(M$1:M26)) -> 0 | N27: =IF((+H27-M27)<>0,H27-M27,IF(H27>0,"0",""))
H29: =IF(B29<>"計",ROUNDDOWN(E29*G29,0),SUM(H$1:H28)) -> 0 | M29: =IF(B29<>"計",ROUNDDOWN(E29*G29,0),SUM(M$1:M28)) -> 0 | N29: =IF((+H29-M29)<>0,H29-M29,IF(H29>0,"0",""))
H31: =IF(B31<>"計",ROUNDDOWN(E31*G31,0),SUM(H$1:H30)) -> 0 | M31: =IF(B31<>"計",ROUNDDOWN(E31*G31,0),SUM(M$1:M30)) -> 0 | N31: =IF((+H31-M31)<>0,H31-M31,IF(H31>0,"0",""))
H33: =IF(B33<>"計",ROUNDDOWN(E33*G33,0),SUM(H$1:H32)) -> 0 | M33: =IF(B33<>"計",ROUNDDOWN(E33*G33,0),SUM(M$1:M32)) -> 0 | N33: =IF((+H33-M33)<>0,H33-M33,IF(H33>0,"0",""))
B35: 計 | H35: =IF(B35<>"計",ROUNDDOWN(E35*G35,0),SUM(H$1:H34)) -> 0 | M35: =IF(B35<>"計",ROUNDDOWN(E35*G35,0),SUM(M$1:M34)) -> 0 | N35: =IF((+H35-M35)<>0,H35-M35,IF(H35>0,"0",""))
H37: =IF(B37<>"計",ROUNDDOWN(E37*G37,0),SUM(H$1:H36)) -> 0 | M37: =IF(B37<>"計",ROUNDDOWN(E37*G37,0),SUM(M$1:M36)) -> 0 | N37: =IF((+H37-M37)<>0,H37-M37,IF(H37>0,"0",""))

Sheet 改修種目
B1: 名 称 | C1: 摘 要 | E1: 数 量 | F1: 単位 | G1: 単 価 | H1: 金 額 | I1: 備 考 | M1: 検算欄 | N1: 検算差額
M2: 下以降一式と合計は各自設定 | N2: 差額が0であればOK
B3: ○○○新築工事 | H3: =ROUNDDOWN(E3*G3,0) -> 0 | M3: =IF(B3<>"計",ROUNDDOWN(E3*G3,0),SUM(M$1:M2)) -> 0 | N3: =IF((+H3-M3)<>0,H3-M3,IF(H3>0,"0",""))
A5: Ⅰ | B5: 直接工事費 | H5: =ROUNDDOWN(E5*G5,0) -> 0 | M5: =IF(B5<>"計",ROUNDDOWN(E5*G5,0),SUM(M$1:M4)) -> 0 | N5: =IF((+H5-M5)<>0,H5-M5,IF(H5>0,"0",""))
A7: (1) | B7: 建築工事 | E7: 1 | F7: 式 | H7: =IF(B7<>"計",ROUNDDOWN(E7*G7,0),SUM(H$1:H6)) -> 0 | M7: =IF(B7<>"計",ROUNDDOWN(E7*G7,0),SUM(M$1:M6)) -> 0 | N7: =IF((+H7-M7)<>0,H7-M7,IF(H7>0,"0",""))
A9: (2) | B9: 電気設備工事 | E9: 1 | F9: 式 | H9: =IF(B9<>"計",ROUNDDOWN(E9*G9,0),SUM(H$1:H8)) -> 0 | M9: =IF(B9<>"計",ROUNDDOWN(E9*G9,0),SUM(M$1:M8)) -> 0 | N9: =IF((+H9-M9)<>0,H9-M9,IF(H9>0,"0",""))
A11: (3) | B11: 空気調和設備工事 | E11: 1 | F11: 式 | H11: =IF(B11<>"計",ROUNDDOWN(E11*G11,0),SUM(H$1:H10)) -> 0 | M11: =IF(B11<>"計",ROUNDDOWN(E11*G11,0),SUM(M$1:M10)) -> 0 | N11: =IF((+H11-M11)<>0,H11-M11,IF(H11>0,"0",""))
A13: (4) | B13: 給排水衛生設備工事 | E13: 1 | F13: 式 | H13: =IF(B13<>"計",ROUNDDOWN(E13*G13,0),SUM(H$1:H12)) -> 0 | M13: =IF(B13<>"計",ROUNDDOWN(E13*G13,0),SUM(M$1:M12)) -> 0 | N13: =IF((+H13-M13)<>0,H13-M13,IF(H13>0,"0",""))
A15: (5) | B15: 昇降機設備工事 | E15: 1 | F15: 式 | H15: =IF(B15<>"計",ROUNDDOWN(E15*G15,0),SUM(H$1:H14)) -> 0 | M15: =IF(B15<>"計",ROUNDDOWN(E15*G15,0),SUM(M$1:M14)) -> 0 | N15: =IF((+H15-M15)<>0,H15-M15,IF(H15>0,"0",""))
A17: (6) | B17: 機械駐車設備工事 | E17: 1 | F17: 式 | H17: =IF(B17<>"計",ROUNDDOWN(E17*G17,0),SUM(H$1:H16)) -> 0 | M17: =IF(B17<>"計",ROUNDDOWN(E17*G17,0),SUM(M$1:M16)) -> 0 | N17: =IF((+H17-M17)<>0,H17-M17,IF(H17>0,"0",""))
A19: (7) | B19: 屋外施設工事 | E19: 1 | F19: 式 | H19: =IF(B19<>"計",ROUNDDOWN(E19*G19,0),SUM(H$1:H18)) -> 0 | M19: =IF(B19<>"計",ROUNDDOWN(E19*G19,0),SUM(M$1:M18)) -> 0 | N19: =IF((+H19-M19)<>0,H19-M19,IF(H19>0,"0",""))
B21: 計 | H21: =IF(B21<>"計",ROUNDDOWN(E21*G21,0),SUM(H$1:H20)) -> 0 | M21: =IF(B21<>"計",ROUNDDOWN(E21*G21,0),SUM(M$1:M20)) -> 0 | N21: =IF((+H21-M21)<>0,H21-M21,IF(H21>0,"0",""))
A23: Ⅱ | B23: 共通費 | H23: =ROUNDDOWN(E23*G23,0) -> 0 | M23: =IF(B23<>"計",ROUNDDOWN(E23*G23,0),SUM(M$1:M22)) -> 0 | N23: =IF((+H23-M23)<>0,H23-M23,IF(H23>0,"0",""))
A25: (1) | B25: 共通仮設費 | E25: 1 | F25: 式 | G25: =ROUNDDOWN(H21*I25,-4) -> 0 | H25: =IF(B25<>"計",ROUNDDOWN(E25*G25,0),SUM(H$1:H24)) -> 0 | I25: 0.04 | M25: =IF(B25<>"計",ROUNDDOWN(E25*G25,0),SUM(M$1:M24)) -> 0 | N25: =IF((+H25-M25)<>0,H25-M25,IF(H25>0,"0",""))
A27: (2) | B27: 諸経費 | E27: 1 | F27: 式 | G27: =+H31-H21-H25 -> 0 | H27: =IF(B27<>"計",ROUNDDOWN(E27*G27,0),SUM(H$1:H26)) -> 0 | I27: 0.1 | M27: =IF(B27<>"計",ROUNDDOWN(E27*G27,0),SUM(M$1:M26)) -> 0 | N27: =IF((+H27-M27)<>0,H27-M27,IF(H27>0,"0",""))
B29: 計 | H29: =SUM(H24:H27) -> 0 | M29: =IF(B29<>"計",ROUNDDOWN(E29*G29,0),SUM(M$24:M28)) -> 0 | N29: =IF((+H29-M29)<>0,H29-M29,IF(H29>0,"0",""))
B31: 合計（工事価格） | H31: =ROUNDDOWN((H21+H25)*(1+I27),-4) -> 0 | M31: =+M21+M29 -> 0 | N31: =IF((+H31-M31)<>0,H31-M31,IF(H31>0,"0",""))
A33: Ⅲ | B33: 消費税等相当額 | E33: 1 | F33: 式 | G33: =ROUNDDOWN(H31*I33,0) -> 0 | H33: =IF(B33<>"計",ROUNDDOWN(E33*G33,0),SUM(H$1:H32)) -> 0 | I33: 0.08 | M33: =IF(B33<>"計",ROUNDDOWN(E33*G33,0),SUM(M$1:M32)) -> 0 | N33: =IF((+H33-M33)<>0,H33-M33,IF(H33>0,"0",""))
B35: 総合計（工事費） | H35: =+H31+H33 -> 0 | M35: =+M31+M33 -> 0 | N35: =IF((+H35-M35)<>0,H35-M35,IF(H35>0,"0",""))
H37: =ROUNDDOWN(E37*G37,0) -> 0 | M37: =IF(B37<>"計",ROUNDDOWN(E37*G37,0),SUM(M$1:M36)) -> 0 | N37: =IF((+H37-M37)<>0,H37-M37,IF(H37>0,"0",""))
H38: =ROUNDDOWN(E38*G38,0) -> 0
H40: =ROUNDDOWN(E40*G40,0) -> 0
H42: =ROUNDDOWN(E42*G42,0) -> 0
H44: =ROUNDDOWN(E44*G44,0) -> 0
H46: =ROUNDDOWN(E46*G46,0) -> 0
H48: =ROUNDDOWN(E48*G48,0) -> 0
H50: =ROUNDDOWN(E50*G50,0) -> 0
H52: =ROUNDDOWN(E52*G52,0) -> 0
H54: =ROUNDDOWN(E54*G54,0) -> 0
H56: =ROUNDDOWN(E56*G56,0) -> 0
H58: =ROUNDDOWN(E58*G58,0) -> 0
H60: =ROUNDDOWN(E60*G60,0) -> 0
... H148: =ROUNDDOWN(E148*G148,0) -> 0

Sheet 2-4-1-1
B1: =B5 -> 4-1 | C1: =C5 -> 衛生器具設備 | H1: 小計→ | I1: =MAX(I4:I411) -> 0
B2: =B7 -> 1. | C2: =C7 -> 衛生器具設備
C3: 名 称 | D3: 摘 要 | F3: 数 量 | G3: 単位 | H3: 単 価 | I3: 金 額 | J3: 備 考
B4: Ⅰ-(2)-1 | C4: ステップＳ３（宿泊棟）
B5: 4-1 | C5: 衛生器具設備 | I5: =IF(C5<>"計",ROUNDDOWN(F5*H5,0),SUM(I$3:I4)) -> 0
B7: 1. | C7: 衛生器具設備
D10: L-3
C11: 洗面器 | D11: CC-707Tﾄｸ,CC0-997 | F11: 1 | G11: 組
C15: 計
I31: =IF(C31<>"計",ROUNDDOWN(F31*H31,0),SUM(I$3:I30)) -> 0
I33: =IF(C33<>"計",ROUNDDOWN(F33*H33,0),SUM(I$3:I32)) -> 0
I35: =IF(C35<>"計",ROUNDDOWN(F35*H35,0),SUM(I$3:I34)) -> 0
I37: =IF(C37<>"計",ROUNDDOWN(F37*H37,0),SUM(I$3:I36)) -> 0
I39: =IF(C39<>"計",ROUNDDOWN(F39*H39,0),SUM(I$3:I38)) -> 0
I41: =IF(C41<>"計",ROUNDDOWN(F41*H41,0),SUM(I$3:I40)) -> 0
I43: =IF(C43<>"計",ROUNDDOWN(F43*H43,0),SUM(I$3:I42)) -> 0
I45: =IF(C45<>"計",ROUNDDOWN(F45*H45,0),SUM(I$3:I44)) -> 0
I47: =IF(C47<>"計",ROUNDDOWN(F47*H47,0),SUM(I$3:I46)) -> 0
I49: =IF(C49<>"計",ROUNDDOWN(F49*H49,0),SUM(I$3:I48)) -> 0
I51: =IF(C51<>"計",ROUNDDOWN(F51*H51,0),SUM(I$3:I50)) -> 0
I53: =IF(C53<>"計",ROUNDDOWN(F53*H53,0),SUM(I$3:I52)) -> 0
... I413: =IF(C413<>"計",ROUNDDOWN(F413*H413,0),SUM(I$3:I412)) -> 0

Sheet 2-4-2-1
B1: =B5 -> 4-2 | C1: =C5 -> 給水設備 | H1: 小計→ | I1: =MAX(I4:I419) -> 0
B2: =B7 -> 1. | C2: =C7 -> 給水設備
C3: 名 称 | D3: 摘 要 | F3: 数 量 | G3: 単位 | H3: 単 価 | I3: 金 額 | J3: 備 考
B4: Ⅰ-(2)-1 | C4: ステップＳ３（宿泊棟）
B5: 4-2 | C5: 給水設備 | I5: =IF(C5<>"計",ROUNDDOWN(F5*H5,0),SUM(I$3:I4)) -> 0
B7: 1. | C7: 給水設備 | I7: =IF(C7<>"計",ROUNDDOWN(F7*H7,0),SUM(I$3:I6)) -> 0
D10: 一般配管用SUS | E10: 拡管式接合
C11: 給水管 | D11: 屋内一般 | E11: 20SU | F11: 5 | G11: ｍ
D12: 一般配管用SUS | E12: 拡管式接合
C13: 給水管 | D13: 屋内一般 | E13: 25SU | F13: 1 | G13: ｍ
D14: SUS製 | E14: ねじ
C15: 仕切弁 | D15: JIS10K | E15: 20A | F15: 2 | G15: 個
C17: 保温 | F17: 1 | G17: 式 | J17: ='別紙明細2-4-2-1'!C4 -> 別紙明細2-4-2-1-1
C19: あと施工アンカー | F19: 1 | G19: 式 | J19: ='別紙明細2-4-2-1'!C18 -> 別紙明細2-4-2-1-2
C21: 総合調整 | F21: 1 | G21: 式 | J21: ='別紙明細2-4-2-1'!C32 -> 別紙明細2-4-2-1-3
C23: スリーブ | F23: 1 | G23: 式 | J23: ='別紙明細2-4-2-1'!C48 -> 別紙明細2-4-2-1-4
C27: 計
I41: =IF(C41<>"計",ROUNDDOWN(F41*H41,0),SUM(I$3:I40)) -> 0
I43: =IF(C43<>"計",ROUNDDOWN(F43*H43,0),SUM(I$3:I42)) -> 0
I45: =IF(C45<>"計",ROUNDDOWN(F45*H45,0),SUM(I$3:I44)) -> 0
I47: =IF(C47<>"計",ROUNDDOWN(F47*H47,0),SUM(I$3:I46)) -> 0
I49: =IF(C49<>"計",ROUNDDOWN(F49*H49,0),SUM(I$3:I48)) -> 0
I51: =IF(C51<>"計",ROUNDDOWN(F51*H51,0),SUM(I$3:I50)) -> 0
I53: =IF(C53<>"計",ROUNDDOWN(F53*H53,0),SUM(I$3:I52)) -> 0
I55: =IF(C55<>"計",ROUNDDOWN(F55*H55,0),SUM(I$3:I54)) -> 0
I57: =IF(C57<>"計",ROUNDDOWN(F57*H57,0),SUM(I$3:I56)) -> 0
I59: =IF(C59<>"計",ROUNDDOWN(F59*H59,0),SUM(I$3:I58)) -> 0
I61: =IF(C61<>"計",ROUNDDOWN(F61*H61,0),SUM(I$3:I60)) -> 0
I63: =IF(C63<>"計",ROUNDDOWN(F63*H63,0),SUM(I$3:I62)) -> 0
... I421: =IF(C421<>"計",ROUNDDOWN(F421*H421,0),SUM(I$3:I420)) -> 0

Sheet 2-4-3-1
B1: =B5 -> 4-3 | C1: =C5 -> 排水設備 | H1: 小計→ | I1: =MAX(I4:I429) -> 0
B2: =B7 -> 1. | C2: =C7 -> 排水設備
C3: 名 称 | D3: 摘 要 | F3: 数 量 | G3: 単位 | H3: 単 価 | I3: 金 額 | J3: 備 考
B4: Ⅰ-(2)-1 | C4: ステップＳ３（宿泊棟）
B5: 4-3 | C5: 排水設備 | I5: =IF(C5<>"計",ROUNDDOWN(F5*H5,0),SUM(I$3:I4)) -> 0
B7: 1. | C7: 排水設備
D10: DVLP | E10: MD継手
C11: 排水管 | D11: 屋内一般 | E11: 40A | F11: 8 | G11: ｍ
D12: DVLP | E12: MD継手
C13: 排水管 | D13: 屋内一般 | E13: 50A | F13: 43 | G13: ｍ
D14: DVLP | E14: MD継手
C15: 排水管 | D15: 屋内一般 | E15: 80A | F15: 3 | G15: ｍ
D16: DVLP | E16: MD継手
C17: 排水管 | D17: 屋内一般 | E17: 100A | F17: 6 | G17: ｍ
C19: 間接排水受金物 | E19: 50A | F19: 4 | G19: 個
C21: 床排水トラップ | D21: T5B | E21: 50A | F21: 8 | G21: 個
C23: P型トラップ | D23: ねじ込型 | E23: 40A | F23: 4 | G23: 個
C25: 保温 | F25: 1 | G25: 式 | J25: ='別紙明細2-4-3-1'!C4 -> 別紙明細2-4-3-1-1
C27: 形鋼振れ止め支持 | F27: 1 | G27: 式 | J27: ='別紙明細2-4-3-1'!C22 -> 別紙明細2-4-3-1-2
C29: あと施工アンカー | F29: 1 | G29: 式 | J29: ='別紙明細2-4-3-1'!C36 -> 別紙明細2-4-3-1-3
C31: スリーブ | F31: 1 | G31: 式 | J31: ='別紙明細2-4-3-1'!C50 -> 別紙明細2-4-3-1-4
C35: 計
I41: =IF(C41<>"計",ROUNDDOWN(F41*H41,0),SUM(I$3:I40)) -> 0
I43: =IF(C43<>"計",ROUNDDOWN(F43*H43,0),SUM(I$3:I42)) -> 0
I45: =IF(C45<>"計",ROUNDDOWN(F45*H45,0),SUM(I$3:I44)) -> 0
I47: =IF(C47<>"計",ROUNDDOWN(F47*H47,0),SUM(I$3:I46)) -> 0
I49: =IF(C49<>"計",ROUNDDOWN(F49*H49,0),SUM(I$3:I48)) -> 0
I51: =IF(C51<>"計",ROUNDDOWN(F51*H51,0),SUM(I$3:I50)) -> 0
I53: =IF(C53<>"計",ROUNDDOWN(F53*H53,0),SUM(I$3:I52)) -> 0
I55: =IF(C55<>"計",ROUNDDOWN(F55*H55,0),SUM(I$3:I54)) -> 0
I57: =IF(C57<>"計",ROUNDDOWN(F57*H57,0),SUM(I$3:I56)) -> 0
I59: =IF(C59<>"計",ROUNDDOWN(F59*H59,0),SUM(I$3:I58)) -> 0
I61: =IF(C61<>"計",ROUNDDOWN(F61*H61,0),SUM(I$3:I60)) -> 0
I63: =IF(C63<>"計",ROUNDDOWN(F63*H63,0),SUM(I$3:I62)) -> 0
... I431: =IF(C431<>"計",ROUNDDOWN(F431*H431,0),SUM(I$3:I430)) -> 0

Sheet 2-4-4-1
B1: =B5 -> 4-4 | C1: =C5 -> 給湯設備 | H1: 小計→ | I1: =MAX(I4:I419) -> 0
B2: =B7 -> 1. | C2: =C7 -> 給湯設備
C3: 名 称 | D3: 摘 要 | F3: 数 量 | G3: 単位 | H3: 単 価 | I3: 金 額 | J3: 備 考
B4: Ⅰ-(2)-1 | C4: ステップＳ３（宿泊棟）
B5: 4-4 | C5: 給湯設備 | I5: =IF(C5<>"計",ROUNDDOWN(F5*H5,0),SUM(I$3:I4)) -> 0
B7: 1. | C7: 給湯設備
D10: 一般配管用SUS | E10: 拡管式接合
C11: 給湯管 | D11: 屋内一般 | E11: 20SU | F11: 4 | G11: ｍ
D12: 一般配管用SUS | E12: 拡管式接合
C13: 給湯管 | D13: 屋内一般 | E13: 25SU | F13: 1 | G13: ｍ
D14: SUS製 | E14: ねじ
C15: 仕切弁 | D15: JIS10K | E15: 20A | F15: 2 | G15: 個
C17: 保温 | F17: 1 | G17: 式 | J17: ='別紙明細2-4-4-1'!C4 -> 別紙明細2-4-4-1-1
C19: あと施工アンカー | F19: 1 | G19: 式 | J19: ='別紙明細2-4-4-1'!C18 -> 別紙明細2-4-4-1-2
C21: 総合調整 | F21: 1 | G21: 式 | J21: ='別紙明細2-4-4-1'!C32 -> 別紙明細2-4-4-1-3
C23: スリーブ | F23: 1 | G23: 式 | J23: ='別紙明細2-4-4-1'!C46 -> 別紙明細2-4-4-1-4
C27: 計
I39: =IF(C39<>"計",ROUNDDOWN(F39*H39,0),SUM(I$3:I38)) -> 0
I41: =IF(C41<>"計",ROUNDDOWN(F41*H41,0),SUM(I$3:I40)) -> 0
I43: =IF(C43<>"計",ROUNDDOWN(F43*H43,0),SUM(I$3:I42)) -> 0
I45: =IF(C45<>"計",ROUNDDOWN(F45*H45,0),SUM(I$3:I44)) -> 0
I47: =IF(C47<>"計",ROUNDDOWN(F47*H47,0),SUM(I$3:I46)) -> 0
I49: =IF(C49<>"計",ROUNDDOWN(F49*H49,0),SUM(I$3:I48)) -> 0
I51: =IF(C51<>"計",ROUNDDOWN(F51*H51,0),SUM(I$3:I50)) -> 0
I53: =IF(C53<>"計",ROUNDDOWN(F53*H53,0),SUM(I$3:I52)) -> 0
I55: =IF(C55<>"計",ROUNDDOWN(F55*H55,0),SUM(I$3:I54)) -> 0
I57: =IF(C57<>"計",ROUNDDOWN(F57*H57,0),SUM(I$3:I56)) -> 0
I59: =IF(C59<>"計",ROUNDDOWN(F59*H59,0),SUM(I$3:I58)) -> 0
I61: =IF(C61<>"計",ROUNDDOWN(F61*H61,0),SUM(I$3:I60)) -> 0
... I421: =IF(C421<>"計",ROUNDDOWN(F421*H421,0),SUM(I$3:I420)) -> 0

Sheet 2-4-5-1
B1: =B5 -> 4-5 | C1: =C5 -> 消火設備 | H1: 小計→ | I1: =MAX(I4:I419) -> 0
B2: =B7 -> 1. | C2: =C7 -> 消火設備
C3: 名 称 | D3: 摘 要 | F3: 数 量 | G3: 単位 | H3: 単 価 | I3: 金 額 | J3: 備 考
B4: Ⅰ-(2)-1 | C4: ステップＳ３（宿泊棟）
B5: 4-5 | C5: 消火設備 | I5: =IF(C5<>"計",ROUNDDOWN(F5*H5,0),SUM(I$3:I4)) -> 0
B7: 1. | C7: 消火設備
C10: スプリンクラー消火設備
C11: 撤去工事 | D11: 機器 | F11: 1 | G11: 式
C12: スプリンクラー消火設備
C13: 撤去工事 | D13: 材料 | F13: 1 | G13: 式
C14: スプリンクラー消火設備
C15: 撤去工事 | D15: 工事費 | F15: 1 | G15: 式
C16: スプリンクラー消火設備
C17: 撤去工事 | D17: 共通費 | F17: 1 | G17: 式
C18: スプリンクラー消火設備
C19: 新設工事 | D19: 機器 | F19: 1 | G19: 式
C20: スプリンクラー消火設備
C21: 新設工事 | D21: 材料 | F21: 1 | G21: 式
C22: スプリンクラー消火設備
C23: 新設工事 | D23: 工事費 | F23: 1 | G23: 式
C24: スプリンクラー消火設備
C25: 新設工事 | D25: 共通費 | F25: 1 | G25: 式
C29: 計
I41: =IF(C41<>"計",ROUNDDOWN(F41*H41,0),SUM(I$3:I40)) -> 0
I43: =IF(C43<>"計",ROUNDDOWN(F43*H43,0),SUM(I$3:I42)) -> 0
I45: =IF(C45<>"計",ROUNDDOWN(F45*H45,0),SUM(I$3:I44)) -> 0
I47: =IF(C47<>"計",ROUNDDOWN(F47*H47,0),SUM(I$3:I46)) -> 0
I49: =IF(C49<>"計",ROUNDDOWN(F49*H49,0),SUM(I$3:I48)) -> 0
I51: =IF(C51<>"計",ROUNDDOWN(F51*H51,0),SUM(I$3:I50)) -> 0
I53: =IF(C53<>"計",ROUNDDOWN(F53*H53,0),SUM(I$3:I52)) -> 0
I55: =IF(C55<>"計",ROUNDDOWN(F55*H55,0),SUM(I$3:I54)) -> 0
I57: =IF(C57<>"計",ROUNDDOWN(F57*H57,0),SUM(I$3:I56)) -> 0
I59: =IF(C59<>"計",ROUNDDOWN(F59*H59,0),SUM(I$3:I58)) -> 0
I61: =IF(C61<>"計",ROUNDDOWN(F61*H61,0),SUM(I$3:I60)) -> 0
I63: =IF(C63<>"計",ROUNDDOWN(F63*H63,0),SUM(I$3:I62)) -> 0
... I421: =IF(C421<>"計",ROUNDDOWN(F421*H421,0),SUM(I$3:I420)) -> 0

Sheet 2-4-6-1
B1: =B5 -> 4-6 | C1: =C5 -> 撤去工事 | H1: 小計→ | I1: =MAX(I4:I383) -> 0
B2: =B7 -> 1. | C2: =C7 -> 撤去工事
C3: 名 称 | D3: 摘 要 | F3: 数 量 | G3: 単位 | H3: 単 価 | I3: 金 額 | J3: 備 考
B4: Ⅰ-(2)-1 | C4: ステップＳ３（宿泊棟）
B5: 4-6 | C5: 撤去工事 | I5: =IF(C5<>"計",ROUNDDOWN(F5*H5,0),SUM(I$3:I4)) -> 0
B7: 1. | C7: 撤去工事 | I7: =IF(C7<>"計",ROUNDDOWN(F7*H7,0),SUM(I$3:I6)) -> 0
C11: 配管類撤去 | F11: 1 | G11: 式 | J11: ='別紙明細2-4-6-1'!C4 -> 別紙明細2-4-6-1
C15: 計
I37: =IF(C37<>"計",ROUNDDOWN(F37*H37,0),SUM(I$3:I36)) -> 0
I39: =IF(C39<>"計",ROUNDDOWN(F39*H39,0),SUM(I$3:I38)) -> 0
I41: =IF(C41<>"計",ROUNDDOWN(F41*H41,0),SUM(I$3:I40)) -> 0
I43: =IF(C43<>"計",ROUNDDOWN(F43*H43,0),SUM(I$3:I42)) -> 0
I45: =IF(C45<>"計",ROUNDDOWN(F45*H45,0),SUM(I$3:I44)) -> 0
I47: =IF(C47<>"計",ROUNDDOWN(F47*H47,0),SUM(I$3:I46)) -> 0
I49: =IF(C49<>"計",ROUNDDOWN(F49*H49,0),SUM(I$3:I48)) -> 0
I51: =IF(C51<>"計",ROUNDDOWN(F51*H51,0),SUM(I$3:I50)) -> 0
I53: =IF(C53<>"計",ROUNDDOWN(F53*H53,0),SUM(I$3:I52)) -> 0
I55: =IF(C55<>"計",ROUNDDOWN(F55*H55,0),SUM(I$3:I54)) -> 0
I57: =IF(C57<>"計",ROUNDDOWN(F57*H57,0),SUM(I$3:I56)) -> 0
I59: =IF(C59<>"計",ROUNDDOWN(F59*H59,0),SUM(I$3:I58)) -> 0
... I385: =IF(C385<>"計",ROUNDDOWN(F385*H385,0),SUM(I$3:I384)) -> 0

Sheet 2-4-7-1
B1: =B5 -> 4-7 | C1: =C5 -> 発生材処理 | H1: 小計→ | I1: =MAX(I4:I383) -> 0
B2: =B7 -> 1. | C2: =C7 -> 発生材処理
C3: 名 称 | D3: 摘 要 | F3: 数 量 | G3: 単位 | H3: 単 価 | I3: 金 額 | J3: 備 考
B4: Ⅰ-(2)-1 | C4: ステップＳ３（宿泊棟）
B5: 4-7 | C5: 発生材処理 | I5: =IF(C5<>"計",ROUNDDOWN(F5*H5,0),SUM(I$3:I4)) -> 0
B7: 1. | C7: 発生材処理
C11: 発生材処理 | F11: 1 | G11: 式 | J11: ='別紙明細2-4-7-1'!C4 -> 別紙明細2-4-7-1-1
C15: 計
I39: =IF(C39<>"計",ROUNDDOWN(F39*H39,0),SUM(I$3:I38)) -> 0
I41: =IF(C41<>"計",ROUNDDOWN(F41*H41,0),SUM(I$3:I40)) -> 0
I43: =IF(C43<>"計",ROUNDDOWN(F43*H43,0),SUM(I$3:I42)) -> 0
I45: =IF(C45<>"計",ROUNDDOWN(F45*H45,0),SUM(I$3:I44)) -> 0
I47: =IF(C47<>"計",ROUNDDOWN(F47*H47,0),SUM(I$3:I46)) -> 0
I49: =IF(C49<>"計",ROUNDDOWN(F49*H49,0),SUM(I$3:I48)) -> 0
I51: =IF(C51<>"計",ROUNDDOWN(F51*H51,0),SUM(I$3:I50)) -> 0
I53: =IF(C53<>"計",ROUNDDOWN(F53*H53,0),SUM(I$3:I52)) -> 0
I55: =IF(C55<>"計",ROUNDDOWN(F55*H55,0),SUM(I$3:I54)) -> 0
I57: =IF(C57<>"計",ROUNDDOWN(F57*H57,0),SUM(I$3:I56)) -> 0
I59: =IF(C59<>"計",ROUNDDOWN(F59*H59,0),SUM(I$3:I58)) -> 0
I61: =IF(C61<>"計",ROUNDDOWN(F61*H61,0),SUM(I$3:I60)) -> 0
... I385: =IF(C385<>"計",ROUNDDOWN(F385*H385,0),SUM(I$3:I384)) -> 0

Sheet 別紙明細2-4-2-1
C3: 名 称 | D3: 摘 要 | F3: 数 量 | G3: 単位 | H3: 単 価 | I3: 金 額 | J3: 備 考
C4: 別紙明細2-4-2-1-1
C5: 保温 | F5: 1 | G5: 式 | I5: =IF(C5<>"計",ROUNDDOWN(F5*H5,0),SUM(I$3:I4)) -> 0
D8: 隠蔽 | E8: ｱﾙﾐｶﾞﾗｽｸﾛｽ
C9: 保温 | D9: GW 給水管 | E9: 20A | F9: 5 | G9: ｍ
D10: 隠蔽 | E10: ｱﾙﾐｶﾞﾗｽｸﾛｽ
C11: 保温 | D11: GW 給水管 | E11: 25A | F11: 1 | G11: ｍ
C15: 計
C18: 別紙明細2-4-2-1-2
C19: あと施工アンカー | F19: 1 | G19: 式
C23: あと施工アンカー | D23: 上打 | E23: M10 | F23: 3 | G23: 本
C25: 鉄筋探査 | D25: 0.5m×0.5m/箇所 | F25: =SUM(F22:F23) -> 3 | G25: ヶ所
C29: 計
C32: 別紙明細2-4-2-1-3
C33: 総合調整 | F33: 1 | G33: 式
D36: 一般配管用SUS | E36: 拡管式接合
C37: 給水管 | D37: 屋内一般 | E37: 20SU | F37: 5 | G37: ｍ
D38: 一般配管用SUS | E38: 拡管式接合
C39: 給水管 | D39: 屋内一般 | E39: 25SU | F39: 1 | G39: ｍ
C41: 水質検査 | F41: 1 | G41: 回
C45: 計
C48: 別紙明細2-4-2-1-4
C49: スリーブ | F49: 1 | G49: 式
D52: 一般配管用SUS | E52: 拡管式接合
C53: 給水管 | D53: 屋内一般 | E53: 20SU | F53: 5 | G53: ｍ
D54: 一般配管用SUS | E54: 拡管式接合
C55: 給水管 | D55: 屋内一般 | E55: 25SU | F55: 1 | G55: ｍ
C57: 小計
C59: 計 | D59: 10
I67: =IF(C67<>"計",ROUNDDOWN(F67*H67,0),SUM(I$3:I66)) -> 0
I69: =IF(C69<>"計",ROUNDDOWN(F69*H69,0),SUM(I$3:I68)) -> 0
I71: =IF(C71<>"計",ROUNDDOWN(F71*H71,0),SUM(I$3:I70)) -> 0
I73: =IF(C73<>"計",ROUNDDOWN(F73*H73,0),SUM(I$3:I72)) -> 0
I75: =IF(C75<>"計",ROUNDDOWN(F75*H75,0),SUM(I$3:I74)) -> 0
I77: =IF(C77<>"計",ROUNDDOWN(F77*H77,0),SUM(I$3:I76)) -> 0
I79: =IF(C79<>"計",ROUNDDOWN(F79*H79,0),SUM(I$3:I78)) -> 0
I81: =IF(C81<>"計",ROUNDDOWN(F81*H81,0),SUM(I$3:I80)) -> 0
I83: =IF(C83<>"計",ROUNDDOWN(F83*H83,0),SUM(I$3:I82)) -> 0
I85: =IF(C85<>"計",ROUNDDOWN(F85*H85,0),SUM(I$3:I84)) -> 0
I87: =IF(C87<>"計",ROUNDDOWN(F87*H87,0),SUM(I$3:I86)) -> 0
I89: =IF(C89<>"計",ROUNDDOWN(F89*H89,0),SUM(I$3:I88)) -> 0
... I233: =IF(C233<>"計",ROUNDDOWN(F233*H233,0),SUM(I$3:I232)) -> 0
I235: =ROUNDDOWN(F235*H235,0) -> 0
I237: =ROUNDDOWN(F237*H237,0) -> 0
I239: =ROUNDDOWN(F239*H239,0) -> 0
I241: =ROUNDDOWN(F241*H241,0) -> 0
I243: =ROUNDDOWN(F243*H243,0) -> 0
I245: =ROUNDDOWN(F245*H245,0) -> 0
I247: =ROUNDDOWN(F247*H247,0) -> 0
I249: =ROUNDDOWN(F249*H249,0) -> 0
I251: =ROUNDDOWN(F251*H251,0) -> 0
I253: =ROUNDDOWN(F253*H253,0) -> 0
I255: =ROUNDDOWN(F255*H255,0) -> 0
I257: =ROUNDDOWN(F257*H257,0) -> 0
... I385: =ROUNDDOWN(F385*H385,0) -> 0

Sheet 別紙明細2-4-3-1
C3: 名 称 | D3: 摘 要 | F3: 数 量 | G3: 単位 | H3: 単 価 | I3: 金 額 | J3: 備 考
C4: 別紙明細2-4-3-1-1
C5: 保温 | F5: 1 | G5: 式
D8: 隠蔽 | E8: ｱﾙﾐｶﾞﾗｽｸﾛｽ
C9: 保温 | D9: GW 給水管 | E9: 40A | F9: 8 | G9: ｍ
D10: 隠蔽 | E10: ｱﾙﾐｶﾞﾗｽｸﾛｽ
C11: 保温 | D11: GW 給水管 | E11: 50A | F11: 43 | G11: ｍ
D12: 隠蔽 | E12: ｱﾙﾐｶﾞﾗｽｸﾛｽ
C13: 保温 | D13: GW 給水管 | E13: 80A | F13: 3 | G13: ｍ
D14: 隠蔽 | E14: ｱﾙﾐｶﾞﾗｽｸﾛｽ
C15: 保温 | D15: GW 給水管 | E15: 100A | F15: 6 | G15: ｍ
C19: 計
C22: 別紙明細2-4-3-1-2
C23: 形鋼振れ止め支持 | F23: 1 | G23: 式
D26: DVLP | E26: MD継手
C27: 排水管 | D27: 屋内一般 | E27: 80A | F27: 3 | G27: ｍ
D28: DVLP | E28: MD継手
C29: 排水管 | D29: 屋内一般 | E29: 100A | F29: 6 | G29: ｍ
C31: 小計
C33: 計 | D33: 3
C36: 別紙明細2-4-3-1-3
C37: あと施工アンカー | F37: 1 | G37: 式
C41: あと施工アンカー | D41: 上打 | E41: M10 | F41: 22 | G41: 本
C43: 鉄筋探査 | D43: 0.5m×0.5m/箇所 | F43: =SUM(F40:F41) -> 22 | G43: ヶ所
C47: 計
C50: 別紙明細2-4-3-1-4
C51: スリーブ | F51: 1 | G51: 式
D54: DVLP | E54: MD継手
C55: 排水管 | D55: 屋内一般 | E55: 40A | F55: 8 | G55: ｍ
D56: DVLP | E56: MD継手
C57: 排水管 | D57: 屋内一般 | E57: 50A | F57: 43 | G57: ｍ
D58: DVLP | E58: MD継手
C59: 排水管 | D59: 屋内一般 | E59: 80A | F59: 3 | G59: ｍ
D60: DVLP | E60: MD継手
C61: 排水管 | D61: 屋内一般 | E61: 100A | F61: 6 | G61: ｍ
C63: 小計
C65: 計 | D65: 10
I75: =IF(C75<>"計",ROUNDDOWN(F75*H75,0),SUM(I$3:I74)) -> 0
I77: =IF(C77<>"計",ROUNDDOWN(F77*H77,0),SUM(I$3:I76)) -> 0
I79: =IF(C79<>"計",ROUNDDOWN(F79*H79,0),SUM(I$3:I78)) -> 0
I81: =IF(C81<>"計",ROUNDDOWN(F81*H81,0),SUM(I$3:I80)) -> 0
I83: =IF(C83<>"計",ROUNDDOWN(F83*H83,0),SUM(I$3:I82)) -> 0
I85: =IF(C85<>"計",ROUNDDOWN(F85*H85,0),SUM(I$3:I84)) -> 0
I87: =IF(C87<>"計",ROUNDDOWN(F87*H87,0),SUM(I$3:I86)) -> 0
I89: =IF(C89<>"計",ROUNDDOWN(F89*H89,0),SUM(I$3:I88)) -> 0
I91: =IF(C91<>"計",ROUNDDOWN(F91*H91,0),SUM(I$3:I90)) -> 0
I93: =IF(C93<>"計",ROUNDDOWN(F93*H93,0),SUM(I$3:I92)) -> 0
I95: =IF(C95<>"計",ROUNDDOWN(F95*H95,0),SUM(I$3:I94)) -> 0
I97: =IF(C97<>"計",ROUNDDOWN(F97*H97,0),SUM(I$3:I96)) -> 0
... I251: =IF(C251<>"計",ROUNDDOWN(F251*H251,0),SUM(I$3:I250)) -> 0
I253: =ROUNDDOWN(F253*H253,0) -> 0
I255: =ROUNDDOWN(F255*H255,0) -> 0
I257: =ROUNDDOWN(F257*H257,0) -> 0
I259: =ROUNDDOWN(F259*H259,0) -> 0
I261: =ROUNDDOWN(F261*H261,0) -> 0
I263: =ROUNDDOWN(F263*H263,0) -> 0
I265: =ROUNDDOWN(F265*H265,0) -> 0
I267: =ROUNDDOWN(F267*H267,0) -> 0
I269: =ROUNDDOWN(F269*H269,0) -> 0
I271: =ROUNDDOWN(F271*H271,0) -> 0
I273: =ROUNDDOWN(F273*H273,0) -> 0
I275: =ROUNDDOWN(F275*H275,0) -> 0
... I403: =ROUNDDOWN(F403*H403,0) -> 0

Sheet 別紙明細2-4-4-1
C3: 名 称 | D3: 摘 要 | F3: 数 量 | G3: 単位 | H3: 単 価 | I3: 金 額 | J3: 備 考
C4: 別紙明細2-4-4-1-1
C5: 保温 | F5: 1 | G5: 式 | I5: =IF(C5<>"計",ROUNDDOWN(F5*H5,0),SUM(I$3:I4)) -> 0
D8: 隠蔽 | E8: ｱﾙﾐｶﾞﾗｽｸﾛｽ
C9: 保温 | D9: GW 給水管 | E9: 20A | F9: 4 | G9: ｍ
D10: 隠蔽 | E10: ｱﾙﾐｶﾞﾗｽｸﾛｽ
C11: 保温 | D11: GW 給水管 | E11: 25A | F11: 1 | G11: ｍ
C15: 計
C18: 別紙明細2-4-4-1-2
C19: あと施工アンカー | F19: 1 | G19: 式
C23: あと施工アンカー | D23: 上打 | E23: M10 | F23: 2 | G23: 本
C25: 鉄筋探査 | D25: 0.5m×0.5m/箇所 | F25: =SUM(F22:F23) -> 2 | G25: ヶ所
C29: 計
C32: 別紙明細2-4-4-1-3
C33: 総合調整 | F33: 1 | G33: 式
D36: 一般配管用SUS | E36: 拡管式接合
C37: 給湯管 | D37: 屋内一般 | E37: 20SU | F37: 4 | G37: ｍ
D38: 一般配管用SUS | E38: 拡管式接合
C39: 給湯管 | D39: 屋内一般 | E39: 25SU | F39: 1 | G39: ｍ
C43: 計
C46: 別紙明細2-4-4-1-4
C47: スリーブ | F47: 1 | G47: 式
D50: 一般配管用SUS | E50: 拡管式接合
C51: 給湯管 | D51: 屋内一般 | E51: 20SU | F51: 4 | G51: ｍ
D52: 一般配管用SUS | E52: 拡管式接合
C53: 給湯管 | D53: 屋内一般 | E53: 25SU | F53: 1 | G53: ｍ
C55: 小計
C57: 計 | D57: 10
I69: =IF(C69<>"計",ROUNDDOWN(F69*H69,0),SUM(I$3:I68)) -> 0
I71: =IF(C71<>"計",ROUNDDOWN(F71*H71,0),SUM(I$3:I70)) -> 0
I73: =IF(C73<>"計",ROUNDDOWN(F73*H73,0),SUM(I$3:I72)) -> 0
I75: =IF(C75<>"計",ROUNDDOWN(F75*H75,0),SUM(I$3:I74)) -> 0
I77: =IF(C77<>"計",ROUNDDOWN(F77*H77,0),SUM(I$3:I76)) -> 0
I79: =IF(C79<>"計",ROUNDDOWN(F79*H79,0),SUM(I$3:I78)) -> 0
I81: =IF(C81<>"計",ROUNDDOWN(F81*H81,0),SUM(I$3:I80)) -> 0
I83: =IF(C83<>"計",ROUNDDOWN(F83*H83,0),SUM(I$3:I82)) -> 0
I85: =IF(C85<>"計",ROUNDDOWN(F85*H85,0),SUM(I$3:I84)) -> 0
I87: =IF(C87<>"計",ROUNDDOWN(F87*H87,0),SUM(I$3:I86)) -> 0
I89: =IF(C89<>"計",ROUNDDOWN(F89*H89,0),SUM(I$3:I88)) -> 0
I91: =IF(C91<>"計",ROUNDDOWN(F91*H91,0),SUM(I$3:I90)) -> 0
... I233: =IF(C233<>"計",ROUNDDOWN(F233*H233,0),SUM(I$3:I232)) -> 0
I235: =ROUNDDOWN(F235*H235,0) -> 0
I237: =ROUNDDOWN(F237*H237,0) -> 0
I239: =ROUNDDOWN(F239*H239,0) -> 0
I241: =ROUNDDOWN(F241*H241,0) -> 0
I243: =ROUNDDOWN(F243*H243,0) -> 0
I245: =ROUNDDOWN(F245*H245,0) -> 0
I247: =ROUNDDOWN(F247*H247,0) -> 0
I249: =ROUNDDOWN(F249*H249,0) -> 0
I251: =ROUNDDOWN(F251*H251,0) -> 0
I253: =ROUNDDOWN(F253*H253,0) -> 0
I255: =ROUNDDOWN(F255*H255,0) -> 0
I257: =ROUNDDOWN(F257*H257,0) -> 0
... I385: =ROUNDDOWN(F385*H385,0) -> 0

Sheet 別紙明細2-4-6-1
C3: 名 称 | D3: 摘 要 | F3: 数 量 | G3: 単位 | H3: 単 価 | I3: 金 額 | J3: 備 考
C4: 別紙明細2-4-6-1
C5: 配管類撤去 | F5: 1 | G5: 式
C9: ＜衛生配管＞
D10: 一般配管用SUS | E10: 拡管式接合
C11: 給水管 撤去 | D11: 屋内一般 | E11: 20SU | F11: 1 | G11: ｍ
D12: DVLP | E12: MD継手
C13: 排水管 撤去 | D13: 屋内一般 | E13: 40A | F13: 8 | G13: ｍ
D14: DVLP | E14: MD継手
C15: 排水管 撤去 | D15: 屋内一般 | E15: 50A | F15: 17 | G15: ｍ
D16: 一般配管用SUS | E16: 拡管式接合
C17: 給湯管 撤去 | D17: 屋内一般 | E17: 20SU | F17: 1 | G17: ｍ
C19: 配管切断 | D19: 鋼管類 | E19: 20A | F19: 1 | G19: ヶ所
C21: 配管切断 | D21: 鋼管類 | E21: 50A | F21: 1 | G21: ヶ所
C23: 配管切断 | D23: 鋼管類 | E23: 20A | F23: 1 | G23: ヶ所
D24: 隠蔽 | E24: ｱﾙﾐｶﾞﾗｽｸﾛｽ
C25: 保温 撤去 | D25: GW 給水管 | E25: 20A | F25: 1 | G25: ｍ
D26: 隠蔽 | E26: ｱﾙﾐｶﾞﾗｽｸﾛｽ
C27: 保温 撤去 | D27: GW 排水管 | E27: 40A | F27: 8 | G27: ｍ
D28: 隠蔽 | E28: ｱﾙﾐｶﾞﾗｽｸﾛｽ
C29: 保温 撤去 | D29: GW 排水管 | E29: 50A | F29: 17 | G29: ｍ
D30: 隠蔽 | E30: ｱﾙﾐｶﾞﾗｽｸﾛｽ
C31: 保温 撤去 | D31: GW 給湯管 | E31: 20A | F31: 1 | G31: ｍ
C35: 計
I39: =IF(C39<>"計",ROUNDDOWN(F39*H39,0),SUM(I$3:I38)) -> 0
I41: =IF(C41<>"計",ROUNDDOWN(F41*H41,0),SUM(I$3:I40)) -> 0
I43: =IF(C43<>"計",ROUNDDOWN(F43*H43,0),SUM(I$3:I42)) -> 0
I45: =IF(C45<>"計",ROUNDDOWN(F45*H45,0),SUM(I$3:I44)) -> 0
I47: =IF(C47<>"計",ROUNDDOWN(F47*H47,0),SUM(I$3:I46)) -> 0
I49: =IF(C49<>"計",ROUNDDOWN(F49*H49,0),SUM(I$3:I48)) -> 0
I51: =IF(C51<>"計",ROUNDDOWN(F51*H51,0),SUM(I$3:I50)) -> 0
I53: =IF(C53<>"計",ROUNDDOWN(F53*H53,0),SUM(I$3:I52)) -> 0
I55: =IF(C55<>"計",ROUNDDOWN(F55*H55,0),SUM(I$3:I54)) -> 0
I57: =IF(C57<>"計",ROUNDDOWN(F57*H57,0),SUM(I$3:I56)) -> 0
I59: =IF(C59<>"計",ROUNDDOWN(F59*H59,0),SUM(I$3:I58)) -> 0
I61: =IF(C61<>"計",ROUNDDOWN(F61*H61,0),SUM(I$3:I60)) -> 0
... I227: =IF(C227<>"計",ROUNDDOWN(F227*H227,0),SUM(I$3:I226)) -> 0
I229: =ROUNDDOWN(F229*H229,0) -> 0
I231: =ROUNDDOWN(F231*H231,0) -> 0
I233: =ROUNDDOWN(F233*H233,0) -> 0
I235: =ROUNDDOWN(F235*H235,0) -> 0
I237: =ROUNDDOWN(F237*H237,0) -> 0
I239: =ROUNDDOWN(F239*H239,0) -> 0
I241: =ROUNDDOWN(F241*H241,0) -> 0
I243: =ROUNDDOWN(F243*H243,0) -> 0
I245: =ROUNDDOWN(F245*H245,0) -> 0
I247: =ROUNDDOWN(F247*H247,0) -> 0
I249: =ROUNDDOWN(F249*H249,0) -> 0
I251: =ROUNDDOWN(F251*H251,0) -> 0
... I379: =ROUNDDOWN(F379*H379,0) -> 0

Sheet 別紙明細2-4-7-1
C3: 名 称 | D3: 摘 要 | F3: 数 量 | G3: 単位 | H3: 単 価 | I3: 金 額 | J3: 備 考
C4: 別紙明細2-4-7-1-1
C5: 発生材処理 | F5: 1 | G5: 式 | I5: =IF(C5<>"計",ROUNDDOWN(F5*H5,0),SUM(I$3:I4)) -> 0
D8: 運搬費
C9: 発生材処理 | D9: 4tダンプ | E9: 概ね25km | F9: 0.08 | G9: ｔ
C11: 発生材処理 | D11: 安定型混合廃棄物 | F11: 0.09 | G11: ㎥
C15: 計
I31: =IF(C31<>"計",ROUNDDOWN(F31*H31,0),SUM(I$3:I30)) -> 0
I33: =IF(C33<>"計",ROUNDDOWN(F33*H33,0),SUM(I$3:I32)) -> 0
I35: =IF(C35<>"計",ROUNDDOWN(F35*H35,0),SUM(I$3:I34)) -> 0
I37: =IF(C37<>"計",ROUNDDOWN(F37*H37,0),SUM(I$3:I36)) -> 0
I39: =IF(C39<>"計",ROUNDDOWN(F39*H39,0),SUM(I$3:I38)) -> 0
I41: =IF(C41<>"計",ROUNDDOWN(F41*H41,0),SUM(I$3:I40)) -> 0
I43: =IF(C43<>"計",ROUNDDOWN(F43*H43,0),SUM(I$3:I42)) -> 0
I45: =IF(C45<>"計",ROUNDDOWN(F45*H45,0),SUM(I$3:I44)) -> 0
I47: =IF(C47<>"計",ROUNDDOWN(F47*H47,0),SUM(I$3:I46)) -> 0
I49: =IF(C49<>"計",ROUNDDOWN(F49*H49,0),SUM(I$3:I48)) -> 0
I51: =IF(C51<>"計",ROUNDDOWN(F51*H51,0),SUM(I$3:I50)) -> 0
I53: =IF(C53<>"計",ROUNDDOWN(F53*H53,0),SUM(I$3:I52)) -> 0
... I243: =IF(C243<>"計",ROUNDDOWN(F243*H243,0),SUM(I$3:I242)) -> 0
I245: =ROUNDDOWN(F245*H245,0) -> 0
I247: =ROUNDDOWN(F247*H247,0) -> 0
I249: =ROUNDDOWN(F249*H249,0) -> 0
I251: =ROUNDDOWN(F251*H251,0) -> 0
I253: =ROUNDDOWN(F253*H253,0) -> 0
I255: =ROUNDDOWN(F255*H255,0) -> 0
I257: =ROUNDDOWN(F257*H257,0) -> 0
I259: =ROUNDDOWN(F259*H259,0) -> 0
I261: =ROUNDDOWN(F261*H261,0) -> 0
I263: =ROUNDDOWN(F263*H263,0) -> 0
I265: =ROUNDDOWN(F265*H265,0) -> 0
I267: =ROUNDDOWN(F267*H267,0) -> 0
... I395: =ROUNDDOWN(F395*H395,0) -> 0
