Workbook

Sheet ○表紙西暦
E1: 2021 | G1: 年 | H1: 4 | I1: 月 | J1: 1 | K1: 日
B5: (仮称)○○○○○○ビル新築工事
B8: 工 事 費 内 訳 書

Sheet △表紙年号令和
E1: 令和 | F1: 3 | G1: 年 | H1: 4 | I1: 月 | J1: 1 | K1: 日
B5: (仮称)○○○○○○ビル新築工事
B8: 工 事 費 内 訳 書

Sheet （1）建築
B1: 名 称 | C1: 摘 要 | E1: 数 量 | F1: 単位 | G1: 単 価 | H1: 金 額 | I1: 備 考 | M1: 検算欄 | N1: 検算差額
M2: 下以降一式と合計は各自設定 | N2: 差額が0であればOK
A3: （1） | B3: 建築工事 | H3: =IF(B3<>"計",ROUNDDOWN(E3*G3,0),SUM(H$1:H2)) -> 0 | M3: =IF(B3<>"計",ROUNDDOWN(E3*G3,0),SUM(M$1:M2)) -> 0 | N3: =IF((+H3-M3)<>0,H3-M3,IF(H3>0,"0",""))
H5: =IF(B5<>"計",ROUNDDOWN(E5*G5,0),SUM(H$1:H4)) -> 0 | M5: =IF(B5<>"計",ROUNDDOWN(E5*G5,0),SUM(M$1:M4)) -> 0 | N5: =IF((+H5-M5)<>0,H5-M5,IF(H5>0,"0",""))
A7: 1. | B7: 直接仮設 | E7: 1 | F7: 式 | H7: =IF(B7<>"計",ROUNDDOWN(E7*G7,0),SUM(H$1:H6)) -> 0 | M7: =IF(B7<>"計",ROUNDDOWN(E7*G7,0),SUM(M$1:M6)) -> 0 | N7: =IF((+H7-M7)<>0,H7-M7,IF(H7>0,"0",""))
A9: 2. | B9: 土工 | E9: 1 | F9: 式 | H9: =IF(B9<>"計",ROUNDDOWN(E9*G9,0),SUM(H$1:H8)) -> 0 | M9: =IF(B9<>"計",ROUNDDOWN(E9*G9,0),SUM(M$1:M8)) -> 0 | N9: =IF((+H9-M9)<>0,H9-M9,IF(H9>0,"0",""))
A11: 3. | B11: 地業 | E11: 1 | F11: 式 | H11: =IF(B11<>"計",ROUNDDOWN(E11*G11,0),SUM(H$1:H10)) -> 0 | M11: =IF(B11<>"計",ROUNDDOWN(E11*G11,0),SUM(M$1:M10)) -> 0 | N11: =IF((+H11-M11)<>0,H11-M11,IF(H11>0,"0",""))
A13: 4. | B13: 鉄筋 | E13: 1 | F13: 式 | H13: =IF(B13<>"計",ROUNDDOWN(E13*G13,0),SUM(H$1:H12)) -> 0 | M13: =IF(B13<>"計",ROUNDDOWN(E13*G13,0),SUM(M$1:M12)) -> 0 | N13: =IF((+H13-M13)<>0,H13-M13,IF(H13>0,"0",""))
A15: 5. | B15: コンクリ－ト | E15: 1 | F15: 式 | H15: =IF(B15<>"計",ROUNDDOWN(E15*G15,0),SUM(H$1:H14)) -> 0 | M15: =IF(B15<>"計",ROUNDDOWN(E15*G15,0),SUM(M$1:M14)) -> 0 | N15: =IF((+H15-M15)<>0,H15-M15,IF(H15>0,"0",""))
A17: 6. | B17: 型枠 | E17: 1 | F17: 式 | H17: =IF(B17<>"計",ROUNDDOWN(E17*G17,0),SUM(H$1:H16)) -> 0 | M17: =IF(B17<>"計",ROUNDDOWN(E17*G17,0),SUM(M$1:M16)) -> 0 | N17: =IF((+H17-M17)<>0,H17-M17,IF(H17>0,"0",""))
A19: 7. | B19: 鉄骨 | E19: 1 | F19: 式 | H19: =IF(B19<>"計",ROUNDDOWN(E19*G19,0),SUM(H$1:H18)) -> 0 | M19: =IF(B19<>"計",ROUNDDOWN(E19*G19,0),SUM(M$1:M18)) -> 0 | N19: =IF((+H19-M19)<>0,H19-M19,IF(H19>0,"0",""))
A21: 8. | B21: 既製コンクリ－ト | E21: 1 | F21: 式 | H21: =IF(B21<>"計",ROUNDDOWN(E21*G21,0),SUM(H$1:H20)) -> 0 | M21: =IF(B21<>"計",ROUNDDOWN(E21*G21,0),SUM(M$1:M20)) -> 0 | N21: =IF((+H21-M21)<>0,H21-M21,IF(H21>0,"0",""))
A23: 9. | B23: 防水 | E23: 1 | F23: 式 | H23: =IF(B23<>"計",ROUNDDOWN(E23*G23,0),SUM(H$1:H22)) -> 0 | M23: =IF(B23<>"計",ROUNDDOWN(E23*G23,0),SUM(M$1:M22)) -> 0 | N23: =IF((+H23-M23)<>0,H23-M23,IF(H23>0,"0",""))
A25: 10. | B25: 石 | E25: 1 | F25: 式 | H25: =IF(B25<>"計",ROUNDDOWN(E25*G25,0),SUM(H$1:H24)) -> 0 | M25: =IF(B25<>"計",ROUNDDOWN(E25*G25,0),SUM(M$1:M24)) -> 0 | N25: =IF((+H25-M25)<>0,H25-M25,IF(H25>0,"0",""))
A27: 11. | B27: タイル | E27: 1 | F27: 式 | H27: =IF(B27<>"計",ROUNDDOWN(E27*G27,0),SUM(H$1:H26)) -> 0 | M27: =IF(B27<>"計",ROUNDDOWN(E27*G27,0),SUM(M$1:M26)) -> 0 | N27: =IF((+H27-M27)<>0,H27-M27,IF(H27>0,"0",""))
A29: 12. | B29: 木工 | E29: 1 | F29: 式 | H29: =IF(B29<>"計",ROUNDDOWN(E29*G29,0),SUM(H$1:H28)) -> 0 | M29: =IF(B29<>"計",ROUNDDOWN(E29*G29,0),SUM(M$1:M28)) -> 0 | N29: =IF((+H29-M29)<>0,H29-M29,IF(H29>0,"0",""))
... A47: 21. | B47: 発生材処理 | E47: 1 | F47: 式 | H47: =IF(B47<>"計",ROUNDDOWN(E47*G47,0),SUM(H$1:H46)) -> 0 | M47: =IF(B47<>"計",ROUNDDOWN(E47*G47,0),SUM(M$1:M46)) -> 0 | N47: =IF((+H47-M47)<>0,H47-M47,IF(H47>0,"0",""))
H49: =IF(B49<>"計",ROUNDDOWN(E49*G49,0),SUM(H$1:H48)) -> 0 | M49: =IF(B49<>"計",ROUNDDOWN(E49*G49,0),SUM(M$1:M48)) -> 0 | N49: =IF((+H49-M49)<>0,H49-M49,IF(H49>0,"0",""))
H51: =IF(B51<>"計",ROUNDDOWN(E51*G51,0),SUM(H$1:H50)) -> 0 | M51: =IF(B51<>"計",ROUNDDOWN(E51*G51,0),SUM(M$1:M50)) -> 0 | N51: =IF((+H51-M51)<>0,H51-M51,IF(H51>0,"0",""))
H53: =IF(B53<>"計",ROUNDDOWN(E53*G53,0),SUM(H$1:H52)) -> 0 | M53: =IF(B53<>"計",ROUNDDOWN(E53*G53,0),SUM(M$1:M52)) -> 0 | N53: =IF((+H53-M53)<>0,H53-M53,IF(H53>0,"0",""))
H55: =IF(B55<>"計",ROUNDDOWN(E55*G55,0),SUM(H$1:H54)) -> 0 | M55: =IF(B55<>"計",ROUNDDOWN(E55*G55,0),SUM(M$1:M54)) -> 0 | N55: =IF((+H55-M55)<>0,H55-M55,IF(H55>0,"0",""))
H57: =IF(B57<>"計",ROUNDDOWN(E57*G57,0),SUM(H$1:H56)) -> 0 | M57: =IF(B57<>"計",ROUNDDOWN(E57*G57,0),SUM(M$1:M56)) -> 0 | N57: =IF((+H57-M57)<>0,H57-M57,IF(H57>0,"0",""))
H59: =IF(B59<>"計",ROUNDDOWN(E59*G59,0),SUM(H$1:H58)) -> 0 | M59: =IF(B59<>"計",ROUNDDOWN(E59*G59,0),SUM(M$1:M58)) -> 0 | N59: =IF((+H59-M59)<>0,H59-M59,IF(H59>0,"0",""))
H61: =IF(B61<>"計",ROUNDDOWN(E61*G61,0),SUM(H$1:H60)) -> 0 | M61: =IF(B61<>"計",ROUNDDOWN(E61*G61,0),SUM(M$1:M60)) -> 0 | N61: =IF((+H61-M61)<>0,H61-M61,IF(H61>0,"0",""))
H63: =IF(B63<>"計",ROUNDDOWN(E63*G63,0),SUM(H$1:H62)) -> 0 | M63: =IF(B63<>"計",ROUNDDOWN(E63*G63,0),SUM(M$1:M62)) -> 0 | N63: =IF((+H63-M63)<>0,H63-M63,IF(H63>0,"0",""))
H65: =IF(B65<>"計",ROUNDDOWN(E65*G65,0),SUM(H$1:H64)) -> 0 | M65: =IF(B65<>"計",ROUNDDOWN(E65*G65,0),SUM(M$1:M64)) -> 0 | N65: =IF((+H65-M65)<>0,H65-M65,IF(H65>0,"0",""))
H67: =IF(B67<>"計",ROUNDDOWN(E67*G67,0),SUM(H$1:H66)) -> 0 | M67: =IF(B67<>"計",ROUNDDOWN(E67*G67,0),SUM(M$1:M66)) -> 0 | N67: =IF((+H67-M67)<>0,H67-M67,IF(H67>0,"0",""))
H69: =IF(B69<>"計",ROUNDDOWN(E69*G69,0),SUM(H$1:H68)) -> 0 | M69: =IF(B69<>"計",ROUNDDOWN(E69*G69,0),SUM(M$1:M68)) -> 0 | N69: =IF((+H69-M69)<>0,H69-M69,IF(H69>0,"0",""))
B71: 計 | H71: =IF(B71<>"計",ROUNDDOWN(E71*G71,0),SUM(H$1:H70)) -> 0 | M71: =IF(B71<>"計",ROUNDDOWN(E71*G71,0),SUM(M$1:M70)) -> 0 | N71: =IF((+H71-M71)<>0,H71-M71,IF(H71>0,"0",""))
H73: =IF(B73<>"計",ROUNDDOWN(E73*G73,0),SUM(H$1:H72)) -> 0 | M73: =IF(B73<>"計",ROUNDDOWN(E73*G73,0),SUM(M$1:M72)) -> 0 | N73: =IF((+H73-M73)<>0,H73-M73,IF(H73>0,"0",""))
H75: =ROUNDDOWN(E75*G75,0) -> 0
H77: =ROUNDDOWN(E77*G77,0) -> 0
H79: =ROUNDDOWN(E79*G79,0) -> 0
H81: =ROUNDDOWN(E81*G81,0) -> 0
H83: =ROUNDDOWN(E83*G83,0) -> 0
H85: =ROUNDDOWN(E85*G85,0) -> 0
H87: =ROUNDDOWN(E87*G87,0) -> 0
H89: =ROUNDDOWN(E89*G89,0) -> 0
H91: =ROUNDDOWN(E91*G91,0) -> 0
H93: =ROUNDDOWN(E93*G93,0) -> 0
H95: =ROUNDDOWN(E95*G95,0) -> 0
H97: =ROUNDDOWN(E97*G97,0) -> 0
... H167: =ROUNDDOWN(E167*G167,0) -> 0

Sheet 建築内訳
B1: 名 称 | C1: 摘 要 | E1: 数 量 | F1: 単位 | G1: 単 価 | H1: 金 額 | I1: 備 考 | M1: 検算欄 | N1: 検算差額
M2: 下以降一式と合計は各自設定 | N2: 差額が0であればOK
H3: =IF(B3<>"計",ROUNDDOWN(E3*G3,0),SUM(H$1:H2)) -> 0 | M3: =IF(B3<>"計",ROUNDDOWN(E3*G3,0),SUM(M$1:M2)) -> 0 | N3: =IF((+H3-M3)<>0,H3-M3,IF(H3>0,"0",""))
H5: =IF(B5<>"計",ROUNDDOWN(E5*G5,0),SUM(H$1:H4)) -> 0 | M5: =IF(B5<>"計",ROUNDDOWN(E5*G5,0),SUM(M$1:M4)) -> 0 | N5: =IF((+H5-M5)<>0,H5-M5,IF(H5>0,"0",""))
H7: =IF(B7<>"計",ROUNDDOWN(E7*G7,0),SUM(H$1:H6)) -> 0 | M7: =IF(B7<>"計",ROUNDDOWN(E7*G7,0),SUM(M$1:M6)) -> 0 | N7: =IF((+H7-M7)<>0,H7-M7,IF(H7>0,"0",""))
H9: =IF(B9<>"計",ROUNDDOWN(E9*G9,0),SUM(H$1:H8)) -> 0 | M9: =IF(B9<>"計",ROUNDDOWN(E9*G9,0),SUM(M$1:M8)) -> 0 | N9: =IF((+H9-M9)<>0,H9-M9,IF(H9>0,"0",""))
H11: =IF(B11<>"計",ROUNDDOWN(E11*G11,0),SUM(H$1:H10)) -> 0 | M11: =IF(B11<>"計",ROUNDDOWN(E11*G11,0),SUM(M$1:M10)) -> 0 | N11: =IF((+H11-M11)<>0,H11-M11,IF(H11>0,"0",""))
H13: =IF(B13<>"計",ROUNDDOWN(E13*G13,0),SUM(H$1:H12)) -> 0 | M13: =IF(B13<>"計",ROUNDDOWN(E13*G13,0),SUM(M$1:M12)) -> 0 | N13: =IF((+H13-M13)<>0,H13-M13,IF(H13>0,"0",""))
H15: =IF(B15<>"計",ROUNDDOWN(E15*G15,0),SUM(H$1:H14)) -> 0 | M15: =IF(B15<>"計",ROUNDDOWN(E15*G15,0),SUM(M$1:M14)) -> 0 | N15: =IF((+H15-M15)<>0,H15-M15,IF(H15>0,"0",""))
H17: =IF(B17<>"計",ROUNDDOWN(E17*G17,0),SUM(H$1:H16)) -> 0 | M17: =IF(B17<>"計",ROUNDDOWN(E17*G17,0),SUM(M$1:M16)) -> 0 | N17: =IF((+H17-M17)<>0,H17-M17,IF(H17>0,"0",""))
H19: =IF(B19<>"計",ROUNDDOWN(E19*G19,0),SUM(H$1:H18)) -> 0 | M19: =IF(B19<>"計",ROUNDDOWN(E19*G19,0),SUM(M$1:M18)) -> 0 | N19: =IF((+H19-M19)<>0,H19-M19,IF(H19>0,"0",""))
H21: =IF(B21<>"計",ROUNDDOWN(E21*G21,0),SUM(H$1:H20)) -> 0 | M21: =IF(B21<>"計",ROUNDDOWN(E21*G21,0),SUM(M$1:M20)) -> 0 | N21: =IF((+H21-M21)<>0,H21-M21,IF(H21>0,"0",""))
H23: =IF(B23<>"計",ROUNDDOWN(E23*G23,0),SUM(H$1:H22)) -> 0 | M23: =IF(B23<>"計",ROUNDDOWN(E23*G23,0),SUM(M$1:M22)) -> 0 | N23: =IF((+H23-M23)<>0,H23-M23,IF(H23>0,"0",""))
H25: =IF(B25<>"計",ROUNDDOWN(E25*G25,0),SUM(H$1:H24)) -> 0 | M25: =IF(B25<>"計",ROUNDDOWN(E25*G25,0),SUM(M$1:M24)) -> 0 | N25: =IF((+H25-M25)<>0,H25-M25,IF(H25>0,"0",""))
... H37: =IF(B37<>"計",ROUNDDOWN(E37*G37,0),SUM(H$1:H36)) -> 0 | M37: =IF(B37<>"計",ROUNDDOWN(E37*G37,0),SUM(M$1:M36)) -> 0 | N37: =IF((+H37-M37)<>0,H37-M37,IF(H37>0,"0",""))
H39: =IF(B39<>"計",ROUNDDOWN(E39*G39,0),SUM(H$1:H38)) -> 0
H41: =IF(B41<>"計",ROUNDDOWN(E41*G41,0),SUM(H$1:H40)) -> 0 | M41: =IF(B41<>"計",ROUNDDOWN(E41*G41,0),SUM(M$1:M40)) -> 0 | N41: =IF((+H41-M41)<>0,H41-M41,IF(H41>0,"0",""))
H43: =IF(B43<>"計",ROUNDDOWN(E43*G43,0),SUM(H$1:H42)) -> 0 | M43: =IF(B43<>"計",ROUNDDOWN(E43*G43,0),SUM(M$1:M42)) -> 0 | N43: =IF((+H43-M43)<>0,H43-M43,IF(H43>0,"0",""))
H45: =IF(B45<>"計",ROUNDDOWN(E45*G45,0),SUM(H$1:H44)) -> 0 | M45: =IF(B45<>"計",ROUNDDOWN(E45*G45,0),SUM(M$1:M44)) -> 0 | N45: =IF((+H45-M45)<>0,H45-M45,IF(H45>0,"0",""))
H47: =IF(B47<>"計",ROUNDDOWN(E47*G47,0),SUM(H$1:H46)) -> 0 | M47: =IF(B47<>"計",ROUNDDOWN(E47*G47,0),SUM(M$1:M46)) -> 0 | N47: =IF((+H47-M47)<>0,H47-M47,IF(H47>0,"0",""))
H49: =IF(B49<>"計",ROUNDDOWN(E49*G49,0),SUM(H$1:H48)) -> 0 | M49: =IF(B49<>"計",ROUNDDOWN(E49*G49,0),SUM(M$1:M48)) -> 0 | N49: =IF((+H49-M49)<>0,H49-M49,IF(H49>0,"0",""))
H51: =IF(B51<>"計",ROUNDDOWN(E51*G51,0),SUM(H$1:H50)) -> 0 | M51: =IF(B51<>"計",ROUNDDOWN(E51*G51,0),SUM(M$1:M50)) -> 0 | N51: =IF((+H51-M51)<>0,H51-M51,IF(H51>0,"0",""))
H53: =IF(B53<>"計",ROUNDDOWN(E53*G53,0),SUM(H$1:H52)) -> 0 | M53: =IF(B53<>"計",ROUNDDOWN(E53*G53,0),SUM(M$1:M52)) -> 0 | N53: =IF((+H53-M53)<>0,H53-M53,IF(H53>0,"0",""))
H55: =IF(B55<>"計",ROUNDDOWN(E55*G55,0),SUM(H$1:H54)) -> 0 | M55: =IF(B55<>"計",ROUNDDOWN(E55*G55,0),SUM(M$1:M54)) -> 0 | N55: =IF((+H55-M55)<>0,H55-M55,IF(H55>0,"0",""))
H57: =IF(B57<>"計",ROUNDDOWN(E57*G57,0),SUM(H$1:H56)) -> 0 | M57: =IF(B57<>"計",ROUNDDOWN(E57*G57,0),SUM(M$1:M56)) -> 0 | N57: =IF((+H57-M57)<>0,H57-M57,IF(H57>0,"0",""))
H59: =IF(B59<>"計",ROUNDDOWN(E59*G59,0),SUM(H$1:H58)) -> 0 | M59: =IF(B59<>"計",ROUNDDOWN(E59*G59,0),SUM(M$1:M58)) -> 0 | N59: =IF((+H59-M59)<>0,H59-M59,IF(H59>0,"0",""))
H61: =IF(B61<>"計",ROUNDDOWN(E61*G61,0),SUM(H$1:H60)) -> 0 | M61: =IF(B61<>"計",ROUNDDOWN(E61*G61,0),SUM(M$1:M60)) -> 0 | N61: =IF((+H61-M61)<>0,H61-M61,IF(H61>0,"0",""))
H63: =IF(B63<>"計",ROUNDDOWN(E63*G63,0),SUM(H$1:H62)) -> 0 | M63: =IF(B63<>"計",ROUNDDOWN(E63*G63,0),SUM(M$1:M62)) -> 0 | N63: =IF((+H63-M63)<>0,H63-M63,IF(H63>0,"0",""))
... H181: =IF(B181<>"計",ROUNDDOWN(E181*G181,0),SUM(H$1:H180)) -> 0 | M181: =IF(B181<>"計",ROUNDDOWN(E181*G181,0),SUM(M$1:M180)) -> 0 | N181: =IF((+H181-M181)<>0,H181-M181,IF(H181>0,"0",""))

Sheet （2）電気
B1: 名 称 | C1: 摘 要 | E1: 数 量 | F1: 単位 | G1: 単 価 | H1: 金 額 | I1: 備 考 | L1: 050930改 | M1: 検算欄 | N1: 検算差額
M2: 下以降一式と合計は各自設定 | N2: 差額が0であればOK
A3: （2） | B3: 電気設備工事 | H3: =IF(B3<>"計",ROUNDDOWN(E3*G3,0),SUM(H$1:H2)) -> 0 | M3: =IF(B3<>"計",ROUNDDOWN(E3*G3,0),SUM(M$1:M2)) -> 0 | N3: =IF((+H3-M3)<>0,H3-M3,IF(H3>0,"0",""))
H5: =IF(B5<>"計",ROUNDDOWN(E5*G5,0),SUM(H$1:H4)) -> 0 | M5: =IF(B5<>"計",ROUNDDOWN(E5*G5,0),SUM(M$1:M4)) -> 0 | N5: =IF((+H5-M5)<>0,H5-M5,IF(H5>0,"0",""))
A7: 1. | B7: 電灯設備 | E7: 1 | F7: 式 | H7: =IF(B7<>"計",ROUNDDOWN(E7*G7,0),SUM(H$1:H6)) -> 0 | M7: =IF(B7<>"計",ROUNDDOWN(E7*G7,0),SUM(M$1:M6)) -> 0 | N7: =IF((+H7-M7)<>0,H7-M7,IF(H7>0,"0",""))
A9: 1.1 | B9: 照明設備 | E9: 1 | F9: 式 | H9: =IF(B9<>"計",ROUNDDOWN(E9*G9,0),SUM(H$1:H8)) -> 0 | M9: =IF(B9<>"計",ROUNDDOWN(E9*G9,0),SUM(M$1:M8)) -> 0 | N9: =IF((+H9-M9)<>0,H9-M9,IF(H9>0,"0",""))
A11: 1.2 | B11: コンセント設備 | E11: 1 | F11: 式 | H11: =IF(B11<>"計",ROUNDDOWN(E11*G11,0),SUM(H$1:H10)) -> 0 | M11: =IF(B11<>"計",ROUNDDOWN(E11*G11,0),SUM(M$1:M10)) -> 0 | N11: =IF((+H11-M11)<>0,H11-M11,IF(H11>0,"0",""))
A13: 1.3 | B13: 非常照明･誘導灯設備 | E13: 1 | F13: 式 | H13: =IF(B13<>"計",ROUNDDOWN(E13*G13,0),SUM(H$1:H12)) -> 0 | M13: =IF(B13<>"計",ROUNDDOWN(E13*G13,0),SUM(M$1:M12)) -> 0 | N13: =IF((+H13-M13)<>0,H13-M13,IF(H13>0,"0",""))
A15: 2. | B15: 動力設備 | E15: 1 | F15: 式 | H15: =IF(B15<>"計",ROUNDDOWN(E15*G15,0),SUM(H$1:H14)) -> 0 | M15: =IF(B15<>"計",ROUNDDOWN(E15*G15,0),SUM(M$1:M14)) -> 0 | N15: =IF((+H15-M15)<>0,H15-M15,IF(H15>0,"0",""))
A17: 3. | B17: 電熱設備 | E17: 1 | F17: 式 | H17: =IF(B17<>"計",ROUNDDOWN(E17*G17,0),SUM(H$1:H16)) -> 0 | M17: =IF(B17<>"計",ROUNDDOWN(E17*G17,0),SUM(M$1:M16)) -> 0 | N17: =IF((+H17-M17)<>0,H17-M17,IF(H17>0,"0",""))
A19: 4. | B19: 接地設備 | E19: 1 | F19: 式 | H19: =IF(B19<>"計",ROUNDDOWN(E19*G19,0),SUM(H$1:H18)) -> 0 | M19: =IF(B19<>"計",ROUNDDOWN(E19*G19,0),SUM(M$1:M18)) -> 0 | N19: =IF((+H19-M19)<>0,H19-M19,IF(H19>0,"0",""))
A21: 5. | B21: 幹線設備 | E21: 1 | F21: 式 | H21: =IF(B21<>"計",ROUNDDOWN(E21*G21,0),SUM(H$1:H20)) -> 0 | M21: =IF(B21<>"計",ROUNDDOWN(E21*G21,0),SUM(M$1:M20)) -> 0 | N21: =IF((+H21-M21)<>0,H21-M21,IF(H21>0,"0",""))
A23: 5.1 | B23: 電灯幹線設備 | E23: 1 | F23: 式 | H23: =IF(B23<>"計",ROUNDDOWN(E23*G23,0),SUM(H$1:H22)) -> 0 | M23: =IF(B23<>"計",ROUNDDOWN(E23*G23,0),SUM(M$1:M22)) -> 0 | N23: =IF((+H23-M23)<>0,H23-M23,IF(H23>0,"0",""))
A25: 5.2 | B25: 動力幹線設備 | E25: 1 | F25: 式 | H25: =IF(B25<>"計",ROUNDDOWN(E25*G25,0),SUM(H$1:H24)) -> 0 | M25: =IF(B25<>"計",ROUNDDOWN(E25*G25,0),SUM(M$1:M24)) -> 0 | N25: =IF((+H25-M25)<>0,H25-M25,IF(H25>0,"0",""))
A27: 6. | B27: 雷保護設備 | E27: 1 | F27: 式 | H27: =IF(B27<>"計",ROUNDDOWN(E27*G27,0),SUM(H$1:H26)) -> 0 | M27: =IF(B27<>"計",ROUNDDOWN(E27*G27,0),SUM(M$1:M26)) -> 0 | N27: =IF((+H27-M27)<>0,H27-M27,IF(H27>0,"0",""))
A29: 7. | B29: 航空障害灯等設備 | E29: 1 | F29: 式 | H29: =IF(B29<>"計",ROUNDDOWN(E29*G29,0),SUM(H$1:H28)) -> 0 | M29: =IF(B29<>"計",ROUNDDOWN(E29*G29,0),SUM(M$1:M28)) -> 0 | N29: =IF((+H29-M29)<>0,H29-M29,IF(H29>0,"0",""))
... A111: 29. | B111: 雑費 | E111: 1 | F111: 式 | H111: =IF(B111<>"計",ROUNDDOWN(E111*G111,0),SUM(H$1:H110)) -> 0 | M111: =IF(B111<>"計",ROUNDDOWN(E111*G111,0),SUM(M$1:M110)) -> 0 | N111: =IF((+H111-M111)<>0,H111-M111,IF(H111>0,"0",""))
H113: =IF(B113<>"計",ROUNDDOWN(E113*G113,0),SUM(H$1:H112)) -> 0 | M113: =IF(B113<>"計",ROUNDDOWN(E113*G113,0),SUM(M$1:M112)) -> 0 | N113: =IF((+H113-M113)<>0,H113-M113,IF(H113>0,"0",""))
H115: =IF(B115<>"計",ROUNDDOWN(E115*G115,0),SUM(H$1:H114)) -> 0 | M115: =IF(B115<>"計",ROUNDDOWN(E115*G115,0),SUM(M$1:M114)) -> 0 | N115: =IF((+H115-M115)<>0,H115-M115,IF(H115>0,"0",""))
H117: =IF(B117<>"計",ROUNDDOWN(E117*G117,0),SUM(H$1:H116)) -> 0 | M117: =IF(B117<>"計",ROUNDDOWN(E117*G117,0),SUM(M$1:M116)) -> 0 | N117: =IF((+H117-M117)<>0,H117-M117,IF(H117>0,"0",""))
H119: =IF(B119<>"計",ROUNDDOWN(E119*G119,0),SUM(H$1:H118)) -> 0 | M119: =IF(B119<>"計",ROUNDDOWN(E119*G119,0),SUM(M$1:M118)) -> 0 | N119: =IF((+H119-M119)<>0,H119-M119,IF(H119>0,"0",""))
H121: =IF(B121<>"計",ROUNDDOWN(E121*G121,0),SUM(H$1:H120)) -> 0 | M121: =IF(B121<>"計",ROUNDDOWN(E121*G121,0),SUM(M$1:M120)) -> 0 | N121: =IF((+H121-M121)<>0,H121-M121,IF(H121>0,"0",""))
H123: =IF(B123<>"計",ROUNDDOWN(E123*G123,0),SUM(H$1:H122)) -> 0 | M123: =IF(B123<>"計",ROUNDDOWN(E123*G123,0),SUM(M$1:M122)) -> 0 | N123: =IF((+H123-M123)<>0,H123-M123,IF(H123>0,"0",""))
H125: =IF(B125<>"計",ROUNDDOWN(E125*G125,0),SUM(H$1:H124)) -> 0 | M125: =IF(B125<>"計",ROUNDDOWN(E125*G125,0),SUM(M$1:M124)) -> 0 | N125: =IF((+H125-M125)<>0,H125-M125,IF(H125>0,"0",""))
H127: =IF(B127<>"計",ROUNDDOWN(E127*G127,0),SUM(H$1:H126)) -> 0 | M127: =IF(B127<>"計",ROUNDDOWN(E127*G127,0),SUM(M$1:M126)) -> 0 | N127: =IF((+H127-M127)<>0,H127-M127,IF(H127>0,"0",""))
H129: =IF(B129<>"計",ROUNDDOWN(E129*G129,0),SUM(H$1:H128)) -> 0 | M129: =IF(B129<>"計",ROUNDDOWN(E129*G129,0),SUM(M$1:M128)) -> 0 | N129: =IF((+H129-M129)<>0,H129-M129,IF(H129>0,"0",""))
H131: =IF(B131<>"計",ROUNDDOWN(E131*G131,0),SUM(H$1:H130)) -> 0 | M131: =IF(B131<>"計",ROUNDDOWN(E131*G131,0),SUM(M$1:M130)) -> 0 | N131: =IF((+H131-M131)<>0,H131-M131,IF(H131>0,"0",""))
H133: =IF(B133<>"計",ROUNDDOWN(E133*G133,0),SUM(H$1:H132)) -> 0 | M133: =IF(B133<>"計",ROUNDDOWN(E133*G133,0),SUM(M$1:M132)) -> 0 | N133: =IF((+H133-M133)<>0,H133-M133,IF(H133>0,"0",""))
H135: =IF(B135<>"計",ROUNDDOWN(E135*G135,0),SUM(H$1:H134)) -> 0 | M135: =IF(B135<>"計",ROUNDDOWN(E135*G135,0),SUM(M$1:M134)) -> 0 | N135: =IF((+H135-M135)<>0,H135-M135,IF(H135>0,"0",""))
... H141: =IF(B141<>"計",ROUNDDOWN(E141*G141,0),SUM(H$1:H140)) -> 0 | M141: =IF(B141<>"計",ROUNDDOWN(E141*G141,0),SUM(M$1:M140)) -> 0 | N141: =IF((+H141-M141)<>0,H141-M141,IF(H141>0,"0",""))
B143: 計 | H143: =IF(B143<>"計",ROUNDDOWN(E143*G143,0),SUM(H$1:H142)) -> 0 | M143: =IF(B143<>"計",ROUNDDOWN(E143*G143,0),SUM(M$1:M142)) -> 0 | N143: =IF((+H143-M143)<>0,H143-M143,IF(H143>0,"0",""))
H145: =IF(B145<>"計",ROUNDDOWN(E145*G145,0),SUM(H$1:H144)) -> 0 | M145: =IF(B145<>"計",ROUNDDOWN(E145*G145,0),SUM(M$1:M144)) -> 0 | N145: =IF((+H145-M145)<>0,H145-M145,IF(H145>0,"0",""))
H146: =ROUNDDOWN(E146*G146,0) -> 0
H148: =ROUNDDOWN(E148*G148,0) -> 0
H150: =ROUNDDOWN(E150*G150,0) -> 0
H152: =ROUNDDOWN(E152*G152,0) -> 0
H154: =ROUNDDOWN(E154*G154,0) -> 0
H156: =ROUNDDOWN(E156*G156,0) -> 0
H158: =ROUNDDOWN(E158*G158,0) -> 0
H160: =ROUNDDOWN(E160*G160,0) -> 0
H162: =ROUNDDOWN(E162*G162,0) -> 0
H164: =ROUNDDOWN(E164*G164,0) -> 0
H166: =ROUNDDOWN(E166*G166,0) -> 0
H168: =ROUNDDOWN(E168*G168,0) -> 0
... H296: =ROUNDDOWN(E296*G296,0) -> 0

Sheet 電気内訳
B1: 名 称 | C1: 摘 要 | E1: 数 量 | F1: 単位 | G1: 単 価 | H1: 金 額 | I1: 備 考 | M1: 検算欄 | N1: 検算差額
M2: 下以降一式と合計は各自設定 | N2: 差額が0であればOK
H3: =IF(B3<>"計",ROUNDDOWN(E3*G3,0),SUM(H$1:H2)) -> 0 | M3: =IF(B3<>"計",ROUNDDOWN(E3*G3,0),SUM(M$1:M2)) -> 0 | N3: =IF((+H3-M3)<>0,H3-M3,IF(H3>0,"0",""))
H5: =IF(B5<>"計",ROUNDDOWN(E5*G5,0),SUM(H$1:H4)) -> 0 | M5: =IF(B5<>"計",ROUNDDOWN(E5*G5,0),SUM(M$1:M4)) -> 0 | N5: =IF((+H5-M5)<>0,H5-M5,IF(H5>0,"0",""))
H7: =IF(B7<>"計",ROUNDDOWN(E7*G7,0),SUM(H$1:H6)) -> 0 | M7: =IF(B7<>"計",ROUNDDOWN(E7*G7,0),SUM(M$1:M6)) -> 0 | N7: =IF((+H7-M7)<>0,H7-M7,IF(H7>0,"0",""))
H9: =IF(B9<>"計",ROUNDDOWN(E9*G9,0),SUM(H$1:H8)) -> 0 | M9: =IF(B9<>"計",ROUNDDOWN(E9*G9,0),SUM(M$1:M8)) -> 0 | N9: =IF((+H9-M9)<>0,H9-M9,IF(H9>0,"0",""))
H11: =IF(B11<>"計",ROUNDDOWN(E11*G11,0),SUM(H$1:H10)) -> 0 | M11: =IF(B11<>"計",ROUNDDOWN(E11*G11,0),SUM(M$1:M10)) -> 0 | N11: =IF((+H11-M11)<>0,H11-M11,IF(H11>0,"0",""))
H13: =IF(B13<>"計",ROUNDDOWN(E13*G13,0),SUM(H$1:H12)) -> 0 | M13: =IF(B13<>"計",ROUNDDOWN(E13*G13,0),SUM(M$1:M12)) -> 0 | N13: =IF((+H13-M13)<>0,H13-M13,IF(H13>0,"0",""))
H15: =IF(B15<>"計",ROUNDDOWN(E15*G15,0),SUM(H$1:H14)) -> 0 | M15: =IF(B15<>"計",ROUNDDOWN(E15*G15,0),SUM(M$1:M14)) -> 0 | N15: =IF((+H15-M15)<>0,H15-M15,IF(H15>0,"0",""))
H17: =IF(B17<>"計",ROUNDDOWN(E17*G17,0),SUM(H$1:H16)) -> 0 | M17: =IF(B17<>"計",ROUNDDOWN(E17*G17,0),SUM(M$1:M16)) -> 0 | N17: =IF((+H17-M17)<>0,H17-M17,IF(H17>0,"0",""))
H19: =IF(B19<>"計",ROUNDDOWN(E19*G19,0),SUM(H$1:H18)) -> 0 | M19: =IF(B19<>"計",ROUNDDOWN(E19*G19,0),SUM(M$1:M18)) -> 0 | N19: =IF((+H19-M19)<>0,H19-M19,IF(H19>0,"0",""))
H21: =IF(B21<>"計",ROUNDDOWN(E21*G21,0),SUM(H$1:H20)) -> 0 | M21: =IF(B21<>"計",ROUNDDOWN(E21*G21,0),SUM(M$1:M20)) -> 0 | N21: =IF((+H21-M21)<>0,H21-M21,IF(H21>0,"0",""))
H23: =IF(B23<>"計",ROUNDDOWN(E23*G23,0),SUM(H$1:H22)) -> 0 | M23: =IF(B23<>"計",ROUNDDOWN(E23*G23,0),SUM(M$1:M22)) -> 0 | N23: =IF((+H23-M23)<>0,H23-M23,IF(H23>0,"0",""))
H25: =IF(B25<>"計",ROUNDDOWN(E25*G25,0),SUM(H$1:H24)) -> 0 | M25: =IF(B25<>"計",ROUNDDOWN(E25*G25,0),SUM(M$1:M24)) -> 0 | N25: =IF((+H25-M25)<>0,H25-M25,IF(H25>0,"0",""))
... H181: =IF(B181<>"計",ROUNDDOWN(E181*G181,0),SUM(H$1:H180)) -> 0 | M181: =IF(B181<>"計",ROUNDDOWN(E181*G181,0),SUM(M$1:M180)) -> 0 | N181: =IF((+H181-M181)<>0,H181-M181,IF(H181>0,"0",""))
H183: =ROUNDDOWN(E183*G183,0) -> 0
H185: =ROUNDDOWN(E185*G185,0) -> 0
H187: =ROUNDDOWN(E187*G187,0) -> 0
H189: =ROUNDDOWN(E189*G189,0) -> 0
H191: =ROUNDDOWN(E191*G191,0) -> 0
H193: =ROUNDDOWN(E193*G193,0) -> 0
H195: =ROUNDDOWN(E195*G195,0) -> 0
H197: =ROUNDDOWN(E197*G197,0) -> 0
H199: =ROUNDDOWN(E199*G199,0) -> 0
H201: =ROUNDDOWN(E201*G201,0) -> 0
H203: =ROUNDDOWN(E203*G203,0) -> 0
H205: =ROUNDDOWN(E205*G205,0) -> 0
... H333: =ROUNDDOWN(E333*G333,0) -> 0

Sheet （3）空調
B1: 名 称 | C1: 摘 要 | E1: 数 量 | F1: 単位 | G1: 単 価 | H1: 金 額 | I1: 備 考 | M1: 検算欄 | N1: 検算差額
M2: 下以降一式と合計は各自設定 | N2: 差額が0であればOK
A3: （3） | B3: 空気調和設備工事 | H3: =IF(B3<>"計",ROUNDDOWN(E3*G3,0),SUM(H$1:H2)) -> 0 | M3: =IF(B3<>"計",ROUNDDOWN(E3*G3,0),SUM(M$1:M2)) -> 0 | N3: =IF((+H3-M3)<>0,H3-M3,IF(H3>0,"0",""))
H5: =IF(B5<>"計",ROUNDDOWN(E5*G5,0),SUM(H$1:H4)) -> 0 | M5: =IF(B5<>"計",ROUNDDOWN(E5*G5,0),SUM(M$1:M4)) -> 0 | N5: =IF((+H5-M5)<>0,H5-M5,IF(H5>0,"0",""))
A7: 1. | B7: 空気調和設備 | E7: 1 | F7: 式 | H7: =IF(B7<>"計",ROUNDDOWN(E7*G7,0),SUM(H$1:H6)) -> 0 | M7: =IF(B7<>"計",ROUNDDOWN(E7*G7,0),SUM(M$1:M6)) -> 0 | N7: =IF((+H7-M7)<>0,H7-M7,IF(H7>0,"0",""))
A9: 2. | B9: 換気設備 | E9: 1 | F9: 式 | H9: =IF(B9<>"計",ROUNDDOWN(E9*G9,0),SUM(H$1:H8)) -> 0 | M9: =IF(B9<>"計",ROUNDDOWN(E9*G9,0),SUM(M$1:M8)) -> 0 | N9: =IF((+H9-M9)<>0,H9-M9,IF(H9>0,"0",""))
A11: 3. | B11: 排煙設備 | E11: 1 | F11: 式 | H11: =IF(B11<>"計",ROUNDDOWN(E11*G11,0),SUM(H$1:H10)) -> 0 | M11: =IF(B11<>"計",ROUNDDOWN(E11*G11,0),SUM(M$1:M10)) -> 0 | N11: =IF((+H11-M11)<>0,H11-M11,IF(H11>0,"0",""))
A13: 4. | B13: 自動制御設備 | E13: 1 | F13: 式 | H13: =IF(B13<>"計",ROUNDDOWN(E13*G13,0),SUM(H$1:H12)) -> 0 | M13: =IF(B13<>"計",ROUNDDOWN(E13*G13,0),SUM(M$1:M12)) -> 0 | N13: =IF((+H13-M13)<>0,H13-M13,IF(H13>0,"0",""))
A15: 5. | B15: 雑費 | E15: 1 | F15: 式 | H15: =IF(B15<>"計",ROUNDDOWN(E15*G15,0),SUM(H$1:H14)) -> 0 | M15: =IF(B15<>"計",ROUNDDOWN(E15*G15,0),SUM(M$1:M14)) -> 0 | N15: =IF((+H15-M15)<>0,H15-M15,IF(H15>0,"0",""))
H17: =IF(B17<>"計",ROUNDDOWN(E17*G17,0),SUM(H$1:H16)) -> 0 | M17: =IF(B17<>"計",ROUNDDOWN(E17*G17,0),SUM(M$1:M16)) -> 0 | N17: =IF((+H17-M17)<>0,H17-M17,IF(H17>0,"0",""))
H19: =IF(B19<>"計",ROUNDDOWN(E19*G19,0),SUM(H$1:H18)) -> 0 | M19: =IF(B19<>"計",ROUNDDOWN(E19*G19,0),SUM(M$1:M18)) -> 0 | N19: =IF((+H19-M19)<>0,H19-M19,IF(H19>0,"0",""))
H21: =IF(B21<>"計",ROUNDDOWN(E21*G21,0),SUM(H$1:H20)) -> 0 | M21: =IF(B21<>"計",ROUNDDOWN(E21*G21,0),SUM(M$1:M20)) -> 0 | N21: =IF((+H21-M21)<>0,H21-M21,IF(H21>0,"0",""))
H23: =IF(B23<>"計",ROUNDDOWN(E23*G23,0),SUM(H$1:H22)) -> 0 | M23: =IF(B23<>"計",ROUNDDOWN(E23*G23,0),SUM(M$1:M22)) -> 0 | N23: =IF((+H23-M23)<>0,H23-M23,IF(H23>0,"0",""))
H25: =IF(B25<>"計",ROUNDDOWN(E25*G25,0),SUM(H$1:H24)) -> 0 | M25: =IF(B25<>"計",ROUNDDOWN(E25*G25,0),SUM(M$1:M24)) -> 0 | N25: =IF((+H25-M25)<>0,H25-M25,IF(H25>0,"0",""))
H27: =IF(B27<>"計",ROUNDDOWN(E27*G27,0),SUM(H$1:H26)) -> 0 | M27: =IF(B27<>"計",ROUNDDOWN(E27*G27,0),SUM(M$1:M26)) -> 0 | N27: =IF((+H27-M27)<>0,H27-M27,IF(H27>0,"0",""))
H29: =IF(B29<>"計",ROUNDDOWN(E29*G29,0),SUM(H$1:H28)) -> 0 | M29: =IF(B29<>"計",ROUNDDOWN(E29*G29,0),SUM(M$1:M28)) -> 0 | N29: =IF((+H29-M29)<>0,H29-M29,IF(H29>0,"0",""))
H31: =IF(B31<>"計",ROUNDDOWN(E31*G31,0),SUM(H$1:H30)) -> 0 | M31: =IF(B31<>"計",ROUNDDOWN(E31*G31,0),SUM(M$1:M30)) -> 0 | N31: =IF((+H31-M31)<>0,H31-M31,IF(H31>0,"0",""))
H33: =IF(B33<>"計",ROUNDDOWN(E33*G33,0),SUM(H$1:H32)) -> 0 | M33: =IF(B33<>"計",ROUNDDOWN(E33*G33,0),SUM(M$1:M32)) -> 0 | N33: =IF((+H33-M33)<>0,H33-M33,IF(H33>0,"0",""))
B35: 計 | H35: =IF(B35<>"計",ROUNDDOWN(E35*G35,0),SUM(H$1:H34)) -> 0 | M35: =IF(B35<>"計",ROUNDDOWN(E35*G35,0),SUM(M$1:M34)) -> 0 | N35: =IF((+H35-M35)<>0,H35-M35,IF(H35>0,"0",""))
H37: =IF(B37<>"計",ROUNDDOWN(E37*G37,0),SUM(H$1:H36)) -> 0 | M37: =IF(B37<>"計",ROUNDDOWN(E37*G37,0),SUM(M$1:M36)) -> 0 | N37: =IF((+H37-M37)<>0,H37-M37,IF(H37>0,"0",""))
H39: =IF(B39<>"計",ROUNDDOWN(E39*G39,0),SUM(H$1:H38)) -> 0 | M39: =IF(B39<>"計",ROUNDDOWN(E39*G39,0),SUM(M$1:M38)) -> 0 | N39: =IF((+H39-M39)<>0,H39-M39,IF(H39>0,"0",""))
H41: =IF(B41<>"計",ROUNDDOWN(E41*G41,0),SUM(H$1:H40)) -> 0 | M41: =IF(B41<>"計",ROUNDDOWN(E41*G41,0),SUM(M$1:M40)) -> 0 | N41: =IF((+H41-M41)<>0,H41-M41,IF(H41>0,"0",""))
H43: =IF(B43<>"計",ROUNDDOWN(E43*G43,0),SUM(H$1:H42)) -> 0 | M43: =IF(B43<>"計",ROUNDDOWN(E43*G43,0),SUM(M$1:M42)) -> 0 | N43: =IF((+H43-M43)<>0,H43-M43,IF(H43>0,"0",""))
H45: =IF(B45<>"計",ROUNDDOWN(E45*G45,0),SUM(H$1:H44)) -> 0 | M45: =IF(B45<>"計",ROUNDDOWN(E45*G45,0),SUM(M$1:M44)) -> 0 | N45: =IF((+H45-M45)<>0,H45-M45,IF(H45>0,"0",""))
H47: =IF(B47<>"計",ROUNDDOWN(E47*G47,0),SUM(H$1:H46)) -> 0 | M47: =IF(B47<>"計",ROUNDDOWN(E47*G47,0),SUM(M$1:M46)) -> 0 | N47: =IF((+H47-M47)<>0,H47-M47,IF(H47>0,"0",""))
H49: =IF(B49<>"計",ROUNDDOWN(E49*G49,0),SUM(H$1:H48)) -> 0 | M49: =IF(B49<>"計",ROUNDDOWN(E49*G49,0),SUM(M$1:M48)) -> 0 | N49: =IF((+H49-M49)<>0,H49-M49,IF(H49>0,"0",""))
H51: =IF(B51<>"計",ROUNDDOWN(E51*G51,0),SUM(H$1:H50)) -> 0 | M51: =IF(B51<>"計",ROUNDDOWN(E51*G51,0),SUM(M$1:M50)) -> 0 | N51: =IF((+H51-M51)<>0,H51-M51,IF(H51>0,"0",""))
H53: =IF(B53<>"計",ROUNDDOWN(E53*G53,0),SUM(H$1:H52)) -> 0 | M53: =IF(B53<>"計",ROUNDDOWN(E53*G53,0),SUM(M$1:M52)) -> 0 | N53: =IF((+H53-M53)<>0,H53-M53,IF(H53>0,"0",""))
H55: =IF(B55<>"計",ROUNDDOWN(E55*G55,0),SUM(H$1:H54)) -> 0 | M55: =IF(B55<>"計",ROUNDDOWN(E55*G55,0),SUM(M$1:M54)) -> 0 | N55: =IF((+H55-M55)<>0,H55-M55,IF(H55>0,"0",""))
H57: =IF(B57<>"計",ROUNDDOWN(E57*G57,0),SUM(H$1:H56)) -> 0 | M57: =IF(B57<>"計",ROUNDDOWN(E57*G57,0),SUM(M$1:M56)) -> 0 | N57: =IF((+H57-M57)<>0,H57-M57,IF(H57>0,"0",""))
H59: =IF(B59<>"計",ROUNDDOWN(E59*G59,0),SUM(H$1:H58)) -> 0 | M59: =IF(B59<>"計",ROUNDDOWN(E59*G59,0),SUM(M$1:M58)) -> 0 | N59: =IF((+H59-M59)<>0,H59-M59,IF(H59>0,"0",""))
... H73: =IF(B73<>"計",ROUNDDOWN(E73*G73,0),SUM(H$1:H72)) -> 0 | M73: =IF(B73<>"計",ROUNDDOWN(E73*G73,0),SUM(M$1:M72)) -> 0 | N73: =IF((+H73-M73)<>0,H73-M73,IF(H73>0,"0",""))
H75: =IF(B75<>"計",ROUNDDOWN(E75*G75,0),SUM(H$1:H74)) -> 0
H77: =IF(B77<>"計",ROUNDDOWN(E77*G77,0),SUM(H$1:H76)) -> 0
H79: =IF(B79<>"計",ROUNDDOWN(E79*G79,0),SUM(H$1:H78)) -> 0
H81: =IF(B81<>"計",ROUNDDOWN(E81*G81,0),SUM(H$1:H80)) -> 0
H83: =IF(B83<>"計",ROUNDDOWN(E83*G83,0),SUM(H$1:H82)) -> 0
H85: =IF(B85<>"計",ROUNDDOWN(E85*G85,0),SUM(H$1:H84)) -> 0
H87: =IF(B87<>"計",ROUNDDOWN(E87*G87,0),SUM(H$1:H86)) -> 0
H89: =IF(B89<>"計",ROUNDDOWN(E89*G89,0),SUM(H$1:H88)) -> 0
H91: =IF(B91<>"計",ROUNDDOWN(E91*G91,0),SUM(H$1:H90)) -> 0
H93: =IF(B93<>"計",ROUNDDOWN(E93*G93,0),SUM(H$1:H92)) -> 0
H95: =IF(B95<>"計",ROUNDDOWN(E95*G95,0),SUM(H$1:H94)) -> 0
H97: =IF(B97<>"計",ROUNDDOWN(E97*G97,0),SUM(H$1:H96)) -> 0
... H181: =IF(B181<>"計",ROUNDDOWN(E181*G181,0),SUM(H$1:H180)) -> 0
H183: =ROUNDDOWN(E183*G183,0) -> 0
H185: =ROUNDDOWN(E185*G185,0) -> 0
H187: =ROUNDDOWN(E187*G187,0) -> 0
H189: =ROUNDDOWN(E189*G189,0) -> 0
H191: =ROUNDDOWN(E191*G191,0) -> 0
H193: =ROUNDDOWN(E193*G193,0) -> 0
H195: =ROUNDDOWN(E195*G195,0) -> 0
H197: =ROUNDDOWN(E197*G197,0) -> 0
H199: =ROUNDDOWN(E199*G199,0) -> 0
H201: =ROUNDDOWN(E201*G201,0) -> 0
H203: =ROUNDDOWN(E203*G203,0) -> 0
H205: =ROUNDDOWN(E205*G205,0) -> 0
... H225: =ROUNDDOWN(E225*G225,0) -> 0

Sheet 空調内訳
B1: 名 称 | C1: 摘 要 | E1: 数 量 | F1: 単位 | G1: 単 価 | H1: 金 額 | I1: 備 考 | M1: 検算欄 | N1: 検算差額
M2: 下以降一式と合計は各自設定 | N2: 差額が0であればOK
H3: =IF(B3<>"計",ROUNDDOWN(E3*G3,0),SUM(H$1:H2)) -> 0 | M3: =IF(B3<>"計",ROUNDDOWN(E3*G3,0),SUM(M$1:M2)) -> 0 | N3: =IF((+H3-M3)<>0,H3-M3,IF(H3>0,"0",""))
H5: =IF(B5<>"計",ROUNDDOWN(E5*G5,0),SUM(H$1:H4)) -> 0 | M5: =IF(B5<>"計",ROUNDDOWN(E5*G5,0),SUM(M$1:M4)) -> 0 | N5: =IF((+H5-M5)<>0,H5-M5,IF(H5>0,"0",""))
H7: =IF(B7<>"計",ROUNDDOWN(E7*G7,0),SUM(H$1:H6)) -> 0 | M7: =IF(B7<>"計",ROUNDDOWN(E7*G7,0),SUM(M$1:M6)) -> 0 | N7: =IF((+H7-M7)<>0,H7-M7,IF(H7>0,"0",""))
H9: =IF(B9<>"計",ROUNDDOWN(E9*G9,0),SUM(H$1:H8)) -> 0 | M9: =IF(B9<>"計",ROUNDDOWN(E9*G9,0),SUM(M$1:M8)) -> 0 | N9: =IF((+H9-M9)<>0,H9-M9,IF(H9>0,"0",""))
H11: =IF(B11<>"計",ROUNDDOWN(E11*G11,0),SUM(H$1:H10)) -> 0 | M11: =IF(B11<>"計",ROUNDDOWN(E11*G11,0),SUM(M$1:M10)) -> 0 | N11: =IF((+H11-M11)<>0,H11-M11,IF(H11>0,"0",""))
H13: =IF(B13<>"計",ROUNDDOWN(E13*G13,0),SUM(H$1:H12)) -> 0 | M13: =IF(B13<>"計",ROUNDDOWN(E13*G13,0),SUM(M$1:M12)) -> 0 | N13: =IF((+H13-M13)<>0,H13-M13,IF(H13>0,"0",""))
H15: =IF(B15<>"計",ROUNDDOWN(E15*G15,0),SUM(H$1:H14)) -> 0 | M15: =IF(B15<>"計",ROUNDDOWN(E15*G15,0),SUM(M$1:M14)) -> 0 | N15: =IF((+H15-M15)<>0,H15-M15,IF(H15>0,"0",""))
H17: =IF(B17<>"計",ROUNDDOWN(E17*G17,0),SUM(H$1:H16)) -> 0 | M17: =IF(B17<>"計",ROUNDDOWN(E17*G17,0),SUM(M$1:M16)) -> 0 | N17: =IF((+H17-M17)<>0,H17-M17,IF(H17>0,"0",""))
H19: =IF(B19<>"計",ROUNDDOWN(E19*G19,0),SUM(H$1:H18)) -> 0 | M19: =IF(B19<>"計",ROUNDDOWN(E19*G19,0),SUM(M$1:M18)) -> 0 | N19: =IF((+H19-M19)<>0,H19-M19,IF(H19>0,"0",""))
H21: =IF(B21<>"計",ROUNDDOWN(E21*G21,0),SUM(H$1:H20)) -> 0 | M21: =IF(B21<>"計",ROUNDDOWN(E21*G21,0),SUM(M$1:M20)) -> 0 | N21: =IF((+H21-M21)<>0,H21-M21,IF(H21>0,"0",""))
H23: =IF(B23<>"計",ROUNDDOWN(E23*G23,0),SUM(H$1:H22)) -> 0 | M23: =IF(B23<>"計",ROUNDDOWN(E23*G23,0),SUM(M$1:M22)) -> 0 | N23: =IF((+H23-M23)<>0,H23-M23,IF(H23>0,"0",""))
H25: =IF(B25<>"計",ROUNDDOWN(E25*G25,0),SUM(H$1:H24)) -> 0 | M25: =IF(B25<>"計",ROUNDDOWN(E25*G25,0),SUM(M$1:M24)) -> 0 | N25: =IF((+H25-M25)<>0,H25-M25,IF(H25>0,"0",""))
... H181: =IF(B181<>"計",ROUNDDOWN(E181*G181,0),SUM(H$1:H180)) -> 0 | M181: =IF(B181<>"計",ROUNDDOWN(E181*G181,0),SUM(M$1:M180)) -> 0 | N181: =IF((+H181-M181)<>0,H181-M181,IF(H181>0,"0",""))
H183: =ROUNDDOWN(E183*G183,0) -> 0
H185: =ROUNDDOWN(E185*G185,0) -> 0
H187: =ROUNDDOWN(E187*G187,0) -> 0
H189: =ROUNDDOWN(E189*G189,0) -> 0
H191: =ROUNDDOWN(E191*G191,0) -> 0
H193: =ROUNDDOWN(E193*G193,0) -> 0
H195: =ROUNDDOWN(E195*G195,0) -> 0
H197: =ROUNDDOWN(E197*G197,0) -> 0
H199: =ROUNDDOWN(E199*G199,0) -> 0
H201: =ROUNDDOWN(E201*G201,0) -> 0
H203: =ROUNDDOWN(E203*G203,0) -> 0
H205: =ROUNDDOWN(E205*G205,0) -> 0
... H333: =ROUNDDOWN(E333*G333,0) -> 0

Sheet （4）衛生
B1: 名 称 | C1: 摘 要 | E1: 数 量 | F1: 単位 | G1: 単 価 | H1: 金 額 | I1: 備 考 | M1: 検算欄 | N1: 検算差額
M2: 下以降一式と合計は各自設定 | N2: 差額が0であればOK
A3: （4） | B3: 給排水衛生設備工事 | H3: =IF(B3<>"計",ROUNDDOWN(E3*G3,0),SUM(H$1:H2)) -> 0 | M3: =IF(B3<>"計",ROUNDDOWN(E3*G3,0),SUM(M$1:M2)) -> 0 | N3: =IF((+H3-M3)<>0,H3-M3,IF(H3>0,"0",""))
H5: =IF(B5<>"計",ROUNDDOWN(E5*G5,0),SUM(H$1:H4)) -> 0 | M5: =IF(B5<>"計",ROUNDDOWN(E5*G5,0),SUM(M$1:M4)) -> 0 | N5: =IF((+H5-M5)<>0,H5-M5,IF(H5>0,"0",""))
A7: 1. | B7: 衛生器具設備 | E7: 1 | F7: 式 | H7: =IF(B7<>"計",ROUNDDOWN(E7*G7,0),SUM(H$1:H6)) -> 0 | M7: =IF(B7<>"計",ROUNDDOWN(E7*G7,0),SUM(M$1:M6)) -> 0 | N7: =IF((+H7-M7)<>0,H7-M7,IF(H7>0,"0",""))
A9: 2. | B9: 給水設備 | E9: 1 | F9: 式 | H9: =IF(B9<>"計",ROUNDDOWN(E9*G9,0),SUM(H$1:H8)) -> 0 | M9: =IF(B9<>"計",ROUNDDOWN(E9*G9,0),SUM(M$1:M8)) -> 0 | N9: =IF((+H9-M9)<>0,H9-M9,IF(H9>0,"0",""))
A11: 3. | B11: 排水設備 | E11: 1 | F11: 式 | H11: =IF(B11<>"計",ROUNDDOWN(E11*G11,0),SUM(H$1:H10)) -> 0 | M11: =IF(B11<>"計",ROUNDDOWN(E11*G11,0),SUM(M$1:M10)) -> 0 | N11: =IF((+H11-M11)<>0,H11-M11,IF(H11>0,"0",""))
A13: 4. | B13: 給湯設備 | E13: 1 | F13: 式 | H13: =IF(B13<>"計",ROUNDDOWN(E13*G13,0),SUM(H$1:H12)) -> 0 | M13: =IF(B13<>"計",ROUNDDOWN(E13*G13,0),SUM(M$1:M12)) -> 0 | N13: =IF((+H13-M13)<>0,H13-M13,IF(H13>0,"0",""))
A15: 5. | B15: 消火設備 | E15: 1 | F15: 式 | H15: =IF(B15<>"計",ROUNDDOWN(E15*G15,0),SUM(H$1:H14)) -> 0 | M15: =IF(B15<>"計",ROUNDDOWN(E15*G15,0),SUM(M$1:M14)) -> 0 | N15: =IF((+H15-M15)<>0,H15-M15,IF(H15>0,"0",""))
A17: 6. | B17: 厨房機器設備 | E17: 1 | F17: 式 | H17: =IF(B17<>"計",ROUNDDOWN(E17*G17,0),SUM(H$1:H16)) -> 0 | M17: =IF(B17<>"計",ROUNDDOWN(E17*G17,0),SUM(M$1:M16)) -> 0 | N17: =IF((+H17-M17)<>0,H17-M17,IF(H17>0,"0",""))
A19: 7. | B19: ガス設備 | E19: 1 | F19: 式 | H19: =IF(B19<>"計",ROUNDDOWN(E19*G19,0),SUM(H$1:H18)) -> 0 | M19: =IF(B19<>"計",ROUNDDOWN(E19*G19,0),SUM(M$1:M18)) -> 0 | N19: =IF((+H19-M19)<>0,H19-M19,IF(H19>0,"0",""))
A21: 8. | B21: 雑費 | E21: 1 | F21: 式 | H21: =IF(B21<>"計",ROUNDDOWN(E21*G21,0),SUM(H$1:H20)) -> 0 | M21: =IF(B21<>"計",ROUNDDOWN(E21*G21,0),SUM(M$1:M20)) -> 0 | N21: =IF((+H21-M21)<>0,H21-M21,IF(H21>0,"0",""))
H23: =IF(B23<>"計",ROUNDDOWN(E23*G23,0),SUM(H$1:H22)) -> 0 | M23: =IF(B23<>"計",ROUNDDOWN(E23*G23,0),SUM(M$1:M22)) -> 0 | N23: =IF((+H23-M23)<>0,H23-M23,IF(H23>0,"0",""))
H25: =IF(B25<>"計",ROUNDDOWN(E25*G25,0),SUM(H$1:H24)) -> 0 | M25: =IF(B25<>"計",ROUNDDOWN(E25*G25,0),SUM(M$1:M24)) -> 0 | N25: =IF((+H25-M25)<>0,H25-M25,IF(H25>0,"0",""))
H27: =IF(B27<>"計",ROUNDDOWN(E27*G27,0),SUM(H$1:H26)) -> 0 | M27: =IF(B27<>"計",ROUNDDOWN(E27*G27,0),SUM(M$1:M26)) -> 0 | N27: =IF((+H27-M27)<>0,H27-M27,IF(H27>0,"0",""))
H29: =IF(B29<>"計",ROUNDDOWN(E29*G29,0),SUM(H$1:H28)) -> 0 | M29: =IF(B29<>"計",ROUNDDOWN(E29*G29,0),SUM(M$1:M28)) -> 0 | N29: =IF((+H29-M29)<>0,H29-M29,IF(H29>0,"0",""))
H31: =IF(B31<>"計",ROUNDDOWN(E31*G31,0),SUM(H$1:H30)) -> 0 | M31: =IF(B31<>"計",ROUNDDOWN(E31*G31,0),SUM(M$1:M30)) -> 0 | N31: =IF((+H31-M31)<>0,H31-M31,IF(H31>0,"0",""))
H33: =IF(B33<>"計",ROUNDDOWN(E33*G33,0),SUM(H$1:H32)) -> 0 | M33: =IF(B33<>"計",ROUNDDOWN(E33*G33,0),SUM(M$1:M32)) -> 0 | N33: =IF((+H33-M33)<>0,H33-M33,IF(H33>0,"0",""))
B35: 計 | H35: =IF(B35<>"計",ROUNDDOWN(E35*G35,0),SUM(H$1:H34)) -> 0 | M35: =IF(B35<>"計",ROUNDDOWN(E35*G35,0),SUM(M$1:M34)) -> 0 | N35: =IF((+H35-M35)<>0,H35-M35,IF(H35>0,"0",""))
H37: =IF(B37<>"計",ROUNDDOWN(E37*G37,0),SUM(H$1:H36)) -> 0 | M37: =IF(B37<>"計",ROUNDDOWN(E37*G37,0),SUM(M$1:M36)) -> 0 | N37: =IF((+H37-M37)<>0,H37-M37,IF(H37>0,"0",""))
H39: =IF(B39<>"計",ROUNDDOWN(E39*G39,0),SUM(H$1:H38)) -> 0 | M39: =IF(B39<>"計",ROUNDDOWN(E39*G39,0),SUM(M$1:M38)) -> 0 | N39: =IF((+H39-M39)<>0,H39-M39,IF(H39>0,"0",""))
H41: =IF(B41<>"計",ROUNDDOWN(E41*G41,0),SUM(H$1:H40)) -> 0 | M41: =IF(B41<>"計",ROUNDDOWN(E41*G41,0),SUM(M$1:M40)) -> 0 | N41: =IF((+H41-M41)<>0,H41-M41,IF(H41>0,"0",""))
H43: =IF(B43<>"計",ROUNDDOWN(E43*G43,0),SUM(H$1:H42)) -> 0 | M43: =IF(B43<>"計",ROUNDDOWN(E43*G43,0),SUM(M$1:M42)) -> 0 | N43: =IF((+H43-M43)<>0,H43-M43,IF(H43>0,"0",""))
H45: =IF(B45<>"計",ROUNDDOWN(E45*G45,0),SUM(H$1:H44)) -> 0 | M45: =IF(B45<>"計",ROUNDDOWN(E45*G45,0),SUM(M$1:M44)) -> 0 | N45: =IF((+H45-M45)<>0,H45-M45,IF(H45>0,"0",""))
H47: =IF(B47<>"計",ROUNDDOWN(E47*G47,0),SUM(H$1:H46)) -> 0 | M47: =IF(B47<>"計",ROUNDDOWN(E47*G47,0),SUM(M$1:M46)) -> 0 | N47: =IF((+H47-M47)<>0,H47-M47,IF(H47>0,"0",""))
H49: =IF(B49<>"計",ROUNDDOWN(E49*G49,0),SUM(H$1:H48)) -> 0 | M49: =IF(B49<>"計",ROUNDDOWN(E49*G49,0),SUM(M$1:M48)) -> 0 | N49: =IF((+H49-M49)<>0,H49-M49,IF(H49>0,"0",""))
H51: =IF(B51<>"計",ROUNDDOWN(E51*G51,0),SUM(H$1:H50)) -> 0 | M51: =IF(B51<>"計",ROUNDDOWN(E51*G51,0),SUM(M$1:M50)) -> 0 | N51: =IF((+H51-M51)<>0,H51-M51,IF(H51>0,"0",""))
H53: =IF(B53<>"計",ROUNDDOWN(E53*G53,0),SUM(H$1:H52)) -> 0 | M53: =IF(B53<>"計",ROUNDDOWN(E53*G53,0),SUM(M$1:M52)) -> 0 | N53: =IF((+H53-M53)<>0,H53-M53,IF(H53>0,"0",""))
H55: =IF(B55<>"計",ROUNDDOWN(E55*G55,0),SUM(H$1:H54)) -> 0 | M55: =IF(B55<>"計",ROUNDDOWN(E55*G55,0),SUM(M$1:M54)) -> 0 | N55: =IF((+H55-M55)<>0,H55-M55,IF(H55>0,"0",""))
H57: =IF(B57<>"計",ROUNDDOWN(E57*G57,0),SUM(H$1:H56)) -> 0 | M57: =IF(B57<>"計",ROUNDDOWN(E57*G57,0),SUM(M$1:M56)) -> 0 | N57: =IF((+H57-M57)<>0,H57-M57,IF(H57>0,"0",""))
H59: =IF(B59<>"計",ROUNDDOWN(E59*G59,0),SUM(H$1:H58)) -> 0 | M59: =IF(B59<>"計",ROUNDDOWN(E59*G59,0),SUM(M$1:M58)) -> 0 | N59: =IF((+H59-M59)<>0,H59-M59,IF(H59>0,"0",""))
... H73: =IF(B73<>"計",ROUNDDOWN(E73*G73,0),SUM(H$1:H72)) -> 0 | M73: =IF(B73<>"計",ROUNDDOWN(E73*G73,0),SUM(M$1:M72)) -> 0 | N73: =IF((+H73-M73)<>0,H73-M73,IF(H73>0,"0",""))
H191: =ROUNDDOWN(E191*G191,0) -> 0
H193: =ROUNDDOWN(E193*G193,0) -> 0
H195: =ROUNDDOWN(E195*G195,0) -> 0
H197: =ROUNDDOWN(E197*G197,0) -> 0
H199: =ROUNDDOWN(E199*G199,0) -> 0
H201: =ROUNDDOWN(E201*G201,0) -> 0
H203: =ROUNDDOWN(E203*G203,0) -> 0
H205: =ROUNDDOWN(E205*G205,0) -> 0
H207: =ROUNDDOWN(E207*G207,0) -> 0
H209: =ROUNDDOWN(E209*G209,0) -> 0
H211: =ROUNDDOWN(E211*G211,0) -> 0
H213: =ROUNDDOWN(E213*G213,0) -> 0
... H225: =ROUNDDOWN(E225*G225,0) -> 0

Sheet 衛生内訳
B1: 名 称 | C1: 摘 要 | E1: 数 量 | F1: 単位 | G1: 単 価 | H1: 金 額 | I1: 備 考 | M1: 検算欄 | N1: 検算差額
M2: 下以降一式と合計は各自設定 | N2: 差額が0であればOK
H3: =IF(B3<>"計",ROUNDDOWN(E3*G3,0),SUM(H$1:H2)) -> 0 | M3: =IF(B3<>"計",ROUNDDOWN(E3*G3,0),SUM(M$1:M2)) -> 0 | N3: =IF((+H3-M3)<>0,H3-M3,IF(H3>0,"0",""))
H5: =IF(B5<>"計",ROUNDDOWN(E5*G5,0),SUM(H$1:H4)) -> 0 | M5: =IF(B5<>"計",ROUNDDOWN(E5*G5,0),SUM(M$1:M4)) -> 0 | N5: =IF((+H5-M5)<>0,H5-M5,IF(H5>0,"0",""))
H7: =IF(B7<>"計",ROUNDDOWN(E7*G7,0),SUM(H$1:H6)) -> 0 | M7: =IF(B7<>"計",ROUNDDOWN(E7*G7,0),SUM(M$1:M6)) -> 0 | N7: =IF((+H7-M7)<>0,H7-M7,IF(H7>0,"0",""))
H9: =IF(B9<>"計",ROUNDDOWN(E9*G9,0),SUM(H$1:H8)) -> 0 | M9: =IF(B9<>"計",ROUNDDOWN(E9*G9,0),SUM(M$1:M8)) -> 0 | N9: =IF((+H9-M9)<>0,H9-M9,IF(H9>0,"0",""))
H11: =IF(B11<>"計",ROUNDDOWN(E11*G11,0),SUM(H$1:H10)) -> 0 | M11: =IF(B11<>"計",ROUNDDOWN(E11*G11,0),SUM(M$1:M10)) -> 0 | N11: =IF((+H11-M11)<>0,H11-M11,IF(H11>0,"0",""))
H13: =IF(B13<>"計",ROUNDDOWN(E13*G13,0),SUM(H$1:H12)) -> 0 | M13: =IF(B13<>"計",ROUNDDOWN(E13*G13,0),SUM(M$1:M12)) -> 0 | N13: =IF((+H13-M13)<>0,H13-M13,IF(H13>0,"0",""))
H15: =IF(B15<>"計",ROUNDDOWN(E15*G15,0),SUM(H$1:H14)) -> 0 | M15: =IF(B15<>"計",ROUNDDOWN(E15*G15,0),SUM(M$1:M14)) -> 0 | N15: =IF((+H15-M15)<>0,H15-M15,IF(H15>0,"0",""))
H17: =IF(B17<>"計",ROUNDDOWN(E17*G17,0),SUM(H$1:H16)) -> 0 | M17: =IF(B17<>"計",ROUNDDOWN(E17*G17,0),SUM(M$1:M16)) -> 0 | N17: =IF((+H17-M17)<>0,H17-M17,IF(H17>0,"0",""))
H19: =IF(B19<>"計",ROUNDDOWN(E19*G19,0),SUM(H$1:H18)) -> 0 | M19: =IF(B19<>"計",ROUNDDOWN(E19*G19,0),SUM(M$1:M18)) -> 0 | N19: =IF((+H19-M19)<>0,H19-M19,IF(H19>0,"0",""))
H21: =IF(B21<>"計",ROUNDDOWN(E21*G21,0),SUM(H$1:H20)) -> 0 | M21: =IF(B21<>"計",ROUNDDOWN(E21*G21,0),SUM(M$1:M20)) -> 0 | N21: =IF((+H21-M21)<>0,H21-M21,IF(H21>0,"0",""))
H23: =IF(B23<>"計",ROUNDDOWN(E23*G23,0),SUM(H$1:H22)) -> 0 | M23: =IF(B23<>"計",ROUNDDOWN(E23*G23,0),SUM(M$1:M22)) -> 0 | N23: =IF((+H23-M23)<>0,H23-M23,IF(H23>0,"0",""))
H25: =IF(B25<>"計",ROUNDDOWN(E25*G25,0),SUM(H$1:H24)) -> 0 | M25: =IF(B25<>"計",ROUNDDOWN(E25*G25,0),SUM(M$1:M24)) -> 0 | N25: =IF((+H25-M25)<>0,H25-M25,IF(H25>0,"0",""))
... H181: =IF(B181<>"計",ROUNDDOWN(E181*G181,0),SUM(H$1:H180)) -> 0 | M181: =IF(B181<>"計",ROUNDDOWN(E181*G181,0),SUM(M$1:M180)) -> 0 | N181: =IF((+H181-M181)<>0,H181-M181,IF(H181>0,"0",""))
H183: =ROUNDDOWN(E183*G183,0) -> 0
H185: =ROUNDDOWN(E185*G185,0) -> 0
H187: =ROUNDDOWN(E187*G187,0) -> 0
H189: =ROUNDDOWN(E189*G189,0) -> 0
H191: =ROUNDDOWN(E191*G191,0) -> 0
H193: =ROUNDDOWN(E193*G193,0) -> 0
H195: =ROUNDDOWN(E195*G195,0) -> 0
H197: =ROUNDDOWN(E197*G197,0) -> 0
H199: =ROUNDDOWN(E199*G199,0) -> 0
H201: =ROUNDDOWN(E201*G201,0) -> 0
H203: =ROUNDDOWN(E203*G203,0) -> 0
H205: =ROUNDDOWN(E205*G205,0) -> 0
... H333: =ROUNDDOWN(E333*G333,0) -> 0

Sheet （5）昇降機　説明
B1: 名 称 | C1: 摘 要 | E1: 数 量 | F1: 単位 | G1: 単 価 | H1: 金 額 | I1: 備 考 | M1: 検算欄 | N1: 検算差額
M2: 下以降一式と合計は各自設定 | N2: 差額が0であればOK
A3: （5) | B3: 昇降機設備工事 | H3: =IF(B3<>"計",ROUNDDOWN(E3*G3,0),SUM(H$1:H2)) -> 0 | M3: =IF(B3<>"計",ROUNDDOWN(E3*G3,0),SUM(M$1:M2)) -> 0 | N3: =IF((+H3-M3)<>0,H3-M3,IF(H3>0,"0",""))
H5: =IF(B5<>"計",ROUNDDOWN(E5*G5,0),SUM(H$1:H4)) -> 0 | M5: =IF(B5<>"計",ROUNDDOWN(E5*G5,0),SUM(M$1:M4)) -> 0 | N5: =IF((+H5-M5)<>0,H5-M5,IF(H5>0,"0",""))
A7: No1 | B7: 乗用エレベーター | C7: 積載荷重 1,600kg | E7: 1 | F7: 台 | H7: =IF(B7<>"計",ROUNDDOWN(E7*G7,0),SUM(H$1:H6)) -> 0 | M7: =IF(B7<>"計",ROUNDDOWN(E7*G7,0),SUM(M$1:M6)) -> 0 | N7: =IF((+H7-M7)<>0,H7-M7,IF(H7>0,"0",""))
C8: 定員 24名
C9: 速度 150m/分 | H9: =IF(B9<>"計",ROUNDDOWN(E9*G9,0),SUM(H$1:H8)) -> 0 | M9: =IF(B9<>"計",ROUNDDOWN(E9*G9,0),SUM(M$1:M8)) -> 0 | N9: =IF((+H9-M9)<>0,H9-M9,IF(H9>0,"0",""))
C10: 停止個所 17個所(B1～16階)
C11: 地震時管制運転(Ｐ波ｾﾝｻ-) | H11: =IF(B11<>"計",ROUNDDOWN(E11*G11,0),SUM(H$1:H10)) -> 0 | M11: =IF(B11<>"計",ROUNDDOWN(E11*G11,0),SUM(M$1:M10)) -> 0 | N11: =IF((+H11-M11)<>0,H11-M11,IF(H11>0,"0",""))
C12: 火災時管制運転
C13: 停電時自動着床装置 | E13: 1 | F13: 台 | H13: =IF(B13<>"計",ROUNDDOWN(E13*G13,0),SUM(H$1:H12)) -> 0 | M13: =IF(B13<>"計",ROUNDDOWN(E13*G13,0),SUM(M$1:M12)) -> 0 | N13: =IF((+H13-M13)<>0,H13-M13,IF(H13>0,"0",""))
C14: 三方枠 大枠ｽﾃﾝﾚｽHL仕上
C15: ｸ-ﾗ-付 | H15: =IF(B15<>"計",ROUNDDOWN(E15*G15,0),SUM(H$1:H14)) -> 0 | M15: =IF(B15<>"計",ROUNDDOWN(E15*G15,0),SUM(M$1:M14)) -> 0 | N15: =IF((+H15-M15)<>0,H15-M15,IF(H15>0,"0",""))
H17: =IF(B17<>"計",ROUNDDOWN(E17*G17,0),SUM(H$1:H16)) -> 0 | M17: =IF(B17<>"計",ROUNDDOWN(E17*G17,0),SUM(M$1:M16)) -> 0 | N17: =IF((+H17-M17)<>0,H17-M17,IF(H17>0,"0",""))
A19: No2 | B19: 人荷兼非常用エレベーター | C19: 積載荷重 1,900kg | H19: =IF(B19<>"計",ROUNDDOWN(E19*G19,0),SUM(H$1:H18)) -> 0 | M19: =IF(B19<>"計",ROUNDDOWN(E19*G19,0),SUM(M$1:M18)) -> 0 | N19: =IF((+H19-M19)<>0,H19-M19,IF(H19>0,"0",""))
C20: 定員 29名
C21: 速度 105m/分 | H21: =IF(B21<>"計",ROUNDDOWN(E21*G21,0),SUM(H$1:H20)) -> 0 | M21: =IF(B21<>"計",ROUNDDOWN(E21*G21,0),SUM(M$1:M20)) -> 0 | N21: =IF((+H21-M21)<>0,H21-M21,IF(H21>0,"0",""))
C22: 停止個所 18個所(B2～16階)
C23: 地震時管制運転(Ｐ波ｾﾝｻ-) | H23: =IF(B23<>"計",ROUNDDOWN(E23*G23,0),SUM(H$1:H22)) -> 0 | M23: =IF(B23<>"計",ROUNDDOWN(E23*G23,0),SUM(M$1:M22)) -> 0 | N23: =IF((+H23-M23)<>0,H23-M23,IF(H23>0,"0",""))
C24: 三方枠 大枠ｽﾃﾝﾚｽHL仕上
C25: 車椅子仕様付 | H25: =IF(B25<>"計",ROUNDDOWN(E25*G25,0),SUM(H$1:H24)) -> 0 | M25: =IF(B25<>"計",ROUNDDOWN(E25*G25,0),SUM(M$1:M24)) -> 0 | N25: =IF((+H25-M25)<>0,H25-M25,IF(H25>0,"0",""))
H27: =IF(B27<>"計",ROUNDDOWN(E27*G27,0),SUM(H$1:H26)) -> 0 | M27: =IF(B27<>"計",ROUNDDOWN(E27*G27,0),SUM(M$1:M26)) -> 0 | N27: =IF((+H27-M27)<>0,H27-M27,IF(H27>0,"0",""))
B29: 監視盤 | E29: 1 | F29: 式 | H29: =IF(B29<>"計",ROUNDDOWN(E29*G29,0),SUM(H$1:H28)) -> 0 | M29: =IF(B29<>"計",ROUNDDOWN(E29*G29,0),SUM(M$1:M28)) -> 0 | N29: =IF((+H29-M29)<>0,H29-M29,IF(H29>0,"0",""))
H31: =IF(B31<>"計",ROUNDDOWN(E31*G31,0),SUM(H$1:H30)) -> 0 | M31: =IF(B31<>"計",ROUNDDOWN(E31*G31,0),SUM(M$1:M30)) -> 0 | N31: =IF((+H31-M31)<>0,H31-M31,IF(H31>0,"0",""))
H33: =IF(B33<>"計",ROUNDDOWN(E33*G33,0),SUM(H$1:H32)) -> 0 | M33: =IF(B33<>"計",ROUNDDOWN(E33*G33,0),SUM(M$1:M32)) -> 0 | N33: =IF((+H33-M33)<>0,H33-M33,IF(H33>0,"0",""))
B35: 計 | H35: =IF(B35<>"計",ROUNDDOWN(E35*G35,0),SUM(H$1:H34)) -> 0 | M35: =IF(B35<>"計",ROUNDDOWN(E35*G35,0),SUM(M$1:M34)) -> 0 | N35: =IF((+H35-M35)<>0,H35-M35,IF(H35>0,"0",""))
H37: =IF(B37<>"計",ROUNDDOWN(E37*G37,0),SUM(H$1:H36)) -> 0 | M37: =IF(B37<>"計",ROUNDDOWN(E37*G37,0),SUM(M$1:M36)) -> 0 | N37: =IF((+H37-M37)<>0,H37-M37,IF(H37>0,"0",""))
H39: =IF(B39<>"計",ROUNDDOWN(E39*G39,0),SUM(H$1:H38)) -> 0 | M39: =IF(B39<>"計",ROUNDDOWN(E39*G39,0),SUM(M$1:M38)) -> 0 | N39: =IF((+H39-M39)<>0,H39-M39,IF(H39>0,"0",""))
H41: =IF(B41<>"計",ROUNDDOWN(E41*G41,0),SUM(H$1:H40)) -> 0 | M41: =IF(B41<>"計",ROUNDDOWN(E41*G41,0),SUM(M$1:M40)) -> 0 | N41: =IF((+H41-M41)<>0,H41-M41,IF(H41>0,"0",""))
H43: =IF(B43<>"計",ROUNDDOWN(E43*G43,0),SUM(H$1:H42)) -> 0 | M43: =IF(B43<>"計",ROUNDDOWN(E43*G43,0),SUM(M$1:M42)) -> 0 | N43: =IF((+H43-M43)<>0,H43-M43,IF(H43>0,"0",""))
H45: =IF(B45<>"計",ROUNDDOWN(E45*G45,0),SUM(H$1:H44)) -> 0 | M45: =IF(B45<>"計",ROUNDDOWN(E45*G45,0),SUM(M$1:M44)) -> 0 | N45: =IF((+H45-M45)<>0,H45-M45,IF(H45>0,"0",""))
H47: =IF(B47<>"計",ROUNDDOWN(E47*G47,0),SUM(H$1:H46)) -> 0 | M47: =IF(B47<>"計",ROUNDDOWN(E47*G47,0),SUM(M$1:M46)) -> 0 | N47: =IF((+H47-M47)<>0,H47-M47,IF(H47>0,"0",""))
H49: =IF(B49<>"計",ROUNDDOWN(E49*G49,0),SUM(H$1:H48)) -> 0 | M49: =IF(B49<>"計",ROUNDDOWN(E49*G49,0),SUM(M$1:M48)) -> 0 | N49: =IF((+H49-M49)<>0,H49-M49,IF(H49>0,"0",""))
H51: =IF(B51<>"計",ROUNDDOWN(E51*G51,0),SUM(H$1:H50)) -> 0 | M51: =IF(B51<>"計",ROUNDDOWN(E51*G51,0),SUM(M$1:M50)) -> 0 | N51: =IF((+H51-M51)<>0,H51-M51,IF(H51>0,"0",""))
H53: =IF(B53<>"計",ROUNDDOWN(E53*G53,0),SUM(H$1:H52)) -> 0 | M53: =IF(B53<>"計",ROUNDDOWN(E53*G53,0),SUM(M$1:M52)) -> 0 | N53: =IF((+H53-M53)<>0,H53-M53,IF(H53>0,"0",""))
H55: =IF(B55<>"計",ROUNDDOWN(E55*G55,0),SUM(H$1:H54)) -> 0 | M55: =IF(B55<>"計",ROUNDDOWN(E55*G55,0),SUM(M$1:M54)) -> 0 | N55: =IF((+H55-M55)<>0,H55-M55,IF(H55>0,"0",""))
H57: =IF(B57<>"計",ROUNDDOWN(E57*G57,0),SUM(H$1:H56)) -> 0 | M57: =IF(B57<>"計",ROUNDDOWN(E57*G57,0),SUM(M$1:M56)) -> 0 | N57: =IF((+H57-M57)<>0,H57-M57,IF(H57>0,"0",""))
H59: =IF(B59<>"計",ROUNDDOWN(E59*G59,0),SUM(H$1:H58)) -> 0 | M59: =IF(B59<>"計",ROUNDDOWN(E59*G59,0),SUM(M$1:M58)) -> 0 | N59: =IF((+H59-M59)<>0,H59-M59,IF(H59>0,"0",""))
... H73: =IF(B73<>"計",ROUNDDOWN(E73*G73,0),SUM(H$1:H72)) -> 0 | M73: =IF(B73<>"計",ROUNDDOWN(E73*G73,0),SUM(M$1:M72)) -> 0 | N73: =IF((+H73-M73)<>0,H73-M73,IF(H73>0,"0",""))
H75: =ROUNDDOWN(E75*G75,0) -> 0
H77: =ROUNDDOWN(E77*G77,0) -> 0
H79: =ROUNDDOWN(E79*G79,0) -> 0
H81: =ROUNDDOWN(E81*G81,0) -> 0
H83: =ROUNDDOWN(E83*G83,0) -> 0
H85: =ROUNDDOWN(E85*G85,0) -> 0
H87: =ROUNDDOWN(E87*G87,0) -> 0
H89: =ROUNDDOWN(E89*G89,0) -> 0
H91: =ROUNDDOWN(E91*G91,0) -> 0
H93: =ROUNDDOWN(E93*G93,0) -> 0
H95: =ROUNDDOWN(E95*G95,0) -> 0
H97: =ROUNDDOWN(E97*G97,0) -> 0
... H119: =ROUNDDOWN(E119*G119,0) -> 0

Sheet （6）機械　説明
B1: 名 称 | C1: 摘 要 | E1: 数 量 | F1: 単位 | G1: 単 価 | H1: 金 額 | I1: 備 考 | M1: 検算欄 | N1: 検算差額
M2: 下以降一式と合計は各自設定 | N2: 差額が0であればOK
A3: （6) | B3: 機械駐車設備工事 | H3: =IF(B3<>"計",ROUNDDOWN(E3*G3,0),SUM(H$1:H2)) -> 0 | M3: =IF(B3<>"計",ROUNDDOWN(E3*G3,0),SUM(M$1:M2)) -> 0 | N3: =IF((+H3-M3)<>0,H3-M3,IF(H3>0,"0",""))
H5: =IF(B5<>"計",ROUNDDOWN(E5*G5,0),SUM(H$1:H4)) -> 0 | M5: =IF(B5<>"計",ROUNDDOWN(E5*G5,0),SUM(M$1:M4)) -> 0 | N5: =IF((+H5-M5)<>0,H5-M5,IF(H5>0,"0",""))
B7: 機械式駐車設備 | C7: 昇降・横行二段式 | E7: 1 | F7: 式 | H7: =IF(B7<>"計",ROUNDDOWN(E7*G7,0),SUM(H$1:H6)) -> 0 | M7: =IF(B7<>"計",ROUNDDOWN(E7*G7,0),SUM(M$1:M6)) -> 0 | N7: =IF((+H7-M7)<>0,H7-M7,IF(H7>0,"0",""))
C8: 小型車 16台収容
H9: =IF(B9<>"計",ROUNDDOWN(E9*G9,0),SUM(H$1:H8)) -> 0 | M9: =IF(B9<>"計",ROUNDDOWN(E9*G9,0),SUM(M$1:M8)) -> 0 | N9: =IF((+H9-M9)<>0,H9-M9,IF(H9>0,"0",""))
B11: 機械式駐車設備 | C11: 昇降・横行二段式 | E11: 1 | F11: 式 | H11: =IF(B11<>"計",ROUNDDOWN(E11*G11,0),SUM(H$1:H10)) -> 0 | M11: =IF(B11<>"計",ROUNDDOWN(E11*G11,0),SUM(M$1:M10)) -> 0 | N11: =IF((+H11-M11)<>0,H11-M11,IF(H11>0,"0",""))
C12: 中型車 33台収容
H13: =IF(B13<>"計",ROUNDDOWN(E13*G13,0),SUM(H$1:H12)) -> 0 | M13: =IF(B13<>"計",ROUNDDOWN(E13*G13,0),SUM(M$1:M12)) -> 0 | N13: =IF((+H13-M13)<>0,H13-M13,IF(H13>0,"0",""))
H15: =IF(B15<>"計",ROUNDDOWN(E15*G15,0),SUM(H$1:H14)) -> 0 | M15: =IF(B15<>"計",ROUNDDOWN(E15*G15,0),SUM(M$1:M14)) -> 0 | N15: =IF((+H15-M15)<>0,H15-M15,IF(H15>0,"0",""))
H17: =IF(B17<>"計",ROUNDDOWN(E17*G17,0),SUM(H$1:H16)) -> 0 | M17: =IF(B17<>"計",ROUNDDOWN(E17*G17,0),SUM(M$1:M16)) -> 0 | N17: =IF((+H17-M17)<>0,H17-M17,IF(H17>0,"0",""))
H19: =IF(B19<>"計",ROUNDDOWN(E19*G19,0),SUM(H$1:H18)) -> 0 | M19: =IF(B19<>"計",ROUNDDOWN(E19*G19,0),SUM(M$1:M18)) -> 0 | N19: =IF((+H19-M19)<>0,H19-M19,IF(H19>0,"0",""))
H21: =IF(B21<>"計",ROUNDDOWN(E21*G21,0),SUM(H$1:H20)) -> 0 | M21: =IF(B21<>"計",ROUNDDOWN(E21*G21,0),SUM(M$1:M20)) -> 0 | N21: =IF((+H21-M21)<>0,H21-M21,IF(H21>0,"0",""))
H23: =IF(B23<>"計",ROUNDDOWN(E23*G23,0),SUM(H$1:H22)) -> 0 | M23: =IF(B23<>"計",ROUNDDOWN(E23*G23,0),SUM(M$1:M22)) -> 0 | N23: =IF((+H23-M23)<>0,H23-M23,IF(H23>0,"0",""))
H25: =IF(B25<>"計",ROUNDDOWN(E25*G25,0),SUM(H$1:H24)) -> 0 | M25: =IF(B25<>"計",ROUNDDOWN(E25*G25,0),SUM(M$1:M24)) -> 0 | N25: =IF((+H25-M25)<>0,H25-M25,IF(H25>0,"0",""))
H27: =IF(B27<>"計",ROUNDDOWN(E27*G27,0),SUM(H$1:H26)) -> 0 | M27: =IF(B27<>"計",ROUNDDOWN(E27*G27,0),SUM(M$1:M26)) -> 0 | N27: =IF((+H27-M27)<>0,H27-M27,IF(H27>0,"0",""))
H29: =IF(B29<>"計",ROUNDDOWN(E29*G29,0),SUM(H$1:H28)) -> 0 | M29: =IF(B29<>"計",ROUNDDOWN(E29*G29,0),SUM(M$1:M28)) -> 0 | N29: =IF((+H29-M29)<>0,H29-M29,IF(H29>0,"0",""))
H31: =IF(B31<>"計",ROUNDDOWN(E31*G31,0),SUM(H$1:H30)) -> 0 | M31: =IF(B31<>"計",ROUNDDOWN(E31*G31,0),SUM(M$1:M30)) -> 0 | N31: =IF((+H31-M31)<>0,H31-M31,IF(H31>0,"0",""))
H33: =IF(B33<>"計",ROUNDDOWN(E33*G33,0),SUM(H$1:H32)) -> 0 | M33: =IF(B33<>"計",ROUNDDOWN(E33*G33,0),SUM(M$1:M32)) -> 0 | N33: =IF((+H33-M33)<>0,H33-M33,IF(H33>0,"0",""))
B35: 計 | H35: =IF(B35<>"計",ROUNDDOWN(E35*G35,0),SUM(H$1:H34)) -> 0 | M35: =IF(B35<>"計",ROUNDDOWN(E35*G35,0),SUM(M$1:M34)) -> 0 | N35: =IF((+H35-M35)<>0,H35-M35,IF(H35>0,"0",""))
H37: =IF(B37<>"計",ROUNDDOWN(E37*G37,0),SUM(H$1:H36)) -> 0 | M37: =IF(B37<>"計",ROUNDDOWN(E37*G37,0),SUM(M$1:M36)) -> 0 | N37: =IF((+H37-M37)<>0,H37-M37,IF(H37>0,"0",""))
H189: =ROUNDDOWN(E189*G189,0) -> 0
H191: =ROUNDDOWN(E191*G191,0) -> 0
H193: =ROUNDDOWN(E193*G193,0) -> 0
H195: =ROUNDDOWN(E195*G195,0) -> 0
H197: =ROUNDDOWN(E197*G197,0) -> 0
H199: =ROUNDDOWN(E199*G199,0) -> 0
H201: =ROUNDDOWN(E201*G201,0) -> 0
H203: =ROUNDDOWN(E203*G203,0) -> 0
H205: =ROUNDDOWN(E205*G205,0) -> 0
H207: =ROUNDDOWN(E207*G207,0) -> 0
H209: =ROUNDDOWN(E209*G209,0) -> 0
H211: =ROUNDDOWN(E211*G211,0) -> 0
... H221: =ROUNDDOWN(E221*G221,0) -> 0

Sheet （7） 屋外 
B1: 名 称 | C1: 摘 要 | E1: 数 量 | F1: 単位 | G1: 単 価 | H1: 金 額 | I1: 備 考 | M1: 検算欄 | N1: 検算差額
M2: 下以降一式と合計は各自設定 | N2: 差額が0であればOK
A3: （7) | B3: 屋外施設工事 | H3: =IF(B3<>"計",ROUNDDOWN(E3*G3,0),SUM(H$1:H2)) -> 0 | M3: =IF(B3<>"計",ROUNDDOWN(E3*G3,0),SUM(M$1:M2)) -> 0 | N3: =IF((+H3-M3)<>0,H3-M3,IF(H3>0,"0",""))
H5: =IF(B5<>"計",ROUNDDOWN(E5*G5,0),SUM(H$1:H4)) -> 0 | M5: =IF(B5<>"計",ROUNDDOWN(E5*G5,0),SUM(M$1:M4)) -> 0 | N5: =IF((+H5-M5)<>0,H5-M5,IF(H5>0,"0",""))
A7: 1. | B7: 直接仮設 | E7: 1 | F7: 式 | H7: =IF(B7<>"計",ROUNDDOWN(E7*G7,0),SUM(H$1:H6)) -> 0 | M7: =IF(B7<>"計",ROUNDDOWN(E7*G7,0),SUM(M$1:M6)) -> 0 | N7: =IF((+H7-M7)<>0,H7-M7,IF(H7>0,"0",""))
A9: 2. | B9: 舗装 | E9: 1 | F9: 式 | H9: =IF(B9<>"計",ROUNDDOWN(E9*G9,0),SUM(H$1:H8)) -> 0 | M9: =IF(B9<>"計",ROUNDDOWN(E9*G9,0),SUM(M$1:M8)) -> 0 | N9: =IF((+H9-M9)<>0,H9-M9,IF(H9>0,"0",""))
A11: 3. | B11: 屋外排水設備 | E11: 1 | F11: 式 | H11: =IF(B11<>"計",ROUNDDOWN(E11*G11,0),SUM(H$1:H10)) -> 0 | M11: =IF(B11<>"計",ROUNDDOWN(E11*G11,0),SUM(M$1:M10)) -> 0 | N11: =IF((+H11-M11)<>0,H11-M11,IF(H11>0,"0",""))
A13: 4. | B13: 造園 | E13: 1 | F13: 式 | H13: =IF(B13<>"計",ROUNDDOWN(E13*G13,0),SUM(H$1:H12)) -> 0 | M13: =IF(B13<>"計",ROUNDDOWN(E13*G13,0),SUM(M$1:M12)) -> 0 | N13: =IF((+H13-M13)<>0,H13-M13,IF(H13>0,"0",""))
A15: 5. | B15: 囲障 | E15: 1 | F15: 式 | H15: =IF(B15<>"計",ROUNDDOWN(E15*G15,0),SUM(H$1:H14)) -> 0 | M15: =IF(B15<>"計",ROUNDDOWN(E15*G15,0),SUM(M$1:M14)) -> 0 | N15: =IF((+H15-M15)<>0,H15-M15,IF(H15>0,"0",""))
A17: 6. | B17: 外部工作物 | E17: 1 | F17: 式 | H17: =IF(B17<>"計",ROUNDDOWN(E17*G17,0),SUM(H$1:H16)) -> 0 | M17: =IF(B17<>"計",ROUNDDOWN(E17*G17,0),SUM(M$1:M16)) -> 0 | N17: =IF((+H17-M17)<>0,H17-M17,IF(H17>0,"0",""))
H19: =IF(B19<>"計",ROUNDDOWN(E19*G19,0),SUM(H$1:H18)) -> 0 | M19: =IF(B19<>"計",ROUNDDOWN(E19*G19,0),SUM(M$1:M18)) -> 0 | N19: =IF((+H19-M19)<>0,H19-M19,IF(H19>0,"0",""))
H21: =IF(B21<>"計",ROUNDDOWN(E21*G21,0),SUM(H$1:H20)) -> 0 | M21: =IF(B21<>"計",ROUNDDOWN(E21*G21,0),SUM(M$1:M20)) -> 0 | N21: =IF((+H21-M21)<>0,H21-M21,IF(H21>0,"0",""))
H23: =IF(B23<>"計",ROUNDDOWN(E23*G23,0),SUM(H$1:H22)) -> 0 | M23: =IF(B23<>"計",ROUNDDOWN(E23*G23,0),SUM(M$1:M22)) -> 0 | N23: =IF((+H23-M23)<>0,H23-M23,IF(H23>0,"0",""))
H25: =IF(B25<>"計",ROUNDDOWN(E25*G25,0),SUM(H$1:H24)) -> 0 | M25: =IF(B25<>"計",ROUNDDOWN(E25*G25,0),SUM(M$1:M24)) -> 0 | N25: =IF((+H25-M25)<>0,H25-M25,IF(H25>0,"0",""))
H27: =IF(B27<>"計",ROUNDDOWN(E27*G27,0),SUM(H$1:H26)) -> 0 | M27: =IF(B27<>"計",ROUNDDOWN(E27*G27,0),SUM(M$1:M26)) -> 0 | N27: =IF((+H27-M27)<>0,H27-M27,IF(H27>0,"0",""))
H29: =IF(B29<>"計",ROUNDDOWN(E29*G29,0),SUM(H$1:H28)) -> 0 | M29: =IF(B29<>"計",ROUNDDOWN(E29*G29,0),SUM(M$1:M28)) -> 0 | N29: =IF((+H29-M29)<>0,H29-M29,IF(H29>0,"0",""))
H31: =IF(B31<>"計",ROUNDDOWN(E31*G31,0),SUM(H$1:H30)) -> 0 | M31: =IF(B31<>"計",ROUNDDOWN(E31*G31,0),SUM(M$1:M30)) -> 0 | N31: =IF((+H31-M31)<>0,H31-M31,IF(H31>0,"0",""))
H33: =IF(B33<>"計",ROUNDDOWN(E33*G33,0),SUM(H$1:H32)) -> 0 | M33: =IF(B33<>"計",ROUNDDOWN(E33*G33,0),SUM(M$1:M32)) -> 0 | N33: =IF((+H33-M33)<>0,H33-M33,IF(H33>0,"0",""))
B35: 計 | H35: =IF(B35<>"計",ROUNDDOWN(E35*G35,0),SUM(H$1:H34)) -> 0 | M35: =IF(B35<>"計",ROUNDDOWN(E35*G35,0),SUM(M$1:M34)) -> 0 | N35: =IF((+H35-M35)<>0,H35-M35,IF(H35>0,"0",""))
H37: =IF(B37<>"計",ROUNDDOWN(E37*G37,0),SUM(H$1:H36)) -> 0 | M37: =IF(B37<>"計",ROUNDDOWN(E37*G37,0),SUM(M$1:M36)) -> 0 | N37: =IF((+H37-M37)<>0,H37-M37,IF(H37>0,"0",""))
H39: =ROUNDDOWN(E39*G39,0) -> 0
H41: =ROUNDDOWN(E41*G41,0) -> 0
H43: =ROUNDDOWN(E43*G43,0) -> 0
H45: =ROUNDDOWN(E45*G45,0) -> 0
H47: =ROUNDDOWN(E47*G47,0) -> 0
H49: =ROUNDDOWN(E49*G49,0) -> 0
H51: =ROUNDDOWN(E51*G51,0) -> 0
H53: =ROUNDDOWN(E53*G53,0) -> 0
H55: =ROUNDDOWN(E55*G55,0) -> 0
H57: =ROUNDDOWN(E57*G57,0) -> 0
H59: =ROUNDDOWN(E59*G59,0) -> 0
H61: =ROUNDDOWN(E61*G61,0) -> 0
... H191: =ROUNDDOWN(E191*G191,0) -> 0

Sheet 屋外内訳 
B1: 名 称 | C1: 摘 要 | E1: 数 量 | F1: 単位 | G1: 単 価 | H1: 金 額 | I1: 備 考 | M1: 検算欄 | N1: 検算差額
M2: 下以降一式と合計は各自設定 | N2: 差額が0であればOK
H3: =IF(B3<>"計",ROUNDDOWN(E3*G3,0),SUM(H$1:H2)) -> 0 | M3: =IF(B3<>"計",ROUNDDOWN(E3*G3,0),SUM(M$1:M2)) -> 0 | N3: =IF((+H3-M3)<>0,H3-M3,IF(H3>0,"0",""))
H5: =IF(B5<>"計",ROUNDDOWN(E5*G5,0),SUM(H$1:H4)) -> 0 | M5: =IF(B5<>"計",ROUNDDOWN(E5*G5,0),SUM(M$1:M4)) -> 0 | N5: =IF((+H5-M5)<>0,H5-M5,IF(H5>0,"0",""))
H7: =IF(B7<>"計",ROUNDDOWN(E7*G7,0),SUM(H$1:H6)) -> 0 | M7: =IF(B7<>"計",ROUNDDOWN(E7*G7,0),SUM(M$1:M6)) -> 0 | N7: =IF((+H7-M7)<>0,H7-M7,IF(H7>0,"0",""))
H9: =IF(B9<>"計",ROUNDDOWN(E9*G9,0),SUM(H$1:H8)) -> 0 | M9: =IF(B9<>"計",ROUNDDOWN(E9*G9,0),SUM(M$1:M8)) -> 0 | N9: =IF((+H9-M9)<>0,H9-M9,IF(H9>0,"0",""))
H11: =IF(B11<>"計",ROUNDDOWN(E11*G11,0),SUM(H$1:H10)) -> 0 | M11: =IF(B11<>"計",ROUNDDOWN(E11*G11,0),SUM(M$1:M10)) -> 0 | N11: =IF((+H11-M11)<>0,H11-M11,IF(H11>0,"0",""))
H13: =IF(B13<>"計",ROUNDDOWN(E13*G13,0),SUM(H$1:H12)) -> 0 | M13: =IF(B13<>"計",ROUNDDOWN(E13*G13,0),SUM(M$1:M12)) -> 0 | N13: =IF((+H13-M13)<>0,H13-M13,IF(H13>0,"0",""))
H15: =IF(B15<>"計",ROUNDDOWN(E15*G15,0),SUM(H$1:H14)) -> 0 | M15: =IF(B15<>"計",ROUNDDOWN(E15*G15,0),SUM(M$1:M14)) -> 0 | N15: =IF((+H15-M15)<>0,H15-M15,IF(H15>0,"0",""))
H17: =IF(B17<>"計",ROUNDDOWN(E17*G17,0),SUM(H$1:H16)) -> 0 | M17: =IF(B17<>"計",ROUNDDOWN(E17*G17,0),SUM(M$1:M16)) -> 0 | N17: =IF((+H17-M17)<>0,H17-M17,IF(H17>0,"0",""))
H19: =IF(B19<>"計",ROUNDDOWN(E19*G19,0),SUM(H$1:H18)) -> 0 | M19: =IF(B19<>"計",ROUNDDOWN(E19*G19,0),SUM(M$1:M18)) -> 0 | N19: =IF((+H19-M19)<>0,H19-M19,IF(H19>0,"0",""))
H21: =IF(B21<>"計",ROUNDDOWN(E21*G21,0),SUM(H$1:H20)) -> 0 | M21: =IF(B21<>"計",ROUNDDOWN(E21*G21,0),SUM(M$1:M20)) -> 0 | N21: =IF((+H21-M21)<>0,H21-M21,IF(H21>0,"0",""))
H23: =IF(B23<>"計",ROUNDDOWN(E23*G23,0),SUM(H$1:H22)) -> 0 | M23: =IF(B23<>"計",ROUNDDOWN(E23*G23,0),SUM(M$1:M22)) -> 0 | N23: =IF((+H23-M23)<>0,H23-M23,IF(H23>0,"0",""))
H25: =IF(B25<>"計",ROUNDDOWN(E25*G25,0),SUM(H$1:H24)) -> 0 | M25: =IF(B25<>"計",ROUNDDOWN(E25*G25,0),SUM(M$1:M24)) -> 0 | N25: =IF((+H25-M25)<>0,H25-M25,IF(H25>0,"0",""))
... H37: =IF(B37<>"計",ROUNDDOWN(E37*G37,0),SUM(H$1:H36)) -> 0 | M37: =IF(B37<>"計",ROUNDDOWN(E37*G37,0),SUM(M$1:M36)) -> 0 | N37: =IF((+H37-M37)<>0,H37-M37,IF(H37>0,"0",""))
H39: =IF(B39<>"計",ROUNDDOWN(E39*G39,0),SUM(H$1:H38)) -> 0
H41: =IF(B41<>"計",ROUNDDOWN(E41*G41,0),SUM(H$1:H40)) -> 0 | M41: =IF(B41<>"計",ROUNDDOWN(E41*G41,0),SUM(M$1:M40)) -> 0 | N41: =IF((+H41-M41)<>0,H41-M41,IF(H41>0,"0",""))
H43: =IF(B43<>"計",ROUNDDOWN(E43*G43,0),SUM(H$1:H42)) -> 0 | M43: =IF(B43<>"計",ROUNDDOWN(E43*G43,0),SUM(M$1:M42)) -> 0 | N43: =IF((+H43-M43)<>0,H43-M43,IF(H43>0,"0",""))
H45: =IF(B45<>"計",ROUNDDOWN(E45*G45,0),SUM(H$1:H44)) -> 0 | M45: =IF(B45<>"計",ROUNDDOWN(E45*G45,0),SUM(M$1:M44)) -> 0 | N45: =IF((+H45-M45)<>0,H45-M45,IF(H45>0,"0",""))
H47: =IF(B47<>"計",ROUNDDOWN(E47*G47,0),SUM(H$1:H46)) -> 0 | M47: =IF(B47<>"計",ROUNDDOWN(E47*G47,0),SUM(M$1:M46)) -> 0 | N47: =IF((+H47-M47)<>0,H47-M47,IF(H47>0,"0",""))
H49: =IF(B49<>"計",ROUNDDOWN(E49*G49,0),SUM(H$1:H48)) -> 0 | M49: =IF(B49<>"計",ROUNDDOWN(E49*G49,0),SUM(M$1:M48)) -> 0 | N49: =IF((+H49-M49)<>0,H49-M49,IF(H49>0,"0",""))
H51: =IF(B51<>"計",ROUNDDOWN(E51*G51,0),SUM(H$1:H50)) -> 0 | M51: =IF(B51<>"計",ROUNDDOWN(E51*G51,0),SUM(M$1:M50)) -> 0 | N51: =IF((+H51-M51)<>0,H51-M51,IF(H51>0,"0",""))
H53: =IF(B53<>"計",ROUNDDOWN(E53*G53,0),SUM(H$1:H52)) -> 0 | M53: =IF(B53<>"計",ROUNDDOWN(E53*G53,0),SUM(M$1:M52)) -> 0 | N53: =IF((+H53-M53)<>0,H53-M53,IF(H53>0,"0",""))
H55: =IF(B55<>"計",ROUNDDOWN(E55*G55,0),SUM(H$1:H54)) -> 0 | M55: =IF(B55<>"計",ROUNDDOWN(E55*G55,0),SUM(M$1:M54)) -> 0 | N55: =IF((+H55-M55)<>0,H55-M55,IF(H55>0,"0",""))
H57: =IF(B57<>"計",ROUNDDOWN(E57*G57,0),SUM(H$1:H56)) -> 0 | M57: =IF(B57<>"計",ROUNDDOWN(E57*G57,0),SUM(M$1:M56)) -> 0 | N57: =IF((+H57-M57)<>0,H57-M57,IF(H57>0,"0",""))
H59: =IF(B59<>"計",ROUNDDOWN(E59*G59,0),SUM(H$1:H58)) -> 0 | M59: =IF(B59<>"計",ROUNDDOWN(E59*G59,0),SUM(M$1:M58)) -> 0 | N59: =IF((+H59-M59)<>0,H59-M59,IF(H59>0,"0",""))
H61: =IF(B61<>"計",ROUNDDOWN(E61*G61,0),SUM(H$1:H60)) -> 0 | M61: =IF(B61<>"計",ROUNDDOWN(E61*G61,0),SUM(M$1:M60)) -> 0 | N61: =IF((+H61-M61)<>0,H61-M61,IF(H61>0,"0",""))
H63: =IF(B63<>"計",ROUNDDOWN(E63*G63,0),SUM(H$1:H62)) -> 0 | M63: =IF(B63<>"計",ROUNDDOWN(E63*G63,0),SUM(M$1:M62)) -> 0 | N63: =IF((+H63-M63)<>0,H63-M63,IF(H63>0,"0",""))
... H181: =IF(B181<>"計",ROUNDDOWN(E181*G181,0),SUM(H$1:H180)) -> 0 | M181: =IF(B181<>"計",ROUNDDOWN(E181*G181,0),SUM(M$1:M180)) -> 0 | N181: =IF((+H181-M181)<>0,H181-M181,IF(H181>0,"0",""))

Sheet 部分別種目
B1: 名 称 | C1: 摘 要 | E1: 数 量 | F1: 単位 | G1: 単 価 | H1: 金 額 | I1: 備 考 | M1: 検算欄 | N1: 検算差額
M2: 下以降一式と合計は各自設定 | N2: 差額が0であればOK
B3: ○○○新築工事 | H3: =ROUNDDOWN(E3*G3,0) -> 0 | M3: =IF(B3<>"計",ROUNDDOWN(E3*G3,0),SUM(M$1:M2)) -> 0 | N3: =IF((+H3-M3)<>0,H3-M3,IF(H3>0,"0",""))
A5: Ⅰ | B5: 直接工事費 | H5: =ROUNDDOWN(E5*G5,0) -> 0 | M5: =IF(B5<>"計",ROUNDDOWN(E5*G5,0),SUM(M$1:M4)) -> 0 | N5: =IF((+H5-M5)<>0,H5-M5,IF(H5>0,"0",""))
A7: (1) | B7: 建築工事 | E7: 1 | F7: 式 | H7: =IF(B7<>"計",ROUNDDOWN(E7*G7,0),SUM(H$1:H6)) -> 0 | M7: =IF(B7<>"計",ROUNDDOWN(E7*G7,0),SUM(M$1:M6)) -> 0 | N7: =IF((+H7-M7)<>0,H7-M7,IF(H7>0,"0",""))
A9: (2) | B9: 電気設備工事 | E9: 1 | F9: 式 | H9: =IF(B9<>"計",ROUNDDOWN(E9*G9,0),SUM(H$1:H8)) -> 0 | M9: =IF(B9<>"計",ROUNDDOWN(E9*G9,0),SUM(M$1:M8)) -> 0 | N9: =IF((+H9-M9)<>0,H9-M9,IF(H9>0,"0",""))
A11: (3) | B11: 空気調和設備工事 | E11: 1 | F11: 式 | H11: =IF(B11<>"計",ROUNDDOWN(E11*G11,0),SUM(H$1:H10)) -> 0 | M11: =IF(B11<>"計",ROUNDDOWN(E11*G11,0),SUM(M$1:M10)) -> 0 | N11: =IF((+H11-M11)<>0,H11-M11,IF(H11>0,"0",""))
A13: (4) | B13: 給排水衛生設備工事 | E13: 1 | F13: 式 | H13: =IF(B13<>"計",ROUNDDOWN(E13*G13,0),SUM(H$1:H12)) -> 0 | M13: =IF(B13<>"計",ROUNDDOWN(E13*G13,0),SUM(M$1:M12)) -> 0 | N13: =IF((+H13-M13)<>0,H13-M13,IF(H13>0,"0",""))
A15: (5) | B15: 昇降機設備工事 | E15: 1 | F15: 式 | H15: =IF(B15<>"計",ROUNDDOWN(E15*G15,0),SUM(H$1:H14)) -> 0 | M15: =IF(B15<>"計",ROUNDDOWN(E15*G15,0),SUM(M$1:M14)) -> 0 | N15: =IF((+H15-M15)<>0,H15-M15,IF(H15>0,"0",""))
A17: (6) | B17: 機械駐車設備工事 | E17: 1 | F17: 式 | H17: =IF(B17<>"計",ROUNDDOWN(E17*G17,0),SUM(H$1:H16)) -> 0 | M17: =IF(B17<>"計",ROUNDDOWN(E17*G17,0),SUM(M$1:M16)) -> 0 | N17: =IF((+H17-M17)<>0,H17-M17,IF(H17>0,"0",""))
A19: (7) | B19: 屋外施設工事 | E19: 1 | F19: 式 | H19: =IF(B19<>"計",ROUNDDOWN(E19*G19,0),SUM(H$1:H18)) -> 0 | M19: =IF(B19<>"計",ROUNDDOWN(E19*G19,0),SUM(M$1:M18)) -> 0 | N19: =IF((+H19-M19)<>0,H19-M19,IF(H19>0,"0",""))
B21: 計 | H21: =IF(B21<>"計",ROUNDDOWN(E21*G21,0),SUM(H$1:H20)) -> 0 | M21: =IF(B21<>"計",ROUNDDOWN(E21*G21,0),SUM(M$1:M20)) -> 0 | N21: =IF((+H21-M21)<>0,H21-M21,IF(H21>0,"0",""))
A23: Ⅱ | B23: 共通費 | H23: =ROUNDDOWN(E23*G23,0) -> 0 | M23: =IF(B23<>"計",ROUNDDOWN(E23*G23,0),SUM(M$1:M22)) -> 0 | N23: =IF((+H23-M23)<>0,H23-M23,IF(H23>0,"0",""))
A25: (1) | B25: 共通仮設費 | E25: 1 | F25: 式 | G25: =ROUNDDOWN(H21*I25,-4) -> 0 | H25: =IF(B25<>"計",ROUNDDOWN(E25*G25,0),SUM(H$1:H24)) -> 0 | I25: 0.04 | M25: =IF(B25<>"計",ROUNDDOWN(E25*G25,0),SUM(M$1:M24)) -> 0 | N25: =IF((+H25-M25)<>0,H25-M25,IF(H25>0,"0",""))
A27: (2) | B27: 諸経費 | E27: 1 | F27: 式 | G27: =+H31-H21-H25 -> 0 | H27: =IF(B27<>"計",ROUNDDOWN(E27*G27,0),SUM(H$1:H26)) -> 0 | I27: 0.1 | M27: =IF(B27<>"計",ROUNDDOWN(E27*G27,0),SUM(M$1:M26)) -> 0 | N27: =IF((+H27-M27)<>0,H27-M27,IF(H27>0,"0",""))
B29: 計 | H29: =SUM(H24:H27) -> 0 | M29: =IF(B29<>"計",ROUNDDOWN(E29*G29,0),SUM(M$24:M28)) -> 0 | N29: =IF((+H29-M29)<>0,H29-M29,IF(H29>0,"0",""))
B31: 合計（工事価格） | H31: =ROUNDDOWN((H21+H25)*(1+I27),-4) -> 0 | M31: =+M21+M29 -> 0 | N31: =IF((+H31-M31)<>0,H31-M31,IF(H31>0,"0",""))
A33: Ⅲ | B33: 消費税等相当額 | E33: 1 | F33: 式 | G33: =ROUNDDOWN(H31*I33,0) -> 0 | H33: =IF(B33<>"計",ROUNDDOWN(E33*G33,0),SUM(H$1:H32)) -> 0 | I33: 0.08 | M33: =IF(B33<>"計",ROUNDDOWN(E33*G33,0),SUM(M$1:M32)) -> 0 | N33: =IF((+H33-M33)<>0,H33-M33,IF(H33>0,"0",""))
B35: 総合計（工事費） | H35: =+H31+H33 -> 0 | M35: =+M31+M33 -> 0 | N35: =IF((+H35-M35)<>0,H35-M35,IF(H35>0,"0",""))
H37: =ROUNDDOWN(E37*G37,0) -> 0 | M37: =IF(B37<>"計",ROUNDDOWN(E37*G37,0),SUM(M$1:M36)) -> 0 | N37: =IF((+H37-M37)<>0,H37-M37,IF(H37>0,"0",""))
H38: =ROUNDDOWN(E38*G38,0) -> 0
H40: =ROUNDDOWN(E40*G40,0) -> 0
H42: =ROUNDDOWN(E42*G42,0) -> 0
H44: =ROUNDDOWN(E44*G44,0) -> 0
H46: =ROUNDDOWN(E46*G46,0) -> 0
H48: =ROUNDDOWN(E48*G48,0) -> 0
H50: =ROUNDDOWN(E50*G50,0) -> 0
H52: =ROUNDDOWN(E52*G52,0) -> 0
H54: =ROUNDDOWN(E54*G54,0) -> 0
H56: =ROUNDDOWN(E56*G56,0) -> 0
H58: =ROUNDDOWN(E58*G58,0) -> 0
H60: =ROUNDDOWN(E60*G60,0) -> 0
... H148: =ROUNDDOWN(E148*G148,0) -> 0

Sheet 部分別建築
B1: 名 称 | C1: 摘 要 | E1: 数 量 | F1: 単位 | G1: 単 価 | H1: 金 額 | I1: 備 考 | M1: 検算欄 | N1: 検算差額
M2: 下以降一式と合計は各自設定 | N2: 差額が0であればOK
A3: （1） | B3: 建築工事 | H3: =IF(B3<>"計",ROUNDDOWN(E3*G3,0),SUM(H$1:H2)) -> 0 | M3: =IF(B3<>"計",ROUNDDOWN(E3*G3,0),SUM(M$1:M2)) -> 0 | N3: =IF((+H3-M3)<>0,H3-M3,IF(H3>0,"0",""))
H5: =IF(B5<>"計",ROUNDDOWN(E5*G5,0),SUM(H$1:H4)) -> 0 | M5: =IF(B5<>"計",ROUNDDOWN(E5*G5,0),SUM(M$1:M4)) -> 0 | N5: =IF((+H5-M5)<>0,H5-M5,IF(H5>0,"0",""))
A7: 1. | B7: 直接仮設 | E7: 1 | F7: 式 | H7: =IF(B7<>"計",ROUNDDOWN(E7*G7,0),SUM(H$1:H6)) -> 0 | M7: =IF(B7<>"計",ROUNDDOWN(E7*G7,0),SUM(M$1:M6)) -> 0 | N7: =IF((+H7-M7)<>0,H7-M7,IF(H7>0,"0",""))
A9: 2. | B9: 土工・地業 | E9: 1 | F9: 式 | H9: =IF(B9<>"計",ROUNDDOWN(E9*G9,0),SUM(H$1:H8)) -> 0 | M9: =IF(B9<>"計",ROUNDDOWN(E9*G9,0),SUM(M$1:M8)) -> 0 | N9: =IF((+H9-M9)<>0,H9-M9,IF(H9>0,"0",""))
A11: 3. | B11: 躯体 | E11: 1 | F11: 式 | H11: =IF(B11<>"計",ROUNDDOWN(E11*G11,0),SUM(H$1:H10)) -> 0 | M11: =IF(B11<>"計",ROUNDDOWN(E11*G11,0),SUM(M$1:M10)) -> 0 | N11: =IF((+H11-M11)<>0,H11-M11,IF(H11>0,"0",""))
A13: 4. | B13: 外部仕上 | E13: 1 | F13: 式 | H13: =IF(B13<>"計",ROUNDDOWN(E13*G13,0),SUM(H$1:H12)) -> 0 | M13: =IF(B13<>"計",ROUNDDOWN(E13*G13,0),SUM(M$1:M12)) -> 0 | N13: =IF((+H13-M13)<>0,H13-M13,IF(H13>0,"0",""))
A15: 5. | B15: 内部仕上 | E15: 1 | F15: 式 | H15: =IF(B15<>"計",ROUNDDOWN(E15*G15,0),SUM(H$1:H14)) -> 0 | M15: =IF(B15<>"計",ROUNDDOWN(E15*G15,0),SUM(M$1:M14)) -> 0 | N15: =IF((+H15-M15)<>0,H15-M15,IF(H15>0,"0",""))
H17: =IF(B17<>"計",ROUNDDOWN(E17*G17,0),SUM(H$1:H16)) -> 0 | M17: =IF(B17<>"計",ROUNDDOWN(E17*G17,0),SUM(M$1:M16)) -> 0 | N17: =IF((+H17-M17)<>0,H17-M17,IF(H17>0,"0",""))
H19: =IF(B19<>"計",ROUNDDOWN(E19*G19,0),SUM(H$1:H18)) -> 0 | M19: =IF(B19<>"計",ROUNDDOWN(E19*G19,0),SUM(M$1:M18)) -> 0 | N19: =IF((+H19-M19)<>0,H19-M19,IF(H19>0,"0",""))
H21: =IF(B21<>"計",ROUNDDOWN(E21*G21,0),SUM(H$1:H20)) -> 0 | M21: =IF(B21<>"計",ROUNDDOWN(E21*G21,0),SUM(M$1:M20)) -> 0 | N21: =IF((+H21-M21)<>0,H21-M21,IF(H21>0,"0",""))
H23: =IF(B23<>"計",ROUNDDOWN(E23*G23,0),SUM(H$1:H22)) -> 0 | M23: =IF(B23<>"計",ROUNDDOWN(E23*G23,0),SUM(M$1:M22)) -> 0 | N23: =IF((+H23-M23)<>0,H23-M23,IF(H23>0,"0",""))
H25: =IF(B25<>"計",ROUNDDOWN(E25*G25,0),SUM(H$1:H24)) -> 0 | M25: =IF(B25<>"計",ROUNDDOWN(E25*G25,0),SUM(M$1:M24)) -> 0 | N25: =IF((+H25-M25)<>0,H25-M25,IF(H25>0,"0",""))
H27: =IF(B27<>"計",ROUNDDOWN(E27*G27,0),SUM(H$1:H26)) -> 0 | M27: =IF(B27<>"計",ROUNDDOWN(E27*G27,0),SUM(M$1:M26)) -> 0 | N27: =IF((+H27-M27)<>0,H27-M27,IF(H27>0,"0",""))
H29: =IF(B29<>"計",ROUNDDOWN(E29*G29,0),SUM(H$1:H28)) -> 0 | M29: =IF(B29<>"計",ROUNDDOWN(E29*G29,0),SUM(M$1:M28)) -> 0 | N29: =IF((+H29-M29)<>0,H29-M29,IF(H29>0,"0",""))
H31: =IF(B31<>"計",ROUNDDOWN(E31*G31,0),SUM(H$1:H30)) -> 0 | M31: =IF(B31<>"計",ROUNDDOWN(E31*G31,0),SUM(M$1:M30)) -> 0 | N31: =IF((+H31-M31)<>0,H31-M31,IF(H31>0,"0",""))
H33: =IF(B33<>"計",ROUNDDOWN(E33*G33,0),SUM(H$1:H32)) -> 0 | M33: =IF(B33<>"計",ROUNDDOWN(E33*G33,0),SUM(M$1:M32)) -> 0 | N33: =IF((+H33-M33)<>0,H33-M33,IF(H33>0,"0",""))
B35: 計 | H35: =IF(B35<>"計",ROUNDDOWN(E35*G35,0),SUM(H$1:H34)) -> 0 | M35: =IF(B35<>"計",ROUNDDOWN(E35*G35,0),SUM(M$1:M34)) -> 0 | N35: =IF((+H35-M35)<>0,H35-M35,IF(H35>0,"0",""))
H37: =IF(B37<>"計",ROUNDDOWN(E37*G37,0),SUM(H$1:H36)) -> 0 | M37: =IF(B37<>"計",ROUNDDOWN(E37*G37,0),SUM(M$1:M36)) -> 0 | N37: =IF((+H37-M37)<>0,H37-M37,IF(H37>0,"0",""))

Sheet 改修種目
B1: 名 称 | C1: 摘 要 | E1: 数 量 | F1: 単位 | G1: 単 価 | H1: 金 額 | I1: 備 考 | M1: 検算欄 | N1: 検算差額
M2: 下以降一式と合計は各自設定 | N2: 差額が0であればOK
B3: ○○○新築工事 | H3: =ROUNDDOWN(E3*G3,0) -> 0 | M3: =IF(B3<>"計",ROUNDDOWN(E3*G3,0),SUM(M$1:M2)) -> 0 | N3: =IF((+H3-M3)<>0,H3-M3,IF(H3>0,"0",""))
A5: Ⅰ | B5: 直接工事費 | H5: =ROUNDDOWN(E5*G5,0) -> 0 | M5: =IF(B5<>"計",ROUNDDOWN(E5*G5,0),SUM(M$1:M4)) -> 0 | N5: =IF((+H5-M5)<>0,H5-M5,IF(H5>0,"0",""))
A7: (1) | B7: 建築工事 | E7: 1 | F7: 式 | H7: =IF(B7<>"計",ROUNDDOWN(E7*G7,0),SUM(H$1:H6)) -> 0 | M7: =IF(B7<>"計",ROUNDDOWN(E7*G7,0),SUM(M$1:M6)) -> 0 | N7: =IF((+H7-M7)<>0,H7-M7,IF(H7>0,"0",""))
A9: (2) | B9: 電気設備工事 | E9: 1 | F9: 式 | H9: =IF(B9<>"計",ROUNDDOWN(E9*G9,0),SUM(H$1:H8)) -> 0 | M9: =IF(B9<>"計",ROUNDDOWN(E9*G9,0),SUM(M$1:M8)) -> 0 | N9: =IF((+H9-M9)<>0,H9-M9,IF(H9>0,"0",""))
A11: (3) | B11: 空気調和設備工事 | E11: 1 | F11: 式 | H11: =IF(B11<>"計",ROUNDDOWN(E11*G11,0),SUM(H$1:H10)) -> 0 | M11: =IF(B11<>"計",ROUNDDOWN(E11*G11,0),SUM(M$1:M10)) -> 0 | N11: =IF((+H11-M11)<>0,H11-M11,IF(H11>0,"0",""))
A13: (4) | B13: 給排水衛生設備工事 | E13: 1 | F13: 式 | H13: =IF(B13<>"計",ROUNDDOWN(E13*G13,0),SUM(H$1:H12)) -> 0 | M13: =IF(B13<>"計",ROUNDDOWN(E13*G13,0),SUM(M$1:M12)) -> 0 | N13: =IF((+H13-M13)<>0,H13-M13,IF(H13>0,"0",""))
A15: (5) | B15: 昇降機設備工事 | E15: 1 | F15: 式 | H15: =IF(B15<>"計",ROUNDDOWN(E15*G15,0),SUM(H$1:H14)) -> 0 | M15: =IF(B15<>"計",ROUNDDOWN(E15*G15,0),SUM(M$1:M14)) -> 0 | N15: =IF((+H15-M15)<>0,H15-M15,IF(H15>0,"0",""))
A17: (6) | B17: 機械駐車設備工事 | E17: 1 | F17: 式 | H17: =IF(B17<>"計",ROUNDDOWN(E17*G17,0),SUM(H$1:H16)) -> 0 | M17: =IF(B17<>"計",ROUNDDOWN(E17*G17,0),SUM(M$1:M16)) -> 0 | N17: =IF((+H17-M17)<>0,H17-M17,IF(H17>0,"0",""))
A19: (7) | B19: 屋外施設工事 | E19: 1 | F19: 式 | H19: =IF(B19<>"計",ROUNDDOWN(E19*G19,0),SUM(H$1:H18)) -> 0 | M19: =IF(B19<>"計",ROUNDDOWN(E19*G19,0),SUM(M$1:M18)) -> 0 | N19: =IF((+H19-M19)<>0,H19-M19,IF(H19>0,"0",""))
B21: 計 | H21: =IF(B21<>"計",ROUNDDOWN(E21*G21,0),SUM(H$1:H20)) -> 0 | M21: =IF(B21<>"計",ROUNDDOWN(E21*G21,0),SUM(M$1:M20)) -> 0 | N21: =IF((+H21-M21)<>0,H21-M21,IF(H21>0,"0",""))
A23: Ⅱ | B23: 共通費 | H23: =ROUNDDOWN(E23*G23,0) -> 0 | M23: =IF(B23<>"計",ROUNDDOWN(E23*G23,0),SUM(M$1:M22)) -> 0 | N23: =IF((+H23-M23)<>0,H23-M23,IF(H23>0,"0",""))
A25: (1) | B25: 共通仮設費 | E25: 1 | F25: 式 | G25: =ROUNDDOWN(H21*I25,-4) -> 0 | H25: =IF(B25<>"計",ROUNDDOWN(E25*G25,0),SUM(H$1:H24)) -> 0 | I25: 0.04 | M25: =IF(B25<>"計",ROUNDDOWN(E25*G25,0),SUM(M$1:M24)) -> 0 | N25: =IF((+H25-M25)<>0,H25-M25,IF(H25>0,"0",""))
A27: (2) | B27: 諸経費 | E27: 1 | F27: 式 | G27: =+H31-H21-H25 -> 0 | H27: =IF(B27<>"計",ROUNDDOWN(E27*G27,0),SUM(H$1:H26)) -> 0 | I27: 0.1 | M27: =IF(B27<>"計",ROUNDDOWN(E27*G27,0),SUM(M$1:M26)) -> 0 | N27: =IF((+H27-M27)<>0,H27-M27,IF(H27>0,"0",""))
B29: 計 | H29: =SUM(H24:H27) -> 0 | M29: =IF(B29<>"計",ROUNDDOWN(E29*G29,0),SUM(M$24:M28)) -> 0 | N29: =IF((+H29-M29)<>0,H29-M29,IF(H29>0,"0",""))
B31: 合計（工事価格） | H31: =ROUNDDOWN((H21+H25)*(1+I27),-4) -> 0 | M31: =+M21+M29 -> 0 | N31: =IF((+H31-M31)<>0,H31-M31,IF(H31>0,"0",""))
A33: Ⅲ | B33: 消費税等相当額 | E33: 1 | F33: 式 | G33: =ROUNDDOWN(H31*I33,0) -> 0 | H33: =IF(B33<>"計",ROUNDDOWN(E33*G33,0),SUM(H$1:H32)) -> 0 | I33: 0.08 | M33: =IF(B33<>"計",ROUNDDOWN(E33*G33,0),SUM(M$1:M32)) -> 0 | N33: =IF((+H33-M33)<>0,H33-M33,IF(H33>0,"0",""))
B35: 総合計（工事費） | H35: =+H31+H33 -> 0 | M35: =+M31+M33 -> 0 | N35: =IF((+H35-M35)<>0,H35-M35,IF(H35>0,"0",""))
H37: =ROUNDDOWN(E37*G37,0) -> 0 | M37: =IF(B37<>"計",ROUNDDOWN(E37*G37,0),SUM(M$1:M36)) -> 0 | N37: =IF((+H37-M37)<>0,H37-M37,IF(H37>0,"0",""))
H38: =ROUNDDOWN(E38*G38,0) -> 0
H40: =ROUNDDOWN(E40*G40,0) -> 0
H42: =ROUNDDOWN(E42*G42,0) -> 0
H44: =ROUNDDOWN(E44*G44,0) -> 0
H46: =ROUNDDOWN(E46*G46,0) -> 0
H48: =ROUNDDOWN(E48*G48,0) -> 0
H50: =ROUNDDOWN(E50*G50,0) -> 0
H52: =ROUNDDOWN(E52*G52,0) -> 0
H54: =ROUNDDOWN(E54*G54,0) -> 0
H56: =ROUNDDOWN(E56*G56,0) -> 0
H58: =ROUNDDOWN(E58*G58,0) -> 0
H60: =ROUNDDOWN(E60*G60,0) -> 0
... H148: =ROUNDDOWN(E148*G148,0) -> 0

Sheet 種目
B1: 名 称 | C1: 摘 要 | E1: 数 量 | F1: 単位 | G1: 単 価 | H1: 金 額 | I1: 備 考
B3: 東京センター大規模改修工事 | C3: （第1期工事） | H3: =ROUNDDOWN(E3*G3,0) -> 0
A5: Ⅰ | B5: 直接工事費 | H5: =ROUNDDOWN(E5*G5,0) -> 0
A7: (1) | B7: 空気調和換気設備 | E7: 1 | F7: 式
A9: (2) | B9: 給排水衛生設備 | E9: 1 | F9: 式
B13: 計
H35: =IF(B35<>"計",ROUNDDOWN(E35*G35,0),SUM(H$1:H34)) -> 0
H37: =IF(B37<>"計",ROUNDDOWN(E37*G37,0),SUM(H$1:H36)) -> 0
H39: =ROUNDDOWN(E39*G39,0) -> 0
H40: =ROUNDDOWN(E40*G40,0) -> 0
H42: =ROUNDDOWN(E42*G42,0) -> 0
H44: =ROUNDDOWN(E44*G44,0) -> 0
H46: =ROUNDDOWN(E46*G46,0) -> 0
H48: =ROUNDDOWN(E48*G48,0) -> 0
H50: =ROUNDDOWN(E50*G50,0) -> 0
H52: =ROUNDDOWN(E52*G52,0) -> 0
H54: =ROUNDDOWN(E54*G54,0) -> 0
H56: =ROUNDDOWN(E56*G56,0) -> 0
H58: =ROUNDDOWN(E58*G58,0) -> 0
H60: =ROUNDDOWN(E60*G60,0) -> 0
... H150: =ROUNDDOWN(E150*G150,0) -> 0

Sheet 科目
B1: 名 称 | C1: 摘 要 | E1: 数 量 | F1: 単位 | G1: 単 価 | H1: 金 額 | I1: 備 考
A3: Ⅰ-(1) | B3: 空気調和換気設備 | H3: =IF(B3<>"計",ROUNDDOWN(E3*G3,0),SUM(H$1:H2)) -> 0
A7: 1. | B7: 宿泊棟 | E7: 1 | F7: 式
B11: 計
A15: Ⅰ-(2) | B15: 給排水衛生設備
A19: 1. | B19: 宿泊棟 | E19: 1 | F19: 式
B23: 計
H37: =IF(B37<>"計",ROUNDDOWN(E37*G37,0),SUM(H6:H36)) -> 0
H39: =IF(B39<>"計",ROUNDDOWN(E39*G39,0),SUM(H8:H38)) -> 0
H41: =IF(B41<>"計",ROUNDDOWN(E41*G41,0),SUM(H10:H40)) -> 0
H43: =IF(B43<>"計",ROUNDDOWN(E43*G43,0),SUM(H12:H42)) -> 0
H45: =IF(B45<>"計",ROUNDDOWN(E45*G45,0),SUM(H14:H44)) -> 0
H47: =IF(B47<>"計",ROUNDDOWN(E47*G47,0),SUM(H16:H46)) -> 0
H49: =IF(B49<>"計",ROUNDDOWN(E49*G49,0),SUM(H18:H48)) -> 0
H51: =IF(B51<>"計",ROUNDDOWN(E51*G51,0),SUM(H18:H50)) -> 0
H53: =IF(B53<>"計",ROUNDDOWN(E53*G53,0),SUM(H20:H52)) -> 0
H55: =IF(B55<>"計",ROUNDDOWN(E55*G55,0),SUM(H22:H54)) -> 0
H57: =IF(B57<>"計",ROUNDDOWN(E57*G57,0),SUM(H24:H56)) -> 0
H59: =IF(B59<>"計",ROUNDDOWN(E59*G59,0),SUM(H26:H58)) -> 0
H61: =IF(B61<>"計",ROUNDDOWN(E61*G61,0),SUM(H28:H60)) -> 0
H63: =IF(B63<>"計",ROUNDDOWN(E63*G63,0),SUM(H30:H62)) -> 0
H65: =IF(B65<>"計",ROUNDDOWN(E65*G65,0),SUM(H32:H64)) -> 0
H67: =IF(B67<>"計",ROUNDDOWN(E67*G67,0),SUM(H34:H66)) -> 0
H69: =IF(B69<>"計",ROUNDDOWN(E69*G69,0),SUM(H36:H68)) -> 0
H71: =IF(B71<>"計",ROUNDDOWN(E71*G71,0),SUM(H38:H70)) -> 0
H73: =IF(B73<>"計",ROUNDDOWN(E73*G73,0),SUM(H40:H72)) -> 0
... H285: =IF(B285<>"計",ROUNDDOWN(E285*G285,0),SUM(H252:H284)) -> 0

Sheet 中科目
B1: 名 称 | C1: 摘 要 | E1: 数 量 | F1: 単位 | G1: 単 価 | H1: 金 額 | I1: 備 考 | P1: 発生材処分 | Q1: 足場＆足場解体
B2: 空気調和換気設備
A3: Ⅰ-(1)-1 | B3: 宿泊棟 | H3: =IF(B3<>"計",ROUNDDOWN(E3*G3,0),SUM(H$1:H2)) -> 0
A7: 1 | B7: ステップＳ０（宿泊棟） | E7: 1 | F7: 式 | P7: =中中科目!P7 -> 0
A9: 2 | B9: ステップＳ１（宿泊棟） | E9: 1 | F9: 式 | P9: =中中科目!P27 -> 0 | Q9: =中中科目!Q25 -> 0
A11: 3 | B11: ステップＳ２（宿泊棟） | E11: 1 | F11: 式 | P11: =中中科目!P45 -> 0
A13: 4 | B13: ステップＳ３（宿泊棟） | E13: 1 | F13: 式 | P13: =中中科目!P63 -> 0
A15: 5 | B15: ステップＳ４（宿泊棟） | E15: 1 | F15: 式 | P15: =中中科目!P87 -> 0 | Q15: =中中科目!Q85 -> 0
B19: 計 | P19: =SUM(P6:P18) -> 0 | Q19: =SUM(Q6:Q18) -> 0
B38: 給排水衛生設備
A39: Ⅰ-(2)-1 | B39: 宿泊棟
A43: 1. | B43: ステップＳ０（宿泊棟） | E43: 1 | F43: 式 | P43: =中中科目!P105 -> 0 | Q43: =中中科目!Q103 -> 0
A45: 2. | B45: ステップＳ１（宿泊棟） | E45: 1 | F45: 式 | P45: =中中科目!P129 -> 0
A47: 3. | B47: ステップＳ２（宿泊棟） | E47: 1 | F47: 式 | P47: =中中科目!P147 -> 0
A49: 4. | B49: ステップＳ３（宿泊棟） | E49: 1 | F49: 式 | P49: =中中科目!P171 -> 0
A51: 5. | B51: ステップＳ４（宿泊棟） | E51: 1 | F51: 式 | P51: =中中科目!P197 -> 0
B55: 計 | P55: =SUM(P43:P51) -> 0 | Q55: =SUM(Q43:Q51) -> 0
H73: =IF(B73<>"計",ROUNDDOWN(E73*G73,0),SUM(H56:H72)) -> 0
H75: =IF(B75<>"計",ROUNDDOWN(E75*G75,0),SUM(H20:H74)) -> 0
H77: =IF(B77<>"計",ROUNDDOWN(E77*G77,0),SUM(H22:H76)) -> 0
H79: =IF(B79<>"計",ROUNDDOWN(E79*G79,0),SUM(H24:H78)) -> 0
H81: =IF(B81<>"計",ROUNDDOWN(E81*G81,0),SUM(H26:H80)) -> 0
H83: =IF(B83<>"計",ROUNDDOWN(E83*G83,0),SUM(H28:H82)) -> 0
H85: =IF(B85<>"計",ROUNDDOWN(E85*G85,0),SUM(H30:H84)) -> 0
H87: =IF(B87<>"計",ROUNDDOWN(E87*G87,0),SUM(H32:H86)) -> 0
H89: =IF(B89<>"計",ROUNDDOWN(E89*G89,0),SUM(H34:H88)) -> 0
H91: =IF(B91<>"計",ROUNDDOWN(E91*G91,0),SUM(H58:H90)) -> 0
H93: =IF(B93<>"計",ROUNDDOWN(E93*G93,0),SUM(H60:H92)) -> 0
H95: =IF(B95<>"計",ROUNDDOWN(E95*G95,0),SUM(H62:H94)) -> 0
H97: =IF(B97<>"計",ROUNDDOWN(E97*G97,0),SUM(H64:H96)) -> 0
H99: =IF(B99<>"計",ROUNDDOWN(E99*G99,0),SUM(H66:H98)) -> 0
H101: =IF(B101<>"計",ROUNDDOWN(E101*G101,0),SUM(H68:H100)) -> 0
H103: =IF(B103<>"計",ROUNDDOWN(E103*G103,0),SUM(H70:H102)) -> 0
H105: =IF(B105<>"計",ROUNDDOWN(E105*G105,0),SUM(H72:H104)) -> 0
H107: =IF(B107<>"計",ROUNDDOWN(E107*G107,0),SUM(H74:H106)) -> 0
H109: =IF(B109<>"計",ROUNDDOWN(E109*G109,0),SUM(H76:H108)) -> 0
H111: =IF(B111<>"計",ROUNDDOWN(E111*G111,0),SUM(H78:H110)) -> 0
H113: =IF(B113<>"計",ROUNDDOWN(E113*G113,0),SUM(H80:H112)) -> 0
... H257: =IF(B257<>"計",ROUNDDOWN(E257*G257,0),SUM(H224:H256)) -> 0

Sheet 中中科目
B1: 名 称 | C1: 摘 要 | E1: 数 量 | F1: 単位 | G1: 単 価 | H1: 金 額 | I1: 備 考 | P1: 発生材処理 | Q1: 足場及び解体
A2: Ⅰ-(1)-1
A3: 1 | B3: ステップＳ０（宿泊棟） | H3: =IF(B3<>"計",ROUNDDOWN(E3*G3,0),SUM(H$1:H2)) -> 0
A7: 1 | B7: アスベスト撤去 | E7: 1 | F7: 式 | P7: ='[1]2-1-3-1'!$I$13 -> 0
B11: 計
A14: Ⅰ-(1)-1
A15: 2 | B15: ステップＳ１（宿泊棟）
A19: 1 | B19: 空気調和設備 | E19: 1 | F19: 式
A21: 2 | B21: 換気設備 | E21: 1 | F21: 式
A23: 3 | B23: 撤去設備 | E23: 1 | F23: 式
A25: 4 | B25: 足場組立及び解体工事 | E25: 1 | F25: 式 | Q25: =H25 -> 0
A27: 5 | B27: 発生材処理 | E27: 1 | F27: 式 | P27: =H27 -> 0
B31: 計
A34: Ⅰ-(1)-1
A35: 3 | B35: ステップＳ２（宿泊棟）
A39: 1 | B39: 空気調和設備 | E39: 1 | F39: 式
A41: 2 | B41: 換気設備 | E41: 1 | F41: 式
A43: 3 | B43: 撤去設備 | E43: 1 | F43: 式
A45: 4 | B45: 発生材処理 | E45: 1 | F45: 式 | P45: =H45 -> 0
B49: 計
A52: Ⅰ-(1)-1
A53: 4 | B53: ステップＳ３（宿泊棟）
A57: 1 | B57: 空気調和設備 | E57: 1 | F57: 式
A59: 2 | B59: 換気設備 | E59: 1 | F59: 式
A61: 3 | B61: 撤去設備 | E61: 1 | F61: 式
A63: 4 | B63: 発生材処理 | E63: 1 | F63: 式 | P63: =H63 -> 0
B67: 計
A70: Ⅰ-(1)-1
A71: 5 | B71: ステップＳ４（宿泊棟）
A75: 1 | B75: 空気調和設備 | E75: 1 | F75: 式
A77: 2 | B77: 換気設備 | E77: 1 | F77: 式
A79: 3 | B79: 自動制御設備 | E79: 1 | F79: 式
A81: 4 | B81: 撤去設備 | E81: 1 | F81: 式
A83: 5 | B83: アスベスト含有フランジ撤去 | E83: 1 | F83: 式
A85: 6 | B85: 足場組立及び解体工事 | E85: 1 | F85: 式 | Q85: =H85 -> 0
A87: 7 | B87: 発生材処理 | E87: 1 | F87: 式 | P87: =H87 -> 0
B91: 計
A94: Ⅰ-(2)-1
A95: 1 | B95: ステップＳ０（宿泊棟）
A99: 1 | B99: 排水設備 | E99: 1 | F99: 式
A101: 2 | B101: 撤去工事 | E101: 1 | F101: 式
A103: 3 | B103: 足場組立及び解体工事 | E103: 1 | F103: 式 | Q103: =H103 -> 0
A105: 4 | B105: 発生材処理 | E105: 1 | F105: 式 | P105: =H105 -> 0
B109: 計
A112: Ⅰ-(2)-1
A113: 2 | B113: ステップＳ１（宿泊棟）
A117: 1 | B117: 衛生器具設備 | E117: 1 | F117: 式
A119: 2 | B119: 給水設備 | E119: 1 | F119: 式
A121: 3 | B121: 排水設備 | E121: 1 | F121: 式
A123: 4 | B123: 給湯設備 | E123: 1 | F123: 式
A125: 5 | B125: 消火設備 | E125: 1 | F125: 式
A127: 6 | B127: 撤去工事 | E127: 1 | F127: 式
A129: 7 | B129: 発生材処理 | E129: 1 | F129: 式 | P129: =H129 -> 0
B133: 計
A136: Ⅰ-(2)-1
A137: 3 | B137: ステップＳ２（宿泊棟）
A141: 1 | B141: 排水設備 | E141: 1 | F141: 式
A143: 2 | B143: 消火設備 | E143: 1 | F143: 式
A145: 3 | B145: 撤去工事 | E145: 1 | F145: 式
A147: 4 | B147: 発生材処理 | E147: 1 | F147: 式 | P147: =H147 -> 0
B151: 計
A154: Ⅰ-(2)-1
A155: 4 | B155: ステップＳ３（宿泊棟）
A159: 1 | B159: 衛生器具設備 | E159: 1 | F159: 式
A161: 2 | B161: 給水設備 | E161: 1 | F161: 式
A163: 3 | B163: 排水設備 | E163: 1 | F163: 式
A165: 4 | B165: 給湯設備 | E165: 1 | F165: 式
A167: 5 | B167: 消火設備 | E167: 1 | F167: 式
A169: 6 | B169: 撤去工事 | E169: 1 | F169: 式
A171: 7 | B171: 発生材処理 | E171: 1 | F171: 式 | P171: =H171 -> 0
B175: 計
A178: Ⅰ-(2)-1
A179: 5 | B179: ステップＳ４（宿泊棟）
A183: 1 | B183: 衛生器具設備 | E183: 1 | F183: 式
A185: 2 | B185: 給水設備 | E185: 1 | F185: 式
A187: 3 | B187: 排水設備 | E187: 1 | F187: 式
A189: 4 | B189: 給湯設備 | E189: 1 | F189: 式
A191: 5 | B191: 消火設備 | E191: 1 | F191: 式
A193: 6 | B193: ガス設備 | E193: 1 | F193: 式
A195: 7 | B195: 撤去工事 | E195: 1 | F195: 式
A197: 8 | B197: 発生材処理 | E197: 1 | F197: 式 | P197: =H197 -> 0
B201: 計
H215: =IF(B215<>"計",ROUNDDOWN(E215*G215,0),SUM(H180:H214)) -> 0
H217: =IF(B217<>"計",ROUNDDOWN(E217*G217,0),SUM(H182:H216)) -> 0
H219: =IF(B219<>"計",ROUNDDOWN(E219*G219,0),SUM(H184:H218)) -> 0
H221: =IF(B221<>"計",ROUNDDOWN(E221*G221,0),SUM(H186:H220)) -> 0
H223: =IF(B223<>"計",ROUNDDOWN(E223*G223,0),SUM(H188:H222)) -> 0
H225: =IF(B225<>"計",ROUNDDOWN(E225*G225,0),SUM(H190:H224)) -> 0
H227: =IF(B227<>"計",ROUNDDOWN(E227*G227,0),SUM(H192:H226)) -> 0
H229: =IF(B229<>"計",ROUNDDOWN(E229*G229,0),SUM(H194:H228)) -> 0
H231: =IF(B231<>"計",ROUNDDOWN(E231*G231,0),SUM(H196:H230)) -> 0
H233: =IF(B233<>"計",ROUNDDOWN(E233*G233,0),SUM(H198:H232)) -> 0
H235: =IF(B235<>"計",ROUNDDOWN(E235*G235,0),SUM(H200:H234)) -> 0
H237: =IF(B237<>"計",ROUNDDOWN(E237*G237,0),SUM(H202:H236)) -> 0
H239: =IF(B239<>"計",ROUNDDOWN(E239*G239,0),SUM(H178:H238)) -> 0
H241: =IF(B241<>"計",ROUNDDOWN(E241*G241,0),SUM(H180:H240)) -> 0
H243: =IF(B243<>"計",ROUNDDOWN(E243*G243,0),SUM(H182:H242)) -> 0
H245: =IF(B245<>"計",ROUNDDOWN(E245*G245,0),SUM(H184:H244)) -> 0
H247: =IF(B247<>"計",ROUNDDOWN(E247*G247,0),SUM(H186:H246)) -> 0
H249: =IF(B249<>"計",ROUNDDOWN(E249*G249,0),SUM(H188:H248)) -> 0
...

Sheet (1)小科目S0
B1: 名 称 | C1: 摘 要 | E1: 数 量 | F1: 単位 | G1: 単 価 | H1: 金 額 | I1: 備 考
A2: Ⅰ-(1)-1 | B2: ステップＳ０（宿泊棟）
A3: 1-1 | B3: アスベスト撤去
A7: 1. | B7: アスベスト撤去 | E7: 1 | F7: 式
B11: 計
H37: =IF(B37<>"計",ROUNDDOWN(E37*G37,0),SUM(H$1:H36)) -> 0
H39: =IF(B39<>"計",ROUNDDOWN(E39*G39,0),SUM(H$1:H38)) -> 0
H41: =IF(B41<>"計",ROUNDDOWN(E41*G41,0),SUM(H$1:H40)) -> 0
H43: =IF(B43<>"計",ROUNDDOWN(E43*G43,0),SUM(H$1:H42)) -> 0
H45: =IF(B45<>"計",ROUNDDOWN(E45*G45,0),SUM(H$1:H44)) -> 0
H47: =IF(B47<>"計",ROUNDDOWN(E47*G47,0),SUM(H$1:H46)) -> 0
H49: =IF(B49<>"計",ROUNDDOWN(E49*G49,0),SUM(H$1:H48)) -> 0
H51: =IF(B51<>"計",ROUNDDOWN(E51*G51,0),SUM(H$1:H50)) -> 0
H53: =IF(B53<>"計",ROUNDDOWN(E53*G53,0),SUM(H$1:H52)) -> 0
H55: =IF(B55<>"計",ROUNDDOWN(E55*G55,0),SUM(H$1:H54)) -> 0
H57: =IF(B57<>"計",ROUNDDOWN(E57*G57,0),SUM(H$1:H56)) -> 0
H59: =IF(B59<>"計",ROUNDDOWN(E59*G59,0),SUM(H$1:H58)) -> 0
... H93: =IF(B93<>"計",ROUNDDOWN(E93*G93,0),SUM(H$1:H92)) -> 0

Sheet (1)小科目S1
B1: 名 称 | C1: 摘 要 | E1: 数 量 | F1: 単位 | G1: 単 価 | H1: 金 額 | I1: 備 考
A2: Ⅰ-(1)-1 | B2: ステップＳ１（宿泊棟）
A3: 1-1 | B3: 空気調和設備
A7: 1. | B7: 機器設備 | E7: 1 | F7: 式
A9: 2. | B9: 配管設備 | E9: 1 | F9: 式
B13: 計
A16: Ⅰ-(1)-1 | B16: ステップＳ１（宿泊棟）
A17: 1-2 | B17: 換気設備
A21: 1. | B21: 機器設備 | E21: 1 | F21: 式
A23: 2. | B23: ダクト設備 | E23: 1 | F23: 式
A25: 3. | B25: 総合調整 | E25: 1 | F25: 式
B29: 計
A32: Ⅰ-(1)-1 | B32: ステップＳ１（宿泊棟）
A33: 1-3 | B33: 撤去工事
A37: 1. | B37: 撤去工事 | E37: 1 | F37: 式
B41: 計
A44: Ⅰ-(1)-1 | B44: ステップＳ１（宿泊棟）
A45: 1-4 | B45: 足場組立及び解体工事
A49: 1. | B49: 足場組立及び解体工事 | E49: 1 | F49: 式
B53: 計
A56: Ⅰ-(1)-1 | B56: ステップＳ１（宿泊棟）
A57: 1-5 | B57: 発生材処理
A61: 1. | B61: 発生材処理 | E61: 1 | F61: 式
B65: 計
H73: =IF(B73<>"計",ROUNDDOWN(E73*G73,0),SUM(H$1:H72)) -> 0
H75: =IF(B75<>"計",ROUNDDOWN(E75*G75,0),SUM(H$1:H74)) -> 0
H77: =IF(B77<>"計",ROUNDDOWN(E77*G77,0),SUM(H$1:H76)) -> 0
H79: =IF(B79<>"計",ROUNDDOWN(E79*G79,0),SUM(H$1:H78)) -> 0

Sheet (1)小科目S2
B1: 名 称 | C1: 摘 要 | E1: 数 量 | F1: 単位 | G1: 単 価 | H1: 金 額 | I1: 備 考
A2: Ⅰ-(1)-1 | B2: ステップＳ２（宿泊棟）
A3: 2-1 | B3: 空気調和設備
A7: 1. | B7: 機器設備 | E7: 1 | F7: 式
A9: 2. | B9: 配管設備 | E9: 1 | F9: 式
B13: 計
A16: Ⅰ-(1)-1 | B16: ステップＳ２（宿泊棟）
A17: 2-2 | B17: 換気設備
A21: 1. | B21: 機器設備 | E21: 1 | F21: 式
A23: 2. | B23: ダクト設備 | E23: 1 | F23: 式
B27: 計
A30: Ⅰ-(1)-1 | B30: ステップＳ２（宿泊棟）
A31: 2-3 | B31: 撤去工事
A35: 1. | B35: 撤去工事 | E35: 1 | F35: 式
B39: 計
A42: Ⅰ-(1)-1 | B42: ステップＳ２（宿泊棟）
A43: 2-4 | B43: 発生材処理
A47: 1. | B47: 発生材処理 | E47: 1 | F47: 式
B51: 計
H73: =IF(B73<>"計",ROUNDDOWN(E73*G73,0),SUM(H$1:H72)) -> 0
H75: =IF(B75<>"計",ROUNDDOWN(E75*G75,0),SUM(H$1:H74)) -> 0

Sheet (1)小科目S3
B1: 名 称 | C1: 摘 要 | E1: 数 量 | F1: 単位 | G1: 単 価 | H1: 金 額 | I1: 備 考
A2: Ⅰ-(1)-1 | B2: ステップＳ３（宿泊棟）
A3: 3-1 | B3: 空気調和設備
A7: 1. | B7: 機器設備 | E7: 1 | F7: 式
A9: 2. | B9: 配管設備 | E9: 1 | F9: 式
A11: 3. | B11: 総合調整 | E11: 1 | F11: 式
B15: 計
A18: Ⅰ-(1)-1 | B18: ステップＳ３（宿泊棟）
A19: 3-2 | B19: 換気設備
A23: 1. | B23: 機器設備 | E23: 1 | F23: 式
A25: 2. | B25: ダクト設備 | E25: 1 | F25: 式
A27: 3. | B27: 総合調整 | E27: 1 | F27: 式
B31: 計
A34: Ⅰ-(1)-1 | B34: ステップＳ３（宿泊棟）
A35: 3-3 | B35: 撤去工事
A39: 1. | B39: 撤去工事 | E39: 1 | F39: 式
B43: 計
A46: Ⅰ-(1)-1 | B46: ステップＳ３（宿泊棟）
A47: 3-4 | B47: 発生材処理
A51: 1. | B51: 発生材処理 | E51: 1 | F51: 式
B55: 計
H73: =IF(B73<>"計",ROUNDDOWN(E73*G73,0),SUM(H$1:H72)) -> 0
H75: =IF(B75<>"計",ROUNDDOWN(E75*G75,0),SUM(H$1:H74)) -> 0
H77: =IF(B77<>"計",ROUNDDOWN(E77*G77,0),SUM(H$1:H76)) -> 0
H79: =IF(B79<>"計",ROUNDDOWN(E79*G79,0),SUM(H$1:H78)) -> 0
H81: =IF(B81<>"計",ROUNDDOWN(E81*G81,0),SUM(H$1:H80)) -> 0

Sheet (1)小科目S4
B1: 名 称 | C1: 摘 要 | E1: 数 量 | F1: 単位 | G1: 単 価 | H1: 金 額 | I1: 備 考
A2: Ⅰ-(1)-1 | B2: ステップＳ４（宿泊棟）
A3: 4-1 | B3: 空気調和設備
A7: 1. | B7: 機器設備 | E7: 1 | F7: 式
A9: 2. | B9: 配管設備 | E9: 1 | F9: 式
A11: 3. | B11: 総合調整 | E11: 1 | F11: 式
B15: 計
A18: Ⅰ-(1)-1 | B18: ステップＳ４（宿泊棟）
A19: 4-2 | B19: 換気設備
A23: 1. | B23: 機器設備 | E23: 1 | F23: 式
A25: 2. | B25: ダクト設備 | E25: 1 | F25: 式
A27: 3. | B27: 総合調整 | E27: 1 | F27: 式
B31: 計
A34: Ⅰ-(1)-1 | B34: ステップＳ４（宿泊棟）
A35: 4-3 | B35: 自動制御設備
A39: 1. | B39: 自動制御設備 | E39: 1 | F39: 式
B43: 計
A46: Ⅰ-(1)-1 | B46: ステップＳ４（宿泊棟）
A47: 4-4 | B47: 撤去工事
A51: 1. | B51: 撤去工事 | E51: 1 | F51: 式
B55: 計
A58: Ⅰ-(1)-1 | B58: ステップＳ４（宿泊棟）
A59: 4-5 | B59: アスベスト含有フランジ撤去
A63: 1. | B63: アスベスト含有フランジ撤去 | E63: 1 | F63: 式
B67: 計
A70: Ⅰ-(1)-1 | B70: ステップＳ４（宿泊棟）
A71: 4-6 | B71: 足場組立及び解体工事
A75: 1. | B75: 足場組立及び解体工事 | E75: 1 | F75: 式
B79: 計
A82: Ⅰ-(1)-1 | B82: ステップＳ４（宿泊棟）
A83: 4-7 | B83: 発生材処理
A87: 1. | B87: 発生材処理 | E87: 1 | F87: 式
B91: 計
H107: =IF(B107<>"計",ROUNDDOWN(E107*G107,0),SUM(H$1:H106)) -> 0
H109: =IF(B109<>"計",ROUNDDOWN(E109*G109,0),SUM(H$1:H108)) -> 0
H111: =IF(B111<>"計",ROUNDDOWN(E111*G111,0),SUM(H$1:H110)) -> 0
H113: =IF(B113<>"計",ROUNDDOWN(E113*G113,0),SUM(H$1:H112)) -> 0
H115: =IF(B115<>"計",ROUNDDOWN(E115*G115,0),SUM(H$1:H114)) -> 0
H117: =IF(B117<>"計",ROUNDDOWN(E117*G117,0),SUM(H$1:H116)) -> 0
H119: =IF(B119<>"計",ROUNDDOWN(E119*G119,0),SUM(H$1:H118)) -> 0
H121: =IF(B121<>"計",ROUNDDOWN(E121*G121,0),SUM(H$1:H120)) -> 0
H123: =IF(B123<>"計",ROUNDDOWN(E123*G123,0),SUM(H$1:H122)) -> 0
H125: =IF(B125<>"計",ROUNDDOWN(E125*G125,0),SUM(H$1:H124)) -> 0
H127: =IF(B127<>"計",ROUNDDOWN(E127*G127,0),SUM(H$1:H126)) -> 0
H129: =IF(B129<>"計",ROUNDDOWN(E129*G129,0),SUM(H$1:H128)) -> 0
... H143: =IF(B143<>"計",ROUNDDOWN(E143*G143,0),SUM(H$1:H142)) -> 0

Sheet (2)小科目S0
B1: 名 称 | C1: 摘 要 | E1: 数 量 | F1: 単位 | G1: 単 価 | H1: 金 額 | I1: 備 考
A2: Ⅰ-(2)-1 | B2: ステップＳ０（宿泊棟）
A3: 1-1 | B3: 排水設備
A7: 1. | B7: 排水設備 | E7: 1 | F7: 式
B11: 計
A14: Ⅰ-(2)-1 | B14: ステップＳ０（宿泊棟）
A15: 1-2 | B15: 撤去工事
A19: 1. | B19: 撤去工事 | E19: 1 | F19: 式
B23: 計
A26: Ⅰ-(2)-1 | B26: ステップＳ０（宿泊棟）
A27: 1-3 | B27: 足場組立及び解体工事
A31: 1. | B31: 足場組立及び解体工事 | E31: 1 | F31: 式
B35: 計
A38: Ⅰ-(2)-1 | B38: ステップＳ０（宿泊棟）
A39: 1-4 | B39: 発生材処理
A43: 1. | B43: 発生材処理 | E43: 1 | F43: 式
B47: 計
H73: =IF(B73<>"計",ROUNDDOWN(E73*G73,0),SUM(H$1:H72)) -> 0
H75: =IF(B75<>"計",ROUNDDOWN(E75*G75,0),SUM(H$1:H74)) -> 0
H77: =IF(B77<>"計",ROUNDDOWN(E77*G77,0),SUM(H$1:H76)) -> 0
H79: =IF(B79<>"計",ROUNDDOWN(E79*G79,0),SUM(H$1:H78)) -> 0
H81: =IF(B81<>"計",ROUNDDOWN(E81*G81,0),SUM(H$1:H80)) -> 0

Sheet (2)小科目S1
B1: 名 称 | C1: 摘 要 | E1: 数 量 | F1: 単位 | G1: 単 価 | H1: 金 額 | I1: 備 考
A2: Ⅰ-(2)-1 | B2: ステップＳ１（宿泊棟）
A3: 2-1 | B3: 衛生器具設備
A7: 1. | B7: 衛生器具設備 | E7: 1 | F7: 式
B11: 計
A14: Ⅰ-(2)-1 | B14: ステップＳ１（宿泊棟）
A15: 2-2 | B15: 給水設備
A19: 1. | B19: 給水設備 | E19: 1 | F19: 式
B23: 計
A26: Ⅰ-(2)-1 | B26: ステップＳ１（宿泊棟）
A27: 2-3 | B27: 排水設備
A31: 1. | B31: 排水設備 | E31: 1 | F31: 式
B35: 計
A38: Ⅰ-(2)-1 | B38: ステップＳ１（宿泊棟）
A39: 2-4 | B39: 給湯設備
A43: 1. | B43: 給湯設備 | E43: 1 | F43: 式
B47: 計
A50: Ⅰ-(2)-1 | B50: ステップＳ１（宿泊棟）
A51: 2-5 | B51: 消火設備
A55: 1. | B55: 消火設備 | E55: 1 | F55: 式
B59: 計
A62: Ⅰ-(2)-1 | B62: ステップＳ１（宿泊棟）
A63: 2-6 | B63: 撤去工事
A67: 1. | B67: 撤去工事 | E67: 1 | F67: 式
B71: 計
A74: Ⅰ-(2)-1 | B74: ステップＳ１（宿泊棟）
A75: 2-7 | B75: 発生材処理
A79: 1. | B79: 発生材処理 | E79: 1 | F79: 式
B83: 計
H103: =IF(B103<>"計",ROUNDDOWN(E103*G103,0),SUM(H$1:H102)) -> 0
H105: =IF(B105<>"計",ROUNDDOWN(E105*G105,0),SUM(H$1:H104)) -> 0
H107: =IF(B107<>"計",ROUNDDOWN(E107*G107,0),SUM(H$1:H106)) -> 0
H109: =IF(B109<>"計",ROUNDDOWN(E109*G109,0),SUM(H$1:H108)) -> 0
H111: =IF(B111<>"計",ROUNDDOWN(E111*G111,0),SUM(H$1:H110)) -> 0
H113: =IF(B113<>"計",ROUNDDOWN(E113*G113,0),SUM(H$1:H112)) -> 0
H115: =IF(B115<>"計",ROUNDDOWN(E115*G115,0),SUM(H$1:H114)) -> 0
H117: =IF(B117<>"計",ROUNDDOWN(E117*G117,0),SUM(H$1:H116)) -> 0
H119: =IF(B119<>"計",ROUNDDOWN(E119*G119,0),SUM(H$1:H118)) -> 0

Sheet (2)小科目S2
B1: 名 称 | C1: 摘 要 | E1: 数 量 | F1: 単位 | G1: 単 価 | H1: 金 額 | I1: 備 考
A2: Ⅰ-(2)-1 | B2: ステップＳ２（宿泊棟）
A3: 3-1 | B3: 排水設備
A7: 1. | B7: 排水設備 | E7: 1 | F7: 式
B11: 計
A14: Ⅰ-(2)-1 | B14: ステップＳ２（宿泊棟）
A15: 3-2 | B15: 消火設備
A19: 1. | B19: 消火設備 | E19: 1 | F19: 式
B23: 計
A26: Ⅰ-(2)-1 | B26: ステップＳ２（宿泊棟）
A27: 3-3 | B27: 撤去工事
A31: 1. | B31: 撤去工事 | E31: 1 | F31: 式
B35: 計
A38: Ⅰ-(2)-1 | B38: ステップＳ２（宿泊棟）
A39: 3-4 | B39: 発生材処理
A43: 1. | B43: 発生材処理 | E43: 1 | F43: 式
B47: 計
H71: =IF(B71<>"計",ROUNDDOWN(E71*G71,0),SUM(H$1:H70)) -> 0
H73: =IF(B73<>"計",ROUNDDOWN(E73*G73,0),SUM(H$1:H72)) -> 0
H75: =IF(B75<>"計",ROUNDDOWN(E75*G75,0),SUM(H$1:H74)) -> 0
H77: =IF(B77<>"計",ROUNDDOWN(E77*G77,0),SUM(H$1:H76)) -> 0
H79: =IF(B79<>"計",ROUNDDOWN(E79*G79,0),SUM(H$1:H78)) -> 0
H81: =IF(B81<>"計",ROUNDDOWN(E81*G81,0),SUM(H$1:H80)) -> 0
H83: =IF(B83<>"計",ROUNDDOWN(E83*G83,0),SUM(H$1:H82)) -> 0
H85: =IF(B85<>"計",ROUNDDOWN(E85*G85,0),SUM(H$1:H84)) -> 0

Sheet (2)小科目S3
B1: 名 称 | C1: 摘 要 | E1: 数 量 | F1: 単位 | G1: 単 価 | H1: 金 額 | I1: 備 考
A2: Ⅰ-(2)-1 | B2: ステップＳ３（宿泊棟）
A3: 4-1 | B3: 衛生器具設備
A7: 1. | B7: 衛生器具設備 | E7: 1 | F7: 式
B11: 計
A14: Ⅰ-(2)-1 | B14: ステップＳ３（宿泊棟）
A15: 4-2 | B15: 給水設備
A19: 1. | B19: 給水設備 | E19: 1 | F19: 式
B23: 計
A26: Ⅰ-(2)-1 | B26: ステップＳ３（宿泊棟）
A27: 4-3 | B27: 排水設備
A31: 1. | B31: 排水設備 | E31: 1 | F31: 式
B35: 計
A38: Ⅰ-(2)-1 | B38: ステップＳ３（宿泊棟）
A39: 4-4 | B39: 給湯設備
A43: 1. | B43: 給湯設備 | E43: 1 | F43: 式
B47: 計
A50: Ⅰ-(2)-1 | B50: ステップＳ３（宿泊棟）
A51: 4-5 | B51: 消火設備
A55: 1. | B55: 消火設備 | E55: 1 | F55: 式
B59: 計
A62: Ⅰ-(2)-1 | B62: ステップＳ３（宿泊棟）
A63: 4-6 | B63: 撤去工事
A67: 1. | B67: 撤去工事 | E67: 1 | F67: 式
B71: 計
A74: Ⅰ-(2)-1 | B74: ステップＳ３（宿泊棟）
A75: 4-7 | B75: 発生材処理
A79: 1. | B79: 発生材処理 | E79: 1 | F79: 式
B83: 計
H109: =IF(B109<>"計",ROUNDDOWN(E109*G109,0),SUM(H$1:H108)) -> 0
H111: =IF(B111<>"計",ROUNDDOWN(E111*G111,0),SUM(H$1:H110)) -> 0
H113: =IF(B113<>"計",ROUNDDOWN(E113*G113,0),SUM(H$1:H112)) -> 0
H115: =IF(B115<>"計",ROUNDDOWN(E115*G115,0),SUM(H$1:H114)) -> 0
H117: =IF(B117<>"計",ROUNDDOWN(E117*G117,0),SUM(H$1:H116)) -> 0
H119: =IF(B119<>"計",ROUNDDOWN(E119*G119,0),SUM(H$1:H118)) -> 0
H121: =IF(B121<>"計",ROUNDDOWN(E121*G121,0),SUM(H$1:H120)) -> 0
H123: =IF(B123<>"計",ROUNDDOWN(E123*G123,0),SUM(H$1:H122)) -> 0
H125: =IF(B125<>"計",ROUNDDOWN(E125*G125,0),SUM(H$1:H124)) -> 0
H127: =IF(B127<>"計",ROUNDDOWN(E127*G127,0),SUM(H$1:H126)) -> 0
H129: =IF(B129<>"計",ROUNDDOWN(E129*G129,0),SUM(H$1:H128)) -> 0
H131: =IF(B131<>"計",ROUNDDOWN(E131*G131,0),SUM(H$1:H130)) -> 0
... H135: =IF(B135<>"計",ROUNDDOWN(E135*G135,0),SUM(H$1:H134)) -> 0

Sheet (2)小科目S4
B1: 名 称 | C1: 摘 要 | E1: 数 量 | F1: 単位 | G1: 単 価 | H1: 金 額 | I1: 備 考
A2: Ⅰ-(2)-1 | B2: ステップＳ４（宿泊棟）
A3: 5-1 | B3: 衛生器具設備
A7: 1. | B7: 衛生器具設備 | E7: 1 | F7: 式
B11: 計
A14: Ⅰ-(2)-1 | B14: ステップＳ４（宿泊棟）
A15: 5-2 | B15: 給水設備
A19: 1. | B19: 給水設備 | E19: 1 | F19: 式
B23: 計
A26: Ⅰ-(2)-1 | B26: ステップＳ４（宿泊棟）
A27: 5-3 | B27: 排水設備
A31: 1. | B31: 排水設備 | E31: 1 | F31: 式
B35: 計
A38: Ⅰ-(2)-1 | B38: ステップＳ４（宿泊棟）
A39: 5-4 | B39: 給湯設備
A43: 1. | B43: 給湯設備 | E43: 1 | F43: 式
B47: 計
A50: Ⅰ-(2)-1 | B50: ステップＳ４（宿泊棟）
A51: 5-5 | B51: 消火設備
A55: 1. | B55: 消火設備 | E55: 1 | F55: 式
B59: 計
A62: Ⅰ-(2)-1 | B62: ステップＳ４（宿泊棟）
A63: 5-6 | B63: ガス設備
A67: 1. | B67: ガス設備 | E67: 1 | F67: 式
B71: 計
A74: Ⅰ-(2)-1 | B74: ステップＳ４（宿泊棟）
A75: 5-7 | B75: 撤去工事
A79: 1. | B79: 撤去工事 | E79: 1 | F79: 式
B83: 計
A86: Ⅰ-(2)-1 | B86: ステップＳ４（宿泊棟）
A87: 5-8 | B87: 発生材処理
A91: 1. | B91: 発生材処理 | E91: 1 | F91: 式
B95: 計
H109: =IF(B109<>"計",ROUNDDOWN(E109*G109,0),SUM(H$1:H108)) -> 0
H111: =IF(B111<>"計",ROUNDDOWN(E111*G111,0),SUM(H$1:H110)) -> 0
H113: =IF(B113<>"計",ROUNDDOWN(E113*G113,0),SUM(H$1:H112)) -> 0
H115: =IF(B115<>"計",ROUNDDOWN(E115*G115,0),SUM(H$1:H114)) -> 0
H117: =IF(B117<>"計",ROUNDDOWN(E117*G117,0),SUM(H$1:H116)) -> 0
H119: =IF(B119<>"計",ROUNDDOWN(E119*G119,0),SUM(H$1:H118)) -> 0
H121: =IF(B121<>"計",ROUNDDOWN(E121*G121,0),SUM(H$1:H120)) -> 0
H123: =IF(B123<>"計",ROUNDDOWN(E123*G123,0),SUM(H$1:H122)) -> 0
H125: =IF(B125<>"計",ROUNDDOWN(E125*G125,0),SUM(H$1:H124)) -> 0
H127: =IF(B127<>"計",ROUNDDOWN(E127*G127,0),SUM(H$1:H126)) -> 0
H129: =IF(B129<>"計",ROUNDDOWN(E129*G129,0),SUM(H$1:H128)) -> 0
H131: =IF(B131<>"計",ROUNDDOWN(E131*G131,0),SUM(H$1:H130)) -> 0
H133: =IF(B133<>"計",ROUNDDOWN(E133*G133,0),SUM(H$1:H132)) -> 0
