Workbook

Sheet ○表紙西暦
E1: 2021 | G1: 年 | H1: 4 | I1: 月 | J1: 1 | K1: 日
B5: (仮称)○○○○○○ビル新築工事
B8: 工 事 費 内 訳 書

Sheet △表紙年号令和
E1: 令和 | F1: 3 | G1: 年 | H1: 4 | I1: 月 | J1: 1 | K1: 日
B5: (仮称)○○○○○○ビル新築工事
B8: 工 事 費 内 訳 書

Sheet （1）建築
B1: 名 称 | C1: 摘 要 | E1: 数 量 | F1: 単位 | G1: 単 価 | H1: 金 額 | I1: 備 考 | M1: 検算欄 | N1: 検算差額
M2: 下以降一式と合計は各自設定 | N2: 差額が0であればOK
A3: （1） | B3: 建築工事 | H3: =IF(B3<>"計",ROUNDDOWN(E3*G3,0),SUM(H$1:H2)) -> 0 | M3: =IF(B3<>"計",ROUNDDOWN(E3*G3,0),SUM(M$1:M2)) -> 0 | N3: =IF((+H3-M3)<>0,H3-M3,IF(H3>0,"0",""))
H5: =IF(B5<>"計",ROUNDDOWN(E5*G5,0),SUM(H$1:H4)) -> 0 | M5: =IF(B5<>"計",ROUNDDOWN(E5*G5,0),SUM(M$1:M4)) -> 0 | N5: =IF((+H5-M5)<>0,H5-M5,IF(H5>0,"0",""))
A7: 1. | B7: 直接仮設 | E7: 1 | F7: 式 | H7: =IF(B7<>"計",ROUNDDOWN(E7*G7,0),SUM(H$1:H6)) -> 0 | M7: =IF(B7<>"計",ROUNDDOWN(E7*G7,0),SUM(M$1:M6)) -> 0 | N7: =IF((+H7-M7)<>0,H7-M7,IF(H7>0,"0",""))
A9: 2. | B9: 土工 | E9: 1 | F9: 式 | H9: =IF(B9<>"計",ROUNDDOWN(E9*G9,0),SUM(H$1:H8)) -> 0 | M9: =IF(B9<>"計",ROUNDDOWN(E9*G9,0),SUM(M$1:M8)) -> 0 | N9: =IF((+H9-M9)<>0,H9-M9,IF(H9>0,"0",""))
A11: 3. | B11: 地業 | E11: 1 | F11: 式 | H11: =IF(B11<>"計",ROUNDDOWN(E11*G11,0),SUM(H$1:H10)) -> 0 | M11: =IF(B11<>"計",ROUNDDOWN(E11*G11,0),SUM(M$1:M10)) -> 0 | N11: =IF((+H11-M11)<>0,H11-M11,IF(H11>0,"0",""))
A13: 4. | B13: 鉄筋 | E13: 1 | F13: 式 | H13: =IF(B13<>"計",ROUNDDOWN(E13*G13,0),SUM(H$1:H12)) -> 0 | M13: =IF(B13<>"計",ROUNDDOWN(E13*G13,0),SUM(M$1:M12)) -> 0 | N13: =IF((+H13-M13)<>0,H13-M13,IF(H13>0,"0",""))
A15: 5. | B15: コンクリ－ト | E15: 1 | F15: 式 | H15: =IF(B15<>"計",ROUNDDOWN(E15*G15,0),SUM(H$1:H14)) -> 0 | M15: =IF(B15<>"計",ROUNDDOWN(E15*G15,0),SUM(M$1:M14)) -> 0 | N15: =IF((+H15-M15)<>0,H15-M15,IF(H15>0,"0",""))
A17: 6. | B17: 型枠 | E17: 1 | F17: 式 | H17: =IF(B17<>"計",ROUNDDOWN(E17*G17,0),SUM(H$1:H16)) -> 0 | M17: =IF(B17<>"計",ROUNDDOWN(E17*G17,0),SUM(M$1:M16)) -> 0 | N17: =IF((+H17-M17)<>0,H17-M17,IF(H17>0,"0",""))
A19: 7. | B19: 鉄骨 | E19: 1 | F19: 式 | H19: =IF(B19<>"計",ROUNDDOWN(E19*G19,0),SUM(H$1:H18)) -> 0 | M19: =IF(B19<>"計",ROUNDDOWN(E19*G19,0),SUM(M$1:M18)) -> 0 | N19: =IF((+H19-M19)<>0,H19-M19,IF(H19>0,"0",""))
A21: 8. | B21: 既製コンクリ－ト | E21: 1 | F21: 式 | H21: =IF(B21<>"計",ROUNDDOWN(E21*G21,0),SUM(H$1:H20)) -> 0 | M21: =IF(B21<>"計",ROUNDDOWN(E21*G21,0),SUM(M$1:M20)) -> 0 | N21: =IF((+H21-M21)<>0,H21-M21,IF(H21>0,"0",""))
A23: 9. | B23: 防水 | E23: 1 | F23: 式 | H23: =IF(B23<>"計",ROUNDDOWN(E23*G23,0),SUM(H$1:H22)) -> 0 | M23: =IF(B23<>"計",ROUNDDOWN(E23*G23,0),SUM(M$1:M22)) -> 0 | N23: =IF((+H23-M23)<>0,H23-M23,IF(H23>0,"0",""))
A25: 10. | B25: 石 | E25: 1 | F25: 式 | H25: =IF(B25<>"計",ROUNDDOWN(E25*G25,0),SUM(H$1:H24)) -> 0 | M25: =IF(B25<>"計",ROUNDDOWN(E25*G25,0),SUM(M$1:M24)) -> 0 | N25: =IF((+H25-M25)<>0,H25-M25,IF(H25>0,"0",""))
A27: 11. | B27: タイル | E27: 1 | F27: 式 | H27: =IF(B27<>"計",ROUNDDOWN(E27*G27,0),SUM(H$1:H26)) -> 0 | M27: =IF(B27<>"計",ROUNDDOWN(E27*G27,0),SUM(M$1:M26)) -> 0 | N27: =IF((+H27-M27)<>0,H27-M27,IF(H27>0,"0",""))
A29: 12. | B29: 木工 | E29: 1 | F29: 式 | H29: =IF(B29<>"計",ROUNDDOWN(E29*G29,0),SUM(H$1:H28)) -> 0 | M29: =IF(B29<>"計",ROUNDDOWN(E29*G29,0),SUM(M$1:M28)) -> 0 | N29: =IF((+H29-M29)<>0,H29-M29,IF(H29>0,"0",""))
... A47: 21. | B47: 発生材処理 | E47: 1 | F47: 式 | H47: =IF(B47<>"計",ROUNDDOWN(E47*G47,0),SUM(H$1:H46)) -> 0 | M47: =IF(B47<>"計",ROUNDDOWN(E47*G47,0),SUM(M$1:M46)) -> 0 | N47: =IF((+H47-M47)<>0,H47-M47,IF(H47>0,"0",""))
H49: =IF(B49<>"計",ROUNDDOWN(E49*G49,0),SUM(H$1:H48)) -> 0 | M49: =IF(B49<>"計",ROUNDDOWN(E49*G49,0),SUM(M$1:M48)) -> 0 | N49: =IF((+H49-M49)<>0,H49-M49,IF(H49>0,"0",""))
H51: =IF(B51<>"計",ROUNDDOWN(E51*G51,0),SUM(H$1:H50)) -> 0 | M51: =IF(B51<>"計",ROUNDDOWN(E51*G51,0),SUM(M$1:M50)) -> 0 | N51: =IF((+H51-M51)<>0,H51-M51,IF(H51>0,"0",""))
H53: =IF(B53<>"計",ROUNDDOWN(E53*G53,0),SUM(H$1:H52)) -> 0 | M53: =IF(B53<>"計",ROUNDDOWN(E53*G53,0),SUM(M$1:M52)) -> 0 | N53: =IF((+H53-M53)<>0,H53-M53,IF(H53>0,"0",""))
H55: =IF(B55<>"計",ROUNDDOWN(E55*G55,0),SUM(H$1:H54)) -> 0 | M55: =IF(B55<>"計",ROUNDDOWN(E55*G55,0),SUM(M$1:M54)) -> 0 | N55: =IF((+H55-M55)<>0,H55-M55,IF(H55>0,"0",""))
H57: =IF(B57<>"計",ROUNDDOWN(E57*G57,0),SUM(H$1:H56)) -> 0 | M57: =IF(B57<>"計",ROUNDDOWN(E57*G57,0),SUM(M$1:M56)) -> 0 | N57: =IF((+H57-M57)<>0,H57-M57,IF(H57>0,"0",""))
H59: =IF(B59<>"計",ROUNDDOWN(E59*G59,0),SUM(H$1:H58)) -> 0 | M59: =IF(B59<>"計",ROUNDDOWN(E59*G59,0),SUM(M$1:M58)) -> 0 | N59: =IF((+H59-M59)<>0,H59-M59,IF(H59>0,"0",""))
H61: =IF(B61<>"計",ROUNDDOWN(E61*G61,0),SUM(H$1:H60)) -> 0 | M61: =IF(B61<>"計",ROUNDDOWN(E61*G61,0),SUM(M$1:M60)) -> 0 | N61: =IF((+H61-M61)<>0,H61-M61,IF(H61>0,"0",""))
H63: =IF(B63<>"計",ROUNDDOWN(E63*G63,0),SUM(H$1:H62)) -> 0 | M63: =IF(B63<>"計",ROUNDDOWN(E63*G63,0),SUM(M$1:M62)) -> 0 | N63: =IF((+H63-M63)<>0,H63-M63,IF(H63>0,"0",""))
H65: =IF(B65<>"計",ROUNDDOWN(E65*G65,0),SUM(H$1:H64)) -> 0 | M65: =IF(B65<>"計",ROUNDDOWN(E65*G65,0),SUM(M$1:M64)) -> 0 | N65: =IF((+H65-M65)<>0,H65-M65,IF(H65>0,"0",""))
H67: =IF(B67<>"計",ROUNDDOWN(E67*G67,0),SUM(H$1:H66)) -> 0 | M67: =IF(B67<>"計",ROUNDDOWN(E67*G67,0),SUM(M$1:M66)) -> 0 | N67: =IF((+H67-M67)<>0,H67-M67,IF(H67>0,"0",""))
H69: =IF(B69<>"計",ROUNDDOWN(E69*G69,0),SUM(H$1:H68)) -> 0 | M69: =IF(B69<>"計",ROUNDDOWN(E69*G69,0),SUM(M$1:M68)) -> 0 | N69: =IF((+H69-M69)<>0,H69-M69,IF(H69>0,"0",""))
B71: 計 | H71: =IF(B71<>"計",ROUNDDOWN(E71*G71,0),SUM(H$1:H70)) -> 0 | M71: =IF(B71<>"計",ROUNDDOWN(E71*G71,0),SUM(M$1:M70)) -> 0 | N71: =IF((+H71-M71)<>0,H71-M71,IF(H71>0,"0",""))
H73: =IF(B73<>"計",ROUNDDOWN(E73*G73,0),SUM(H$1:H72)) -> 0 | M73: =IF(B73<>"計",ROUNDDOWN(E73*G73,0),SUM(M$1:M72)) -> 0 | N73: =IF((+H73-M73)<>0,H73-M73,IF(H73>0,"0",""))
H75: =ROUNDDOWN(E75*G75,0) -> 0
H77: =ROUNDDOWN(E77*G77,0) -> 0
H79: =ROUNDDOWN(E79*G79,0) -> 0
H81: =ROUNDDOWN(E81*G81,0) -> 0
H83: =ROUNDDOWN(E83*G83,0) -> 0
H85: =ROUNDDOWN(E85*G85,0) -> 0
H87: =ROUNDDOWN(E87*G87,0) -> 0
H89: =ROUNDDOWN(E89*G89,0) -> 0
H91: =ROUNDDOWN(E91*G91,0) -> 0
H93: =ROUNDDOWN(E93*G93,0) -> 0
H95: =ROUNDDOWN(E95*G95,0) -> 0
H97: =ROUNDDOWN(E97*G97,0) -> 0
... H167: =ROUNDDOWN(E167*G167,0) -> 0

Sheet 建築内訳
B1: 名 称 | C1: 摘 要 | E1: 数 量 | F1: 単位 | G1: 単 価 | H1: 金 額 | I1: 備 考 | M1: 検算欄 | N1: 検算差額
M2: 下以降一式と合計は各自設定 | N2: 差額が0であればOK
H3: =IF(B3<>"計",ROUNDDOWN(E3*G3,0),SUM(H$1:H2)) -> 0 | M3: =IF(B3<>"計",ROUNDDOWN(E3*G3,0),SUM(M$1:M2)) -> 0 | N3: =IF((+H3-M3)<>0,H3-M3,IF(H3>0,"0",""))
H5: =IF(B5<>"計",ROUNDDOWN(E5*G5,0),SUM(H$1:H4)) -> 0 | M5: =IF(B5<>"計",ROUNDDOWN(E5*G5,0),SUM(M$1:M4)) -> 0 | N5: =IF((+H5-M5)<>0,H5-M5,IF(H5>0,"0",""))
H7: =IF(B7<>"計",ROUNDDOWN(E7*G7,0),SUM(H$1:H6)) -> 0 | M7: =IF(B7<>"計",ROUNDDOWN(E7*G7,0),SUM(M$1:M6)) -> 0 | N7: =IF((+H7-M7)<>0,H7-M7,IF(H7>0,"0",""))
H9: =IF(B9<>"計",ROUNDDOWN(E9*G9,0),SUM(H$1:H8)) -> 0 | M9: =IF(B9<>"計",ROUNDDOWN(E9*G9,0),SUM(M$1:M8)) -> 0 | N9: =IF((+H9-M9)<>0,H9-M9,IF(H9>0,"0",""))
H11: =IF(B11<>"計",ROUNDDOWN(E11*G11,0),SUM(H$1:H10)) -> 0 | M11: =IF(B11<>"計",ROUNDDOWN(E11*G11,0),SUM(M$1:M10)) -> 0 | N11: =IF((+H11-M11)<>0,H11-M11,IF(H11>0,"0",""))
H13: =IF(B13<>"計",ROUNDDOWN(E13*G13,0),SUM(H$1:H12)) -> 0 | M13: =IF(B13<>"計",ROUNDDOWN(E13*G13,0),SUM(M$1:M12)) -> 0 | N13: =IF((+H13-M13)<>0,H13-M13,IF(H13>0,"0",""))
H15: =IF(B15<>"計",ROUNDDOWN(E15*G15,0),SUM(H$1:H14)) -> 0 | M15: =IF(B15<>"計",ROUNDDOWN(E15*G15,0),SUM(M$1:M14)) -> 0 | N15: =IF((+H15-M15)<>0,H15-M15,IF(H15>0,"0",""))
H17: =IF(B17<>"計",ROUNDDOWN(E17*G17,0),SUM(H$1:H16)) -> 0 | M17: =IF(B17<>"計",ROUNDDOWN(E17*G17,0),SUM(M$1:M16)) -> 0 | N17: =IF((+H17-M17)<>0,H17-M17,IF(H17>0,"0",""))
H19: =IF(B19<>"計",ROUNDDOWN(E19*G19,0),SUM(H$1:H18)) -> 0 | M19: =IF(B19<>"計",ROUNDDOWN(E19*G19,0),SUM(M$1:M18)) -> 0 | N19: =IF((+H19-M19)<>0,H19-M19,IF(H19>0,"0",""))
H21: =IF(B21<>"計",ROUNDDOWN(E21*G21,0),SUM(H$1:H20)) -> 0 | M21: =IF(B21<>"計",ROUNDDOWN(E21*G21,0),SUM(M$1:M20)) -> 0 | N21: =IF((+H21-M21)<>0,H21-M21,IF(H21>0,"0",""))
H23: =IF(B23<>"計",ROUNDDOWN(E23*G23,0),SUM(H$1:H22)) -> 0 | M23: =IF(B23<>"計",ROUNDDOWN(E23*G23,0),SUM(M$1:M22)) -> 0 | N23: =IF((+H23-M23)<>0,H23-M23,IF(H23>0,"0",""))
H25: =IF(B25<>"計",ROUNDDOWN(E25*G25,0),SUM(H$1:H24)) -> 0 | M25: =IF(B25<>"計",ROUNDDOWN(E25*G25,0),SUM(M$1:M24)) -> 0 | N25: =IF((+H25-M25)<>0,H25-M25,IF(H25>0,"0",""))
... H37: =IF(B37<>"計",ROUNDDOWN(E37*G37,0),SUM(H$1:H36)) -> 0 | M37: =IF(B37<>"計",ROUNDDOWN(E37*G37,0),SUM(M$1:M36)) -> 0 | N37: =IF((+H37-M37)<>0,H37-M37,IF(H37>0,"0",""))
H39: =IF(B39<>"計",ROUNDDOWN(E39*G39,0),SUM(H$1:H38)) -> 0
H41: =IF(B41<>"計",ROUNDDOWN(E41*G41,0),SUM(H$1:H40)) -> 0 | M41: =IF(B41<>"計",ROUNDDOWN(E41*G41,0),SUM(M$1:M40)) -> 0 | N41: =IF((+H41-M41)<>0,H41-M41,IF(H41>0,"0",""))
H43: =IF(B43<>"計",ROUNDDOWN(E43*G43,0),SUM(H$1:H42)) -> 0 | M43: =IF(B43<>"計",ROUNDDOWN(E43*G43,0),SUM(M$1:M42)) -> 0 | N43: =IF((+H43-M43)<>0,H43-M43,IF(H43>0,"0",""))
H45: =IF(B45<>"計",ROUNDDOWN(E45*G45,0),SUM(H$1:H44)) -> 0 | M45: =IF(B45<>"計",ROUNDDOWN(E45*G45,0),SUM(M$1:M44)) -> 0 | N45: =IF((+H45-M45)<>0,H45-M45,IF(H45>0,"0",""))
H47: =IF(B47<>"計",ROUNDDOWN(E47*G47,0),SUM(H$1:H46)) -> 0 | M47: =IF(B47<>"計",ROUNDDOWN(E47*G47,0),SUM(M$1:M46)) -> 0 | N47: =IF((+H47-M47)<>0,H47-M47,IF(H47>0,"0",""))
H49: =IF(B49<>"計",ROUNDDOWN(E49*G49,0),SUM(H$1:H48)) -> 0 | M49: =IF(B49<>"計",ROUNDDOWN(E49*G49,0),SUM(M$1:M48)) -> 0 | N49: =IF((+H49-M49)<>0,H49-M49,IF(H49>0,"0",""))
H51: =IF(B51<>"計",ROUNDDOWN(E51*G51,0),SUM(H$1:H50)) -> 0 | M51: =IF(B51<>"計",ROUNDDOWN(E51*G51,0),SUM(M$1:M50)) -> 0 | N51: =IF((+H51-M51)<>0,H51-M51,IF(H51>0,"0",""))
H53: =IF(B53<>"計",ROUNDDOWN(E53*G53,0),SUM(H$1:H52)) -> 0 | M53: =IF(B53<>"計",ROUNDDOWN(E53*G53,0),SUM(M$1:M52)) -> 0 | N53: =IF((+H53-M53)<>0,H53-M53,IF(H53>0,"0",""))
H55: =IF(B55<>"計",ROUNDDOWN(E55*G55,0),SUM(H$1:H54)) -> 0 | M55: =IF(B55<>"計",ROUNDDOWN(E55*G55,0),SUM(M$1:M54)) -> 0 | N55: =IF((+H55-M55)<>0,H55-M55,IF(H55>0,"0",""))
H57: =IF(B57<>"計",ROUNDDOWN(E57*G57,0),SUM(H$1:H56)) -> 0 | M57: =IF(B57<>"計",ROUNDDOWN(E57*G57,0),SUM(M$1:M56)) -> 0 | N57: =IF((+H57-M57)<>0,H57-M57,IF(H57>0,"0",""))
H59: =IF(B59<>"計",ROUNDDOWN(E59*G59,0),SUM(H$1:H58)) -> 0 | M59: =IF(B59<>"計",ROUNDDOWN(E59*G59,0),SUM(M$1:M58)) -> 0 | N59: =IF((+H59-M59)<>0,H59-M59,IF(H59>0,"0",""))
H61: =IF(B61<>"計",ROUNDDOWN(E61*G61,0),SUM(H$1:H60)) -> 0 | M61: =IF(B61<>"計",ROUNDDOWN(E61*G61,0),SUM(M$1:M60)) -> 0 | N61: =IF((+H61-M61)<>0,H61-M61,IF(H61>0,"0",""))
H63: =IF(B63<>"計",ROUNDDOWN(E63*G63,0),SUM(H$1:H62)) -> 0 | M63: =IF(B63<>"計",ROUNDDOWN(E63*G63,0),SUM(M$1:M62)) -> 0 | N63: =IF((+H63-M63)<>0,H63-M63,IF(H63>0,"0",""))
... H181: =IF(B181<>"計",ROUNDDOWN(E181*G181,0),SUM(H$1:H180)) -> 0 | M181: =IF(B181<>"計",ROUNDDOWN(E181*G181,0),SUM(M$1:M180)) -> 0 | N181: =IF((+H181-M181)<>0,H181-M181,IF(H181>0,"0",""))

Sheet （2）電気
B1: 名 称 | C1: 摘 要 | E1: 数 量 | F1: 単位 | G1: 単 価 | H1: 金 額 | I1: 備 考 | L1: 050930改 | M1: 検算欄 | N1: 検算差額
M2: 下以降一式と合計は各自設定 | N2: 差額が0であればOK
A3: （2） | B3: 電気設備工事 | H3: =IF(B3<>"計",ROUNDDOWN(E3*G3,0),SUM(H$1:H2)) -> 0 | M3: =IF(B3<>"計",ROUNDDOWN(E3*G3,0),SUM(M$1:M2)) -> 0 | N3: =IF((+H3-M3)<>0,H3-M3,IF(H3>0,"0",""))
H5: =IF(B5<>"計",ROUNDDOWN(E5*G5,0),SUM(H$1:H4)) -> 0 | M5: =IF(B5<>"計",ROUNDDOWN(E5*G5,0),SUM(M$1:M4)) -> 0 | N5: =IF((+H5-M5)<>0,H5-M5,IF(H5>0,"0",""))
A7: 1. | B7: 電灯設備 | E7: 1 | F7: 式 | H7: =IF(B7<>"計",ROUNDDOWN(E7*G7,0),SUM(H$1:H6)) -> 0 | M7: =IF(B7<>"計",ROUNDDOWN(E7*G7,0),SUM(M$1:M6)) -> 0 | N7: =IF((+H7-M7)<>0,H7-M7,IF(H7>0,"0",""))
A9: 1.1 | B9: 照明設備 | E9: 1 | F9: 式 | H9: =IF(B9<>"計",ROUNDDOWN(E9*G9,0),SUM(H$1:H8)) -> 0 | M9: =IF(B9<>"計",ROUNDDOWN(E9*G9,0),SUM(M$1:M8)) -> 0 | N9: =IF((+H9-M9)<>0,H9-M9,IF(H9>0,"0",""))
A11: 1.2 | B11: コンセント設備 | E11: 1 | F11: 式 | H11: =IF(B11<>"計",ROUNDDOWN(E11*G11,0),SUM(H$1:H10)) -> 0 | M11: =IF(B11<>"計",ROUNDDOWN(E11*G11,0),SUM(M$1:M10)) -> 0 | N11: =IF((+H11-M11)<>0,H11-M11,IF(H11>0,"0",""))
A13: 1.3 | B13: 非常照明･誘導灯設備 | E13: 1 | F13: 式 | H13: =IF(B13<>"計",ROUNDDOWN(E13*G13,0),SUM(H$1:H12)) -> 0 | M13: =IF(B13<>"計",ROUNDDOWN(E13*G13,0),SUM(M$1:M12)) -> 0 | N13: =IF((+H13-M13)<>0,H13-M13,IF(H13>0,"0",""))
A15: 2. | B15: 動力設備 | E15: 1 | F15: 式 | H15: =IF(B15<>"計",ROUNDDOWN(E15*G15,0),SUM(H$1:H14)) -> 0 | M15: =IF(B15<>"計",ROUNDDOWN(E15*G15,0),SUM(M$1:M14)) -> 0 | N15: =IF((+H15-M15)<>0,H15-M15,IF(H15>0,"0",""))
A17: 3. | B17: 電熱設備 | E17: 1 | F17: 式 | H17: =IF(B17<>"計",ROUNDDOWN(E17*G17,0),SUM(H$1:H16)) -> 0 | M17: =IF(B17<>"計",ROUNDDOWN(E17*G17,0),SUM(M$1:M16)) -> 0 | N17: =IF((+H17-M17)<>0,H17-M17,IF(H17>0,"0",""))
A19: 4. | B19: 接地設備 | E19: 1 | F19: 式 | H19: =IF(B19<>"計",ROUNDDOWN(E19*G19,0),SUM(H$1:H18)) -> 0 | M19: =IF(B19<>"計",ROUNDDOWN(E19*G19,0),SUM(M$1:M18)) -> 0 | N19: =IF((+H19-M19)<>0,H19-M19,IF(H19>0,"0",""))
A21: 5. | B21: 幹線設備 | E21: 1 | F21: 式 | H21: =IF(B21<>"計",ROUNDDOWN(E21*G21,0),SUM(H$1:H20)) -> 0 | M21: =IF(B21<>"計",ROUNDDOWN(E21*G21,0),SUM(M$1:M20)) -> 0 | N21: =IF((+H21-M21)<>0,H21-M21,IF(H21>0,"0",""))
A23: 5.1 | B23: 電灯幹線設備 | E23: 1 | F23: 式 | H23: =IF(B23<>"計",ROUNDDOWN(E23*G23,0),SUM(H$1:H22)) -> 0 | M23: =IF(B23<>"計",ROUNDDOWN(E23*G23,0),SUM(M$1:M22)) -> 0 | N23: =IF((+H23-M23)<>0,H23-M23,IF(H23>0,"0",""))
A25: 5.2 | B25: 動力幹線設備 | E25: 1 | F25: 式 | H25: =IF(B25<>"計",ROUNDDOWN(E25*G25,0),SUM(H$1:H24)) -> 0 | M25: =IF(B25<>"計",ROUNDDOWN(E25*G25,0),SUM(M$1:M24)) -> 0 | N25: =IF((+H25-M25)<>0,H25-M25,IF(H25>0,"0",""))
A27: 6. | B27: 雷保護設備 | E27: 1 | F27: 式 | H27: =IF(B27<>"計",ROUNDDOWN(E27*G27,0),SUM(H$1:H26)) -> 0 | M27: =IF(B27<>"計",ROUNDDOWN(E27*G27,0),SUM(M$1:M26)) -> 0 | N27: =IF((+H27-M27)<>0,H27-M27,IF(H27>0,"0",""))
A29: 7. | B29: 航空障害灯等設備 | E29: 1 | F29: 式 | H29: =IF(B29<>"計",ROUNDDOWN(E29*G29,0),SUM(H$1:H28)) -> 0 | M29: =IF(B29<>"計",ROUNDDOWN(E29*G29,0),SUM(M$1:M28)) -> 0 | N29: =IF((+H29-M29)<>0,H29-M29,IF(H29>0,"0",""))
... A111: 29. | B111: 雑費 | E111: 1 | F111: 式 | H111: =IF(B111<>"計",ROUNDDOWN(E111*G111,0),SUM(H$1:H110)) -> 0 | M111: =IF(B111<>"計",ROUNDDOWN(E111*G111,0),SUM(M$1:M110)) -> 0 | N111: =IF((+H111-M111)<>0,H111-M111,IF(H111>0,"0",""))
H113: =IF(B113<>"計",ROUNDDOWN(E113*G113,0),SUM(H$1:H112)) -> 0 | M113: =IF(B113<>"計",ROUNDDOWN(E113*G113,0),SUM(M$1:M112)) -> 0 | N113: =IF((+H113-M113)<>0,H113-M113,IF(H113>0,"0",""))
H115: =IF(B115<>"計",ROUNDDOWN(E115*G115,0),SUM(H$1:H114)) -> 0 | M115: =IF(B115<>"計",ROUNDDOWN(E115*G115,0),SUM(M$1:M114)) -> 0 | N115: =IF((+H115-M115)<>0,H115-M115,IF(H115>0,"0",""))
H117: =IF(B117<>"計",ROUNDDOWN(E117*G117,0),SUM(H$1:H116)) -> 0 | M117: =IF(B117<>"計",ROUNDDOWN(E117*G117,0),SUM(M$1:M116)) -> 0 | N117: =IF((+H117-M117)<>0,H117-M117,IF(H117>0,"0",""))
H119: =IF(B119<>"計",ROUNDDOWN(E119*G119,0),SUM(H$1:H118)) -> 0 | M119: =IF(B119<>"計",ROUNDDOWN(E119*G119,0),SUM(M$1:M118)) -> 0 | N119: =IF((+H119-M119)<>0,H119-M119,IF(H119>0,"0",""))
H121: =IF(B121<>"計",ROUNDDOWN(E121*G121,0),SUM(H$1:H120)) -> 0 | M121: =IF(B121<>"計",ROUNDDOWN(E121*G121,0),SUM(M$1:M120)) -> 0 | N121: =IF((+H121-M121)<>0,H121-M121,IF(H121>0,"0",""))
H123: =IF(B123<>"計",ROUNDDOWN(E123*G123,0),SUM(H$1:H122)) -> 0 | M123: =IF(B123<>"計",ROUNDDOWN(E123*G123,0),SUM(M$1:M122)) -> 0 | N123: =IF((+H123-M123)<>0,H123-M123,IF(H123>0,"0",""))
H125: =IF(B125<>"計",ROUNDDOWN(E125*G125,0),SUM(H$1:H124)) -> 0 | M125: =IF(B125<>"計",ROUNDDOWN(E125*G125,0),SUM(M$1:M124)) -> 0 | N125: =IF((+H125-M125)<>0,H125-M125,IF(H125>0,"0",""))
H127: =IF(B127<>"計",ROUNDDOWN(E127*G127,0),SUM(H$1:H126)) -> 0 | M127: =IF(B127<>"計",ROUNDDOWN(E127*G127,0),SUM(M$1:M126)) -> 0 | N127: =IF((+H127-M127)<>0,H127-M127,IF(H127>0,"0",""))
H129: =IF(B129<>"計",ROUNDDOWN(E129*G129,0),SUM(H$1:H128)) -> 0 | M129: =IF(B129<>"計",ROUNDDOWN(E129*G129,0),SUM(M$1:M128)) -> 0 | N129: =IF((+H129-M129)<>0,H129-M129,IF(H129>0,"0",""))
H131: =IF(B131<>"計",ROUNDDOWN(E131*G131,0),SUM(H$1:H130)) -> 0 | M131: =IF(B131<>"計",ROUNDDOWN(E131*G131,0),SUM(M$1:M130)) -> 0 | N131: =IF((+H131-M131)<>0,H131-M131,IF(H131>0,"0",""))
H133: =IF(B133<>"計",ROUNDDOWN(E133*G133,0),SUM(H$1:H132)) -> 0 | M133: =IF(B133<>"計",ROUNDDOWN(E133*G133,0),SUM(M$1:M132)) -> 0 | N133: =IF((+H133-M133)<>0,H133-M133,IF(H133>0,"0",""))
H135: =IF(B135<>"計",ROUNDDOWN(E135*G135,0),SUM(H$1:H134)) -> 0 | M135: =IF(B135<>"計",ROUNDDOWN(E135*G135,0),SUM(M$1:M134)) -> 0 | N135: =IF((+H135-M135)<>0,H135-M135,IF(H135>0,"0",""))
... H141: =IF(B141<>"計",ROUNDDOWN(E141*G141,0),SUM(H$1:H140)) -> 0 | M141: =IF(B141<>"計",ROUNDDOWN(E141*G141,0),SUM(M$1:M140)) -> 0 | N141: =IF((+H141-M141)<>0,H141-M141,IF(H141>0,"0",""))
B143: 計 | H143: =IF(B143<>"計",ROUNDDOWN(E143*G143,0),SUM(H$1:H142)) -> 0 | M143: =IF(B143<>"計",ROUNDDOWN(E143*G143,0),SUM(M$1:M142)) -> 0 | N143: =IF((+H143-M143)<>0,H143-M143,IF(H143>0,"0",""))
H145: =IF(B145<>"計",ROUNDDOWN(E145*G145,0),SUM(H$1:H144)) -> 0 | M145: =IF(B145<>"計",ROUNDDOWN(E145*G145,0),SUM(M$1:M144)) -> 0 | N145: =IF((+H145-M145)<>0,H145-M145,IF(H145>0,"0",""))
H146: =ROUNDDOWN(E146*G146,0) -> 0
H148: =ROUNDDOWN(E148*G148,0) -> 0
H150: =ROUNDDOWN(E150*G150,0) -> 0
H152: =ROUNDDOWN(E152*G152,0) -> 0
H154: =ROUNDDOWN(E154*G154,0) -> 0
H156: =ROUNDDOWN(E156*G156,0) -> 0
H158: =ROUNDDOWN(E158*G158,0) -> 0
H160: =ROUNDDOWN(E160*G160,0) -> 0
H162: =ROUNDDOWN(E162*G162,0) -> 0
H164: =ROUNDDOWN(E164*G164,0) -> 0
H166: =ROUNDDOWN(E166*G166,0) -> 0
H168: =ROUNDDOWN(E168*G168,0) -> 0
... H296: =ROUNDDOWN(E296*G296,0) -> 0

Sheet 電気内訳
B1: 名 称 | C1: 摘 要 | E1: 数 量 | F1: 単位 | G1: 単 価 | H1: 金 額 | I1: 備 考 | M1: 検算欄 | N1: 検算差額
M2: 下以降一式と合計は各自設定 | N2: 差額が0であればOK
H3: =IF(B3<>"計",ROUNDDOWN(E3*G3,0),SUM(H$1:H2)) -> 0 | M3: =IF(B3<>"計",ROUNDDOWN(E3*G3,0),SUM(M$1:M2)) -> 0 | N3: =IF((+H3-M3)<>0,H3-M3,IF(H3>0,"0",""))
H5: =IF(B5<>"計",ROUNDDOWN(E5*G5,0),SUM(H$1:H4)) -> 0 | M5: =IF(B5<>"計",ROUNDDOWN(E5*G5,0),SUM(M$1:M4)) -> 0 | N5: =IF((+H5-M5)<>0,H5-M5,IF(H5>0,"0",""))
H7: =IF(B7<>"計",ROUNDDOWN(E7*G7,0),SUM(H$1:H6)) -> 0 | M7: =IF(B7<>"計",ROUNDDOWN(E7*G7,0),SUM(M$1:M6)) -> 0 | N7: =IF((+H7-M7)<>0,H7-M7,IF(H7>0,"0",""))
H9: =IF(B9<>"計",ROUNDDOWN(E9*G9,0),SUM(H$1:H8)) -> 0 | M9: =IF(B9<>"計",ROUNDDOWN(E9*G9,0),SUM(M$1:M8)) -> 0 | N9: =IF((+H9-M9)<>0,H9-M9,IF(H9>0,"0",""))
H11: =IF(B11<>"計",ROUNDDOWN(E11*G11,0),SUM(H$1:H10)) -> 0 | M11: =IF(B11<>"計",ROUNDDOWN(E11*G11,0),SUM(M$1:M10)) -> 0 | N11: =IF((+H11-M11)<>0,H11-M11,IF(H11>0,"0",""))
H13: =IF(B13<>"計",ROUNDDOWN(E13*G13,0),SUM(H$1:H12)) -> 0 | M13: =IF(B13<>"計",ROUNDDOWN(E13*G13,0),SUM(M$1:M12)) -> 0 | N13: =IF((+H13-M13)<>0,H13-M13,IF(H13>0,"0",""))
H15: =IF(B15<>"計",ROUNDDOWN(E15*G15,0),SUM(H$1:H14)) -> 0 | M15: =IF(B15<>"計",ROUNDDOWN(E15*G15,0),SUM(M$1:M14)) -> 0 | N15: =IF((+H15-M15)<>0,H15-M15,IF(H15>0,"0",""))
H17: =IF(B17<>"計",ROUNDDOWN(E17*G17,0),SUM(H$1:H16)) -> 0 | M17: =IF(B17<>"計",ROUNDDOWN(E17*G17,0),SUM(M$1:M16)) -> 0 | N17: =IF((+H17-M17)<>0,H17-M17,IF(H17>0,"0",""))
H19: =IF(B19<>"計",ROUNDDOWN(E19*G19,0),SUM(H$1:H18)) -> 0 | M19: =IF(B19<>"計",ROUNDDOWN(E19*G19,0),SUM(M$1:M18)) -> 0 | N19: =IF((+H19-M19)<>0,H19-M19,IF(H19>0,"0",""))
H21: =IF(B21<>"計",ROUNDDOWN(E21*G21,0),SUM(H$1:H20)) -> 0 | M21: =IF(B21<>"計",ROUNDDOWN(E21*G21,0),SUM(M$1:M20)) -> 0 | N21: =IF((+H21-M21)<>0,H21-M21,IF(H21>0,"0",""))
H23: =IF(B23<>"計",ROUNDDOWN(E23*G23,0),SUM(H$1:H22)) -> 0 | M23: =IF(B23<>"計",ROUNDDOWN(E23*G23,0),SUM(M$1:M22)) -> 0 | N23: =IF((+H23-M23)<>0,H23-M23,IF(H23>0,"0",""))
H25: =IF(B25<>"計",ROUNDDOWN(E25*G25,0),SUM(H$1:H24)) -> 0 | M25: =IF(B25<>"計",ROUNDDOWN(E25*G25,0),SUM(M$1:M24)) -> 0 | N25: =IF((+H25-M25)<>0,H25-M25,IF(H25>0,"0",""))
... H181: =IF(B181<>"計",ROUNDDOWN(E181*G181,0),SUM(H$1:H180)) -> 0 | M181: =IF(B181<>"計",ROUNDDOWN(E181*G181,0),SUM(M$1:M180)) -> 0 | N181: =IF((+H181-M181)<>0,H181-M181,IF(H181>0,"0",""))
H183: =ROUNDDOWN(E183*G183,0) -> 0
H185: =ROUNDDOWN(E185*G185,0) -> 0
H187: =ROUNDDOWN(E187*G187,0) -> 0
H189: =ROUNDDOWN(E189*G189,0) -> 0
H191: =ROUNDDOWN(E191*G191,0) -> 0
H193: =ROUNDDOWN(E193*G193,0) -> 0
H195: =ROUNDDOWN(E195*G195,0) -> 0
H197: =ROUNDDOWN(E197*G197,0) -> 0
H199: =ROUNDDOWN(E199*G199,0) -> 0
H201: =ROUNDDOWN(E201*G201,0) -> 0
H203: =ROUNDDOWN(E203*G203,0) -> 0
H205: =ROUNDDOWN(E205*G205,0) -> 0
... H333: =ROUNDDOWN(E333*G333,0) -> 0

Sheet （3）空調
B1: 名 称 | C1: 摘 要 | E1: 数 量 | F1: 単位 | G1: 単 価 | H1: 金 額 | I1: 備 考 | M1: 検算欄 | N1: 検算差額
M2: 下以降一式と合計は各自設定 | N2: 差額が0であればOK
A3: （3） | B3: 空気調和設備工事 | H3: =IF(B3<>"計",ROUNDDOWN(E3*G3,0),SUM(H$1:H2)) -> 0 | M3: =IF(B3<>"計",ROUNDDOWN(E3*G3,0),SUM(M$1:M2)) -> 0 | N3: =IF((+H3-M3)<>0,H3-M3,IF(H3>0,"0",""))
H5: =IF(B5<>"計",ROUNDDOWN(E5*G5,0),SUM(H$1:H4)) -> 0 | M5: =IF(B5<>"計",ROUNDDOWN(E5*G5,0),SUM(M$1:M4)) -> 0 | N5: =IF((+H5-M5)<>0,H5-M5,IF(H5>0,"0",""))
A7: 1. | B7: 空気調和設備 | E7: 1 | F7: 式 | H7: =IF(B7<>"計",ROUNDDOWN(E7*G7,0),SUM(H$1:H6)) -> 0 | M7: =IF(B7<>"計",ROUNDDOWN(E7*G7,0),SUM(M$1:M6)) -> 0 | N7: =IF((+H7-M7)<>0,H7-M7,IF(H7>0,"0",""))
A9: 2. | B9: 換気設備 | E9: 1 | F9: 式 | H9: =IF(B9<>"計",ROUNDDOWN(E9*G9,0),SUM(H$1:H8)) -> 0 | M9: =IF(B9<>"計",ROUNDDOWN(E9*G9,0),SUM(M$1:M8)) -> 0 | N9: =IF((+H9-M9)<>0,H9-M9,IF(H9>0,"0",""))
A11: 3. | B11: 排煙設備 | E11: 1 | F11: 式 | H11: =IF(B11<>"計",ROUNDDOWN(E11*G11,0),SUM(H$1:H10)) -> 0 | M11: =IF(B11<>"計",ROUNDDOWN(E11*G11,0),SUM(M$1:M10)) -> 0 | N11: =IF((+H11-M11)<>0,H11-M11,IF(H11>0,"0",""))
A13: 4. | B13: 自動制御設備 | E13: 1 | F13: 式 | H13: =IF(B13<>"計",ROUNDDOWN(E13*G13,0),SUM(H$1:H12)) -> 0 | M13: =IF(B13<>"計",ROUNDDOWN(E13*G13,0),SUM(M$1:M12)) -> 0 | N13: =IF((+H13-M13)<>0,H13-M13,IF(H13>0,"0",""))
A15: 5. | B15: 雑費 | E15: 1 | F15: 式 | H15: =IF(B15<>"計",ROUNDDOWN(E15*G15,0),SUM(H$1:H14)) -> 0 | M15: =IF(B15<>"計",ROUNDDOWN(E15*G15,0),SUM(M$1:M14)) -> 0 | N15: =IF((+H15-M15)<>0,H15-M15,IF(H15>0,"0",""))
H17: =IF(B17<>"計",ROUNDDOWN(E17*G17,0),SUM(H$1:H16)) -> 0 | M17: =IF(B17<>"計",ROUNDDOWN(E17*G17,0),SUM(M$1:M16)) -> 0 | N17: =IF((+H17-M17)<>0,H17-M17,IF(H17>0,"0",""))
H19: =IF(B19<>"計",ROUNDDOWN(E19*G19,0),SUM(H$1:H18)) -> 0 | M19: =IF(B19<>"計",ROUNDDOWN(E19*G19,0),SUM(M$1:M18)) -> 0 | N19: =IF((+H19-M19)<>0,H19-M19,IF(H19>0,"0",""))
H21: =IF(B21<>"計",ROUNDDOWN(E21*G21,0),SUM(H$1:H20)) -> 0 | M21: =IF(B21<>"計",ROUNDDOWN(E21*G21,0),SUM(M$1:M20)) -> 0 | N21: =IF((+H21-M21)<>0,H21-M21,IF(H21>0,"0",""))
H23: =IF(B23<>"計",ROUNDDOWN(E23*G23,0),SUM(H$1:H22)) -> 0 | M23: =IF(B23<>"計",ROUNDDOWN(E23*G23,0),SUM(M$1:M22)) -> 0 | N23: =IF((+H23-M23)<>0,H23-M23,IF(H23>0,"0",""))
H25: =IF(B25<>"計",ROUNDDOWN(E25*G25,0),SUM(H$1:H24)) -> 0 | M25: =IF(B25<>"計",ROUNDDOWN(E25*G25,0),SUM(M$1:M24)) -> 0 | N25: =IF((+H25-M25)<>0,H25-M25,IF(H25>0,"0",""))
H27: =IF(B27<>"計",ROUNDDOWN(E27*G27,0),SUM(H$1:H26)) -> 0 | M27: =IF(B27<>"計",ROUNDDOWN(E27*G27,0),SUM(M$1:M26)) -> 0 | N27: =IF((+H27-M27)<>0,H27-M27,IF(H27>0,"0",""))
H29: =IF(B29<>"計",ROUNDDOWN(E29*G29,0),SUM(H$1:H28)) -> 0 | M29: =IF(B29<>"計",ROUNDDOWN(E29*G29,0),SUM(M$1:M28)) -> 0 | N29: =IF((+H29-M29)<>0,H29-M29,IF(H29>0,"0",""))
H31: =IF(B31<>"計",ROUNDDOWN(E31*G31,0),SUM(H$1:H30)) -> 0 | M31: =IF(B31<>"計",ROUNDDOWN(E31*G31,0),SUM(M$1:M30)) -> 0 | N31: =IF((+H31-M31)<>0,H31-M31,IF(H31>0,"0",""))
H33: =IF(B33<>"計",ROUNDDOWN(E33*G33,0),SUM(H$1:H32)) -> 0 | M33: =IF(B33<>"計",ROUNDDOWN(E33*G33,0),SUM(M$1:M32)) -> 0 | N33: =IF((+H33-M33)<>0,H33-M33,IF(H33>0,"0",""))
B35: 計 | H35: =IF(B35<>"計",ROUNDDOWN(E35*G35,0),SUM(H$1:H34)) -> 0 | M35: =IF(B35<>"計",ROUNDDOWN(E35*G35,0),SUM(M$1:M34)) -> 0 | N35: =IF((+H35-M35)<>0,H35-M35,IF(H35>0,"0",""))
H37: =IF(B37<>"計",ROUNDDOWN(E37*G37,0),SUM(H$1:H36)) -> 0 | M37: =IF(B37<>"計",ROUNDDOWN(E37*G37,0),SUM(M$1:M36)) -> 0 | N37: =IF((+H37-M37)<>0,H37-M37,IF(H37>0,"0",""))
H39: =IF(B39<>"計",ROUNDDOWN(E39*G39,0),SUM(H$1:H38)) -> 0 | M39: =IF(B39<>"計",ROUNDDOWN(E39*G39,0),SUM(M$1:M38)) -> 0 | N39: =IF((+H39-M39)<>0,H39-M39,IF(H39>0,"0",""))
H41: =IF(B41<>"計",ROUNDDOWN(E41*G41,0),SUM(H$1:H40)) -> 0 | M41: =IF(B41<>"計",ROUNDDOWN(E41*G41,0),SUM(M$1:M40)) -> 0 | N41: =IF((+H41-M41)<>0,H41-M41,IF(H41>0,"0",""))
H43: =IF(B43<>"計",ROUNDDOWN(E43*G43,0),SUM(H$1:H42)) -> 0 | M43: =IF(B43<>"計",ROUNDDOWN(E43*G43,0),SUM(M$1:M42)) -> 0 | N43: =IF((+H43-M43)<>0,H43-M43,IF(H43>0,"0",""))
H45: =IF(B45<>"計",ROUNDDOWN(E45*G45,0),SUM(H$1:H44)) -> 0 | M45: =IF(B45<>"計",ROUNDDOWN(E45*G45,0),SUM(M$1:M44)) -> 0 | N45: =IF((+H45-M45)<>0,H45-M45,IF(H45>0,"0",""))
H47: =IF(B47<>"計",ROUNDDOWN(E47*G47,0),SUM(H$1:H46)) -> 0 | M47: =IF(B47<>"計",ROUNDDOWN(E47*G47,0),SUM(M$1:M46)) -> 0 | N47: =IF((+H47-M47)<>0,H47-M47,IF(H47>0,"0",""))
H49: =IF(B49<>"計",ROUNDDOWN(E49*G49,0),SUM(H$1:H48)) -> 0 | M49: =IF(B49<>"計",ROUNDDOWN(E49*G49,0),SUM(M$1:M48)) -> 0 | N49: =IF((+H49-M49)<>0,H49-M49,IF(H49>0,"0",""))
H51: =IF(B51<>"計",ROUNDDOWN(E51*G51,0),SUM(H$1:H50)) -> 0 | M51: =IF(B51<>"計",ROUNDDOWN(E51*G51,0),SUM(M$1:M50)) -> 0 | N51: =IF((+H51-M51)<>0,H51-M51,IF(H51>0,"0",""))
H53: =IF(B53<>"計",ROUNDDOWN(E53*G53,0),SUM(H$1:H52)) -> 0 | M53: =IF(B53<>"計",ROUNDDOWN(E53*G53,0),SUM(M$1:M52)) -> 0 | N53: =IF((+H53-M53)<>0,H53-M53,IF(H53>0,"0",""))
H55: =IF(B55<>"計",ROUNDDOWN(E55*G55,0),SUM(H$1:H54)) -> 0 | M55: =IF(B55<>"計",ROUNDDOWN(E55*G55,0),SUM(M$1:M54)) -> 0 | N55: =IF((+H55-M55)<>0,H55-M55,IF(H55>0,"0",""))
H57: =IF(B57<>"計",ROUNDDOWN(E57*G57,0),SUM(H$1:H56)) -> 0 | M57: =IF(B57<>"計",ROUNDDOWN(E57*G57,0),SUM(M$1:M56)) -> 0 | N57: =IF((+H57-M57)<>0,H57-M57,IF(H57>0,"0",""))
H59: =IF(B59<>"計",ROUNDDOWN(E59*G59,0),SUM(H$1:H58)) -> 0 | M59: =IF(B59<>"計",ROUNDDOWN(E59*G59,0),SUM(M$1:M58)) -> 0 | N59: =IF((+H59-M59)<>0,H59-M59,IF(H59>0,"0",""))
... H73: =IF(B73<>"計",ROUNDDOWN(E73*G73,0),SUM(H$1:H72)) -> 0 | M73: =IF(B73<>"計",ROUNDDOWN(E73*G73,0),SUM(M$1:M72)) -> 0 | N73: =IF((+H73-M73)<>0,H73-M73,IF(H73>0,"0",""))
H75: =IF(B75<>"計",ROUNDDOWN(E75*G75,0),SUM(H$1:H74)) -> 0
H77: =IF(B77<>"計",ROUNDDOWN(E77*G77,0),SUM(H$1:H76)) -> 0
H79: =IF(B79<>"計",ROUNDDOWN(E79*G79,0),SUM(H$1:H78)) -> 0
H81: =IF(B81<>"計",ROUNDDOWN(E81*G81,0),SUM(H$1:H80)) -> 0
H83: =IF(B83<>"計",ROUNDDOWN(E83*G83,0),SUM(H$1:H82)) -> 0
H85: =IF(B85<>"計",ROUNDDOWN(E85*G85,0),SUM(H$1:H84)) -> 0
H87: =IF(B87<>"計",ROUNDDOWN(E87*G87,0),SUM(H$1:H86)) -> 0
H89: =IF(B89<>"計",ROUNDDOWN(E89*G89,0),SUM(H$1:H88)) -> 0
H91: =IF(B91<>"計",ROUNDDOWN(E91*G91,0),SUM(H$1:H90)) -> 0
H93: =IF(B93<>"計",ROUNDDOWN(E93*G93,0),SUM(H$1:H92)) -> 0
H95: =IF(B95<>"計",ROUNDDOWN(E95*G95,0),SUM(H$1:H94)) -> 0
H97: =IF(B97<>"計",ROUNDDOWN(E97*G97,0),SUM(H$1:H96)) -> 0
... H181: =IF(B181<>"計",ROUNDDOWN(E181*G181,0),SUM(H$1:H180)) -> 0
H183: =ROUNDDOWN(E183*G183,0) -> 0
H185: =ROUNDDOWN(E185*G185,0) -> 0
H187: =ROUNDDOWN(E187*G187,0) -> 0
H189: =ROUNDDOWN(E189*G189,0) -> 0
H191: =ROUNDDOWN(E191*G191,0) -> 0
H193: =ROUNDDOWN(E193*G193,0) -> 0
H195: =ROUNDDOWN(E195*G195,0) -> 0
H197: =ROUNDDOWN(E197*G197,0) -> 0
H199: =ROUNDDOWN(E199*G199,0) -> 0
H201: =ROUNDDOWN(E201*G201,0) -> 0
H203: =ROUNDDOWN(E203*G203,0) -> 0
H205: =ROUNDDOWN(E205*G205,0) -> 0
... H225: =ROUNDDOWN(E225*G225,0) -> 0

Sheet 空調内訳
B1: 名 称 | C1: 摘 要 | E1: 数 量 | F1: 単位 | G1: 単 価 | H1: 金 額 | I1: 備 考 | M1: 検算欄 | N1: 検算差額
M2: 下以降一式と合計は各自設定 | N2: 差額が0であればOK
H3: =IF(B3<>"計",ROUNDDOWN(E3*G3,0),SUM(H$1:H2)) -> 0 | M3: =IF(B3<>"計",ROUNDDOWN(E3*G3,0),SUM(M$1:M2)) -> 0 | N3: =IF((+H3-M3)<>0,H3-M3,IF(H3>0,"0",""))
H5: =IF(B5<>"計",ROUNDDOWN(E5*G5,0),SUM(H$1:H4)) -> 0 | M5: =IF(B5<>"計",ROUNDDOWN(E5*G5,0),SUM(M$1:M4)) -> 0 | N5: =IF((+H5-M5)<>0,H5-M5,IF(H5>0,"0",""))
H7: =IF(B7<>"計",ROUNDDOWN(E7*G7,0),SUM(H$1:H6)) -> 0 | M7: =IF(B7<>"計",ROUNDDOWN(E7*G7,0),SUM(M$1:M6)) -> 0 | N7: =IF((+H7-M7)<>0,H7-M7,IF(H7>0,"0",""))
H9: =IF(B9<>"計",ROUNDDOWN(E9*G9,0),SUM(H$1:H8)) -> 0 | M9: =IF(B9<>"計",ROUNDDOWN(E9*G9,0),SUM(M$1:M8)) -> 0 | N9: =IF((+H9-M9)<>0,H9-M9,IF(H9>0,"0",""))
H11: =IF(B11<>"計",ROUNDDOWN(E11*G11,0),SUM(H$1:H10)) -> 0 | M11: =IF(B11<>"計",ROUNDDOWN(E11*G11,0),SUM(M$1:M10)) -> 0 | N11: =IF((+H11-M11)<>0,H11-M11,IF(H11>0,"0",""))
H13: =IF(B13<>"計",ROUNDDOWN(E13*G13,0),SUM(H$1:H12)) -> 0 | M13: =IF(B13<>"計",ROUNDDOWN(E13*G13,0),SUM(M$1:M12)) -> 0 | N13: =IF((+H13-M13)<>0,H13-M13,IF(H13>0,"0",""))
H15: =IF(B15<>"計",ROUNDDOWN(E15*G15,0),SUM(H$1:H14)) -> 0 | M15: =IF(B15<>"計",ROUNDDOWN(E15*G15,0),SUM(M$1:M14)) -> 0 | N15: =IF((+H15-M15)<>0,H15-M15,IF(H15>0,"0",""))
H17: =IF(B17<>"計",ROUNDDOWN(E17*G17,0),SUM(H$1:H16)) -> 0 | M17: =IF(B17<>"計",ROUNDDOWN(E17*G17,0),SUM(M$1:M16)) -> 0 | N17: =IF((+H17-M17)<>0,H17-M17,IF(H17>0,"0",""))
H19: =IF(B19<>"計",ROUNDDOWN(E19*G19,0),SUM(H$1:H18)) -> 0 | M19: =IF(B19<>"計",ROUNDDOWN(E19*G19,0),SUM(M$1:M18)) -> 0 | N19: =IF((+H19-M19)<>0,H19-M19,IF(H19>0,"0",""))
H21: =IF(B21<>"計",ROUNDDOWN(E21*G21,0),SUM(H$1:H20)) -> 0 | M21: =IF(B21<>"計",ROUNDDOWN(E21*G21,0),SUM(M$1:M20)) -> 0 | N21: =IF((+H21-M21)<>0,H21-M21,IF(H21>0,"0",""))
H23: =IF(B23<>"計",ROUNDDOWN(E23*G23,0),SUM(H$1:H22)) -> 0 | M23: =IF(B23<>"計",ROUNDDOWN(E23*G23,0),SUM(M$1:M22)) -> 0 | N23: =IF((+H23-M23)<>0,H23-M23,IF(H23>0,"0",""))
H25: =IF(B25<>"計",ROUNDDOWN(E25*G25,0),SUM(H$1:H24)) -> 0 | M25: =IF(B25<>"計",ROUNDDOWN(E25*G25,0),SUM(M$1:M24)) -> 0 | N25: =IF((+H25-M25)<>0,H25-M25,IF(H25>0,"0",""))
... H181: =IF(B181<>"計",ROUNDDOWN(E181*G181,0),SUM(H$1:H180)) -> 0 | M181: =IF(B181<>"計",ROUNDDOWN(E181*G181,0),SUM(M$1:M180)) -> 0 | N181: =IF((+H181-M181)<>0,H181-M181,IF(H181>0,"0",""))
H183: =ROUNDDOWN(E183*G183,0) -> 0
H185: =ROUNDDOWN(E185*G185,0) -> 0
H187: =ROUNDDOWN(E187*G187,0) -> 0
H189: =ROUNDDOWN(E189*G189,0) -> 0
H191: =ROUNDDOWN(E191*G191,0) -> 0
H193: =ROUNDDOWN(E193*G193,0) -> 0
H195: =ROUNDDOWN(E195*G195,0) -> 0
H197: =ROUNDDOWN(E197*G197,0) -> 0
H199: =ROUNDDOWN(E199*G199,0) -> 0
H201: =ROUNDDOWN(E201*G201,0) -> 0
H203: =ROUNDDOWN(E203*G203,0) -> 0
H205: =ROUNDDOWN(E205*G205,0) -> 0
... H333: =ROUNDDOWN(E333*G333,0) -> 0

Sheet （4）衛生
B1: 名 称 | C1: 摘 要 | E1: 数 量 | F1: 単位 | G1: 単 価 | H1: 金 額 | I1: 備 考 | M1: 検算欄 | N1: 検算差額
M2: 下以降一式と合計は各自設定 | N2: 差額が0であればOK
A3: （4） | B3: 給排水衛生設備工事 | H3: =IF(B3<>"計",ROUNDDOWN(E3*G3,0),SUM(H$1:H2)) -> 0 | M3: =IF(B3<>"計",ROUNDDOWN(E3*G3,0),SUM(M$1:M2)) -> 0 | N3: =IF((+H3-M3)<>0,H3-M3,IF(H3>0,"0",""))
H5: =IF(B5<>"計",ROUNDDOWN(E5*G5,0),SUM(H$1:H4)) -> 0 | M5: =IF(B5<>"計",ROUNDDOWN(E5*G5,0),SUM(M$1:M4)) -> 0 | N5: =IF((+H5-M5)<>0,H5-M5,IF(H5>0,"0",""))
A7: 1. | B7: 衛生器具設備 | E7: 1 | F7: 式 | H7: =IF(B7<>"計",ROUNDDOWN(E7*G7,0),SUM(H$1:H6)) -> 0 | M7: =IF(B7<>"計",ROUNDDOWN(E7*G7,0),SUM(M$1:M6)) -> 0 | N7: =IF((+H7-M7)<>0,H7-M7,IF(H7>0,"0",""))
A9: 2. | B9: 給水設備 | E9: 1 | F9: 式 | H9: =IF(B9<>"計",ROUNDDOWN(E9*G9,0),SUM(H$1:H8)) -> 0 | M9: =IF(B9<>"計",ROUNDDOWN(E9*G9,0),SUM(M$1:M8)) -> 0 | N9: =IF((+H9-M9)<>0,H9-M9,IF(H9>0,"0",""))
A11: 3. | B11: 排水設備 | E11: 1 | F11: 式 | H11: =IF(B11<>"計",ROUNDDOWN(E11*G11,0),SUM(H$1:H10)) -> 0 | M11: =IF(B11<>"計",ROUNDDOWN(E11*G11,0),SUM(M$1:M10)) -> 0 | N11: =IF((+H11-M11)<>0,H11-M11,IF(H11>0,"0",""))
A13: 4. | B13: 給湯設備 | E13: 1 | F13: 式 | H13: =IF(B13<>"計",ROUNDDOWN(E13*G13,0),SUM(H$1:H12)) -> 0 | M13: =IF(B13<>"計",ROUNDDOWN(E13*G13,0),SUM(M$1:M12)) -> 0 | N13: =IF((+H13-M13)<>0,H13-M13,IF(H13>0,"0",""))
A15: 5. | B15: 消火設備 | E15: 1 | F15: 式 | H15: =IF(B15<>"計",ROUNDDOWN(E15*G15,0),SUM(H$1:H14)) -> 0 | M15: =IF(B15<>"計",ROUNDDOWN(E15*G15,0),SUM(M$1:M14)) -> 0 | N15: =IF((+H15-M15)<>0,H15-M15,IF(H15>0,"0",""))
A17: 6. | B17: 厨房機器設備 | E17: 1 | F17: 式 | H17: =IF(B17<>"計",ROUNDDOWN(E17*G17,0),SUM(H$1:H16)) -> 0 | M17: =IF(B17<>"計",ROUNDDOWN(E17*G17,0),SUM(M$1:M16)) -> 0 | N17: =IF((+H17-M17)<>0,H17-M17,IF(H17>0,"0",""))
A19: 7. | B19: ガス設備 | E19: 1 | F19: 式 | H19: =IF(B19<>"計",ROUNDDOWN(E19*G19,0),SUM(H$1:H18)) -> 0 | M19: =IF(B19<>"計",ROUNDDOWN(E19*G19,0),SUM(M$1:M18)) -> 0 | N19: =IF((+H19-M19)<>0,H19-M19,IF(H19>0,"0",""))
A21: 8. | B21: 雑費 | E21: 1 | F21: 式 | H21: =IF(B21<>"計",ROUNDDOWN(E21*G21,0),SUM(H$1:H20)) -> 0 | M21: =IF(B21<>"計",ROUNDDOWN(E21*G21,0),SUM(M$1:M20)) -> 0 | N21: =IF((+H21-M21)<>0,H21-M21,IF(H21>0,"0",""))
H23: =IF(B23<>"計",ROUNDDOWN(E23*G23,0),SUM(H$1:H22)) -> 0 | M23: =IF(B23<>"計",ROUNDDOWN(E23*G23,0),SUM(M$1:M22)) -> 0 | N23: =IF((+H23-M23)<>0,H23-M23,IF(H23>0,"0",""))
H25: =IF(B25<>"計",ROUNDDOWN(E25*G25,0),SUM(H$1:H24)) -> 0 | M25: =IF(B25<>"計",ROUNDDOWN(E25*G25,0),SUM(M$1:M24)) -> 0 | N25: =IF((+H25-M25)<>0,H25-M25,IF(H25>0,"0",""))
H27: =IF(B27<>"計",ROUNDDOWN(E27*G27,0),SUM(H$1:H26)) -> 0 | M27: =IF(B27<>"計",ROUNDDOWN(E27*G27,0),SUM(M$1:M26)) -> 0 | N27: =IF((+H27-M27)<>0,H27-M27,IF(H27>0,"0",""))
H29: =IF(B29<>"計",ROUNDDOWN(E29*G29,0),SUM(H$1:H28)) -> 0 | M29: =IF(B29<>"計",ROUNDDOWN(E29*G29,0),SUM(M$1:M28)) -> 0 | N29: =IF((+H29-M29)<>0,H29-M29,IF(H29>0,"0",""))
H31: =IF(B31<>"計",ROUNDDOWN(E31*G31,0),SUM(H$1:H30)) -> 0 | M31: =IF(B31<>"計",ROUNDDOWN(E31*G31,0),SUM(M$1:M30)) -> 0 | N31: =IF((+H31-M31)<>0,H31-M31,IF(H31>0,"0",""))
H33: =IF(B33<>"計",ROUNDDOWN(E33*G33,0),SUM(H$1:H32)) -> 0 | M33: =IF(B33<>"計",ROUNDDOWN(E33*G33,0),SUM(M$1:M32)) -> 0 | N33: =IF((+H33-M33)<>0,H33-M33,IF(H33>0,"0",""))
B35: 計 | H35: =IF(B35<>"計",ROUNDDOWN(E35*G35,0),SUM(H$1:H34)) -> 0 | M35: =IF(B35<>"計",ROUNDDOWN(E35*G35,0),SUM(M$1:M34)) -> 0 | N35: =IF((+H35-M35)<>0,H35-M35,IF(H35>0,"0",""))
H37: =IF(B37<>"計",ROUNDDOWN(E37*G37,0),SUM(H$1:H36)) -> 0 | M37: =IF(B37<>"計",ROUNDDOWN(E37*G37,0),SUM(M$1:M36)) -> 0 | N37: =IF((+H37-M37)<>0,H37-M37,IF(H37>0,"0",""))
H39: =IF(B39<>"計",ROUNDDOWN(E39*G39,0),SUM(H$1:H38)) -> 0 | M39: =IF(B39<>"計",ROUNDDOWN(E39*G39,0),SUM(M$1:M38)) -> 0 | N39: =IF((+H39-M39)<>0,H39-M39,IF(H39>0,"0",""))
H41: =IF(B41<>"計",ROUNDDOWN(E41*G41,0),SUM(H$1:H40)) -> 0 | M41: =IF(B41<>"計",ROUNDDOWN(E41*G41,0),SUM(M$1:M40)) -> 0 | N41: =IF((+H41-M41)<>0,H41-M41,IF(H41>0,"0",""))
H43: =IF(B43<>"計",ROUNDDOWN(E43*G43,0),SUM(H$1:H42)) -> 0 | M43: =IF(B43<>"計",ROUNDDOWN(E43*G43,0),SUM(M$1:M42)) -> 0 | N43: =IF((+H43-M43)<>0,H43-M43,IF(H43>0,"0",""))
H45: =IF(B45<>"計",ROUNDDOWN(E45*G45,0),SUM(H$1:H44)) -> 0 | M45: =IF(B45<>"計",ROUNDDOWN(E45*G45,0),SUM(M$1:M44)) -> 0 | N45: =IF((+H45-M45)<>0,H45-M45,IF(H45>0,"0",""))
H47: =IF(B47<>"計",ROUNDDOWN(E47*G47,0),SUM(H$1:H46)) -> 0 | M47: =IF(B47<>"計",ROUNDDOWN(E47*G47,0),SUM(M$1:M46)) -> 0 | N47: =IF((+H47-M47)<>0,H47-M47,IF(H47>0,"0",""))
H49: =IF(B49<>"計",ROUNDDOWN(E49*G49,0),SUM(H$1:H48)) -> 0 | M49: =IF(B49<>"計",ROUNDDOWN(E49*G49,0),SUM(M$1:M48)) -> 0 | N49: =IF((+H49-M49)<>0,H49-M49,IF(H49>0,"0",""))
H51: =IF(B51<>"計",ROUNDDOWN(E51*G51,0),SUM(H$1:H50)) -> 0 | M51: =IF(B51<>"計",ROUNDDOWN(E51*G51,0),SUM(M$1:M50)) -> 0 | N51: =IF((+H51-M51)<>0,H51-M51,IF(H51>0,"0",""))
H53: =IF(B53<>"計",ROUNDDOWN(E53*G53,0),SUM(H$1:H52)) -> 0 | M53: =IF(B53<>"計",ROUNDDOWN(E53*G53,0),SUM(M$1:M52)) -> 0 | N53: =IF((+H53-M53)<>0,H53-M53,IF(H53>0,"0",""))
H55: =IF(B55<>"計",ROUNDDOWN(E55*G55,0),SUM(H$1:H54)) -> 0 | M55: =IF(B55<>"計",ROUNDDOWN(E55*G55,0),SUM(M$1:M54)) -> 0 | N55: =IF((+H55-M55)<>0,H55-M55,IF(H55>0,"0",""))
H57: =IF(B57<>"計",ROUNDDOWN(E57*G57,0),SUM(H$1:H56)) -> 0 | M57: =IF(B57<>"計",ROUNDDOWN(E57*G57,0),SUM(M$1:M56)) -> 0 | N57: =IF((+H57-M57)<>0,H57-M57,IF(H57>0,"0",""))
H59: =IF(B59<>"計",ROUNDDOWN(E59*G59,0),SUM(H$1:H58)) -> 0 | M59: =IF(B59<>"計",ROUNDDOWN(E59*G59,0),SUM(M$1:M58)) -> 0 | N59: =IF((+H59-M59)<>0,H59-M59,IF(H59>0,"0",""))
... H73: =IF(B73<>"計",ROUNDDOWN(E73*G73,0),SUM(H$1:H72)) -> 0 | M73: =IF(B73<>"計",ROUNDDOWN(E73*G73,0),SUM(M$1:M72)) -> 0 | N73: =IF((+H73-M73)<>0,H73-M73,IF(H73>0,"0",""))
H191: =ROUNDDOWN(E191*G191,0) -> 0
H193: =ROUNDDOWN(E193*G193,0) -> 0
H195: =ROUNDDOWN(E195*G195,0) -> 0
H197: =ROUNDDOWN(E197*G197,0) -> 0
H199: =ROUNDDOWN(E199*G199,0) -> 0
H201: =ROUNDDOWN(E201*G201,0) -> 0
H203: =ROUNDDOWN(E203*G203,0) -> 0
H205: =ROUNDDOWN(E205*G205,0) -> 0
H207: =ROUNDDOWN(E207*G207,0) -> 0
H209: =ROUNDDOWN(E209*G209,0) -> 0
H211: =ROUNDDOWN(E211*G211,0) -> 0
H213: =ROUNDDOWN(E213*G213,0) -> 0
... H225: =ROUNDDOWN(E225*G225,0) -> 0

Sheet 衛生内訳
B1: 名 称 | C1: 摘 要 | E1: 数 量 | F1: 単位 | G1: 単 価 | H1: 金 額 | I1: 備 考 | M1: 検算欄 | N1: 検算差額
M2: 下以降一式と合計は各自設定 | N2: 差額が0であればOK
H3: =IF(B3<>"計",ROUNDDOWN(E3*G3,0),SUM(H$1:H2)) -> 0 | M3: =IF(B3<>"計",ROUNDDOWN(E3*G3,0),SUM(M$1:M2)) -> 0 | N3: =IF((+H3-M3)<>0,H3-M3,IF(H3>0,"0",""))
H5: =IF(B5<>"計",ROUNDDOWN(E5*G5,0),SUM(H$1:H4)) -> 0 | M5: =IF(B5<>"計",ROUNDDOWN(E5*G5,0),SUM(M$1:M4)) -> 0 | N5: =IF((+H5-M5)<>0,H5-M5,IF(H5>0,"0",""))
H7: =IF(B7<>"計",ROUNDDOWN(E7*G7,0),SUM(H$1:H6)) -> 0 | M7: =IF(B7<>"計",ROUNDDOWN(E7*G7,0),SUM(M$1:M6)) -> 0 | N7: =IF((+H7-M7)<>0,H7-M7,IF(H7>0,"0",""))
H9: =IF(B9<>"計",ROUNDDOWN(E9*G9,0),SUM(H$1:H8)) -> 0 | M9: =IF(B9<>"計",ROUNDDOWN(E9*G9,0),SUM(M$1:M8)) -> 0 | N9: =IF((+H9-M9)<>0,H9-M9,IF(H9>0,"0",""))
H11: =IF(B11<>"計",ROUNDDOWN(E11*G11,0),SUM(H$1:H10)) -> 0 | M11: =IF(B11<>"計",ROUNDDOWN(E11*G11,0),SUM(M$1:M10)) -> 0 | N11: =IF((+H11-M11)<>0,H11-M11,IF(H11>0,"0",""))
H13: =IF(B13<>"計",ROUNDDOWN(E13*G13,0),SUM(H$1:H12)) -> 0 | M13: =IF(B13<>"計",ROUNDDOWN(E13*G13,0),SUM(M$1:M12)) -> 0 | N13: =IF((+H13-M13)<>0,H13-M13,IF(H13>0,"0",""))
H15: =IF(B15<>"計",ROUNDDOWN(E15*G15,0),SUM(H$1:H14)) -> 0 | M15: =IF(B15<>"計",ROUNDDOWN(E15*G15,0),SUM(M$1:M14)) -> 0 | N15: =IF((+H15-M15)<>0,H15-M15,IF(H15>0,"0",""))
H17: =IF(B17<>"計",ROUNDDOWN(E17*G17,0),SUM(H$1:H16)) -> 0 | M17: =IF(B17<>"計",ROUNDDOWN(E17*G17,0),SUM(M$1:M16)) -> 0 | N17: =IF((+H17-M17)<>0,H17-M17,IF(H17>0,"0",""))
H19: =IF(B19<>"計",ROUNDDOWN(E19*G19,0),SUM(H$1:H18)) -> 0 | M19: =IF(B19<>"計",ROUNDDOWN(E19*G19,0),SUM(M$1:M18)) -> 0 | N19: =IF((+H19-M19)<>0,H19-M19,IF(H19>0,"0",""))
H21: =IF(B21<>"計",ROUNDDOWN(E21*G21,0),SUM(H$1:H20)) -> 0 | M21: =IF(B21<>"計",ROUNDDOWN(E21*G21,0),SUM(M$1:M20)) -> 0 | N21: =IF((+H21-M21)<>0,H21-M21,IF(H21>0,"0",""))
H23: =IF(B23<>"計",ROUNDDOWN(E23*G23,0),SUM(H$1:H22)) -> 0 | M23: =IF(B23<>"計",ROUNDDOWN(E23*G23,0),SUM(M$1:M22)) -> 0 | N23: =IF((+H23-M23)<>0,H23-M23,IF(H23>0,"0",""))
H25: =IF(B25<>"計",ROUNDDOWN(E25*G25,0),SUM(H$1:H24)) -> 0 | M25: =IF(B25<>"計",ROUNDDOWN(E25*G25,0),SUM(M$1:M24)) -> 0 | N25: =IF((+H25-M25)<>0,H25-M25,IF(H25>0,"0",""))
... H181: =IF(B181<>"計",ROUNDDOWN(E181*G181,0),SUM(H$1:H180)) -> 0 | M181: =IF(B181<>"計",ROUNDDOWN(E181*G181,0),SUM(M$1:M180)) -> 0 | N181: =IF((+H181-M181)<>0,H181-M181,IF(H181>0,"0",""))
H183: =ROUNDDOWN(E183*G183,0) -> 0
H185: =ROUNDDOWN(E185*G185,0) -> 0
H187: =ROUNDDOWN(E187*G187,0) -> 0
H189: =ROUNDDOWN(E189*G189,0) -> 0
H191: =ROUNDDOWN(E191*G191,0) -> 0
H193: =ROUNDDOWN(E193*G193,0) -> 0
H195: =ROUNDDOWN(E195*G195,0) -> 0
H197: =ROUNDDOWN(E197*G197,0) -> 0
H199: =ROUNDDOWN(E199*G199,0) -> 0
H201: =ROUNDDOWN(E201*G201,0) -> 0
H203: =ROUNDDOWN(E203*G203,0) -> 0
H205: =ROUNDDOWN(E205*G205,0) -> 0
... H333: =ROUNDDOWN(E333*G333,0) -> 0

Sheet （5）昇降機　説明
B1: 名 称 | C1: 摘 要 | E1: 数 量 | F1: 単位 | G1: 単 価 | H1: 金 額 | I1: 備 考 | M1: 検算欄 | N1: 検算差額
M2: 下以降一式と合計は各自設定 | N2: 差額が0であればOK
A3: （5) | B3: 昇降機設備工事 | H3: =IF(B3<>"計",ROUNDDOWN(E3*G3,0),SUM(H$1:H2)) -> 0 | M3: =IF(B3<>"計",ROUNDDOWN(E3*G3,0),SUM(M$1:M2)) -> 0 | N3: =IF((+H3-M3)<>0,H3-M3,IF(H3>0,"0",""))
H5: =IF(B5<>"計",ROUNDDOWN(E5*G5,0),SUM(H$1:H4)) -> 0 | M5: =IF(B5<>"計",ROUNDDOWN(E5*G5,0),SUM(M$1:M4)) -> 0 | N5: =IF((+H5-M5)<>0,H5-M5,IF(H5>0,"0",""))
A7: No1 | B7: 乗用エレベーター | C7: 積載荷重 1,600kg | E7: 1 | F7: 台 | H7: =IF(B7<>"計",ROUNDDOWN(E7*G7,0),SUM(H$1:H6)) -> 0 | M7: =IF(B7<>"計",ROUNDDOWN(E7*G7,0),SUM(M$1:M6)) -> 0 | N7: =IF((+H7-M7)<>0,H7-M7,IF(H7>0,"0",""))
C8: 定員 24名
C9: 速度 150m/分 | H9: =IF(B9<>"計",ROUNDDOWN(E9*G9,0),SUM(H$1:H8)) -> 0 | M9: =IF(B9<>"計",ROUNDDOWN(E9*G9,0),SUM(M$1:M8)) -> 0 | N9: =IF((+H9-M9)<>0,H9-M9,IF(H9>0,"0",""))
C10: 停止個所 17個所(B1～16階)
C11: 地震時管制運転(Ｐ波ｾﾝｻ-) | H11: =IF(B11<>"計",ROUNDDOWN(E11*G11,0),SUM(H$1:H10)) -> 0 | M11: =IF(B11<>"計",ROUNDDOWN(E11*G11,0),SUM(M$1:M10)) -> 0 | N11: =IF((+H11-M11)<>0,H11-M11,IF(H11>0,"0",""))
C12: 火災時管制運転
C13: 停電時自動着床装置 | E13: 1 | F13: 台 | H13: =IF(B13<>"計",ROUNDDOWN(E13*G13,0),SUM(H$1:H12)) -> 0 | M13: =IF(B13<>"計",ROUNDDOWN(E13*G13,0),SUM(M$1:M12)) -> 0 | N13: =IF((+H13-M13)<>0,H13-M13,IF(H13>0,"0",""))
C14: 三方枠 大枠ｽﾃﾝﾚｽHL仕上
C15: ｸ-ﾗ-付 | H15: =IF(B15<>"計",ROUNDDOWN(E15*G15,0),SUM(H$1:H14)) -> 0 | M15: =IF(B15<>"計",ROUNDDOWN(E15*G15,0),SUM(M$1:M14)) -> 0 | N15: =IF((+H15-M15)<>0,H15-M15,IF(H15>0,"0",""))
H17: =IF(B17<>"計",ROUNDDOWN(E17*G17,0),SUM(H$1:H16)) -> 0 | M17: =IF(B17<>"計",ROUNDDOWN(E17*G17,0),SUM(M$1:M16)) -> 0 | N17: =IF((+H17-M17)<>0,H17-M17,IF(H17>0,"0",""))
A19: No2 | B19: 人荷兼非常用エレベーター | C19: 積載荷重 1,900kg | H19: =IF(B19<>"計",ROUNDDOWN(E19*G19,0),SUM(H$1:H18)) -> 0 | M19: =IF(B19<>"計",ROUNDDOWN(E19*G19,0),SUM(M$1:M18)) -> 0 | N19: =IF((+H19-M19)<>0,H19-M19,IF(H19>0,"0",""))
C20: 定員 29名
C21: 速度 105m/分 | H21: =IF(B21<>"計",ROUNDDOWN(E21*G21,0),SUM(H$1:H20)) -> 0 | M21: =IF(B21<>"計",ROUNDDOWN(E21*G21,0),SUM(M$1:M20)) -> 0 | N21: =IF((+H21-M21)<>0,H21-M21,IF(H21>0,"0",""))
C22: 停止個所 18個所(B2～16階)
C23: 地震時管制運転(Ｐ波ｾﾝｻ-) | H23: =IF(B23<>"計",ROUNDDOWN(E23*G23,0),SUM(H$1:H22)) -> 0 | M23: =IF(B23<>"計",ROUNDDOWN(E23*G23,0),SUM(M$1:M22)) -> 0 | N23: =IF((+H23-M23)<>0,H23-M23,IF(H23>0,"0",""))
C24: 三方枠 大枠ｽﾃﾝﾚｽHL仕上
C25: 車椅子仕様付 | H25: =IF(B25<>"計",ROUNDDOWN(E25*G25,0),SUM(H$1:H24)) -> 0 | M25: =IF(B25<>"計",ROUNDDOWN(E25*G25,0),SUM(M$1:M24)) -> 0 | N25: =IF((+H25-M25)<>0,H25-M25,IF(H25>0,"0",""))
H27: =IF(B27<>"計",ROUNDDOWN(E27*G27,0),SUM(H$1:H26)) -> 0 | M27: =IF(B27<>"計",ROUNDDOWN(E27*G27,0),SUM(M$1:M26)) -> 0 | N27: =IF((+H27-M27)<>0,H27-M27,IF(H27>0,"0",""))
B29: 監視盤 | E29: 1 | F29: 式 | H29: =IF(B29<>"計",ROUNDDOWN(E29*G29,0),SUM(H$1:H28)) -> 0 | M29: =IF(B29<>"計",ROUNDDOWN(E29*G29,0),SUM(M$1:M28)) -> 0 | N29: =IF((+H29-M29)<>0,H29-M29,IF(H29>0,"0",""))
H31: =IF(B31<>"計",ROUNDDOWN(E31*G31,0),SUM(H$1:H30)) -> 0 | M31: =IF(B31<>"計",ROUNDDOWN(E31*G31,0),SUM(M$1:M30)) -> 0 | N31: =IF((+H31-M31)<>0,H31-M31,IF(H31>0,"0",""))
H33: =IF(B33<>"計",ROUNDDOWN(E33*G33,0),SUM(H$1:H32)) -> 0 | M33: =IF(B33<>"計",ROUNDDOWN(E33*G33,0),SUM(M$1:M32)) -> 0 | N33: =IF((+H33-M33)<>0,H33-M33,IF(H33>0,"0",""))
B35: 計 | H35: =IF(B35<>"計",ROUNDDOWN(E35*G35,0),SUM(H$1:H34)) -> 0 | M35: =IF(B35<>"計",ROUNDDOWN(E35*G35,0),SUM(M$1:M34)) -> 0 | N35: =IF((+H35-M35)<>0,H35-M35,IF(H35>0,"0",""))
H37: =IF(B37<>"計",ROUNDDOWN(E37*G37,0),SUM(H$1:H36)) -> 0 | M37: =IF(B37<>"計",ROUNDDOWN(E37*G37,0),SUM(M$1:M36)) -> 0 | N37: =IF((+H37-M37)<>0,H37-M37,IF(H37>0,"0",""))
H39: =IF(B39<>"計",ROUNDDOWN(E39*G39,0),SUM(H$1:H38)) -> 0 | M39: =IF(B39<>"計",ROUNDDOWN(E39*G39,0),SUM(M$1:M38)) -> 0 | N39: =IF((+H39-M39)<>0,H39-M39,IF(H39>0,"0",""))
H41: =IF(B41<>"計",ROUNDDOWN(E41*G41,0),SUM(H$1:H40)) -> 0 | M41: =IF(B41<>"計",ROUNDDOWN(E41*G41,0),SUM(M$1:M40)) -> 0 | N41: =IF((+H41-M41)<>0,H41-M41,IF(H41>0,"0",""))
H43: =IF(B43<>"計",ROUNDDOWN(E43*G43,0),SUM(H$1:H42)) -> 0 | M43: =IF(B43<>"計",ROUNDDOWN(E43*G43,0),SUM(M$1:M42)) -> 0 | N43: =IF((+H43-M43)<>0,H43-M43,IF(H43>0,"0",""))
H45: =IF(B45<>"計",ROUNDDOWN(E45*G45,0),SUM(H$1:H44)) -> 0 | M45: =IF(B45<>"計",ROUNDDOWN(E45*G45,0),SUM(M$1:M44)) -> 0 | N45: =IF((+H45-M45)<>0,H45-M45,IF(H45>0,"0",""))
H47: =IF(B47<>"計",ROUNDDOWN(E47*G47,0),SUM(H$1:H46)) -> 0 | M47: =IF(B47<>"計",ROUNDDOWN(E47*G47,0),SUM(M$1:M46)) -> 0 | N47: =IF((+H47-M47)<>0,H47-M47,IF(H47>0,"0",""))
H49: =IF(B49<>"計",ROUNDDOWN(E49*G49,0),SUM(H$1:H48)) -> 0 | M49: =IF(B49<>"計",ROUNDDOWN(E49*G49,0),SUM(M$1:M48)) -> 0 | N49: =IF((+H49-M49)<>0,H49-M49,IF(H49>0,"0",""))
H51: =IF(B51<>"計",ROUNDDOWN(E51*G51,0),SUM(H$1:H50)) -> 0 | M51: =IF(B51<>"計",ROUNDDOWN(E51*G51,0),SUM(M$1:M50)) -> 0 | N51: =IF((+H51-M51)<>0,H51-M51,IF(H51>0,"0",""))
H53: =IF(B53<>"計",ROUNDDOWN(E53*G53,0),SUM(H$1:H52)) -> 0 | M53: =IF(B53<>"計",ROUNDDOWN(E53*G53,0),SUM(M$1:M52)) -> 0 | N53: =IF((+H53-M53)<>0,H53-M53,IF(H53>0,"0",""))
H55: =IF(B55<>"計",ROUNDDOWN(E55*G55,0),SUM(H$1:H54)) -> 0 | M55: =IF(B55<>"計",ROUNDDOWN(E55*G55,0),SUM(M$1:M54)) -> 0 | N55: =IF((+H55-M55)<>0,H55-M55,IF(H55>0,"0",""))
H57: =IF(B57<>"計",ROUNDDOWN(E57*G57,0),SUM(H$1:H56)) -> 0 | M57: =IF(B57<>"計",ROUNDDOWN(E57*G57,0),SUM(M$1:M56)) -> 0 | N57: =IF((+H57-M57)<>0,H57-M57,IF(H57>0,"0",""))
H59: =IF(B59<>"計",ROUNDDOWN(E59*G59,0),SUM(H$1:H58)) -> 0 | M59: =IF(B59<>"計",ROUNDDOWN(E59*G59,0),SUM(M$1:M58)) -> 0 | N59: =IF((+H59-M59)<>0,H59-M59,IF(H59>0,"0",""))
... H73: =IF(B73<>"計",ROUNDDOWN(E73*G73,0),SUM(H$1:H72)) -> 0 | M73: =IF(B73<>"計",ROUNDDOWN(E73*G73,0),SUM(M$1:M72)) -> 0 | N73: =IF((+H73-M73)<>0,H73-M73,IF(H73>0,"0",""))
H75: =ROUNDDOWN(E75*G75,0) -> 0
H77: =ROUNDDOWN(E77*G77,0) -> 0
H79: =ROUNDDOWN(E79*G79,0) -> 0
H81: =ROUNDDOWN(E81*G81,0) -> 0
H83: =ROUNDDOWN(E83*G83,0) -> 0
H85: =ROUNDDOWN(E85*G85,0) -> 0
H87: =ROUNDDOWN(E87*G87,0) -> 0
H89: =ROUNDDOWN(E89*G89,0) -> 0
H91: =ROUNDDOWN(E91*G91,0) -> 0
H93: =ROUNDDOWN(E93*G93,0) -> 0
H95: =ROUNDDOWN(E95*G95,0) -> 0
H97: =ROUNDDOWN(E97*G97,0) -> 0
... H119: =ROUNDDOWN(E119*G119,0) -> 0

Sheet （6）機械　説明
B1: 名 称 | C1: 摘 要 | E1: 数 量 | F1: 単位 | G1: 単 価 | H1: 金 額 | I1: 備 考 | M1: 検算欄 | N1: 検算差額
M2: 下以降一式と合計は各自設定 | N2: 差額が0であればOK
A3: （6) | B3: 機械駐車設備工事 | H3: =IF(B3<>"計",ROUNDDOWN(E3*G3,0),SUM(H$1:H2)) -> 0 | M3: =IF(B3<>"計",ROUNDDOWN(E3*G3,0),SUM(M$1:M2)) -> 0 | N3: =IF((+H3-M3)<>0,H3-M3,IF(H3>0,"0",""))
H5: =IF(B5<>"計",ROUNDDOWN(E5*G5,0),SUM(H$1:H4)) -> 0 | M5: =IF(B5<>"計",ROUNDDOWN(E5*G5,0),SUM(M$1:M4)) -> 0 | N5: =IF((+H5-M5)<>0,H5-M5,IF(H5>0,"0",""))
B7: 機械式駐車設備 | C7: 昇降・横行二段式 | E7: 1 | F7: 式 | H7: =IF(B7<>"計",ROUNDDOWN(E7*G7,0),SUM(H$1:H6)) -> 0 | M7: =IF(B7<>"計",ROUNDDOWN(E7*G7,0),SUM(M$1:M6)) -> 0 | N7: =IF((+H7-M7)<>0,H7-M7,IF(H7>0,"0",""))
C8: 小型車 16台収容
H9: =IF(B9<>"計",ROUNDDOWN(E9*G9,0),SUM(H$1:H8)) -> 0 | M9: =IF(B9<>"計",ROUNDDOWN(E9*G9,0),SUM(M$1:M8)) -> 0 | N9: =IF((+H9-M9)<>0,H9-M9,IF(H9>0,"0",""))
B11: 機械式駐車設備 | C11: 昇降・横行二段式 | E11: 1 | F11: 式 | H11: =IF(B11<>"計",ROUNDDOWN(E11*G11,0),SUM(H$1:H10)) -> 0 | M11: =IF(B11<>"計",ROUNDDOWN(E11*G11,0),SUM(M$1:M10)) -> 0 | N11: =IF((+H11-M11)<>0,H11-M11,IF(H11>0,"0",""))
C12: 中型車 33台収容
H13: =IF(B13<>"計",ROUNDDOWN(E13*G13,0),SUM(H$1:H12)) -> 0 | M13: =IF(B13<>"計",ROUNDDOWN(E13*G13,0),SUM(M$1:M12)) -> 0 | N13: =IF((+H13-M13)<>0,H13-M13,IF(H13>0,"0",""))
H15: =IF(B15<>"計",ROUNDDOWN(E15*G15,0),SUM(H$1:H14)) -> 0 | M15: =IF(B15<>"計",ROUNDDOWN(E15*G15,0),SUM(M$1:M14)) -> 0 | N15: =IF((+H15-M15)<>0,H15-M15,IF(H15>0,"0",""))
H17: =IF(B17<>"計",ROUNDDOWN(E17*G17,0),SUM(H$1:H16)) -> 0 | M17: =IF(B17<>"計",ROUNDDOWN(E17*G17,0),SUM(M$1:M16)) -> 0 | N17: =IF((+H17-M17)<>0,H17-M17,IF(H17>0,"0",""))
H19: =IF(B19<>"計",ROUNDDOWN(E19*G19,0),SUM(H$1:H18)) -> 0 | M19: =IF(B19<>"計",ROUNDDOWN(E19*G19,0),SUM(M$1:M18)) -> 0 | N19: =IF((+H19-M19)<>0,H19-M19,IF(H19>0,"0",""))
H21: =IF(B21<>"計",ROUNDDOWN(E21*G21,0),SUM(H$1:H20)) -> 0 | M21: =IF(B21<>"計",ROUNDDOWN(E21*G21,0),SUM(M$1:M20)) -> 0 | N21: =IF((+H21-M21)<>0,H21-M21,IF(H21>0,"0",""))
H23: =IF(B23<>"計",ROUNDDOWN(E23*G23,0),SUM(H$1:H22)) -> 0 | M23: =IF(B23<>"計",ROUNDDOWN(E23*G23,0),SUM(M$1:M22)) -> 0 | N23: =IF((+H23-M23)<>0,H23-M23,IF(H23>0,"0",""))
H25: =IF(B25<>"計",ROUNDDOWN(E25*G25,0),SUM(H$1:H24)) -> 0 | M25: =IF(B25<>"計",ROUNDDOWN(E25*G25,0),SUM(M$1:M24)) -> 0 | N25: =IF((+H25-M25)<>0,H25-M25,IF(H25>0,"0",""))
H27: =IF(B27<>"計",ROUNDDOWN(E27*G27,0),SUM(H$1:H26)) -> 0 | M27: =IF(B27<>"計",ROUNDDOWN(E27*G27,0),SUM(M$1:M26)) -> 0 | N27: =IF((+H27-M27)<>0,H27-M27,IF(H27>0,"0",""))
H29: =IF(B29<>"計",ROUNDDOWN(E29*G29,0),SUM(H$1:H28)) -> 0 | M29: =IF(B29<>"計",ROUNDDOWN(E29*G29,0),SUM(M$1:M28)) -> 0 | N29: =IF((+H29-M29)<>0,H29-M29,IF(H29>0,"0",""))
H31: =IF(B31<>"計",ROUNDDOWN(E31*G31,0),SUM(H$1:H30)) -> 0 | M31: =IF(B31<>"計",ROUNDDOWN(E31*G31,0),SUM(M$1:M30)) -> 0 | N31: =IF((+H31-M31)<>0,H31-M31,IF(H31>0,"0",""))
H33: =IF(B33<>"計",ROUNDDOWN(E33*G33,0),SUM(H$1:H32)) -> 0 | M33: =IF(B33<>"計",ROUNDDOWN(E33*G33,0),SUM(M$1:M32)) -> 0 | N33: =IF((+H33-M33)<>0,H33-M33,IF(H33>0,"0",""))
B35: 計 | H35: =IF(B35<>"計",ROUNDDOWN(E35*G35,0),SUM(H$1:H34)) -> 0 | M35: =IF(B35<>"計",ROUNDDOWN(E35*G35,0),SUM(M$1:M34)) -> 0 | N35: =IF((+H35-M35)<>0,H35-M35,IF(H35>0,"0",""))
H37: =IF(B37<>"計",ROUNDDOWN(E37*G37,0),SUM(H$1:H36)) -> 0 | M37: =IF(B37<>"計",ROUNDDOWN(E37*G37,0),SUM(M$1:M36)) -> 0 | N37: =IF((+H37-M37)<>0,H37-M37,IF(H37>0,"0",""))
H189: =ROUNDDOWN(E189*G189,0) -> 0
H191: =ROUNDDOWN(E191*G191,0) -> 0
H193: =ROUNDDOWN(E193*G193,0) -> 0
H195: =ROUNDDOWN(E195*G195,0) -> 0
H197: =ROUNDDOWN(E197*G197,0) -> 0
H199: =ROUNDDOWN(E199*G199,0) -> 0
H201: =ROUNDDOWN(E201*G201,0) -> 0
H203: =ROUNDDOWN(E203*G203,0) -> 0
H205: =ROUNDDOWN(E205*G205,0) -> 0
H207: =ROUNDDOWN(E207*G207,0) -> 0
H209: =ROUNDDOWN(E209*G209,0) -> 0
H211: =ROUNDDOWN(E211*G211,0) -> 0
... H221: =ROUNDDOWN(E221*G221,0) -> 0

Sheet （7） 屋外 
B1: 名 称 | C1: 摘 要 | E1: 数 量 | F1: 単位 | G1: 単 価 | H1: 金 額 | I1: 備 考 | M1: 検算欄 | N1: 検算差額
M2: 下以降一式と合計は各自設定 | N2: 差額が0であればOK
A3: （7) | B3: 屋外施設工事 | H3: =IF(B3<>"計",ROUNDDOWN(E3*G3,0),SUM(H$1:H2)) -> 0 | M3: =IF(B3<>"計",ROUNDDOWN(E3*G3,0),SUM(M$1:M2)) -> 0 | N3: =IF((+H3-M3)<>0,H3-M3,IF(H3>0,"0",""))
H5: =IF(B5<>"計",ROUNDDOWN(E5*G5,0),SUM(H$1:H4)) -> 0 | M5: =IF(B5<>"計",ROUNDDOWN(E5*G5,0),SUM(M$1:M4)) -> 0 | N5: =IF((+H5-M5)<>0,H5-M5,IF(H5>0,"0",""))
A7: 1. | B7: 直接仮設 | E7: 1 | F7: 式 | H7: =IF(B7<>"計",ROUNDDOWN(E7*G7,0),SUM(H$1:H6)) -> 0 | M7: =IF(B7<>"計",ROUNDDOWN(E7*G7,0),SUM(M$1:M6)) -> 0 | N7: =IF((+H7-M7)<>0,H7-M7,IF(H7>0,"0",""))
A9: 2. | B9: 舗装 | E9: 1 | F9: 式 | H9: =IF(B9<>"計",ROUNDDOWN(E9*G9,0),SUM(H$1:H8)) -> 0 | M9: =IF(B9<>"計",ROUNDDOWN(E9*G9,0),SUM(M$1:M8)) -> 0 | N9: =IF((+H9-M9)<>0,H9-M9,IF(H9>0,"0",""))
A11: 3. | B11: 屋外排水設備 | E11: 1 | F11: 式 | H11: =IF(B11<>"計",ROUNDDOWN(E11*G11,0),SUM(H$1:H10)) -> 0 | M11: =IF(B11<>"計",ROUNDDOWN(E11*G11,0),SUM(M$1:M10)) -> 0 | N11: =IF((+H11-M11)<>0,H11-M11,IF(H11>0,"0",""))
A13: 4. | B13: 造園 | E13: 1 | F13: 式 | H13: =IF(B13<>"計",ROUNDDOWN(E13*G13,0),SUM(H$1:H12)) -> 0 | M13: =IF(B13<>"計",ROUNDDOWN(E13*G13,0),SUM(M$1:M12)) -> 0 | N13: =IF((+H13-M13)<>0,H13-M13,IF(H13>0,"0",""))
A15: 5. | B15: 囲障 | E15: 1 | F15: 式 | H15: =IF(B15<>"計",ROUNDDOWN(E15*G15,0),SUM(H$1:H14)) -> 0 | M15: =IF(B15<>"計",ROUNDDOWN(E15*G15,0),SUM(M$1:M14)) -> 0 | N15: =IF((+H15-M15)<>0,H15-M15,IF(H15>0,"0",""))
A17: 6. | B17: 外部工作物 | E17: 1 | F17: 式 | H17: =IF(B17<>"計",ROUNDDOWN(E17*G17,0),SUM(H$1:H16)) -> 0 | M17: =IF(B17<>"計",ROUNDDOWN(E17*G17,0),SUM(M$1:M16)) -> 0 | N17: =IF((+H17-M17)<>0,H17-M17,IF(H17>0,"0",""))
H19: =IF(B19<>"計",ROUNDDOWN(E19*G19,0),SUM(H$1:H18)) -> 0 | M19: =IF(B19<>"計",ROUNDDOWN(E19*G19,0),SUM(M$1:M18)) -> 0 | N19: =IF((+H19-M19)<>0,H19-M19,IF(H19>0,"0",""))
H21: =IF(B21<>"計",ROUNDDOWN(E21*G21,0),SUM(H$1:H20)) -> 0 | M21: =IF(B21<>"計",ROUNDDOWN(E21*G21,0),SUM(M$1:M20)) -> 0 | N21: =IF((+H21-M21)<>0,H21-M21,IF(H21>0,"0",""))
H23: =IF(B23<>"計",ROUNDDOWN(E23*G23,0),SUM(H$1:H22)) -> 0 | M23: =IF(B23<>"計",ROUNDDOWN(E23*G23,0),SUM(M$1:M22)) -> 0 | N23: =IF((+H23-M23)<>0,H23-M23,IF(H23>0,"0",""))
H25: =IF(B25<>"計",ROUNDDOWN(E25*G25,0),SUM(H$1:H24)) -> 0 | M25: =IF(B25<>"計",ROUNDDOWN(E25*G25,0),SUM(M$1:M24)) -> 0 | N25: =IF((+H25-M25)<>0,H25-M25,IF(H25>0,"0",""))
H27: =IF(B27<>"計",ROUNDDOWN(E27*G27,0),SUM(H$1:H26)) -> 0 | M27: =IF(B27<>"計",ROUNDDOWN(E27*G27,0),SUM(M$1:M26)) -> 0 | N27: =IF((+H27-M27)<>0,H27-M27,IF(H27>0,"0",""))
H29: =IF(B29<>"計",ROUNDDOWN(E29*G29,0),SUM(H$1:H28)) -> 0 | M29: =IF(B29<>"計",ROUNDDOWN(E29*G29,0),SUM(M$1:M28)) -> 0 | N29: =IF((+H29-M29)<>0,H29-M29,IF(H29>0,"0",""))
H31: =IF(B31<>"計",ROUNDDOWN(E31*G31,0),SUM(H$1:H30)) -> 0 | M31: =IF(B31<>"計",ROUNDDOWN(E31*G31,0),SUM(M$1:M30)) -> 0 | N31: =IF((+H31-M31)<>0,H31-M31,IF(H31>0,"0",""))
H33: =IF(B33<>"計",ROUNDDOWN(E33*G33,0),SUM(H$1:H32)) -> 0 | M33: =IF(B33<>"計",ROUNDDOWN(E33*G33,0),SUM(M$1:M32)) -> 0 | N33: =IF((+H33-M33)<>0,H33-M33,IF(H33>0,"0",""))
B35: 計 | H35: =IF(B35<>"計",ROUNDDOWN(E35*G35,0),SUM(H$1:H34)) -> 0 | M35: =IF(B35<>"計",ROUNDDOWN(E35*G35,0),SUM(M$1:M34)) -> 0 | N35: =IF((+H35-M35)<>0,H35-M35,IF(H35>0,"0",""))
H37: =IF(B37<>"計",ROUNDDOWN(E37*G37,0),SUM(H$1:H36)) -> 0 | M37: =IF(B37<>"計",ROUNDDOWN(E37*G37,0),SUM(M$1:M36)) -> 0 | N37: =IF((+H37-M37)<>0,H37-M37,IF(H37>0,"0",""))
H39: =ROUNDDOWN(E39*G39,0) -> 0
H41: =ROUNDDOWN(E41*G41,0) -> 0
H43: =ROUNDDOWN(E43*G43,0) -> 0
H45: =ROUNDDOWN(E45*G45,0) -> 0
H47: =ROUNDDOWN(E47*G47,0) -> 0
H49: =ROUNDDOWN(E49*G49,0) -> 0
H51: =ROUNDDOWN(E51*G51,0) -> 0
H53: =ROUNDDOWN(E53*G53,0) -> 0
H55: =ROUNDDOWN(E55*G55,0) -> 0
H57: =ROUNDDOWN(E57*G57,0) -> 0
H59: =ROUNDDOWN(E59*G59,0) -> 0
H61: =ROUNDDOWN(E61*G61,0) -> 0
... H191: =ROUNDDOWN(E191*G191,0) -> 0

Sheet 屋外内訳 
B1: 名 称 | C1: 摘 要 | E1: 数 量 | F1: 単位 | G1: 単 価 | H1: 金 額 | I1: 備 考 | M1: 検算欄 | N1: 検算差額
M2: 下以降一式と合計は各自設定 | N2: 差額が0であればOK
H3: =IF(B3<>"計",ROUNDDOWN(E3*G3,0),SUM(H$1:H2)) -> 0 | M3: =IF(B3<>"計",ROUNDDOWN(E3*G3,0),SUM(M$1:M2)) -> 0 | N3: =IF((+H3-M3)<>0,H3-M3,IF(H3>0,"0",""))
H5: =IF(B5<>"計",ROUNDDOWN(E5*G5,0),SUM(H$1:H4)) -> 0 | M5: =IF(B5<>"計",ROUNDDOWN(E5*G5,0),SUM(M$1:M4)) -> 0 | N5: =IF((+H5-M5)<>0,H5-M5,IF(H5>0,"0",""))
H7: =IF(B7<>"計",ROUNDDOWN(E7*G7,0),SUM(H$1:H6)) -> 0 | M7: =IF(B7<>"計",ROUNDDOWN(E7*G7,0),SUM(M$1:M6)) -> 0 | N7: =IF((+H7-M7)<>0,H7-M7,IF(H7>0,"0",""))
H9: =IF(B9<>"計",ROUNDDOWN(E9*G9,0),SUM(H$1:H8)) -> 0 | M9: =IF(B9<>"計",ROUNDDOWN(E9*G9,0),SUM(M$1:M8)) -> 0 | N9: =IF((+H9-M9)<>0,H9-M9,IF(H9>0,"0",""))
H11: =IF(B11<>"計",ROUNDDOWN(E11*G11,0),SUM(H$1:H10)) -> 0 | M11: =IF(B11<>"計",ROUNDDOWN(E11*G11,0),SUM(M$1:M10)) -> 0 | N11: =IF((+H11-M11)<>0,H11-M11,IF(H11>0,"0",""))
H13: =IF(B13<>"計",ROUNDDOWN(E13*G13,0),SUM(H$1:H12)) -> 0 | M13: =IF(B13<>"計",ROUNDDOWN(E13*G13,0),SUM(M$1:M12)) -> 0 | N13: =IF((+H13-M13)<>0,H13-M13,IF(H13>0,"0",""))
H15: =IF(B15<>"計",ROUNDDOWN(E15*G15,0),SUM(H$1:H14)) -> 0 | M15: =IF(B15<>"計",ROUNDDOWN(E15*G15,0),SUM(M$1:M14)) -> 0 | N15: =IF((+H15-M15)<>0,H15-M15,IF(H15>0,"0",""))
H17: =IF(B17<>"計",ROUNDDOWN(E17*G17,0),SUM(H$1:H16)) -> 0 | M17: =IF(B17<>"計",ROUNDDOWN(E17*G17,0),SUM(M$1:M16)) -> 0 | N17: =IF((+H17-M17)<>0,H17-M17,IF(H17>0,"0",""))
H19: =IF(B19<>"計",ROUNDDOWN(E19*G19,0),SUM(H$1:H18)) -> 0 | M19: =IF(B19<>"計",ROUNDDOWN(E19*G19,0),SUM(M$1:M18)) -> 0 | N19: =IF((+H19-M19)<>0,H19-M19,IF(H19>0,"0",""))
H21: =IF(B21<>"計",ROUNDDOWN(E21*G21,0),SUM(H$1:H20)) -> 0 | M21: =IF(B21<>"計",ROUNDDOWN(E21*G21,0),SUM(M$1:M20)) -> 0 | N21: =IF((+H21-M21)<>0,H21-M21,IF(H21>0,"0",""))
H23: =IF(B23<>"計",ROUNDDOWN(E23*G23,0),SUM(H$1:H22)) -> 0 | M23: =IF(B23<>"計",ROUNDDOWN(E23*G23,0),SUM(M$1:M22)) -> 0 | N23: =IF((+H23-M23)<>0,H23-M23,IF(H23>0,"0",""))
H25: =IF(B25<>"計",ROUNDDOWN(E25*G25,0),SUM(H$1:H24)) -> 0 | M25: =IF(B25<>"計",ROUNDDOWN(E25*G25,0),SUM(M$1:M24)) -> 0 | N25: =IF((+H25-M25)<>0,H25-M25,IF(H25>0,"0",""))
... H37: =IF(B37<>"計",ROUNDDOWN(E37*G37,0),SUM(H$1:H36)) -> 0 | M37: =IF(B37<>"計",ROUNDDOWN(E37*G37,0),SUM(M$1:M36)) -> 0 | N37: =IF((+H37-M37)<>0,H37-M37,IF(H37>0,"0",""))
H39: =IF(B39<>"計",ROUNDDOWN(E39*G39,0),SUM(H$1:H38)) -> 0
H41: =IF(B41<>"計",ROUNDDOWN(E41*G41,0),SUM(H$1:H40)) -> 0 | M41: =IF(B41<>"計",ROUNDDOWN(E41*G41,0),SUM(M$1:M40)) -> 0 | N41: =IF((+H41-M41)<>0,H41-M41,IF(H41>0,"0",""))
H43: =IF(B43<>"計",ROUNDDOWN(E43*G43,0),SUM(H$1:H42)) -> 0 | M43: =IF(B43<>"計",ROUNDDOWN(E43*G43,0),SUM(M$1:M42)) -> 0 | N43: =IF((+H43-M43)<>0,H43-M43,IF(H43>0,"0",""))
H45: =IF(B45<>"計",ROUNDDOWN(E45*G45,0),SUM(H$1:H44)) -> 0 | M45: =IF(B45<>"計",ROUNDDOWN(E45*G45,0),SUM(M$1:M44)) -> 0 | N45: =IF((+H45-M45)<>0,H45-M45,IF(H45>0,"0",""))
H47: =IF(B47<>"計",ROUNDDOWN(E47*G47,0),SUM(H$1:H46)) -> 0 | M47: =IF(B47<>"計",ROUNDDOWN(E47*G47,0),SUM(M$1:M46)) -> 0 | N47: =IF((+H47-M47)<>0,H47-M47,IF(H47>0,"0",""))
H49: =IF(B49<>"計",ROUNDDOWN(E49*G49,0),SUM(H$1:H48)) -> 0 | M49: =IF(B49<>"計",ROUNDDOWN(E49*G49,0),SUM(M$1:M48)) -> 0 | N49: =IF((+H49-M49)<>0,H49-M49,IF(H49>0,"0",""))
H51: =IF(B51<>"計",ROUNDDOWN(E51*G51,0),SUM(H$1:H50)) -> 0 | M51: =IF(B51<>"計",ROUNDDOWN(E51*G51,0),SUM(M$1:M50)) -> 0 | N51: =IF((+H51-M51)<>0,H51-M51,IF(H51>0,"0",""))
H53: =IF(B53<>"計",ROUNDDOWN(E53*G53,0),SUM(H$1:H52)) -> 0 | M53: =IF(B53<>"計",ROUNDDOWN(E53*G53,0),SUM(M$1:M52)) -> 0 | N53: =IF((+H53-M53)<>0,H53-M53,IF(H53>0,"0",""))
H55: =IF(B55<>"計",ROUNDDOWN(E55*G55,0),SUM(H$1:H54)) -> 0 | M55: =IF(B55<>"計",ROUNDDOWN(E55*G55,0),SUM(M$1:M54)) -> 0 | N55: =IF((+H55-M55)<>0,H55-M55,IF(H55>0,"0",""))
H57: =IF(B57<>"計",ROUNDDOWN(E57*G57,0),SUM(H$1:H56)) -> 0 | M57: =IF(B57<>"計",ROUNDDOWN(E57*G57,0),SUM(M$1:M56)) -> 0 | N57: =IF((+H57-M57)<>0,H57-M57,IF(H57>0,"0",""))
H59: =IF(B59<>"計",ROUNDDOWN(E59*G59,0),SUM(H$1:H58)) -> 0 | M59: =IF(B59<>"計",ROUNDDOWN(E59*G59,0),SUM(M$1:M58)) -> 0 | N59: =IF((+H59-M59)<>0,H59-M59,IF(H59>0,"0",""))
H61: =IF(B61<>"計",ROUNDDOWN(E61*G61,0),SUM(H$1:H60)) -> 0 | M61: =IF(B61<>"計",ROUNDDOWN(E61*G61,0),SUM(M$1:M60)) -> 0 | N61: =IF((+H61-M61)<>0,H61-M61,IF(H61>0,"0",""))
H63: =IF(B63<>"計",ROUNDDOWN(E63*G63,0),SUM(H$1:H62)) -> 0 | M63: =IF(B63<>"計",ROUNDDOWN(E63*G63,0),SUM(M$1:M62)) -> 0 | N63: =IF((+H63-M63)<>0,H63-M63,IF(H63>0,"0",""))
... H181: =IF(B181<>"計",ROUNDDOWN(E181*G181,0),SUM(H$1:H180)) -> 0 | M181: =IF(B181<>"計",ROUNDDOWN(E181*G181,0),SUM(M$1:M180)) -> 0 | N181: =IF((+H181-M181)<>0,H181-M181,IF(H181>0,"0",""))

Sheet 部分別種目
B1: 名 称 | C1: 摘 要 | E1: 数 量 | F1: 単位 | G1: 単 価 | H1: 金 額 | I1: 備 考 | M1: 検算欄 | N1: 検算差額
M2: 下以降一式と合計は各自設定 | N2: 差額が0であればOK
B3: ○○○新築工事 | H3: =ROUNDDOWN(E3*G3,0) -> 0 | M3: =IF(B3<>"計",ROUNDDOWN(E3*G3,0),SUM(M$1:M2)) -> 0 | N3: =IF((+H3-M3)<>0,H3-M3,IF(H3>0,"0",""))
A5: Ⅰ | B5: 直接工事費 | H5: =ROUNDDOWN(E5*G5,0) -> 0 | M5: =IF(B5<>"計",ROUNDDOWN(E5*G5,0),SUM(M$1:M4)) -> 0 | N5: =IF((+H5-M5)<>0,H5-M5,IF(H5>0,"0",""))
A7: (1) | B7: 建築工事 | E7: 1 | F7: 式 | H7: =IF(B7<>"計",ROUNDDOWN(E7*G7,0),SUM(H$1:H6)) -> 0 | M7: =IF(B7<>"計",ROUNDDOWN(E7*G7,0),SUM(M$1:M6)) -> 0 | N7: =IF((+H7-M7)<>0,H7-M7,IF(H7>0,"0",""))
A9: (2) | B9: 電気設備工事 | E9: 1 | F9: 式 | H9: =IF(B9<>"計",ROUNDDOWN(E9*G9,0),SUM(H$1:H8)) -> 0 | M9: =IF(B9<>"計",ROUNDDOWN(E9*G9,0),SUM(M$1:M8)) -> 0 | N9: =IF((+H9-M9)<>0,H9-M9,IF(H9>0,"0",""))
A11: (3) | B11: 空気調和設備工事 | E11: 1 | F11: 式 | H11: =IF(B11<>"計",ROUNDDOWN(E11*G11,0),SUM(H$1:H10)) -> 0 | M11: =IF(B11<>"計",ROUNDDOWN(E11*G11,0),SUM(M$1:M10)) -> 0 | N11: =IF((+H11-M11)<>0,H11-M11,IF(H11>0,"0",""))
A13: (4) | B13: 給排水衛生設備工事 | E13: 1 | F13: 式 | H13: =IF(B13<>"計",ROUNDDOWN(E13*G13,0),SUM(H$1:H12)) -> 0 | M13: =IF(B13<>"計",ROUNDDOWN(E13*G13,0),SUM(M$1:M12)) -> 0 | N13: =IF((+H13-M13)<>0,H13-M13,IF(H13>0,"0",""))
A15: (5) | B15: 昇降機設備工事 | E15: 1 | F15: 式 | H15: =IF(B15<>"計",ROUNDDOWN(E15*G15,0),SUM(H$1:H14)) -> 0 | M15: =IF(B15<>"計",ROUNDDOWN(E15*G15,0),SUM(M$1:M14)) -> 0 | N15: =IF((+H15-M15)<>0,H15-M15,IF(H15>0,"0",""))
A17: (6) | B17: 機械駐車設備工事 | E17: 1 | F17: 式 | H17: =IF(B17<>"計",ROUNDDOWN(E17*G17,0),SUM(H$1:H16)) -> 0 | M17: =IF(B17<>"計",ROUNDDOWN(E17*G17,0),SUM(M$1:M16)) -> 0 | N17: =IF((+H17-M17)<>0,H17-M17,IF(H17>0,"0",""))
A19: (7) | B19: 屋外施設工事 | E19: 1 | F19: 式 | H19: =IF(B19<>"計",ROUNDDOWN(E19*G19,0),SUM(H$1:H18)) -> 0 | M19: =IF(B19<>"計",ROUNDDOWN(E19*G19,0),SUM(M$1:M18)) -> 0 | N19: =IF((+H19-M19)<>0,H19-M19,IF(H19>0,"0",""))
B21: 計 | H21: =IF(B21<>"計",ROUNDDOWN(E21*G21,0),SUM(H$1:H20)) -> 0 | M21: =IF(B21<>"計",ROUNDDOWN(E21*G21,0),SUM(M$1:M20)) -> 0 | N21: =IF((+H21-M21)<>0,H21-M21,IF(H21>0,"0",""))
A23: Ⅱ | B23: 共通費 | H23: =ROUNDDOWN(E23*G23,0) -> 0 | M23: =IF(B23<>"計",ROUNDDOWN(E23*G23,0),SUM(M$1:M22)) -> 0 | N23: =IF((+H23-M23)<>0,H23-M23,IF(H23>0,"0",""))
A25: (1) | B25: 共通仮設費 | E25: 1 | F25: 式 | G25: =ROUNDDOWN(H21*I25,-4) -> 0 | H25: =IF(B25<>"計",ROUNDDOWN(E25*G25,0),SUM(H$1:H24)) -> 0 | I25: 0.04 | M25: =IF(B25<>"計",ROUNDDOWN(E25*G25,0),SUM(M$1:M24)) -> 0 | N25: =IF((+H25-M25)<>0,H25-M25,IF(H25>0,"0",""))
A27: (2) | B27: 諸経費 | E27: 1 | F27: 式 | G27: =+H31-H21-H25 -> 0 | H27: =IF(B27<>"計",ROUNDDOWN(E27*G27,0),SUM(H$1:H26)) -> 0 | I27: 0.1 | M27: =IF(B27<>"計",ROUNDDOWN(E27*G27,0),SUM(M$1:M26)) -> 0 | N27: =IF((+H27-M27)<>0,H27-M27,IF(H27>0,"0",""))
B29: 計 | H29: =SUM(H24:H27) -> 0 | M29: =IF(B29<>"計",ROUNDDOWN(E29*G29,0),SUM(M$24:M28)) -> 0 | N29: =IF((+H29-M29)<>0,H29-M29,IF(H29>0,"0",""))
B31: 合計（工事価格） | H31: =ROUNDDOWN((H21+H25)*(1+I27),-4) -> 0 | M31: =+M21+M29 -> 0 | N31: =IF((+H31-M31)<>0,H31-M31,IF(H31>0,"0",""))
A33: Ⅲ | B33: 消費税等相当額 | E33: 1 | F33: 式 | G33: =ROUNDDOWN(H31*I33,0) -> 0 | H33: =IF(B33<>"計",ROUNDDOWN(E33*G33,0),SUM(H$1:H32)) -> 0 | I33: 0.08 | M33: =IF(B33<>"計",ROUNDDOWN(E33*G33,0),SUM(M$1:M32)) -> 0 | N33: =IF((+H33-M33)<>0,H33-M33,IF(H33>0,"0",""))
B35: 総合計（工事費） | H35: =+H31+H33 -> 0 | M35: =+M31+M33 -> 0 | N35: =IF((+H35-M35)<>0,H35-M35,IF(H35>0,"0",""))
H37: =ROUNDDOWN(E37*G37,0) -> 0 | M37: =IF(B37<>"計",ROUNDDOWN(E37*G37,0),SUM(M$1:M36)) -> 0 | N37: =IF((+H37-M37)<>0,H37-M37,IF(H37>0,"0",""))
H38: =ROUNDDOWN(E38*G38,0) -> 0
H40: =ROUNDDOWN(E40*G40,0) -> 0
H42: =ROUNDDOWN(E42*G42,0) -> 0
H44: =ROUNDDOWN(E44*G44,0) -> 0
H46: =ROUNDDOWN(E46*G46,0) -> 0
H48: =ROUNDDOWN(E48*G48,0) -> 0
H50: =ROUNDDOWN(E50*G50,0) -> 0
H52: =ROUNDDOWN(E52*G52,0) -> 0
H54: =ROUNDDOWN(E54*G54,0) -> 0
H56: =ROUNDDOWN(E56*G56,0) -> 0
H58: =ROUNDDOWN(E58*G58,0) -> 0
H60: =ROUNDDOWN(E60*G60,0) -> 0
... H148: =ROUNDDOWN(E148*G148,0) -> 0

Sheet 部分別建築
B1: 名 称 | C1: 摘 要 | E1: 数 量 | F1: 単位 | G1: 単 価 | H1: 金 額 | I1: 備 考 | M1: 検算欄 | N1: 検算差額
M2: 下以降一式と合計は各自設定 | N2: 差額が0であればOK
A3: （1） | B3: 建築工事 | H3: =IF(B3<>"計",ROUNDDOWN(E3*G3,0),SUM(H$1:H2)) -> 0 | M3: =IF(B3<>"計",ROUNDDOWN(E3*G3,0),SUM(M$1:M2)) -> 0 | N3: =IF((+H3-M3)<>0,H3-M3,IF(H3>0,"0",""))
H5: =IF(B5<>"計",ROUNDDOWN(E5*G5,0),SUM(H$1:H4)) -> 0 | M5: =IF(B5<>"計",ROUNDDOWN(E5*G5,0),SUM(M$1:M4)) -> 0 | N5: =IF((+H5-M5)<>0,H5-M5,IF(H5>0,"0",""))
A7: 1. | B7: 直接仮設 | E7: 1 | F7: 式 | H7: =IF(B7<>"計",ROUNDDOWN(E7*G7,0),SUM(H$1:H6)) -> 0 | M7: =IF(B7<>"計",ROUNDDOWN(E7*G7,0),SUM(M$1:M6)) -> 0 | N7: =IF((+H7-M7)<>0,H7-M7,IF(H7>0,"0",""))
A9: 2. | B9: 土工・地業 | E9: 1 | F9: 式 | H9: =IF(B9<>"計",ROUNDDOWN(E9*G9,0),SUM(H$1:H8)) -> 0 | M9: =IF(B9<>"計",ROUNDDOWN(E9*G9,0),SUM(M$1:M8)) -> 0 | N9: =IF((+H9-M9)<>0,H9-M9,IF(H9>0,"0",""))
A11: 3. | B11: 躯体 | E11: 1 | F11: 式 | H11: =IF(B11<>"計",ROUNDDOWN(E11*G11,0),SUM(H$1:H10)) -> 0 | M11: =IF(B11<>"計",ROUNDDOWN(E11*G11,0),SUM(M$1:M10)) -> 0 | N11: =IF((+H11-M11)<>0,H11-M11,IF(H11>0,"0",""))
A13: 4. | B13: 外部仕上 | E13: 1 | F13: 式 | H13: =IF(B13<>"計",ROUNDDOWN(E13*G13,0),SUM(H$1:H12)) -> 0 | M13: =IF(B13<>"計",ROUNDDOWN(E13*G13,0),SUM(M$1:M12)) -> 0 | N13: =IF((+H13-M13)<>0,H13-M13,IF(H13>0,"0",""))
A15: 5. | B15: 内部仕上 | E15: 1 | F15: 式 | H15: =IF(B15<>"計",ROUNDDOWN(E15*G15,0),SUM(H$1:H14)) -> 0 | M15: =IF(B15<>"計",ROUNDDOWN(E15*G15,0),SUM(M$1:M14)) -> 0 | N15: =IF((+H15-M15)<>0,H15-M15,IF(H15>0,"0",""))
H17: =IF(B17<>"計",ROUNDDOWN(E17*G17,0),SUM(H$1:H16)) -> 0 | M17: =IF(B17<>"計",ROUNDDOWN(E17*G17,0),SUM(M$1:M16)) -> 0 | N17: =IF((+H17-M17)<>0,H17-M17,IF(H17>0,"0",""))
H19: =IF(B19<>"計",ROUNDDOWN(E19*G19,0),SUM(H$1:H18)) -> 0 | M19: =IF(B19<>"計",ROUNDDOWN(E19*G19,0),SUM(M$1:M18)) -> 0 | N19: =IF((+H19-M19)<>0,H19-M19,IF(H19>0,"0",""))
H21: =IF(B21<>"計",ROUNDDOWN(E21*G21,0),SUM(H$1:H20)) -> 0 | M21: =IF(B21<>"計",ROUNDDOWN(E21*G21,0),SUM(M$1:M20)) -> 0 | N21: =IF((+H21-M21)<>0,H21-M21,IF(H21>0,"0",""))
H23: =IF(B23<>"計",ROUNDDOWN(E23*G23,0),SUM(H$1:H22)) -> 0 | M23: =IF(B23<>"計",ROUNDDOWN(E23*G23,0),SUM(M$1:M22)) -> 0 | N23: =IF((+H23-M23)<>0,H23-M23,IF(H23>0,"0",""))
H25: =IF(B25<>"計",ROUNDDOWN(E25*G25,0),SUM(H$1:H24)) -> 0 | M25: =IF(B25<>"計",ROUNDDOWN(E25*G25,0),SUM(M$1:M24)) -> 0 | N25: =IF((+H25-M25)<>0,H25-M25,IF(H25>0,"0",""))
H27: =IF(B27<>"計",ROUNDDOWN(E27*G27,0),SUM(H$1:H26)) -> 0 | M27: =IF(B27<>"計",ROUNDDOWN(E27*G27,0),SUM(M$1:M26)) -> 0 | N27: =IF((+H27-M27)<>0,H27-M27,IF(H27>0,"0",""))
H29: =IF(B29<>"計",ROUNDDOWN(E29*G29,0),SUM(H$1:H28)) -> 0 | M29: =IF(B29<>"計",ROUNDDOWN(E29*G29,0),SUM(M$1:M28)) -> 0 | N29: =IF((+H29-M29)<>0,H29-M29,IF(H29>0,"0",""))
H31: =IF(B31<>"計",ROUNDDOWN(E31*G31,0),SUM(H$1:H30)) -> 0 | M31: =IF(B31<>"計",ROUNDDOWN(E31*G31,0),SUM(M$1:M30)) -> 0 | N31: =IF((+H31-M31)<>0,H31-M31,IF(H31>0,"0",""))
H33: =IF(B33<>"計",ROUNDDOWN(E33*G33,0),SUM(H$1:H32)) -> 0 | M33: =IF(B33<>"計",ROUNDDOWN(E33*G33,0),SUM(M$1:M32)) -> 0 | N33: =IF((+H33-M33)<>0,H33-M33,IF(H33>0,"0",""))
B35: 計 | H35: =IF(B35<>"計",ROUNDDOWN(E35*G35,0),SUM(H$1:H34)) -> 0 | M35: =IF(B35<>"計",ROUNDDOWN(E35*G35,0),SUM(M$1:M34)) -> 0 | N35: =IF((+H35-M35)<>0,H35-M35,IF(H35>0,"0",""))
H37: =IF(B37<>"計",ROUNDDOWN(E37*G37,0),SUM(H$1:H36)) -> 0 | M37: =IF(B37<>"計",ROUNDDOWN(E37*G37,0),SUM(M$1:M36)) -> 0 | N37: =IF((+H37-M37)<>0,H37-M37,IF(H37>0,"0",""))

Sheet 改修種目
B1: 名 称 | C1: 摘 要 | E1: 数 量 | F1: 単位 | G1: 単 価 | H1: 金 額 | I1: 備 考 | M1: 検算欄 | N1: 検算差額
M2: 下以降一式と合計は各自設定 | N2: 差額が0であればOK
B3: ○○○新築工事 | H3: =ROUNDDOWN(E3*G3,0) -> 0 | M3: =IF(B3<>"計",ROUNDDOWN(E3*G3,0),SUM(M$1:M2)) -> 0 | N3: =IF((+H3-M3)<>0,H3-M3,IF(H3>0,"0",""))
A5: Ⅰ | B5: 直接工事費 | H5: =ROUNDDOWN(E5*G5,0) -> 0 | M5: =IF(B5<>"計",ROUNDDOWN(E5*G5,0),SUM(M$1:M4)) -> 0 | N5: =IF((+H5-M5)<>0,H5-M5,IF(H5>0,"0",""))
A7: (1) | B7: 建築工事 | E7: 1 | F7: 式 | H7: =IF(B7<>"計",ROUNDDOWN(E7*G7,0),SUM(H$1:H6)) -> 0 | M7: =IF(B7<>"計",ROUNDDOWN(E7*G7,0),SUM(M$1:M6)) -> 0 | N7: =IF((+H7-M7)<>0,H7-M7,IF(H7>0,"0",""))
A9: (2) | B9: 電気設備工事 | E9: 1 | F9: 式 | H9: =IF(B9<>"計",ROUNDDOWN(E9*G9,0),SUM(H$1:H8)) -> 0 | M9: =IF(B9<>"計",ROUNDDOWN(E9*G9,0),SUM(M$1:M8)) -> 0 | N9: =IF((+H9-M9)<>0,H9-M9,IF(H9>0,"0",""))
A11: (3) | B11: 空気調和設備工事 | E11: 1 | F11: 式 | H11: =IF(B11<>"計",ROUNDDOWN(E11*G11,0),SUM(H$1:H10)) -> 0 | M11: =IF(B11<>"計",ROUNDDOWN(E11*G11,0),SUM(M$1:M10)) -> 0 | N11: =IF((+H11-M11)<>0,H11-M11,IF(H11>0,"0",""))
A13: (4) | B13: 給排水衛生設備工事 | E13: 1 | F13: 式 | H13: =IF(B13<>"計",ROUNDDOWN(E13*G13,0),SUM(H$1:H12)) -> 0 | M13: =IF(B13<>"計",ROUNDDOWN(E13*G13,0),SUM(M$1:M12)) -> 0 | N13: =IF((+H13-M13)<>0,H13-M13,IF(H13>0,"0",""))
A15: (5) | B15: 昇降機設備工事 | E15: 1 | F15: 式 | H15: =IF(B15<>"計",ROUNDDOWN(E15*G15,0),SUM(H$1:H14)) -> 0 | M15: =IF(B15<>"計",ROUNDDOWN(E15*G15,0),SUM(M$1:M14)) -> 0 | N15: =IF((+H15-M15)<>0,H15-M15,IF(H15>0,"0",""))
A17: (6) | B17: 機械駐車設備工事 | E17: 1 | F17: 式 | H17: =IF(B17<>"計",ROUNDDOWN(E17*G17,0),SUM(H$1:H16)) -> 0 | M17: =IF(B17<>"計",ROUNDDOWN(E17*G17,0),SUM(M$1:M16)) -> 0 | N17: =IF((+H17-M17)<>0,H17-M17,IF(H17>0,"0",""))
A19: (7) | B19: 屋外施設工事 | E19: 1 | F19: 式 | H19: =IF(B19<>"計",ROUNDDOWN(E19*G19,0),SUM(H$1:H18)) -> 0 | M19: =IF(B19<>"計",ROUNDDOWN(E19*G19,0),SUM(M$1:M18)) -> 0 | N19: =IF((+H19-M19)<>0,H19-M19,IF(H19>0,"0",""))
B21: 計 | H21: =IF(B21<>"計",ROUNDDOWN(E21*G21,0),SUM(H$1:H20)) -> 0 | M21: =IF(B21<>"計",ROUNDDOWN(E21*G21,0),SUM(M$1:M20)) -> 0 | N21: =IF((+H21-M21)<>0,H21-M21,IF(H21>0,"0",""))
A23: Ⅱ | B23: 共通費 | H23: =ROUNDDOWN(E23*G23,0) -> 0 | M23: =IF(B23<>"計",ROUNDDOWN(E23*G23,0),SUM(M$1:M22)) -> 0 | N23: =IF((+H23-M23)<>0,H23-M23,IF(H23>0,"0",""))
A25: (1) | B25: 共通仮設費 | E25: 1 | F25: 式 | G25: =ROUNDDOWN(H21*I25,-4) -> 0 | H25: =IF(B25<>"計",ROUNDDOWN(E25*G25,0),SUM(H$1:H24)) -> 0 | I25: 0.04 | M25: =IF(B25<>"計",ROUNDDOWN(E25*G25,0),SUM(M$1:M24)) -> 0 | N25: =IF((+H25-M25)<>0,H25-M25,IF(H25>0,"0",""))
A27: (2) | B27: 諸経費 | E27: 1 | F27: 式 | G27: =+H31-H21-H25 -> 0 | H27: =IF(B27<>"計",ROUNDDOWN(E27*G27,0),SUM(H$1:H26)) -> 0 | I27: 0.1 | M27: =IF(B27<>"計",ROUNDDOWN(E27*G27,0),SUM(M$1:M26)) -> 0 | N27: =IF((+H27-M27)<>0,H27-M27,IF(H27>0,"0",""))
B29: 計 | H29: =SUM(H24:H27) -> 0 | M29: =IF(B29<>"計",ROUNDDOWN(E29*G29,0),SUM(M$24:M28)) -> 0 | N29: =IF((+H29-M29)<>0,H29-M29,IF(H29>0,"0",""))
B31: 合計（工事価格） | H31: =ROUNDDOWN((H21+H25)*(1+I27),-4) -> 0 | M31: =+M21+M29 -> 0 | N31: =IF((+H31-M31)<>0,H31-M31,IF(H31>0,"0",""))
A33: Ⅲ | B33: 消費税等相当額 | E33: 1 | F33: 式 | G33: =ROUNDDOWN(H31*I33,0) -> 0 | H33: =IF(B33<>"計",ROUNDDOWN(E33*G33,0),SUM(H$1:H32)) -> 0 | I33: 0.08 | M33: =IF(B33<>"計",ROUNDDOWN(E33*G33,0),SUM(M$1:M32)) -> 0 | N33: =IF((+H33-M33)<>0,H33-M33,IF(H33>0,"0",""))
B35: 総合計（工事費） | H35: =+H31+H33 -> 0 | M35: =+M31+M33 -> 0 | N35: =IF((+H35-M35)<>0,H35-M35,IF(H35>0,"0",""))
H37: =ROUNDDOWN(E37*G37,0) -> 0 | M37: =IF(B37<>"計",ROUNDDOWN(E37*G37,0),SUM(M$1:M36)) -> 0 | N37: =IF((+H37-M37)<>0,H37-M37,IF(H37>0,"0",""))
H38: =ROUNDDOWN(E38*G38,0) -> 0
H40: =ROUNDDOWN(E40*G40,0) -> 0
H42: =ROUNDDOWN(E42*G42,0) -> 0
H44: =ROUNDDOWN(E44*G44,0) -> 0
H46: =ROUNDDOWN(E46*G46,0) -> 0
H48: =ROUNDDOWN(E48*G48,0) -> 0
H50: =ROUNDDOWN(E50*G50,0) -> 0
H52: =ROUNDDOWN(E52*G52,0) -> 0
H54: =ROUNDDOWN(E54*G54,0) -> 0
H56: =ROUNDDOWN(E56*G56,0) -> 0
H58: =ROUNDDOWN(E58*G58,0) -> 0
H60: =ROUNDDOWN(E60*G60,0) -> 0
... H148: =ROUNDDOWN(E148*G148,0) -> 0

Sheet (1)小科目S1
B1: 名 称 | C1: 摘 要 | E1: 数 量 | F1: 単位 | G1: 単 価 | H1: 金 額 | I1: 備 考
A2: Ⅰ-(1)-1 | B2: ステップＳ１（宿泊棟）
A3: 1-1 | B3: 空気調和設備
A7: 1. | B7: 機器設備 | E7: 1 | F7: 式
A9: 2. | B9: 配管設備 | E9: 1 | F9: 式
B13: 計
A16: Ⅰ-(1)-1 | B16: ステップＳ１（宿泊棟）
A17: 1-2 | B17: 換気設備
A21: 1. | B21: 機器設備 | E21: 1 | F21: 式
A23: 2. | B23: ダクト設備 | E23: 1 | F23: 式
A25: 3. | B25: 総合調整 | E25: 1 | F25: 式
B29: 計
A32: Ⅰ-(1)-1 | B32: ステップＳ１（宿泊棟）
A33: 1-3 | B33: 撤去工事
A37: 1. | B37: 撤去工事 | E37: 1 | F37: 式
B41: 計
A44: Ⅰ-(1)-1 | B44: ステップＳ１（宿泊棟）
A45: 1-4 | B45: 足場組立及び解体工事
A49: 1. | B49: 足場組立及び解体工事 | E49: 1 | F49: 式
B53: 計
A56: Ⅰ-(1)-1 | B56: ステップＳ１（宿泊棟）
A57: 1-5 | B57: 発生材処理
A61: 1. | B61: 発生材処理 | E61: 1 | F61: 式
B65: 計
H71: =IF(B71<>"計",ROUNDDOWN(E71*G71,0),SUM(H$1:H70)) -> 0
H73: =IF(B73<>"計",ROUNDDOWN(E73*G73,0),SUM(H$1:H72)) -> 0
H75: =IF(B75<>"計",ROUNDDOWN(E75*G75,0),SUM(H$1:H74)) -> 0
H77: =IF(B77<>"計",ROUNDDOWN(E77*G77,0),SUM(H$1:H76)) -> 0
H79: =IF(B79<>"計",ROUNDDOWN(E79*G79,0),SUM(H$1:H78)) -> 0

Sheet 2-2-1-1
B1: =B5 -> 2-1 | C1: =C5 -> 空気調和設備 | H1: 小計→ | I1: =MAX(I4:I379) -> 0
B2: =B7 -> 1. | C2: =C7 -> 機器設備
C3: 名 称 | D3: 摘 要 | F3: 数 量 | G3: 単位 | H3: 単 価 | I3: 金 額 | J3: 備 考
B4: Ⅰ-(1)-1 | C4: ステップＳ１（宿泊棟）
B5: 2-1 | C5: 空気調和設備
B7: 1. | C7: 機器設備
C10: ACR-S1001 | D10: ﾙｰﾑｴｱｺﾝ壁掛型
C11: パッケージ形空調調和機 | D11: 冷却：5.6ｋｗ、加熱：6.7kw | F11: 1 | G11: 台
C12: ACR-S1003～1017 | D12: ﾙｰﾑｴｱｺﾝ壁掛型
C13: パッケージ形空調調和機 | D13: 冷却：3.6ｋｗ、加熱：4.2kw | F13: 8 | G13: 台
C14: ACR-S1019～1021 | D14: ﾙｰﾑｴｱｺﾝ壁掛型
C15: パッケージ形空調調和機 | D15: 冷却：5.6ｋｗ、加熱：6.7kw | F15: 2 | G15: 台
C16: ACR-S1023～1027 | D16: ﾙｰﾑｴｱｺﾝ壁掛型
C17: パッケージ形空調調和機 | D17: 冷却：3.6ｋｗ、加熱：4.2kw | F17: 3 | G17: 台
C18: ACR-S1031 | D18: ﾙｰﾑｴｱｺﾝ壁掛型
C19: パッケージ形空調調和機 | D19: 冷却：5.6ｋｗ、加熱：6.7kw | F19: 1 | G19: 台
C20: ACR-S1033～1039 | D20: ﾙｰﾑｴｱｺﾝ壁掛型
C21: パッケージ形空調調和機 | D21: 冷却：4.0ｋｗ、加熱：5.0kw | F21: 4 | G21: 台
C22: ACR-S1041 | D22: ﾙｰﾑｴｱｺﾝ壁掛型
C23: パッケージ形空調調和機 | D23: 冷却：5.6ｋｗ、加熱：6.7kw | F23: 1 | G23: 台
C24: ACM-S1 | D24: ビル用マルチエアコン
C25: マルチパッケージ形空調調和機 | D25: 冷却：112ｋｗ、加熱：125kw | F25: 1 | G25: 台
C26: ACM-S101～S1001 | D26: 埋込床置ローボーイ型
C27: マルチパッケージ形空調調和機 | D27: 冷却：2.8ｋｗ、加熱：3.2kw | F27: 3 | G27: 台
C28: ACM-S102～902 | D28: 天井カセット型（1方向）
C29: マルチパッケージ形空調調和機 | D29: 冷却：5.6ｋｗ、加熱：6.3kw | F29: 2 | G29: 台
C30: ACM-S1002 | D30: 天井カセット型（1方向）
C31: マルチパッケージ形空調調和機 | D31: 冷却：7.1ｋｗ、加熱：8.0kw | F31: 1 | G31: 台
C32: ACM-S103～1003 | D32: 天井カセット型（2方向）
C33: マルチパッケージ形空調調和機 | D33: 冷却：2.2ｋｗ、加熱：2.5kw | F33: 3 | G33: 台
C35: 集中コントローラー | F35: 1 | G35: 台
C37: 搬入・据付費 | F37: 1 | G37: 式 | H37: ='別紙明細2-2-1-1'!J17 -> 0 | I37: =IF(C37<>"計",ROUNDDOWN(F37*H37,0),SUM(I$3:I36)) -> 0 | J37: ='別紙明細2-2-1-1'!C4 -> 別紙明細2-2-1-1-1
I39: =IF(C39<>"計",ROUNDDOWN(F39*H39,0),SUM(I$3:I38)) -> 0
C41: 計 | I41: =IF(C41<>"計",ROUNDDOWN(F41*H41,0),SUM(I$3:I40)) -> 0
I43: =IF(C43<>"計",ROUNDDOWN(F43*H43,0),SUM(I$3:I42)) -> 0
I45: =IF(C45<>"計",ROUNDDOWN(F45*H45,0),SUM(I$3:I44)) -> 0
I47: =IF(C47<>"計",ROUNDDOWN(F47*H47,0),SUM(I$3:I46)) -> 0
I49: =IF(C49<>"計",ROUNDDOWN(F49*H49,0),SUM(I$3:I48)) -> 0
I51: =IF(C51<>"計",ROUNDDOWN(F51*H51,0),SUM(I$3:I50)) -> 0
I53: =IF(C53<>"計",ROUNDDOWN(F53*H53,0),SUM(I$3:I52)) -> 0
I55: =IF(C55<>"計",ROUNDDOWN(F55*H55,0),SUM(I$3:I54)) -> 0
I57: =IF(C57<>"計",ROUNDDOWN(F57*H57,0),SUM(I$3:I56)) -> 0
I59: =IF(C59<>"計",ROUNDDOWN(F59*H59,0),SUM(I$3:I58)) -> 0
I61: =IF(C61<>"計",ROUNDDOWN(F61*H61,0),SUM(I$3:I60)) -> 0
I63: =IF(C63<>"計",ROUNDDOWN(F63*H63,0),SUM(I$3:I62)) -> 0
I65: =IF(C65<>"計",ROUNDDOWN(F65*H65,0),SUM(I$3:I64)) -> 0
... I379: =IF(C379<>"計",ROUNDDOWN(F379*H379,0),SUM(I$3:I378)) -> 0

Sheet 2-2-1-2
B1: =B5 -> 2-1 | C1: =C5 -> 空気調和設備 | H1: 小計→ | I1: =MAX(I4:I407) -> 0
B2: =B7 -> 2. | C2: =C7 -> 配管設備
C3: 名 称 | D3: 摘 要 | F3: 数 量 | G3: 単位 | H3: 単 価 | I3: 金 額 | J3: 備 考
B4: Ⅰ-(1)-1 | C4: ステップＳ１（宿泊棟）
B5: 2-1 | C5: 空気調和設備
B7: 2. | C7: 配管設備
D10: ACドレン | E10: 融着接合
C11: ドレン管 | D11: 屋内一般 | E11: 20A | F11: 26 | G11: ｍ
D12: ACドレン | E12: 融着接合
C13: ドレン管 | D13: 屋内一般 | E13: 25A | F13: 96 | G13: ｍ
D14: ACドレン | E14: 融着接合
C15: ドレン管 | D15: 屋外 | E15: 20A | F15: 18 | G15: ｍ
D16: ACドレン | E16: 融着接合
C17: ドレン管 | D17: 屋外 | E17: 25A | F17: 22 | G17: ｍ
C19: 冷媒管 | F19: 1 | G19: 式 | H19: ='別紙明細2-2-1-2'!$J$47 -> 0 | I19: =IF(C19<>"計",ROUNDDOWN(F19*H19,0),SUM(I$3:I18)) -> 0 | J19: ='別紙明細2-2-1-2'!$C$4 -> 別紙明細2-2-1-2-1
C21: 保温 | F21: 1 | G21: 式 | H21: ='別紙明細2-2-1-2'!J63 -> 0 | I21: =IF(C21<>"計",ROUNDDOWN(F21*H21,0),SUM(I$3:I20)) -> 0 | J21: ='別紙明細2-2-1-2'!C50 -> 別紙明細2-2-1-2-2
C23: 防火区画貫通処理 | F23: 1 | G23: 式 | H23: ='別紙明細2-2-1-2'!J75 -> 0 | I23: =IF(C23<>"計",ROUNDDOWN(F23*H23,0),SUM(I$3:I22)) -> 0 | J23: ='別紙明細2-2-1-2'!C66 -> 別紙明細2-2-1-2-3
C25: あと施工アンカー | F25: 1 | G25: 式 | H25: ='別紙明細2-2-1-2'!J93 -> 0 | I25: =IF(C25<>"計",ROUNDDOWN(F25*H25,0),SUM(I$3:I24)) -> 0 | J25: ='別紙明細2-2-1-2'!C78 -> 別紙明細2-2-1-2-4
C27: はつり補修 | F27: 1 | G27: 式 | H27: ='別紙明細2-2-1-2'!J109 -> 0 | I27: =IF(C27<>"計",ROUNDDOWN(F27*H27,0),SUM(I$3:I26)) -> 0 | J27: ='別紙明細2-2-1-2'!C96 -> 別紙明細2-2-1-2-5
C29: 既存スリーブ開口塞ぎ | F29: 1 | G29: 式 | H29: ='別紙明細2-2-1-2'!J127 -> 0 | I29: =IF(C29<>"計",ROUNDDOWN(F29*H29,0),SUM(I$3:I28)) -> 0 | J29: ='別紙明細2-2-1-2'!C112 -> 別紙明細2-2-1-2-6
C31: スリーブ | F31: 1 | G31: 式 | H31: ='別紙明細2-2-1-2'!J171 -> 0 | I31: =IF(C31<>"計",ROUNDDOWN(F31*H31,0),SUM(I$3:I30)) -> 0 | J31: ='別紙明細2-2-1-2'!C130 -> 別紙明細2-2-1-2-7
C35: 計
I41: =IF(C41<>"計",ROUNDDOWN(F41*H41,0),SUM(I$3:I40)) -> 0
I43: =IF(C43<>"計",ROUNDDOWN(F43*H43,0),SUM(I$3:I42)) -> 0
I45: =IF(C45<>"計",ROUNDDOWN(F45*H45,0),SUM(I$3:I44)) -> 0
I47: =IF(C47<>"計",ROUNDDOWN(F47*H47,0),SUM(I$3:I46)) -> 0
I49: =IF(C49<>"計",ROUNDDOWN(F49*H49,0),SUM(I$3:I48)) -> 0
I51: =IF(C51<>"計",ROUNDDOWN(F51*H51,0),SUM(I$3:I50)) -> 0
I53: =IF(C53<>"計",ROUNDDOWN(F53*H53,0),SUM(I$3:I52)) -> 0
I55: =IF(C55<>"計",ROUNDDOWN(F55*H55,0),SUM(I$3:I54)) -> 0
I57: =IF(C57<>"計",ROUNDDOWN(F57*H57,0),SUM(I$3:I56)) -> 0
I59: =IF(C59<>"計",ROUNDDOWN(F59*H59,0),SUM(I$3:I58)) -> 0
I61: =IF(C61<>"計",ROUNDDOWN(F61*H61,0),SUM(I$3:I60)) -> 0
I63: =IF(C63<>"計",ROUNDDOWN(F63*H63,0),SUM(I$3:I62)) -> 0
... I407: =IF(C407<>"計",ROUNDDOWN(F407*H407,0),SUM(I$3:I406)) -> 0

Sheet 2-2-2-1
B1: =B5 -> 2-1 | C1: =C5 -> 換気設備 | H1: 小計→ | I1: =MAX(I4:I387) -> 0
B2: =B7 -> 1. | C2: =C7 -> 機器設備
C3: 名 称 | D3: 摘 要 | F3: 数 量 | G3: 単位 | H3: 単 価 | I3: 金 額 | J3: 備 考
B4: Ⅰ-(1)-1 | C4: ステップＳ１（宿泊棟）
B5: 2-1 | C5: 換気設備
B7: 1. | C7: 機器設備
C10: FE-S261～S961
C11: 天井扇 | D11: 天吊 | F11: 2 | G11: 台
C12: FE-S262～S962
C13: 天井扇 | D13: 天吊 | F13: 2 | G13: 台
C14: FE-S1001,1003 | D14: ２室用
C15: 中間ダクトファン | D15: 天吊 | F15: 2 | G15: 台
C16: FE-S1031～1041 | D16: ２室用
C17: 中間ダクトファン | D17: 天吊 | F17: 6 | G17: 台
C18: FE-S1061
C19: 天井扇 | D19: 天吊 | F19: 1 | G19: 台
C20: FE-S1062
C21: 天井扇 | D21: 天吊 | F21: 1 | G21: 台
C23: 搬入・据付費 | F23: 1 | G23: 式 | J23: ='別紙明細2-2-2-1'!C4 -> 別紙明細2-2-2-1-1
C27: 計
I31: =IF(C31<>"計",ROUNDDOWN(F31*H31,0),SUM(I$3:I30)) -> 0
I33: =IF(C33<>"計",ROUNDDOWN(F33*H33,0),SUM(I$3:I32)) -> 0
I35: =IF(C35<>"計",ROUNDDOWN(F35*H35,0),SUM(I$3:I34)) -> 0
I37: =IF(C37<>"計",ROUNDDOWN(F37*H37,0),SUM(I$3:I36)) -> 0
I39: =IF(C39<>"計",ROUNDDOWN(F39*H39,0),SUM(I$3:I38)) -> 0
I41: =IF(C41<>"計",ROUNDDOWN(F41*H41,0),SUM(I$3:I40)) -> 0
I43: =IF(C43<>"計",ROUNDDOWN(F43*H43,0),SUM(I$3:I42)) -> 0
I45: =IF(C45<>"計",ROUNDDOWN(F45*H45,0),SUM(I$3:I44)) -> 0
I47: =IF(C47<>"計",ROUNDDOWN(F47*H47,0),SUM(I$3:I46)) -> 0
I49: =IF(C49<>"計",ROUNDDOWN(F49*H49,0),SUM(I$3:I48)) -> 0
I51: =IF(C51<>"計",ROUNDDOWN(F51*H51,0),SUM(I$3:I50)) -> 0
I53: =IF(C53<>"計",ROUNDDOWN(F53*H53,0),SUM(I$3:I52)) -> 0
... I389: =IF(C389<>"計",ROUNDDOWN(F389*H389,0),SUM(I$3:I388)) -> 0

Sheet 2-2-2-2
B1: =B5 -> 2-2 | C1: =C5 -> 換気設備 | H1: 小計→ | I1: =MAX(I4:I369) -> 0
B2: =B7 -> 2. | C2: =C7 -> ダクト設備
C3: 名 称 | D3: 摘 要 | F3: 数 量 | G3: 単位 | H3: 単 価 | I3: 金 額 | J3: 備 考
B4: Ⅰ-(1)-1 | C4: ステップＳ１（宿泊棟）
B5: 2-2 | C5: 換気設備 | I5: =IF(C5<>"計",ROUNDDOWN(F5*H5,0),SUM(I$3:I4)) -> 0
B7: 2. | C7: ダクト設備 | I7: =IF(C7<>"計",ROUNDDOWN(F7*H7,0),SUM(I$3:I6)) -> 0
I9: =IF(C9<>"計",ROUNDDOWN(F9*H9,0),SUM(I$3:I8)) -> 0
C11: ＜ＥＡ＞
D12: (低圧)
C13: スパイラルダクト | D13: 亜鉛鉄板 | E13: 100φ | F13: 70 | G13: ｍ
D14: ﾕﾆﾊﾞｰｻﾙ形吹出口
C15: 制気口 | D15: HS | E15: 100×100 | F15: 8 | G15: 個
D16: ﾕﾆﾊﾞｰｻﾙ形吹出口
C17: 制気口 | D17: HS | E17: 150×150 | F17: 3 | G17: 個
C19: 風量調整ダンパー | D19: VD | E19: 100φ | F19: 16 | G19: 個
D20: SUS製 | E20: FD付
C21: ベントキャップ | D21: ガラリ型 | E21: 100φ | F21: 5 | G21: 個
C23: 制気口ボックス類 | F23: 1 | G23: 式 | J23: ='別紙明細2-2-2-2'!C4 -> 別紙明細2-2-2-2-1
C25: 保温 | F25: 1 | G25: 式 | J25: ='別紙明細2-2-2-2'!C20 -> 別紙明細2-2-2-2-2
C27: あと施工アンカー | F27: 1 | G27: 式 | J27: ='別紙明細2-2-2-2'!C32 -> 別紙明細2-2-2-2-3
C29: ダクト清掃 | F29: 1 | G29: 式 | J29: ='別紙明細2-2-2-2'!C46 -> 別紙明細2-2-2-2-4
C31: スリーブ | F31: 1 | G31: 式 | J31: ='別紙明細2-2-2-2'!C58 -> 別紙明細2-2-2-2-5
C35: 計
I39: =IF(C39<>"計",ROUNDDOWN(F39*H39,0),SUM(I$3:I38)) -> 0
I41: =IF(C41<>"計",ROUNDDOWN(F41*H41,0),SUM(I$3:I40)) -> 0
I43: =IF(C43<>"計",ROUNDDOWN(F43*H43,0),SUM(I$3:I42)) -> 0
I45: =IF(C45<>"計",ROUNDDOWN(F45*H45,0),SUM(I$3:I44)) -> 0
I47: =IF(C47<>"計",ROUNDDOWN(F47*H47,0),SUM(I$3:I46)) -> 0
I49: =IF(C49<>"計",ROUNDDOWN(F49*H49,0),SUM(I$3:I48)) -> 0
I51: =IF(C51<>"計",ROUNDDOWN(F51*H51,0),SUM(I$3:I50)) -> 0
I53: =IF(C53<>"計",ROUNDDOWN(F53*H53,0),SUM(I$3:I52)) -> 0
I55: =IF(C55<>"計",ROUNDDOWN(F55*H55,0),SUM(I$3:I54)) -> 0
I57: =IF(C57<>"計",ROUNDDOWN(F57*H57,0),SUM(I$3:I56)) -> 0
I59: =IF(C59<>"計",ROUNDDOWN(F59*H59,0),SUM(I$3:I58)) -> 0
I61: =IF(C61<>"計",ROUNDDOWN(F61*H61,0),SUM(I$3:I60)) -> 0
... I365: =IF(C365<>"計",ROUNDDOWN(F365*H365,0),SUM(I$3:I364)) -> 0

Sheet 2-2-2-3
B1: =B5 -> 2-2 | C1: =C5 -> 換気設備 | H1: 小計→ | I1: =MAX(I4:I389) -> 0
B2: =B7 -> 3. | C2: =C7 -> 総合調整
C3: 名 称 | D3: 摘 要 | F3: 数 量 | G3: 単位 | H3: 単 価 | I3: 金 額 | J3: 備 考
B4: Ⅰ-(1)-1 | C4: ステップＳ１（宿泊棟）
B5: 2-2 | C5: 換気設備 | I5: =IF(C5<>"計",ROUNDDOWN(F5*H5,0),SUM(I$3:I4)) -> 0
B7: 3. | C7: 総合調整
C11: 総合調整 | F11: 1 | G11: 式 | J11: ='別紙明細2-2-2-3'!C4 -> 別紙明細2-2-2-3-1
C15: 計
I21: =IF(C21<>"計",ROUNDDOWN(F21*H21,0),SUM(I$3:I20)) -> 0
I23: =IF(C23<>"計",ROUNDDOWN(F23*H23,0),SUM(I$3:I22)) -> 0
I25: =IF(C25<>"計",ROUNDDOWN(F25*H25,0),SUM(I$3:I24)) -> 0
I27: =IF(C27<>"計",ROUNDDOWN(F27*H27,0),SUM(I$3:I26)) -> 0
I29: =IF(C29<>"計",ROUNDDOWN(F29*H29,0),SUM(I$3:I28)) -> 0
I31: =IF(C31<>"計",ROUNDDOWN(F31*H31,0),SUM(I$3:I30)) -> 0
I33: =IF(C33<>"計",ROUNDDOWN(F33*H33,0),SUM(I$3:I32)) -> 0
I35: =IF(C35<>"計",ROUNDDOWN(F35*H35,0),SUM(I$3:I34)) -> 0
I37: =IF(C37<>"計",ROUNDDOWN(F37*H37,0),SUM(I$3:I36)) -> 0
I39: =IF(C39<>"計",ROUNDDOWN(F39*H39,0),SUM(I$3:I38)) -> 0
I41: =IF(C41<>"計",ROUNDDOWN(F41*H41,0),SUM(I$3:I40)) -> 0
I43: =IF(C43<>"計",ROUNDDOWN(F43*H43,0),SUM(I$3:I42)) -> 0
... I391: =IF(C391<>"計",ROUNDDOWN(F391*H391,0),SUM(I$3:I390)) -> 0

Sheet 2-2-3-1
B1: =B5 -> 2-3 | C1: =C5 -> 撤去工事 | H1: 小計→ | I1: =MAX(I4:I387) -> 0
B2: =B7 -> 1. | C2: =C7 -> 撤去工事
C3: 名 称 | D3: 摘 要 | F3: 数 量 | G3: 単位 | H3: 単 価 | I3: 金 額 | J3: 備 考
B4: Ⅰ-(1)-1 | C4: ステップＳ１（宿泊棟）
B5: 2-3 | C5: 撤去工事 | I5: =IF(C5<>"計",ROUNDDOWN(F5*H5,0),SUM(I$3:I4)) -> 0
B7: 1. | C7: 撤去工事 | I7: =IF(C7<>"計",ROUNDDOWN(F7*H7,0),SUM(I$3:I6)) -> 0
C11: 機器類撤去 | F11: 1 | G11: 式 | J11: ='別紙明細2-2-3-1'!C4 -> 別紙明細2-2-3-1-1
C13: ダクト類撤去 | F13: 1 | G13: 式 | J13: ='別紙明細2-2-3-1'!C26 -> 別紙明細2-2-3-1-2
C15: 配管類撤去 | F15: 1 | G15: 式 | J15: ='別紙明細2-2-3-1'!C54 -> 別紙明細2-2-3-1-3
C19: 計
I25: =IF(C25<>"計",ROUNDDOWN(F25*H25,0),SUM(I$3:I24)) -> 0
I27: =IF(C27<>"計",ROUNDDOWN(F27*H27,0),SUM(I$3:I26)) -> 0
I29: =IF(C29<>"計",ROUNDDOWN(F29*H29,0),SUM(I$3:I28)) -> 0
I31: =IF(C31<>"計",ROUNDDOWN(F31*H31,0),SUM(I$3:I30)) -> 0
I33: =IF(C33<>"計",ROUNDDOWN(F33*H33,0),SUM(I$3:I32)) -> 0
I35: =IF(C35<>"計",ROUNDDOWN(F35*H35,0),SUM(I$3:I34)) -> 0
I37: =IF(C37<>"計",ROUNDDOWN(F37*H37,0),SUM(I$3:I36)) -> 0
I39: =IF(C39<>"計",ROUNDDOWN(F39*H39,0),SUM(I$3:I38)) -> 0
I41: =IF(C41<>"計",ROUNDDOWN(F41*H41,0),SUM(I$3:I40)) -> 0
I43: =IF(C43<>"計",ROUNDDOWN(F43*H43,0),SUM(I$3:I42)) -> 0
I45: =IF(C45<>"計",ROUNDDOWN(F45*H45,0),SUM(I$3:I44)) -> 0
I47: =IF(C47<>"計",ROUNDDOWN(F47*H47,0),SUM(I$3:I46)) -> 0
... I389: =IF(C389<>"計",ROUNDDOWN(F389*H389,0),SUM(I$3:I388)) -> 0

Sheet 2-2-4-1
B1: =B5 -> 2-4 | C1: =C5 -> 足場組立及び解体工事 | H1: 小計→ | I1: =MAX(I4:I383) -> 0
B2: =B7 -> 1. | C2: =C7 -> 足場組立及び解体工事
C3: 名 称 | D3: 摘 要 | F3: 数 量 | G3: 単位 | H3: 単 価 | I3: 金 額 | J3: 備 考
B4: Ⅰ-(1)-1 | C4: ステップＳ１（宿泊棟）
B5: 2-4 | C5: 足場組立及び解体工事 | I5: =IF(C5<>"計",ROUNDDOWN(F5*H5,0),SUM(I$3:I4)) -> 0
B7: 1. | C7: 足場組立及び解体工事 | I7: =IF(C7<>"計",ROUNDDOWN(F7*H7,0),SUM(I$3:I6)) -> 0
C11: 足場組立及び解体工事 | F11: 1 | G11: 式 | J11: ='別紙明細2-2-4-1'!C4 -> 別紙明細2-2-4-1-1
C15: 計
I21: =IF(C21<>"計",ROUNDDOWN(F21*H21,0),SUM(I$3:I20)) -> 0
I23: =IF(C23<>"計",ROUNDDOWN(F23*H23,0),SUM(I$3:I22)) -> 0
I25: =IF(C25<>"計",ROUNDDOWN(F25*H25,0),SUM(I$3:I24)) -> 0
I27: =IF(C27<>"計",ROUNDDOWN(F27*H27,0),SUM(I$3:I26)) -> 0
I29: =IF(C29<>"計",ROUNDDOWN(F29*H29,0),SUM(I$3:I28)) -> 0
I31: =IF(C31<>"計",ROUNDDOWN(F31*H31,0),SUM(I$3:I30)) -> 0
I33: =IF(C33<>"計",ROUNDDOWN(F33*H33,0),SUM(I$3:I32)) -> 0
I35: =IF(C35<>"計",ROUNDDOWN(F35*H35,0),SUM(I$3:I34)) -> 0
I37: =IF(C37<>"計",ROUNDDOWN(F37*H37,0),SUM(I$3:I36)) -> 0
I39: =IF(C39<>"計",ROUNDDOWN(F39*H39,0),SUM(I$3:I38)) -> 0
I41: =IF(C41<>"計",ROUNDDOWN(F41*H41,0),SUM(I$3:I40)) -> 0
I43: =IF(C43<>"計",ROUNDDOWN(F43*H43,0),SUM(I$3:I42)) -> 0
... I385: =IF(C385<>"計",ROUNDDOWN(F385*H385,0),SUM(I$3:I384)) -> 0

Sheet 2-2-5-1
B1: =B5 -> 2-5 | C1: =C5 -> 発生材処理 | H1: 小計→ | I1: =MAX(I4:I383) -> 0
B2: =B7 -> 1. | C2: =C7 -> 発生材処理
C3: 名 称 | D3: 摘 要 | F3: 数 量 | G3: 単位 | H3: 単 価 | I3: 金 額 | J3: 備 考
B4: Ⅰ-(1)-1 | C4: ステップＳ１（宿泊棟）
B5: 2-5 | C5: 発生材処理
B7: 1. | C7: 発生材処理
C11: 発生材処理 | F11: 1 | G11: 式 | J11: ='別紙明細2-2-5-1'!C4 -> 別紙明細2-2-5-1-1
C15: 計
I39: =IF(C39<>"計",ROUNDDOWN(F39*H39,0),SUM(I$3:I38)) -> 0
I41: =IF(C41<>"計",ROUNDDOWN(F41*H41,0),SUM(I$3:I40)) -> 0
I43: =IF(C43<>"計",ROUNDDOWN(F43*H43,0),SUM(I$3:I42)) -> 0
I45: =IF(C45<>"計",ROUNDDOWN(F45*H45,0),SUM(I$3:I44)) -> 0
I47: =IF(C47<>"計",ROUNDDOWN(F47*H47,0),SUM(I$3:I46)) -> 0
I49: =IF(C49<>"計",ROUNDDOWN(F49*H49,0),SUM(I$3:I48)) -> 0
I51: =IF(C51<>"計",ROUNDDOWN(F51*H51,0),SUM(I$3:I50)) -> 0
I53: =IF(C53<>"計",ROUNDDOWN(F53*H53,0),SUM(I$3:I52)) -> 0
I55: =IF(C55<>"計",ROUNDDOWN(F55*H55,0),SUM(I$3:I54)) -> 0
I57: =IF(C57<>"計",ROUNDDOWN(F57*H57,0),SUM(I$3:I56)) -> 0
I59: =IF(C59<>"計",ROUNDDOWN(F59*H59,0),SUM(I$3:I58)) -> 0
I61: =IF(C61<>"計",ROUNDDOWN(F61*H61,0),SUM(I$3:I60)) -> 0
... I385: =IF(C385<>"計",ROUNDDOWN(F385*H385,0),SUM(I$3:I384)) -> 0

Sheet 別紙明細2-2-1-1
C3: 名 称 | D3: 摘 要 | F3: 数 量 | G3: 単位 | H3: 単 価 | I3: 金 額 | J3: 備 考
C4: 別紙明細2-2-1-1-1
C5: 搬入・据付費 | F5: 1 | G5: 式 | I5: =IF(C5<>"計",ROUNDDOWN(F5*H5,0),SUM(I$3:I4)) -> 0
C9: 機器搬入 | F9: 1.72 | G9: ｔ
D10: 設備機械工
C11: 据付費 | D11: 歩掛り46.70人×1.2 | F11: =46.7*1.2 -> 56.04 | G11: 人
D12: 設備機械工
C13: 据付費（再取付品） | D13: 歩掛り53.90人×1.2 | F13: =53.9*1.2 -> 64.68 | G13: 人
C17: 計
I29: =IF(C29<>"計",ROUNDDOWN(F29*H29,0),SUM(I$3:I28)) -> 0
I31: =IF(C31<>"計",ROUNDDOWN(F31*H31,0),SUM(I$3:I30)) -> 0
I33: =IF(C33<>"計",ROUNDDOWN(F33*H33,0),SUM(I$3:I32)) -> 0
I35: =IF(C35<>"計",ROUNDDOWN(F35*H35,0),SUM(I$3:I34)) -> 0
I37: =IF(C37<>"計",ROUNDDOWN(F37*H37,0),SUM(I$3:I36)) -> 0
I39: =IF(C39<>"計",ROUNDDOWN(F39*H39,0),SUM(I$3:I38)) -> 0
I41: =IF(C41<>"計",ROUNDDOWN(F41*H41,0),SUM(I$3:I40)) -> 0
I43: =IF(C43<>"計",ROUNDDOWN(F43*H43,0),SUM(I$3:I42)) -> 0
I45: =IF(C45<>"計",ROUNDDOWN(F45*H45,0),SUM(I$3:I44)) -> 0
I47: =IF(C47<>"計",ROUNDDOWN(F47*H47,0),SUM(I$3:I46)) -> 0
I49: =IF(C49<>"計",ROUNDDOWN(F49*H49,0),SUM(I$3:I48)) -> 0
I51: =IF(C51<>"計",ROUNDDOWN(F51*H51,0),SUM(I$3:I50)) -> 0
... I233: =IF(C233<>"計",ROUNDDOWN(F233*H233,0),SUM(I$3:I232)) -> 0
I235: =ROUNDDOWN(F235*H235,0) -> 0
I237: =ROUNDDOWN(F237*H237,0) -> 0
I239: =ROUNDDOWN(F239*H239,0) -> 0
I241: =ROUNDDOWN(F241*H241,0) -> 0
I243: =ROUNDDOWN(F243*H243,0) -> 0
I245: =ROUNDDOWN(F245*H245,0) -> 0
I247: =ROUNDDOWN(F247*H247,0) -> 0
I249: =ROUNDDOWN(F249*H249,0) -> 0
I251: =ROUNDDOWN(F251*H251,0) -> 0
I253: =ROUNDDOWN(F253*H253,0) -> 0
I255: =ROUNDDOWN(F255*H255,0) -> 0
I257: =ROUNDDOWN(F257*H257,0) -> 0
... I385: =ROUNDDOWN(F385*H385,0) -> 0

Sheet 別紙明細2-2-1-2
C3: 名 称 | D3: 摘 要 | F3: 数 量 | G3: 単位 | H3: 単 価 | I3: 金 額 | J3: 備 考
C4: 別紙明細2-2-1-2-1
C5: 冷媒管 | F5: 1 | G5: 式
D8: 冷媒用断熱材被服銅管
C9: 冷媒管 | D9: 液管(10mm) | E9: 6.4φ | F9: 177 | G9: ｍ
D10: 冷媒用断熱材被服銅管
C11: 冷媒管 | D11: 液管(10mm) | E11: 9.5φ | F11: 27 | G11: ｍ
D12: 冷媒用断熱材被服銅管
C13: 冷媒管 | D13: 液管(10mm) | E13: 12.7φ | F13: 3 | G13: ｍ
D14: 冷媒用断熱材被服銅管
C15: 冷媒管 | D15: 液管(10mm) | E15: 15.9φ | F15: 6 | G15: ｍ
D16: 冷媒用断熱材被服銅管
C17: 冷媒管 | D17: 液管(10mm) | E17: 19.1φ | F17: 20 | G17: ｍ
D18: 冷媒用断熱材被服銅管
C19: 冷媒管 | D19: ガス管(20mm) | E19: 9.5φ | F19: 87 | G19: ｍ
D20: 冷媒用断熱材被服銅管
C21: 冷媒管 | D21: ガス管(20mm) | E21: 12.7φ | F21: 90 | G21: ｍ
D22: 冷媒用断熱材被服銅管
C23: 冷媒管 | D23: ガス管(20mm) | E23: 15.9φ | F23: 22 | G23: ｍ
D24: 冷媒用断熱材被服銅管
C25: 冷媒管 | D25: ガス管(20mm) | E25: 19.1φ | F25: 3 | G25: ｍ
D26: 冷媒用断熱材被服銅管
C27: 冷媒管 | D27: ガス管(20mm) | E27: 22.2φ | F27: 3 | G27: ｍ
D28: 冷媒用断熱材被服銅管
C29: 冷媒管 | D29: ガス管(20mm) | E29: 28.6φ | F29: 8 | G29: ｍ
D30: 冷媒用断熱材被服銅管
C31: 冷媒管 | D31: ガス管(20mm) | E31: 31.8φ | F31: 9 | G31: ｍ
D32: 冷媒用断熱材被服銅管
C33: 冷媒管 | D33: ガス管(20mm) | E33: 38.1φ | F33: 11 | G33: ｍ
D34: EM-CEE-3.5mm-2C
C35: 制御用ケーブル | D35: 管内配線 | F35: 177 | G35: ｍ
D36: EM-CEE-3.5mm-2C
C37: 制御用ケーブル | D37: 管内配線 | F37: 27 | G37: ｍ
D38: EM-CEE-3.5mm-2C
C39: 制御用ケーブル | D39: 管内配線 | F39: 3 | G39: ｍ
D40: EM-CEE-3.5mm-2C
C41: 制御用ケーブル | D41: 管内配線 | F41: 6 | G41: ｍ
D42: EM-CEE-3.5mm-2C
C43: 制御用ケーブル | D43: 管内配線 | F43: 20 | G43: ｍ
C47: 計
C50: 別紙明細2-2-1-2-2
C51: 保温 | F51: 1 | G51: 式
C55: 冷媒管保温外装 | D55: ｽﾃﾝﾚｽ鋼板 | F55: 48 | G55: ｍ
C57: 冷媒管保温外装 | D57: ｽﾃﾝﾚｽ鋼板 | F57: 6 | G57: ｍ
C59: 断熱支持材 | F59: 1 | G59: 式
C63: 計
C66: 別紙明細2-2-1-2-3
C67: 防火区画貫通処理 | F67: 1 | G67: 式
C71: 防火区画貫通処理 | F71: 10 | G71: ヶ所
C75: 計
C78: 別紙明細2-2-1-2-4
C79: あと施工アンカー | F79: 1 | G79: 式
C83: あと施工アンカー | D83: 上打 | E83: M10 | F83: 57 | G83: 本
C85: あと施工アンカー | D85: 上打 | E85: M10 | F85: =156/2 -> 78 | G85: 本
C87: あと施工アンカー | D87: 上打 | E87: M10 | F87: =ROUND(7/2,0) -> 4 | G87: 本
C89: 鉄筋探査 | D89: 0.5m×0.5m/箇所 | F89: =SUM(F82:F87) -> 139 | G89: ヶ所
C93: 計
C96: 別紙明細2-2-1-2-5
C97: はつり補修 | F97: 1 | G97: 式
D100: ﾀﾞｲﾔﾓﾝﾄﾞｶｯﾀｰ | E100: RC厚150mm程度
C101: 機械はつり | E101: 100φ | F101: 21 | G101: ヶ所
D102: ﾀﾞｲﾔﾓﾝﾄﾞｶｯﾀｰ | E102: RC厚200mm程度
C103: 機械はつり | E103: 100φ | F103: 10 | G103: ヶ所
C105: 鉄筋探査 | D105: 0.5m×0.5m/箇所 | F105: =SUM(F100:F103) -> 31 | G105: ヶ所
C109: 計
C112: 別紙明細2-2-1-2-6
C113: 既存スリーブ開口塞ぎ | F113: 1 | G113: 式
C117: 既存スリーブ開口塞ぎ | F117: 2 | G117: ヶ所
C119: 既存スリーブ開口塞ぎ | F119: 2 | G119: ヶ所
C121: 既存スリーブ開口塞ぎ | F121: 2 | G121: ヶ所
C123: 既存スリーブ開口塞ぎ | F123: 2 | G123: ヶ所
C127: 計
C130: 別紙明細2-2-1-2-7
C131: スリーブ | F131: 1 | G131: 式
D134: ACドレン | E134: 融着接合
C135: ドレン管 | D135: 屋内一般 | E135: 20A | F135: 26 | G135: ｍ
D136: ACドレン | E136: 融着接合
C137: ドレン管 | D137: 屋内一般 | E137: 25A | F137: 96 | G137: ｍ
D138: ACドレン | E138: 融着接合
C139: ドレン管 | D139: 屋外 | E139: 20A | F139: 18 | G139: ｍ
D140: ACドレン | E140: 融着接合
C141: ドレン管 | D141: 屋外 | E141: 25A | F141: 22 | G141: ｍ
D142: 冷媒用断熱材被服銅管
C143: 冷媒管 | D143: 液管(10mm) | E143: 6.4φ | F143: 177 | G143: ｍ
D144: 冷媒用断熱材被服銅管
C145: 冷媒管 | D145: 液管(10mm) | E145: 9.5φ | F145: 27 | G145: ｍ
D146: 冷媒用断熱材被服銅管
C147: 冷媒管 | D147: 液管(10mm) | E147: 12.7φ | F147: 3 | G147: ｍ
D148: 冷媒用断熱材被服銅管
C149: 冷媒管 | D149: 液管(10mm) | E149: 15.9φ | F149: 6 | G149: ｍ
D150: 冷媒用断熱材被服銅管
C151: 冷媒管 | D151: 液管(10mm) | E151: 19.1φ | F151: 20 | G151: ｍ
D152: 冷媒用断熱材被服銅管
C153: 冷媒管 | D153: ガス管(20mm) | E153: 9.5φ | F153: 87 | G153: ｍ
D154: 冷媒用断熱材被服銅管
C155: 冷媒管 | D155: ガス管(20mm) | E155: 12.7φ | F155: 90 | G155: ｍ
D156: 冷媒用断熱材被服銅管
C157: 冷媒管 | D157: ガス管(20mm) | E157: 15.9φ | F157: 22 | G157: ｍ
D158: 冷媒用断熱材被服銅管
C159: 冷媒管 | D159: ガス管(20mm) | E159: 19.1φ | F159: 3 | G159: ｍ
...

Sheet 別紙明細2-2-2-1
C3: 名 称 | D3: 摘 要 | F3: 数 量 | G3: 単位 | H3: 単 価 | I3: 金 額 | J3: 備 考
C4: 別紙明細2-2-2-1-1
C5: 搬入・据付費 | F5: 1 | G5: 式
D8: 設備機械工
C9: 据付費 | D9: 歩掛り16.6人×1.2 | F9: =16.6*1.2 -> 19.92 | G9: 人
C13: 計
I25: =IF(C25<>"計",ROUNDDOWN(F25*H25,0),SUM(I$3:I24)) -> 0
I27: =IF(C27<>"計",ROUNDDOWN(F27*H27,0),SUM(I$3:I26)) -> 0
I29: =IF(C29<>"計",ROUNDDOWN(F29*H29,0),SUM(I$3:I28)) -> 0
I31: =IF(C31<>"計",ROUNDDOWN(F31*H31,0),SUM(I$3:I30)) -> 0
I33: =IF(C33<>"計",ROUNDDOWN(F33*H33,0),SUM(I$3:I32)) -> 0
I35: =IF(C35<>"計",ROUNDDOWN(F35*H35,0),SUM(I$3:I34)) -> 0
I37: =IF(C37<>"計",ROUNDDOWN(F37*H37,0),SUM(I$3:I36)) -> 0
I39: =IF(C39<>"計",ROUNDDOWN(F39*H39,0),SUM(I$3:I38)) -> 0
I41: =IF(C41<>"計",ROUNDDOWN(F41*H41,0),SUM(I$3:I40)) -> 0
I43: =IF(C43<>"計",ROUNDDOWN(F43*H43,0),SUM(I$3:I42)) -> 0
I45: =IF(C45<>"計",ROUNDDOWN(F45*H45,0),SUM(I$3:I44)) -> 0
I47: =IF(C47<>"計",ROUNDDOWN(F47*H47,0),SUM(I$3:I46)) -> 0
... I241: =IF(C241<>"計",ROUNDDOWN(F241*H241,0),SUM(I$3:I240)) -> 0
I243: =ROUNDDOWN(F243*H243,0) -> 0
I245: =ROUNDDOWN(F245*H245,0) -> 0
I247: =ROUNDDOWN(F247*H247,0) -> 0
I249: =ROUNDDOWN(F249*H249,0) -> 0
I251: =ROUNDDOWN(F251*H251,0) -> 0
I253: =ROUNDDOWN(F253*H253,0) -> 0
I255: =ROUNDDOWN(F255*H255,0) -> 0
I257: =ROUNDDOWN(F257*H257,0) -> 0
I259: =ROUNDDOWN(F259*H259,0) -> 0
I261: =ROUNDDOWN(F261*H261,0) -> 0
I263: =ROUNDDOWN(F263*H263,0) -> 0
I265: =ROUNDDOWN(F265*H265,0) -> 0
... I393: =ROUNDDOWN(F393*H393,0) -> 0

Sheet 別紙明細2-2-2-2
C3: 名 称 | D3: 摘 要 | F3: 数 量 | G3: 単位 | H3: 単 価 | I3: 金 額 | J3: 備 考
C4: 別紙明細2-2-2-2-1
C5: 制気口ボックス類 | F5: 1 | G5: 式
D8: ｱﾝｸﾞﾙﾌﾗﾝｼﾞ工法(低圧)
C9: 長方形ダクト | D9: 亜鉛鉄板 | E9: 0.5mm厚 | F9: 3.13 | G9: ㎡
C11: あと施工アンカー | D11: 上打 | E11: M10 | F11: 33 | G11: 本
C13: 鉄筋探査 | D13: 0.5m×0.5m/箇所 | F13: =SUM(F10:F11) -> 33 | G13: ヶ所
C17: 計
C20: 別紙明細2-2-2-2-2
C21: 保温 | F21: 1 | G21: 式
D24: 隠蔽 | E24: ｱﾙﾐｶﾞﾗｽｸﾛｽ
C25: 保温 | D25: GW | E25: ｽﾊﾟｲﾗﾙﾀﾞｸﾄ | F25: 11.16 | G25: ㎡
C29: 計
C32: 別紙明細2-2-2-2-3
C33: あと施工アンカー | F33: 1 | G33: 式
C37: あと施工アンカー | D37: 上打 | E37: M10 | F37: 25 | G37: 本
C39: 鉄筋探査 | D39: 0.5m×0.5m/箇所 | F39: =SUM(F36:F37) -> 25 | G39: ヶ所
C43: 計
C46: 別紙明細2-2-2-2-4
C47: ダクト清掃 | F47: 1 | G47: 式
C51: ダクト清掃 | D51: OAダクト系統 | F51: 1 | G51: 式
C55: 計
C58: 別紙明細2-2-2-2-5
C59: スリーブ | F59: 1 | G59: 式
D62: (低圧)
C63: スパイラルダクト | D63: 亜鉛鉄板 | E63: 100φ | F63: 70 | G63: ｍ
C65: 小計
C67: 計 | D67: 9
I71: =IF(C71<>"計",ROUNDDOWN(F71*H71,0),SUM(I$3:I70)) -> 0
I73: =IF(C73<>"計",ROUNDDOWN(F73*H73,0),SUM(I$3:I72)) -> 0
I75: =IF(C75<>"計",ROUNDDOWN(F75*H75,0),SUM(I$3:I74)) -> 0
I77: =IF(C77<>"計",ROUNDDOWN(F77*H77,0),SUM(I$3:I76)) -> 0
I79: =IF(C79<>"計",ROUNDDOWN(F79*H79,0),SUM(I$3:I78)) -> 0
I81: =IF(C81<>"計",ROUNDDOWN(F81*H81,0),SUM(I$3:I80)) -> 0
I83: =IF(C83<>"計",ROUNDDOWN(F83*H83,0),SUM(I$3:I82)) -> 0
I85: =IF(C85<>"計",ROUNDDOWN(F85*H85,0),SUM(I$3:I84)) -> 0
I87: =IF(C87<>"計",ROUNDDOWN(F87*H87,0),SUM(I$3:I86)) -> 0
I89: =IF(C89<>"計",ROUNDDOWN(F89*H89,0),SUM(I$3:I88)) -> 0
I91: =IF(C91<>"計",ROUNDDOWN(F91*H91,0),SUM(I$3:I90)) -> 0
I93: =IF(C93<>"計",ROUNDDOWN(F93*H93,0),SUM(I$3:I92)) -> 0
... I223: =IF(C223<>"計",ROUNDDOWN(F223*H223,0),SUM(I$3:I222)) -> 0
I225: =ROUNDDOWN(F225*H225,0) -> 0
I227: =ROUNDDOWN(F227*H227,0) -> 0
I229: =ROUNDDOWN(F229*H229,0) -> 0
I231: =ROUNDDOWN(F231*H231,0) -> 0
I233: =ROUNDDOWN(F233*H233,0) -> 0
I235: =ROUNDDOWN(F235*H235,0) -> 0
I237: =ROUNDDOWN(F237*H237,0) -> 0
I239: =ROUNDDOWN(F239*H239,0) -> 0
I241: =ROUNDDOWN(F241*H241,0) -> 0
I243: =ROUNDDOWN(F243*H243,0) -> 0
I245: =ROUNDDOWN(F245*H245,0) -> 0
I247: =ROUNDDOWN(F247*H247,0) -> 0
... I375: =ROUNDDOWN(F375*H375,0) -> 0

Sheet 別紙明細2-2-2-3
C3: 名 称 | D3: 摘 要 | F3: 数 量 | G3: 単位 | H3: 単 価 | I3: 金 額 | J3: 備 考
C4: 別紙明細2-2-2-3-1
C5: 総合調整 | F5: 1 | G5: 式
D8: (低圧)
C9: スパイラルダクト | D9: 亜鉛鉄板 | E9: 100φ | F9: 70 | G9: ｍ
C13: 計
I37: =IF(C37<>"計",ROUNDDOWN(F37*H37,0),SUM(I$3:I36)) -> 0
I39: =IF(C39<>"計",ROUNDDOWN(F39*H39,0),SUM(I$3:I38)) -> 0
I41: =IF(C41<>"計",ROUNDDOWN(F41*H41,0),SUM(I$3:I40)) -> 0
I43: =IF(C43<>"計",ROUNDDOWN(F43*H43,0),SUM(I$3:I42)) -> 0
I45: =IF(C45<>"計",ROUNDDOWN(F45*H45,0),SUM(I$3:I44)) -> 0
I47: =IF(C47<>"計",ROUNDDOWN(F47*H47,0),SUM(I$3:I46)) -> 0
I49: =IF(C49<>"計",ROUNDDOWN(F49*H49,0),SUM(I$3:I48)) -> 0
I51: =IF(C51<>"計",ROUNDDOWN(F51*H51,0),SUM(I$3:I50)) -> 0
I53: =IF(C53<>"計",ROUNDDOWN(F53*H53,0),SUM(I$3:I52)) -> 0
I55: =IF(C55<>"計",ROUNDDOWN(F55*H55,0),SUM(I$3:I54)) -> 0
I57: =IF(C57<>"計",ROUNDDOWN(F57*H57,0),SUM(I$3:I56)) -> 0
I59: =IF(C59<>"計",ROUNDDOWN(F59*H59,0),SUM(I$3:I58)) -> 0
... I241: =IF(C241<>"計",ROUNDDOWN(F241*H241,0),SUM(I$3:I240)) -> 0
I243: =ROUNDDOWN(F243*H243,0) -> 0
I245: =ROUNDDOWN(F245*H245,0) -> 0
I247: =ROUNDDOWN(F247*H247,0) -> 0
I249: =ROUNDDOWN(F249*H249,0) -> 0
I251: =ROUNDDOWN(F251*H251,0) -> 0
I253: =ROUNDDOWN(F253*H253,0) -> 0
I255: =ROUNDDOWN(F255*H255,0) -> 0
I257: =ROUNDDOWN(F257*H257,0) -> 0
I259: =ROUNDDOWN(F259*H259,0) -> 0
I261: =ROUNDDOWN(F261*H261,0) -> 0
I263: =ROUNDDOWN(F263*H263,0) -> 0
I265: =ROUNDDOWN(F265*H265,0) -> 0
... I393: =ROUNDDOWN(F393*H393,0) -> 0

Sheet 別紙明細2-2-3-1
C3: 名 称 | D3: 摘 要 | F3: 数 量 | G3: 単位 | H3: 単 価 | I3: 金 額 | J3: 備 考
C4: 別紙明細2-2-3-1-1
C5: 機器類撤去 | F5: 1 | G5: 式
C9: 空調設備機器 搬出 | F9: 0.48 | G9: ｔ
D10: 設備機械工
C11: 空調設備機器 撤去 | D11: 歩掛り31.53人×0.3 | F11: =31.53*0.3 -> 9.459 | G11: 人
D12: 設備機械工
C13: 空調設備機器（再取付品） 撤去 | D13: 歩掛り53.90人×0.4 | F13: =53.9*0.4 -> 21.56 | G13: 人
C15: 冷媒回収作業 | F15: 98 | G15: 台
C17: 換気設備機器 搬出 | F17: 0.7 | G17: ｔ
D18: 設備機械工
C19: 換気設備機器 撤去 | D19: 歩掛り42.56人×0.3 | F19: =42.56*0.3 -> 12.768 | G19: 人
C23: 計
C26: 別紙明細2-2-3-1-2
C27: ダクト類撤去 | F27: 1 | G27: 式
C31: スパイラルダクト 撤去 | E31: 100φ | F31: 88 | G31: ｍ
C33: スパイラルダクト 撤去 | E33: 300φ | F33: 6 | G33: ｍ
D34: ﾕﾆﾊﾞｰｻﾙ形吹出口
C35: 制気口 撤去 | D35: HS | E35: 200×150 | F35: 3 | G35: 個
C37: ベントキャップ | E37: 100φ | F37: 6 | G37: 個
C39: 長方形ダクト 撤去 | E39: 0.8mm厚 | F39: 16.94 | G39: ㎡
C41: 消音内貼 撤去 | D41: GW25t | E41: ｱﾐ付 | F41: 16.94 | G41: ㎡
C43: 長方形ダクト 撤去 | E43: 0.5mm厚 | F43: 1.44 | G43: ㎡
D44: 屋内露出 | E44: ｶﾗｰ亜鉛鉄板
C45: 保温 撤去 | D45: GW | E45: ｽﾊﾟｲﾗﾙﾀﾞｸﾄ | F45: 0.28 | G45: ㎡
D46: 隠蔽 | E46: ｱﾙﾐｶﾞﾗｽｸﾛｽ
C47: 保温 撤去 | D47: GW | E47: ｽﾊﾟｲﾗﾙﾀﾞｸﾄ | F47: 29.54 | G47: ㎡
C51: 計
C54: 別紙明細2-2-3-1-3
C55: 配管類撤去 | F55: 1 | G55: 式
C59: ＜空調配管＞
D60: SGP-白 | E60: ねじ接合
C61: 冷温水管 撤去 | D61: 屋内一般 | E61: 20A | F61: 34 | G61: ｍ
D62: SGP-白 | E62: ねじ接合
C63: 冷温水管 撤去 | D63: 屋内一般 | E63: 100A | F63: 1 | G63: ｍ
D64: SGP-白 | E64: ねじ接合
C65: 冷温水管 撤去 | D65: 屋外 | E65: 100A | F65: 5 | G65: ｍ
D66: SGP-白 | E66: ねじ接合
C67: 冷水管 撤去 | D67: 屋内一般 | E67: 20A | F67: 24 | G67: ｍ
D68: SGP-白 | E68: ねじ接合
C69: 冷水管 撤去 | D69: 屋内一般 | E69: 25A | F69: 12 | G69: ｍ
D70: SGP-白 | E70: ねじ接合
C71: 冷水管 撤去 | D71: 屋内一般 | E71: 32A | F71: 22 | G71: ｍ
D72: SGP-白 | E72: ねじ接合
C73: 冷水管 撤去 | D73: 屋内一般 | E73: 40A | F73: 14 | G73: ｍ
D74: SGP-白 | E74: ねじ接合
C75: 冷水管 撤去 | D75: 屋内一般 | E75: 50A | F75: 47 | G75: ｍ
D76: SGP-白 | E76: ねじ接合
C77: 冷水管 撤去 | D77: 屋内一般 | E77: 65A | F77: 4 | G77: ｍ
D78: SGP-白 | E78: ねじ接合
C79: 冷水管 撤去 | D79: 屋内一般 | E79: 80A | F79: 6 | G79: ｍ
D80: SGP-白 | E80: ねじ接合
C81: 冷温水管 撤去 | D81: 機械室・便所 | E81: 25A | F81: 1 | G81: ｍ
D82: SGP-白 | E82: ねじ接合
C83: 膨張管 撤去 | D83: 屋内一般 | E83: 32A | F83: 1 | G83: ｍ
D84: SGP-白 | E84: ねじ接合
C85: 膨張管 撤去 | D85: 機械室・便所 | E85: 20A | F85: 6 | G85: ｍ
D86: SGP-白 | E86: ねじ接合
C87: 膨張管 撤去 | D87: 機械室・便所 | E87: 32A | F87: 11 | G87: ｍ
D88: 一般配管用SUS | E88: 拡管式接合
C89: 給水管 撤去 | D89: 機械室・便所 | E89: 20SU | F89: 8 | G89: ｍ
D90: SGP-白 | E90: ねじ接合
C91: ドレン管 撤去 | D91: 屋内一般 | E91: 20A | F91: 17 | G91: ｍ
D92: SGP-白 | E92: ねじ接合
C93: ドレン管 撤去 | D93: 機械室・便所 | E93: 25A | F93: 7 | G93: ｍ
D94: SGP-白 | E94: ねじ接合
C95: ドレン管 撤去 | D95: 機械室・便所 | E95: 40A | F95: 3 | G95: ｍ
D96: SGP-白 | E96: ねじ接合
C97: ドレン管 撤去 | D97: 屋外 | E97: 40A | F97: 3 | G97: ｍ
D98: ACドレン | E98: 融着接合
C99: ドレン管 撤去 | D99: 屋内一般 | E99: 20A | F99: 8 | G99: ｍ
D100: ACドレン | E100: 融着接合
C101: ドレン管 撤去 | D101: 屋外 | E101: 20A | F101: 48 | G101: ｍ
D102: 冷媒用断熱材被服銅管
C103: 冷媒管 撤去 | D103: 液管(10mm) | E103: 6.4φ | F103: 48 | G103: ｍ
D104: 冷媒用断熱材被服銅管
C105: 冷媒管 撤去 | D105: ガス管(20mm) | E105: 9.5φ | F105: 48 | G105: ｍ
D106: CVV-S-3.5mm-2C
C107: 制御用ケーブル 撤去 | D107: 管内配線 | F107: 48 | G107: ｍ
C109: フレキシブルジョイント 撤去 | E109: 100A | F109: 2 | G109: 個
D110: 隠蔽 | E110: ｱﾙﾐｶﾞﾗｽｸﾛｽ
C111: 保温 撤去 | D111: GW 冷温水管 | E111: 20A | F111: 34 | G111: ｍ
D112: 隠蔽 | E112: ｱﾙﾐｶﾞﾗｽｸﾛｽ
C113: 保温 撤去 | D113: GW 冷温水管 | E113: 100A | F113: 1 | G113: ｍ
D114: 屋外露出 | E114: ｽﾃﾝﾚｽ鋼板
C115: 保温 撤去 | D115: GW 冷温水管 | E115: 100A | F115: 5 | G115: ｍ
D116: 機械室露出 | E116: ｱﾙﾐｶﾞﾗｽｸﾛｽ
C117: 保温 撤去 | D117: GW 冷水管 | E117: 25A | F117: 1 | G117: ｍ
D118: 隠蔽 | E118: ｱﾙﾐｶﾞﾗｽｸﾛｽ
C119: 保温 撤去 | D119: GW 冷水管 | E119: 20A | F119: 24 | G119: ｍ
D120: 隠蔽 | E120: ｱﾙﾐｶﾞﾗｽｸﾛｽ
C121: 保温 撤去 | D121: GW 冷水管 | E121: 25A | F121: 12 | G121: ｍ
D122: 隠蔽 | E122: ｱﾙﾐｶﾞﾗｽｸﾛｽ
C123: 保温 撤去 | D123: GW 冷水管 | E123: 32A | F123: 22 | G123: ｍ
D124: 隠蔽 | E124: ｱﾙﾐｶﾞﾗｽｸﾛｽ
C125: 保温 撤去 | D125: GW 冷水管 | E125: 40A | F125: 14 | G125: ｍ
D126: 隠蔽 | E126: ｱﾙﾐｶﾞﾗｽｸﾛｽ
C127: 保温 撤去 | D127: GW 冷水管 | E127: 50A | F127: 47 | G127: ｍ
D128: 隠蔽 | E128: ｱﾙﾐｶﾞﾗｽｸﾛｽ
C129: 保温 撤去 | D129: GW 冷水管 | E129: 65A | F129: 4 | G129: ｍ
...

Sheet 別紙明細2-2-4-1
C3: 名 称 | D3: 摘 要 | F3: 数 量 | G3: 単位 | H3: 単 価 | I3: 金 額 | J3: 備 考
C4: 別紙明細2-2-4-1-1
C5: 足場組立及び解体工事 | F5: 1 | G5: 式
C9: 足場組立及び解体工事 | F9: 1 | G9: 式
C13: 計
I19: =IF(C19<>"計",ROUNDDOWN(F19*H19,0),SUM(I$3:I18)) -> 0
I21: =IF(C21<>"計",ROUNDDOWN(F21*H21,0),SUM(I$3:I20)) -> 0
I23: =IF(C23<>"計",ROUNDDOWN(F23*H23,0),SUM(I$3:I22)) -> 0
I25: =IF(C25<>"計",ROUNDDOWN(F25*H25,0),SUM(I$3:I24)) -> 0
I27: =IF(C27<>"計",ROUNDDOWN(F27*H27,0),SUM(I$3:I26)) -> 0
I29: =IF(C29<>"計",ROUNDDOWN(F29*H29,0),SUM(I$3:I28)) -> 0
I31: =IF(C31<>"計",ROUNDDOWN(F31*H31,0),SUM(I$3:I30)) -> 0
I33: =IF(C33<>"計",ROUNDDOWN(F33*H33,0),SUM(I$3:I32)) -> 0
I35: =IF(C35<>"計",ROUNDDOWN(F35*H35,0),SUM(I$3:I34)) -> 0
I37: =IF(C37<>"計",ROUNDDOWN(F37*H37,0),SUM(I$3:I36)) -> 0
I39: =IF(C39<>"計",ROUNDDOWN(F39*H39,0),SUM(I$3:I38)) -> 0
I41: =IF(C41<>"計",ROUNDDOWN(F41*H41,0),SUM(I$3:I40)) -> 0
... I241: =IF(C241<>"計",ROUNDDOWN(F241*H241,0),SUM(I$3:I240)) -> 0
I243: =ROUNDDOWN(F243*H243,0) -> 0
I245: =ROUNDDOWN(F245*H245,0) -> 0
I247: =ROUNDDOWN(F247*H247,0) -> 0
I249: =ROUNDDOWN(F249*H249,0) -> 0
I251: =ROUNDDOWN(F251*H251,0) -> 0
I253: =ROUNDDOWN(F253*H253,0) -> 0
I255: =ROUNDDOWN(F255*H255,0) -> 0
I257: =ROUNDDOWN(F257*H257,0) -> 0
I259: =ROUNDDOWN(F259*H259,0) -> 0
I261: =ROUNDDOWN(F261*H261,0) -> 0
I263: =ROUNDDOWN(F263*H263,0) -> 0
I265: =ROUNDDOWN(F265*H265,0) -> 0
... I393: =ROUNDDOWN(F393*H393,0) -> 0

Sheet 別紙明細2-2-5-1
C3: 名 称 | D3: 摘 要 | F3: 数 量 | G3: 単位 | H3: 単 価 | I3: 金 額 | J3: 備 考
C4: 別紙明細2-2-5-1-1
C5: 発生材処理 | F5: 1 | G5: 式
D8: 運搬費
C9: 発生材処理 | D9: 4tダンプ | E9: 概ね25km | F9: 3.44 | G9: ｔ
C11: 発生材処理 | D11: 安定型混合廃棄物 | F11: 23.28 | G11: ㎥
C15: 計
I25: =IF(C25<>"計",ROUNDDOWN(F25*H25,0),SUM(I$3:I24)) -> 0
I27: =IF(C27<>"計",ROUNDDOWN(F27*H27,0),SUM(I$3:I26)) -> 0
I29: =IF(C29<>"計",ROUNDDOWN(F29*H29,0),SUM(I$3:I28)) -> 0
I31: =IF(C31<>"計",ROUNDDOWN(F31*H31,0),SUM(I$3:I30)) -> 0
I33: =IF(C33<>"計",ROUNDDOWN(F33*H33,0),SUM(I$3:I32)) -> 0
I35: =IF(C35<>"計",ROUNDDOWN(F35*H35,0),SUM(I$3:I34)) -> 0
I37: =IF(C37<>"計",ROUNDDOWN(F37*H37,0),SUM(I$3:I36)) -> 0
I39: =IF(C39<>"計",ROUNDDOWN(F39*H39,0),SUM(I$3:I38)) -> 0
I41: =IF(C41<>"計",ROUNDDOWN(F41*H41,0),SUM(I$3:I40)) -> 0
I43: =IF(C43<>"計",ROUNDDOWN(F43*H43,0),SUM(I$3:I42)) -> 0
I45: =IF(C45<>"計",ROUNDDOWN(F45*H45,0),SUM(I$3:I44)) -> 0
I47: =IF(C47<>"計",ROUNDDOWN(F47*H47,0),SUM(I$3:I46)) -> 0
... I243: =IF(C243<>"計",ROUNDDOWN(F243*H243,0),SUM(I$3:I242)) -> 0
I245: =ROUNDDOWN(F245*H245,0) -> 0
I247: =ROUNDDOWN(F247*H247,0) -> 0
I249: =ROUNDDOWN(F249*H249,0) -> 0
I251: =ROUNDDOWN(F251*H251,0) -> 0
I253: =ROUNDDOWN(F253*H253,0) -> 0
I255: =ROUNDDOWN(F255*H255,0) -> 0
I257: =ROUNDDOWN(F257*H257,0) -> 0
I259: =ROUNDDOWN(F259*H259,0) -> 0
I261: =ROUNDDOWN(F261*H261,0) -> 0
I263: =ROUNDDOWN(F263*H263,0) -> 0
I265: =ROUNDDOWN(F265*H265,0) -> 0
I267: =ROUNDDOWN(F267*H267,0) -> 0
... I395: =ROUNDDOWN(F395*H395,0) -> 0
