Workbook

Sheet ○表紙西暦
E1: 2021 | G1: 年 | H1: 4 | I1: 月 | J1: 1 | K1: 日
B5: (仮称)○○○○○○ビル新築工事
B8: 工 事 費 内 訳 書

Sheet △表紙年号令和
E1: 令和 | F1: 3 | G1: 年 | H1: 4 | I1: 月 | J1: 1 | K1: 日
B5: (仮称)○○○○○○ビル新築工事
B8: 工 事 費 内 訳 書

Sheet （1）建築
B1: 名 称 | C1: 摘 要 | E1: 数 量 | F1: 単位 | G1: 単 価 | H1: 金 額 | I1: 備 考 | M1: 検算欄 | N1: 検算差額
M2: 下以降一式と合計は各自設定 | N2: 差額が0であればOK
A3: （1） | B3: 建築工事 | H3: =IF(B3<>"計",ROUNDDOWN(E3*G3,0),SUM(H$1:H2)) -> 0 | M3: =IF(B3<>"計",ROUNDDOWN(E3*G3,0),SUM(M$1:M2)) -> 0 | N3: =IF((+H3-M3)<>0,H3-M3,IF(H3>0,"0",""))
H5: =IF(B5<>"計",ROUNDDOWN(E5*G5,0),SUM(H$1:H4)) -> 0 | M5: =IF(B5<>"計",ROUNDDOWN(E5*G5,0),SUM(M$1:M4)) -> 0 | N5: =IF((+H5-M5)<>0,H5-M5,IF(H5>0,"0",""))
A7: 1. | B7: 直接仮設 | E7: 1 | F7: 式 | H7: =IF(B7<>"計",ROUNDDOWN(E7*G7,0),SUM(H$1:H6)) -> 0 | M7: =IF(B7<>"計",ROUNDDOWN(E7*G7,0),SUM(M$1:M6)) -> 0 | N7: =IF((+H7-M7)<>0,H7-M7,IF(H7>0,"0",""))
A9: 2. | B9: 土工 | E9: 1 | F9: 式 | H9: =IF(B9<>"計",ROUNDDOWN(E9*G9,0),SUM(H$1:H8)) -> 0 | M9: =IF(B9<>"計",ROUNDDOWN(E9*G9,0),SUM(M$1:M8)) -> 0 | N9: =IF((+H9-M9)<>0,H9-M9,IF(H9>0,"0",""))
A11: 3. | B11: 地業 | E11: 1 | F11: 式 | H11: =IF(B11<>"計",ROUNDDOWN(E11*G11,0),SUM(H$1:H10)) -> 0 | M11: =IF(B11<>"計",ROUNDDOWN(E11*G11,0),SUM(M$1:M10)) -> 0 | N11: =IF((+H11-M11)<>0,H11-M11,IF(H11>0,"0",""))
A13: 4. | B13: 鉄筋 | E13: 1 | F13: 式 | H13: =IF(B13<>"計",ROUNDDOWN(E13*G13,0),SUM(H$1:H12)) -> 0 | M13: =IF(B13<>"計",ROUNDDOWN(E13*G13,0),SUM(M$1:M12)) -> 0 | N13: =IF((+H13-M13)<>0,H13-M13,IF(H13>0,"0",""))
A15: 5. | B15: コンクリ－ト | E15: 1 | F15: 式 | H15: =IF(B15<>"計",ROUNDDOWN(E15*G15,0),SUM(H$1:H14)) -> 0 | M15: =IF(B15<>"計",ROUNDDOWN(E15*G15,0),SUM(M$1:M14)) -> 0 | N15: =IF((+H15-M15)<>0,H15-M15,IF(H15>0,"0",""))
A17: 6. | B17: 型枠 | E17: 1 | F17: 式 | H17: =IF(B17<>"計",ROUNDDOWN(E17*G17,0),SUM(H$1:H16)) -> 0 | M17: =IF(B17<>"計",ROUNDDOWN(E17*G17,0),SUM(M$1:M16)) -> 0 | N17: =IF((+H17-M17)<>0,H17-M17,IF(H17>0,"0",""))
A19: 7. | B19: 鉄骨 | E19: 1 | F19: 式 | H19: =IF(B19<>"計",ROUNDDOWN(E19*G19,0),SUM(H$1:H18)) -> 0 | M19: =IF(B19<>"計",ROUNDDOWN(E19*G19,0),SUM(M$1:M18)) -> 0 | N19: =IF((+H19-M19)<>0,H19-M19,IF(H19>0,"0",""))
A21: 8. | B21: 既製コンクリ－ト | E21: 1 | F21: 式 | H21: =IF(B21<>"計",ROUNDDOWN(E21*G21,0),SUM(H$1:H20)) -> 0 | M21: =IF(B21<>"計",ROUNDDOWN(E21*G21,0),SUM(M$1:M20)) -> 0 | N21: =IF((+H21-M21)<>0,H21-M21,IF(H21>0,"0",""))
A23: 9. | B23: 防水 | E23: 1 | F23: 式 | H23: =IF(B23<>"計",ROUNDDOWN(E23*G23,0),SUM(H$1:H22)) -> 0 | M23: =IF(B23<>"計",ROUNDDOWN(E23*G23,0),SUM(M$1:M22)) -> 0 | N23: =IF((+H23-M23)<>0,H23-M23,IF(H23>0,"0",""))
A25: 10. | B25: 石 | E25: 1 | F25: 式 | H25: =IF(B25<>"計",ROUNDDOWN(E25*G25,0),SUM(H$1:H24)) -> 0 | M25: =IF(B25<>"計",ROUNDDOWN(E25*G25,0),SUM(M$1:M24)) -> 0 | N25: =IF((+H25-M25)<>0,H25-M25,IF(H25>0,"0",""))
A27: 11. | B27: タイル | E27: 1 | F27: 式 | H27: =IF(B27<>"計",ROUNDDOWN(E27*G27,0),SUM(H$1:H26)) -> 0 | M27: =IF(B27<>"計",ROUNDDOWN(E27*G27,0),SUM(M$1:M26)) -> 0 | N27: =IF((+H27-M27)<>0,H27-M27,IF(H27>0,"0",""))
A29: 12. | B29: 木工 | E29: 1 | F29: 式 | H29: =IF(B29<>"計",ROUNDDOWN(E29*G29,0),SUM(H$1:H28)) -> 0 | M29: =IF(B29<>"計",ROUNDDOWN(E29*G29,0),SUM(M$1:M28)) -> 0 | N29: =IF((+H29-M29)<>0,H29-M29,IF(H29>0,"0",""))
... A47: 21. | B47: 発生材処理 | E47: 1 | F47: 式 | H47: =IF(B47<>"計",ROUNDDOWN(E47*G47,0),SUM(H$1:H46)) -> 0 | M47: =IF(B47<>"計",ROUNDDOWN(E47*G47,0),SUM(M$1:M46)) -> 0 | N47: =IF((+H47-M47)<>0,H47-M47,IF(H47>0,"0",""))
H49: =IF(B49<>"計",ROUNDDOWN(E49*G49,0),SUM(H$1:H48)) -> 0 | M49: =IF(B49<>"計",ROUNDDOWN(E49*G49,0),SUM(M$1:M48)) -> 0 | N49: =IF((+H49-M49)<>0,H49-M49,IF(H49>0,"0",""))
H51: =IF(B51<>"計",ROUNDDOWN(E51*G51,0),SUM(H$1:H50)) -> 0 | M51: =IF(B51<>"計",ROUNDDOWN(E51*G51,0),SUM(M$1:M50)) -> 0 | N51: =IF((+H51-M51)<>0,H51-M51,IF(H51>0,"0",""))
H53: =IF(B53<>"計",ROUNDDOWN(E53*G53,0),SUM(H$1:H52)) -> 0 | M53: =IF(B53<>"計",ROUNDDOWN(E53*G53,0),SUM(M$1:M52)) -> 0 | N53: =IF((+H53-M53)<>0,H53-M53,IF(H53>0,"0",""))
H55: =IF(B55<>"計",ROUNDDOWN(E55*G55,0),SUM(H$1:H54)) -> 0 | M55: =IF(B55<>"計",ROUNDDOWN(E55*G55,0),SUM(M$1:M54)) -> 0 | N55: =IF((+H55-M55)<>0,H55-M55,IF(H55>0,"0",""))
H57: =IF(B57<>"計",ROUNDDOWN(E57*G57,0),SUM(H$1:H56)) -> 0 | M57: =IF(B57<>"計",ROUNDDOWN(E57*G57,0),SUM(M$1:M56)) -> 0 | N57: =IF((+H57-M57)<>0,H57-M57,IF(H57>0,"0",""))
H59: =IF(B59<>"計",ROUNDDOWN(E59*G59,0),SUM(H$1:H58)) -> 0 | M59: =IF(B59<>"計",ROUNDDOWN(E59*G59,0),SUM(M$1:M58)) -> 0 | N59: =IF((+H59-M59)<>0,H59-M59,IF(H59>0,"0",""))
H61: =IF(B61<>"計",ROUNDDOWN(E61*G61,0),SUM(H$1:H60)) -> 0 | M61: =IF(B61<>"計",ROUNDDOWN(E61*G61,0),SUM(M$1:M60)) -> 0 | N61: =IF((+H61-M61)<>0,H61-M61,IF(H61>0,"0",""))
H63: =IF(B63<>"計",ROUNDDOWN(E63*G63,0),SUM(H$1:H62)) -> 0 | M63: =IF(B63<>"計",ROUNDDOWN(E63*G63,0),SUM(M$1:M62)) -> 0 | N63: =IF((+H63-M63)<>0,H63-M63,IF(H63>0,"0",""))
H65: =IF(B65<>"計",ROUNDDOWN(E65*G65,0),SUM(H$1:H64)) -> 0 | M65: =IF(B65<>"計",ROUNDDOWN(E65*G65,0),SUM(M$1:M64)) -> 0 | N65: =IF((+H65-M65)<>0,H65-M65,IF(H65>0,"0",""))
H67: =IF(B67<>"計",ROUNDDOWN(E67*G67,0),SUM(H$1:H66)) -> 0 | M67: =IF(B67<>"計",ROUNDDOWN(E67*G67,0),SUM(M$1:M66)) -> 0 | N67: =IF((+H67-M67)<>0,H67-M67,IF(H67>0,"0",""))
H69: =IF(B69<>"計",ROUNDDOWN(E69*G69,0),SUM(H$1:H68)) -> 0 | M69: =IF(B69<>"計",ROUNDDOWN(E69*G69,0),SUM(M$1:M68)) -> 0 | N69: =IF((+H69-M69)<>0,H69-M69,IF(H69>0,"0",""))
B71: 計 | H71: =IF(B71<>"計",ROUNDDOWN(E71*G71,0),SUM(H$1:H70)) -> 0 | M71: =IF(B71<>"計",ROUNDDOWN(E71*G71,0),SUM(M$1:M70)) -> 0 | N71: =IF((+H71-M71)<>0,H71-M71,IF(H71>0,"0",""))
H73: =IF(B73<>"計",ROUNDDOWN(E73*G73,0),SUM(H$1:H72)) -> 0 | M73: =IF(B73<>"計",ROUNDDOWN(E73*G73,0),SUM(M$1:M72)) -> 0 | N73: =IF((+H73-M73)<>0,H73-M73,IF(H73>0,"0",""))
H75: =ROUNDDOWN(E75*G75,0) -> 0
H77: =ROUNDDOWN(E77*G77,0) -> 0
H79: =ROUNDDOWN(E79*G79,0) -> 0
H81: =ROUNDDOWN(E81*G81,0) -> 0
H83: =ROUNDDOWN(E83*G83,0) -> 0
H85: =ROUNDDOWN(E85*G85,0) -> 0
H87: =ROUNDDOWN(E87*G87,0) -> 0
H89: =ROUNDDOWN(E89*G89,0) -> 0
H91: =ROUNDDOWN(E91*G91,0) -> 0
H93: =ROUNDDOWN(E93*G93,0) -> 0
H95: =ROUNDDOWN(E95*G95,0) -> 0
H97: =ROUNDDOWN(E97*G97,0) -> 0
... H167: =ROUNDDOWN(E167*G167,0) -> 0

Sheet 建築内訳
B1: 名 称 | C1: 摘 要 | E1: 数 量 | F1: 単位 | G1: 単 価 | H1: 金 額 | I1: 備 考 | M1: 検算欄 | N1: 検算差額
M2: 下以降一式と合計は各自設定 | N2: 差額が0であればOK
H3: =IF(B3<>"計",ROUNDDOWN(E3*G3,0),SUM(H$1:H2)) -> 0 | M3: =IF(B3<>"計",ROUNDDOWN(E3*G3,0),SUM(M$1:M2)) -> 0 | N3: =IF((+H3-M3)<>0,H3-M3,IF(H3>0,"0",""))
H5: =IF(B5<>"計",ROUNDDOWN(E5*G5,0),SUM(H$1:H4)) -> 0 | M5: =IF(B5<>"計",ROUNDDOWN(E5*G5,0),SUM(M$1:M4)) -> 0 | N5: =IF((+H5-M5)<>0,H5-M5,IF(H5>0,"0",""))
H7: =IF(B7<>"計",ROUNDDOWN(E7*G7,0),SUM(H$1:H6)) -> 0 | M7: =IF(B7<>"計",ROUNDDOWN(E7*G7,0),SUM(M$1:M6)) -> 0 | N7: =IF((+H7-M7)<>0,H7-M7,IF(H7>0,"0",""))
H9: =IF(B9<>"計",ROUNDDOWN(E9*G9,0),SUM(H$1:H8)) -> 0 | M9: =IF(B9<>"計",ROUNDDOWN(E9*G9,0),SUM(M$1:M8)) -> 0 | N9: =IF((+H9-M9)<>0,H9-M9,IF(H9>0,"0",""))
H11: =IF(B11<>"計",ROUNDDOWN(E11*G11,0),SUM(H$1:H10)) -> 0 | M11: =IF(B11<>"計",ROUNDDOWN(E11*G11,0),SUM(M$1:M10)) -> 0 | N11: =IF((+H11-M11)<>0,H11-M11,IF(H11>0,"0",""))
H13: =IF(B13<>"計",ROUNDDOWN(E13*G13,0),SUM(H$1:H12)) -> 0 | M13: =IF(B13<>"計",ROUNDDOWN(E13*G13,0),SUM(M$1:M12)) -> 0 | N13: =IF((+H13-M13)<>0,H13-M13,IF(H13>0,"0",""))
H15: =IF(B15<>"計",ROUNDDOWN(E15*G15,0),SUM(H$1:H14)) -> 0 | M15: =IF(B15<>"計",ROUNDDOWN(E15*G15,0),SUM(M$1:M14)) -> 0 | N15: =IF((+H15-M15)<>0,H15-M15,IF(H15>0,"0",""))
H17: =IF(B17<>"計",ROUNDDOWN(E17*G17,0),SUM(H$1:H16)) -> 0 | M17: =IF(B17<>"計",ROUNDDOWN(E17*G17,0),SUM(M$1:M16)) -> 0 | N17: =IF((+H17-M17)<>0,H17-M17,IF(H17>0,"0",""))
H19: =IF(B19<>"計",ROUNDDOWN(E19*G19,0),SUM(H$1:H18)) -> 0 | M19: =IF(B19<>"計",ROUNDDOWN(E19*G19,0),SUM(M$1:M18)) -> 0 | N19: =IF((+H19-M19)<>0,H19-M19,IF(H19>0,"0",""))
H21: =IF(B21<>"計",ROUNDDOWN(E21*G21,0),SUM(H$1:H20)) -> 0 | M21: =IF(B21<>"計",ROUNDDOWN(E21*G21,0),SUM(M$1:M20)) -> 0 | N21: =IF((+H21-M21)<>0,H21-M21,IF(H21>0,"0",""))
H23: =IF(B23<>"計",ROUNDDOWN(E23*G23,0),SUM(H$1:H22)) -> 0 | M23: =IF(B23<>"計",ROUNDDOWN(E23*G23,0),SUM(M$1:M22)) -> 0 | N23: =IF((+H23-M23)<>0,H23-M23,IF(H23>0,"0",""))
H25: =IF(B25<>"計",ROUNDDOWN(E25*G25,0),SUM(H$1:H24)) -> 0 | M25: =IF(B25<>"計",ROUNDDOWN(E25*G25,0),SUM(M$1:M24)) -> 0 | N25: =IF((+H25-M25)<>0,H25-M25,IF(H25>0,"0",""))
... H37: =IF(B37<>"計",ROUNDDOWN(E37*G37,0),SUM(H$1:H36)) -> 0 | M37: =IF(B37<>"計",ROUNDDOWN(E37*G37,0),SUM(M$1:M36)) -> 0 | N37: =IF((+H37-M37)<>0,H37-M37,IF(H37>0,"0",""))
H39: =IF(B39<>"計",ROUNDDOWN(E39*G39,0),SUM(H$1:H38)) -> 0
H41: =IF(B41<>"計",ROUNDDOWN(E41*G41,0),SUM(H$1:H40)) -> 0 | M41: =IF(B41<>"計",ROUNDDOWN(E41*G41,0),SUM(M$1:M40)) -> 0 | N41: =IF((+H41-M41)<>0,H41-M41,IF(H41>0,"0",""))
H43: =IF(B43<>"計",ROUNDDOWN(E43*G43,0),SUM(H$1:H42)) -> 0 | M43: =IF(B43<>"計",ROUNDDOWN(E43*G43,0),SUM(M$1:M42)) -> 0 | N43: =IF((+H43-M43)<>0,H43-M43,IF(H43>0,"0",""))
H45: =IF(B45<>"計",ROUNDDOWN(E45*G45,0),SUM(H$1:H44)) -> 0 | M45: =IF(B45<>"計",ROUNDDOWN(E45*G45,0),SUM(M$1:M44)) -> 0 | N45: =IF((+H45-M45)<>0,H45-M45,IF(H45>0,"0",""))
H47: =IF(B47<>"計",ROUNDDOWN(E47*G47,0),SUM(H$1:H46)) -> 0 | M47: =IF(B47<>"計",ROUNDDOWN(E47*G47,0),SUM(M$1:M46)) -> 0 | N47: =IF((+H47-M47)<>0,H47-M47,IF(H47>0,"0",""))
H49: =IF(B49<>"計",ROUNDDOWN(E49*G49,0),SUM(H$1:H48)) -> 0 | M49: =IF(B49<>"計",ROUNDDOWN(E49*G49,0),SUM(M$1:M48)) -> 0 | N49: =IF((+H49-M49)<>0,H49-M49,IF(H49>0,"0",""))
H51: =IF(B51<>"計",ROUNDDOWN(E51*G51,0),SUM(H$1:H50)) -> 0 | M51: =IF(B51<>"計",ROUNDDOWN(E51*G51,0),SUM(M$1:M50)) -> 0 | N51: =IF((+H51-M51)<>0,H51-M51,IF(H51>0,"0",""))
H53: =IF(B53<>"計",ROUNDDOWN(E53*G53,0),SUM(H$1:H52)) -> 0 | M53: =IF(B53<>"計",ROUNDDOWN(E53*G53,0),SUM(M$1:M52)) -> 0 | N53: =IF((+H53-M53)<>0,H53-M53,IF(H53>0,"0",""))
H55: =IF(B55<>"計",ROUNDDOWN(E55*G55,0),SUM(H$1:H54)) -> 0 | M55: =IF(B55<>"計",ROUNDDOWN(E55*G55,0),SUM(M$1:M54)) -> 0 | N55: =IF((+H55-M55)<>0,H55-M55,IF(H55>0,"0",""))
H57: =IF(B57<>"計",ROUNDDOWN(E57*G57,0),SUM(H$1:H56)) -> 0 | M57: =IF(B57<>"計",ROUNDDOWN(E57*G57,0),SUM(M$1:M56)) -> 0 | N57: =IF((+H57-M57)<>0,H57-M57,IF(H57>0,"0",""))
H59: =IF(B59<>"計",ROUNDDOWN(E59*G59,0),SUM(H$1:H58)) -> 0 | M59: =IF(B59<>"計",ROUNDDOWN(E59*G59,0),SUM(M$1:M58)) -> 0 | N59: =IF((+H59-M59)<>0,H59-M59,IF(H59>0,"0",""))
H61: =IF(B61<>"計",ROUNDDOWN(E61*G61,0),SUM(H$1:H60)) -> 0 | M61: =IF(B61<>"計",ROUNDDOWN(E61*G61,0),SUM(M$1:M60)) -> 0 | N61: =IF((+H61-M61)<>0,H61-M61,IF(H61>0,"0",""))
H63: =IF(B63<>"計",ROUNDDOWN(E63*G63,0),SUM(H$1:H62)) -> 0 | M63: =IF(B63<>"計",ROUNDDOWN(E63*G63,0),SUM(M$1:M62)) -> 0 | N63: =IF((+H63-M63)<>0,H63-M63,IF(H63>0,"0",""))
... H181: =IF(B181<>"計",ROUNDDOWN(E181*G181,0),SUM(H$1:H180)) -> 0 | M181: =IF(B181<>"計",ROUNDDOWN(E181*G181,0),SUM(M$1:M180)) -> 0 | N181: =IF((+H181-M181)<>0,H181-M181,IF(H181>0,"0",""))

Sheet （2）電気
B1: 名 称 | C1: 摘 要 | E1: 数 量 | F1: 単位 | G1: 単 価 | H1: 金 額 | I1: 備 考 | L1: 050930改 | M1: 検算欄 | N1: 検算差額
M2: 下以降一式と合計は各自設定 | N2: 差額が0であればOK
A3: （2） | B3: 電気設備工事 | H3: =IF(B3<>"計",ROUNDDOWN(E3*G3,0),SUM(H$1:H2)) -> 0 | M3: =IF(B3<>"計",ROUNDDOWN(E3*G3,0),SUM(M$1:M2)) -> 0 | N3: =IF((+H3-M3)<>0,H3-M3,IF(H3>0,"0",""))
H5: =IF(B5<>"計",ROUNDDOWN(E5*G5,0),SUM(H$1:H4)) -> 0 | M5: =IF(B5<>"計",ROUNDDOWN(E5*G5,0),SUM(M$1:M4)) -> 0 | N5: =IF((+H5-M5)<>0,H5-M5,IF(H5>0,"0",""))
A7: 1. | B7: 電灯設備 | E7: 1 | F7: 式 | H7: =IF(B7<>"計",ROUNDDOWN(E7*G7,0),SUM(H$1:H6)) -> 0 | M7: =IF(B7<>"計",ROUNDDOWN(E7*G7,0),SUM(M$1:M6)) -> 0 | N7: =IF((+H7-M7)<>0,H7-M7,IF(H7>0,"0",""))
A9: 1.1 | B9: 照明設備 | E9: 1 | F9: 式 | H9: =IF(B9<>"計",ROUNDDOWN(E9*G9,0),SUM(H$1:H8)) -> 0 | M9: =IF(B9<>"計",ROUNDDOWN(E9*G9,0),SUM(M$1:M8)) -> 0 | N9: =IF((+H9-M9)<>0,H9-M9,IF(H9>0,"0",""))
A11: 1.2 | B11: コンセント設備 | E11: 1 | F11: 式 | H11: =IF(B11<>"計",ROUNDDOWN(E11*G11,0),SUM(H$1:H10)) -> 0 | M11: =IF(B11<>"計",ROUNDDOWN(E11*G11,0),SUM(M$1:M10)) -> 0 | N11: =IF((+H11-M11)<>0,H11-M11,IF(H11>0,"0",""))
A13: 1.3 | B13: 非常照明･誘導灯設備 | E13: 1 | F13: 式 | H13: =IF(B13<>"計",ROUNDDOWN(E13*G13,0),SUM(H$1:H12)) -> 0 | M13: =IF(B13<>"計",ROUNDDOWN(E13*G13,0),SUM(M$1:M12)) -> 0 | N13: =IF((+H13-M13)<>0,H13-M13,IF(H13>0,"0",""))
A15: 2. | B15: 動力設備 | E15: 1 | F15: 式 | H15: =IF(B15<>"計",ROUNDDOWN(E15*G15,0),SUM(H$1:H14)) -> 0 | M15: =IF(B15<>"計",ROUNDDOWN(E15*G15,0),SUM(M$1:M14)) -> 0 | N15: =IF((+H15-M15)<>0,H15-M15,IF(H15>0,"0",""))
A17: 3. | B17: 電熱設備 | E17: 1 | F17: 式 | H17: =IF(B17<>"計",ROUNDDOWN(E17*G17,0),SUM(H$1:H16)) -> 0 | M17: =IF(B17<>"計",ROUNDDOWN(E17*G17,0),SUM(M$1:M16)) -> 0 | N17: =IF((+H17-M17)<>0,H17-M17,IF(H17>0,"0",""))
A19: 4. | B19: 接地設備 | E19: 1 | F19: 式 | H19: =IF(B19<>"計",ROUNDDOWN(E19*G19,0),SUM(H$1:H18)) -> 0 | M19: =IF(B19<>"計",ROUNDDOWN(E19*G19,0),SUM(M$1:M18)) -> 0 | N19: =IF((+H19-M19)<>0,H19-M19,IF(H19>0,"0",""))
A21: 5. | B21: 幹線設備 | E21: 1 | F21: 式 | H21: =IF(B21<>"計",ROUNDDOWN(E21*G21,0),SUM(H$1:H20)) -> 0 | M21: =IF(B21<>"計",ROUNDDOWN(E21*G21,0),SUM(M$1:M20)) -> 0 | N21: =IF((+H21-M21)<>0,H21-M21,IF(H21>0,"0",""))
A23: 5.1 | B23: 電灯幹線設備 | E23: 1 | F23: 式 | H23: =IF(B23<>"計",ROUNDDOWN(E23*G23,0),SUM(H$1:H22)) -> 0 | M23: =IF(B23<>"計",ROUNDDOWN(E23*G23,0),SUM(M$1:M22)) -> 0 | N23: =IF((+H23-M23)<>0,H23-M23,IF(H23>0,"0",""))
A25: 5.2 | B25: 動力幹線設備 | E25: 1 | F25: 式 | H25: =IF(B25<>"計",ROUNDDOWN(E25*G25,0),SUM(H$1:H24)) -> 0 | M25: =IF(B25<>"計",ROUNDDOWN(E25*G25,0),SUM(M$1:M24)) -> 0 | N25: =IF((+H25-M25)<>0,H25-M25,IF(H25>0,"0",""))
A27: 6. | B27: 雷保護設備 | E27: 1 | F27: 式 | H27: =IF(B27<>"計",ROUNDDOWN(E27*G27,0),SUM(H$1:H26)) -> 0 | M27: =IF(B27<>"計",ROUNDDOWN(E27*G27,0),SUM(M$1:M26)) -> 0 | N27: =IF((+H27-M27)<>0,H27-M27,IF(H27>0,"0",""))
A29: 7. | B29: 航空障害灯等設備 | E29: 1 | F29: 式 | H29: =IF(B29<>"計",ROUNDDOWN(E29*G29,0),SUM(H$1:H28)) -> 0 | M29: =IF(B29<>"計",ROUNDDOWN(E29*G29,0),SUM(M$1:M28)) -> 0 | N29: =IF((+H29-M29)<>0,H29-M29,IF(H29>0,"0",""))
... A111: 29. | B111: 雑費 | E111: 1 | F111: 式 | H111: =IF(B111<>"計",ROUNDDOWN(E111*G111,0),SUM(H$1:H110)) -> 0 | M111: =IF(B111<>"計",ROUNDDOWN(E111*G111,0),SUM(M$1:M110)) -> 0 | N111: =IF((+H111-M111)<>0,H111-M111,IF(H111>0,"0",""))
H113: =IF(B113<>"計",ROUNDDOWN(E113*G113,0),SUM(H$1:H112)) -> 0 | M113: =IF(B113<>"計",ROUNDDOWN(E113*G113,0),SUM(M$1:M112)) -> 0 | N113: =IF((+H113-M113)<>0,H113-M113,IF(H113>0,"0",""))
H115: =IF(B115<>"計",ROUNDDOWN(E115*G115,0),SUM(H$1:H114)) -> 0 | M115: =IF(B115<>"計",ROUNDDOWN(E115*G115,0),SUM(M$1:M114)) -> 0 | N115: =IF((+H115-M115)<>0,H115-M115,IF(H115>0,"0",""))
H117: =IF(B117<>"計",ROUNDDOWN(E117*G117,0),SUM(H$1:H116)) -> 0 | M117: =IF(B117<>"計",ROUNDDOWN(E117*G117,0),SUM(M$1:M116)) -> 0 | N117: =IF((+H117-M117)<>0,H117-M117,IF(H117>0,"0",""))
H119: =IF(B119<>"計",ROUNDDOWN(E119*G119,0),SUM(H$1:H118)) -> 0 | M119: =IF(B119<>"計",ROUNDDOWN(E119*G119,0),SUM(M$1:M118)) -> 0 | N119: =IF((+H119-M119)<>0,H119-M119,IF(H119>0,"0",""))
H121: =IF(B121<>"計",ROUNDDOWN(E121*G121,0),SUM(H$1:H120)) -> 0 | M121: =IF(B121<>"計",ROUNDDOWN(E121*G121,0),SUM(M$1:M120)) -> 0 | N121: =IF((+H121-M121)<>0,H121-M121,IF(H121>0,"0",""))
H123: =IF(B123<>"計",ROUNDDOWN(E123*G123,0),SUM(H$1:H122)) -> 0 | M123: =IF(B123<>"計",ROUNDDOWN(E123*G123,0),SUM(M$1:M122)) -> 0 | N123: =IF((+H123-M123)<>0,H123-M123,IF(H123>0,"0",""))
H125: =IF(B125<>"計",ROUNDDOWN(E125*G125,0),SUM(H$1:H124)) -> 0 | M125: =IF(B125<>"計",ROUNDDOWN(E125*G125,0),SUM(M$1:M124)) -> 0 | N125: =IF((+H125-M125)<>0,H125-M125,IF(H125>0,"0",""))
H127: =IF(B127<>"計",ROUNDDOWN(E127*G127,0),SUM(H$1:H126)) -> 0 | M127: =IF(B127<>"計",ROUNDDOWN(E127*G127,0),SUM(M$1:M126)) -> 0 | N127: =IF((+H127-M127)<>0,H127-M127,IF(H127>0,"0",""))
H129: =IF(B129<>"計",ROUNDDOWN(E129*G129,0),SUM(H$1:H128)) -> 0 | M129: =IF(B129<>"計",ROUNDDOWN(E129*G129,0),SUM(M$1:M128)) -> 0 | N129: =IF((+H129-M129)<>0,H129-M129,IF(H129>0,"0",""))
H131: =IF(B131<>"計",ROUNDDOWN(E131*G131,0),SUM(H$1:H130)) -> 0 | M131: =IF(B131<>"計",ROUNDDOWN(E131*G131,0),SUM(M$1:M130)) -> 0 | N131: =IF((+H131-M131)<>0,H131-M131,IF(H131>0,"0",""))
H133: =IF(B133<>"計",ROUNDDOWN(E133*G133,0),SUM(H$1:H132)) -> 0 | M133: =IF(B133<>"計",ROUNDDOWN(E133*G133,0),SUM(M$1:M132)) -> 0 | N133: =IF((+H133-M133)<>0,H133-M133,IF(H133>0,"0",""))
H135: =IF(B135<>"計",ROUNDDOWN(E135*G135,0),SUM(H$1:H134)) -> 0 | M135: =IF(B135<>"計",ROUNDDOWN(E135*G135,0),SUM(M$1:M134)) -> 0 | N135: =IF((+H135-M135)<>0,H135-M135,IF(H135>0,"0",""))
... H141: =IF(B141<>"計",ROUNDDOWN(E141*G141,0),SUM(H$1:H140)) -> 0 | M141: =IF(B141<>"計",ROUNDDOWN(E141*G141,0),SUM(M$1:M140)) -> 0 | N141: =IF((+H141-M141)<>0,H141-M141,IF(H141>0,"0",""))
B143: 計 | H143: =IF(B143<>"計",ROUNDDOWN(E143*G143,0),SUM(H$1:H142)) -> 0 | M143: =IF(B143<>"計",ROUNDDOWN(E143*G143,0),SUM(M$1:M142)) -> 0 | N143: =IF((+H143-M143)<>0,H143-M143,IF(H143>0,"0",""))
H145: =IF(B145<>"計",ROUNDDOWN(E145*G145,0),SUM(H$1:H144)) -> 0 | M145: =IF(B145<>"計",ROUNDDOWN(E145*G145,0),SUM(M$1:M144)) -> 0 | N145: =IF((+H145-M145)<>0,H145-M145,IF(H145>0,"0",""))
H146: =ROUNDDOWN(E146*G146,0) -> 0
H148: =ROUNDDOWN(E148*G148,0) -> 0
H150: =ROUNDDOWN(E150*G150,0) -> 0
H152: =ROUNDDOWN(E152*G152,0) -> 0
H154: =ROUNDDOWN(E154*G154,0) -> 0
H156: =ROUNDDOWN(E156*G156,0) -> 0
H158: =ROUNDDOWN(E158*G158,0) -> 0
H160: =ROUNDDOWN(E160*G160,0) -> 0
H162: =ROUNDDOWN(E162*G162,0) -> 0
H164: =ROUNDDOWN(E164*G164,0) -> 0
H166: =ROUNDDOWN(E166*G166,0) -> 0
H168: =ROUNDDOWN(E168*G168,0) -> 0
... H296: =ROUNDDOWN(E296*G296,0) -> 0

Sheet 電気内訳
B1: 名 称 | C1: 摘 要 | E1: 数 量 | F1: 単位 | G1: 単 価 | H1: 金 額 | I1: 備 考 | M1: 検算欄 | N1: 検算差額
M2: 下以降一式と合計は各自設定 | N2: 差額が0であればOK
H3: =IF(B3<>"計",ROUNDDOWN(E3*G3,0),SUM(H$1:H2)) -> 0 | M3: =IF(B3<>"計",ROUNDDOWN(E3*G3,0),SUM(M$1:M2)) -> 0 | N3: =IF((+H3-M3)<>0,H3-M3,IF(H3>0,"0",""))
H5: =IF(B5<>"計",ROUNDDOWN(E5*G5,0),SUM(H$1:H4)) -> 0 | M5: =IF(B5<>"計",ROUNDDOWN(E5*G5,0),SUM(M$1:M4)) -> 0 | N5: =IF((+H5-M5)<>0,H5-M5,IF(H5>0,"0",""))
H7: =IF(B7<>"計",ROUNDDOWN(E7*G7,0),SUM(H$1:H6)) -> 0 | M7: =IF(B7<>"計",ROUNDDOWN(E7*G7,0),SUM(M$1:M6)) -> 0 | N7: =IF((+H7-M7)<>0,H7-M7,IF(H7>0,"0",""))
H9: =IF(B9<>"計",ROUNDDOWN(E9*G9,0),SUM(H$1:H8)) -> 0 | M9: =IF(B9<>"計",ROUNDDOWN(E9*G9,0),SUM(M$1:M8)) -> 0 | N9: =IF((+H9-M9)<>0,H9-M9,IF(H9>0,"0",""))
H11: =IF(B11<>"計",ROUNDDOWN(E11*G11,0),SUM(H$1:H10)) -> 0 | M11: =IF(B11<>"計",ROUNDDOWN(E11*G11,0),SUM(M$1:M10)) -> 0 | N11: =IF((+H11-M11)<>0,H11-M11,IF(H11>0,"0",""))
H13: =IF(B13<>"計",ROUNDDOWN(E13*G13,0),SUM(H$1:H12)) -> 0 | M13: =IF(B13<>"計",ROUNDDOWN(E13*G13,0),SUM(M$1:M12)) -> 0 | N13: =IF((+H13-M13)<>0,H13-M13,IF(H13>0,"0",""))
H15: =IF(B15<>"計",ROUNDDOWN(E15*G15,0),SUM(H$1:H14)) -> 0 | M15: =IF(B15<>"計",ROUNDDOWN(E15*G15,0),SUM(M$1:M14)) -> 0 | N15: =IF((+H15-M15)<>0,H15-M15,IF(H15>0,"0",""))
H17: =IF(B17<>"計",ROUNDDOWN(E17*G17,0),SUM(H$1:H16)) -> 0 | M17: =IF(B17<>"計",ROUNDDOWN(E17*G17,0),SUM(M$1:M16)) -> 0 | N17: =IF((+H17-M17)<>0,H17-M17,IF(H17>0,"0",""))
H19: =IF(B19<>"計",ROUNDDOWN(E19*G19,0),SUM(H$1:H18)) -> 0 | M19: =IF(B19<>"計",ROUNDDOWN(E19*G19,0),SUM(M$1:M18)) -> 0 | N19: =IF((+H19-M19)<>0,H19-M19,IF(H19>0,"0",""))
H21: =IF(B21<>"計",ROUNDDOWN(E21*G21,0),SUM(H$1:H20)) -> 0 | M21: =IF(B21<>"計",ROUNDDOWN(E21*G21,0),SUM(M$1:M20)) -> 0 | N21: =IF((+H21-M21)<>0,H21-M21,IF(H21>0,"0",""))
H23: =IF(B23<>"計",ROUNDDOWN(E23*G23,0),SUM(H$1:H22)) -> 0 | M23: =IF(B23<>"計",ROUNDDOWN(E23*G23,0),SUM(M$1:M22)) -> 0 | N23: =IF((+H23-M23)<>0,H23-M23,IF(H23>0,"0",""))
H25: =IF(B25<>"計",ROUNDDOWN(E25*G25,0),SUM(H$1:H24)) -> 0 | M25: =IF(B25<>"計",ROUNDDOWN(E25*G25,0),SUM(M$1:M24)) -> 0 | N25: =IF((+H25-M25)<>0,H25-M25,IF(H25>0,"0",""))
... H181: =IF(B181<>"計",ROUNDDOWN(E181*G181,0),SUM(H$1:H180)) -> 0 | M181: =IF(B181<>"計",ROUNDDOWN(E181*G181,0),SUM(M$1:M180)) -> 0 | N181: =IF((+H181-M181)<>0,H181-M181,IF(H181>0,"0",""))
H183: =ROUNDDOWN(E183*G183,0) -> 0
H185: =ROUNDDOWN(E185*G185,0) -> 0
H187: =ROUNDDOWN(E187*G187,0) -> 0
H189: =ROUNDDOWN(E189*G189,0) -> 0
H191: =ROUNDDOWN(E191*G191,0) -> 0
H193: =ROUNDDOWN(E193*G193,0) -> 0
H195: =ROUNDDOWN(E195*G195,0) -> 0
H197: =ROUNDDOWN(E197*G197,0) -> 0
H199: =ROUNDDOWN(E199*G199,0) -> 0
H201: =ROUNDDOWN(E201*G201,0) -> 0
H203: =ROUNDDOWN(E203*G203,0) -> 0
H205: =ROUNDDOWN(E205*G205,0) -> 0
... H333: =ROUNDDOWN(E333*G333,0) -> 0

Sheet （3）空調
B1: 名 称 | C1: 摘 要 | E1: 数 量 | F1: 単位 | G1: 単 価 | H1: 金 額 | I1: 備 考 | M1: 検算欄 | N1: 検算差額
M2: 下以降一式と合計は各自設定 | N2: 差額が0であればOK
A3: （3） | B3: 空気調和設備工事 | H3: =IF(B3<>"計",ROUNDDOWN(E3*G3,0),SUM(H$1:H2)) -> 0 | M3: =IF(B3<>"計",ROUNDDOWN(E3*G3,0),SUM(M$1:M2)) -> 0 | N3: =IF((+H3-M3)<>0,H3-M3,IF(H3>0,"0",""))
H5: =IF(B5<>"計",ROUNDDOWN(E5*G5,0),SUM(H$1:H4)) -> 0 | M5: =IF(B5<>"計",ROUNDDOWN(E5*G5,0),SUM(M$1:M4)) -> 0 | N5: =IF((+H5-M5)<>0,H5-M5,IF(H5>0,"0",""))
A7: 1. | B7: 空気調和設備 | E7: 1 | F7: 式 | H7: =IF(B7<>"計",ROUNDDOWN(E7*G7,0),SUM(H$1:H6)) -> 0 | M7: =IF(B7<>"計",ROUNDDOWN(E7*G7,0),SUM(M$1:M6)) -> 0 | N7: =IF((+H7-M7)<>0,H7-M7,IF(H7>0,"0",""))
A9: 2. | B9: 換気設備 | E9: 1 | F9: 式 | H9: =IF(B9<>"計",ROUNDDOWN(E9*G9,0),SUM(H$1:H8)) -> 0 | M9: =IF(B9<>"計",ROUNDDOWN(E9*G9,0),SUM(M$1:M8)) -> 0 | N9: =IF((+H9-M9)<>0,H9-M9,IF(H9>0,"0",""))
A11: 3. | B11: 排煙設備 | E11: 1 | F11: 式 | H11: =IF(B11<>"計",ROUNDDOWN(E11*G11,0),SUM(H$1:H10)) -> 0 | M11: =IF(B11<>"計",ROUNDDOWN(E11*G11,0),SUM(M$1:M10)) -> 0 | N11: =IF((+H11-M11)<>0,H11-M11,IF(H11>0,"0",""))
A13: 4. | B13: 自動制御設備 | E13: 1 | F13: 式 | H13: =IF(B13<>"計",ROUNDDOWN(E13*G13,0),SUM(H$1:H12)) -> 0 | M13: =IF(B13<>"計",ROUNDDOWN(E13*G13,0),SUM(M$1:M12)) -> 0 | N13: =IF((+H13-M13)<>0,H13-M13,IF(H13>0,"0",""))
A15: 5. | B15: 雑費 | E15: 1 | F15: 式 | H15: =IF(B15<>"計",ROUNDDOWN(E15*G15,0),SUM(H$1:H14)) -> 0 | M15: =IF(B15<>"計",ROUNDDOWN(E15*G15,0),SUM(M$1:M14)) -> 0 | N15: =IF((+H15-M15)<>0,H15-M15,IF(H15>0,"0",""))
H17: =IF(B17<>"計",ROUNDDOWN(E17*G17,0),SUM(H$1:H16)) -> 0 | M17: =IF(B17<>"計",ROUNDDOWN(E17*G17,0),SUM(M$1:M16)) -> 0 | N17: =IF((+H17-M17)<>0,H17-M17,IF(H17>0,"0",""))
H19: =IF(B19<>"計",ROUNDDOWN(E19*G19,0),SUM(H$1:H18)) -> 0 | M19: =IF(B19<>"計",ROUNDDOWN(E19*G19,0),SUM(M$1:M18)) -> 0 | N19: =IF((+H19-M19)<>0,H19-M19,IF(H19>0,"0",""))
H21: =IF(B21<>"計",ROUNDDOWN(E21*G21,0),SUM(H$1:H20)) -> 0 | M21: =IF(B21<>"計",ROUNDDOWN(E21*G21,0),SUM(M$1:M20)) -> 0 | N21: =IF((+H21-M21)<>0,H21-M21,IF(H21>0,"0",""))
H23: =IF(B23<>"計",ROUNDDOWN(E23*G23,0),SUM(H$1:H22)) -> 0 | M23: =IF(B23<>"計",ROUNDDOWN(E23*G23,0),SUM(M$1:M22)) -> 0 | N23: =IF((+H23-M23)<>0,H23-M23,IF(H23>0,"0",""))
H25: =IF(B25<>"計",ROUNDDOWN(E25*G25,0),SUM(H$1:H24)) -> 0 | M25: =IF(B25<>"計",ROUNDDOWN(E25*G25,0),SUM(M$1:M24)) -> 0 | N25: =IF((+H25-M25)<>0,H25-M25,IF(H25>0,"0",""))
H27: =IF(B27<>"計",ROUNDDOWN(E27*G27,0),SUM(H$1:H26)) -> 0 | M27: =IF(B27<>"計",ROUNDDOWN(E27*G27,0),SUM(M$1:M26)) -> 0 | N27: =IF((+H27-M27)<>0,H27-M27,IF(H27>0,"0",""))
H29: =IF(B29<>"計",ROUNDDOWN(E29*G29,0),SUM(H$1:H28)) -> 0 | M29: =IF(B29<>"計",ROUNDDOWN(E29*G29,0),SUM(M$1:M28)) -> 0 | N29: =IF((+H29-M29)<>0,H29-M29,IF(H29>0,"0",""))
H31: =IF(B31<>"計",ROUNDDOWN(E31*G31,0),SUM(H$1:H30)) -> 0 | M31: =IF(B31<>"計",ROUNDDOWN(E31*G31,0),SUM(M$1:M30)) -> 0 | N31: =IF((+H31-M31)<>0,H31-M31,IF(H31>0,"0",""))
H33: =IF(B33<>"計",ROUNDDOWN(E33*G33,0),SUM(H$1:H32)) -> 0 | M33: =IF(B33<>"計",ROUNDDOWN(E33*G33,0),SUM(M$1:M32)) -> 0 | N33: =IF((+H33-M33)<>0,H33-M33,IF(H33>0,"0",""))
B35: 計 | H35: =IF(B35<>"計",ROUNDDOWN(E35*G35,0),SUM(H$1:H34)) -> 0 | M35: =IF(B35<>"計",ROUNDDOWN(E35*G35,0),SUM(M$1:M34)) -> 0 | N35: =IF((+H35-M35)<>0,H35-M35,IF(H35>0,"0",""))
H37: =IF(B37<>"計",ROUNDDOWN(E37*G37,0),SUM(H$1:H36)) -> 0 | M37: =IF(B37<>"計",ROUNDDOWN(E37*G37,0),SUM(M$1:M36)) -> 0 | N37: =IF((+H37-M37)<>0,H37-M37,IF(H37>0,"0",""))
H39: =IF(B39<>"計",ROUNDDOWN(E39*G39,0),SUM(H$1:H38)) -> 0 | M39: =IF(B39<>"計",ROUNDDOWN(E39*G39,0),SUM(M$1:M38)) -> 0 | N39: =IF((+H39-M39)<>0,H39-M39,IF(H39>0,"0",""))
H41: =IF(B41<>"計",ROUNDDOWN(E41*G41,0),SUM(H$1:H40)) -> 0 | M41: =IF(B41<>"計",ROUNDDOWN(E41*G41,0),SUM(M$1:M40)) -> 0 | N41: =IF((+H41-M41)<>0,H41-M41,IF(H41>0,"0",""))
H43: =IF(B43<>"計",ROUNDDOWN(E43*G43,0),SUM(H$1:H42)) -> 0 | M43: =IF(B43<>"計",ROUNDDOWN(E43*G43,0),SUM(M$1:M42)) -> 0 | N43: =IF((+H43-M43)<>0,H43-M43,IF(H43>0,"0",""))
H45: =IF(B45<>"計",ROUNDDOWN(E45*G45,0),SUM(H$1:H44)) -> 0 | M45: =IF(B45<>"計",ROUNDDOWN(E45*G45,0),SUM(M$1:M44)) -> 0 | N45: =IF((+H45-M45)<>0,H45-M45,IF(H45>0,"0",""))
H47: =IF(B47<>"計",ROUNDDOWN(E47*G47,0),SUM(H$1:H46)) -> 0 | M47: =IF(B47<>"計",ROUNDDOWN(E47*G47,0),SUM(M$1:M46)) -> 0 | N47: =IF((+H47-M47)<>0,H47-M47,IF(H47>0,"0",""))
H49: =IF(B49<>"計",ROUNDDOWN(E49*G49,0),SUM(H$1:H48)) -> 0 | M49: =IF(B49<>"計",ROUNDDOWN(E49*G49,0),SUM(M$1:M48)) -> 0 | N49: =IF((+H49-M49)<>0,H49-M49,IF(H49>0,"0",""))
H51: =IF(B51<>"計",ROUNDDOWN(E51*G51,0),SUM(H$1:H50)) -> 0 | M51: =IF(B51<>"計",ROUNDDOWN(E51*G51,0),SUM(M$1:M50)) -> 0 | N51: =IF((+H51-M51)<>0,H51-M51,IF(H51>0,"0",""))
H53: =IF(B53<>"計",ROUNDDOWN(E53*G53,0),SUM(H$1:H52)) -> 0 | M53: =IF(B53<>"計",ROUNDDOWN(E53*G53,0),SUM(M$1:M52)) -> 0 | N53: =IF((+H53-M53)<>0,H53-M53,IF(H53>0,"0",""))
H55: =IF(B55<>"計",ROUNDDOWN(E55*G55,0),SUM(H$1:H54)) -> 0 | M55: =IF(B55<>"計",ROUNDDOWN(E55*G55,0),SUM(M$1:M54)) -> 0 | N55: =IF((+H55-M55)<>0,H55-M55,IF(H55>0,"0",""))
H57: =IF(B57<>"計",ROUNDDOWN(E57*G57,0),SUM(H$1:H56)) -> 0 | M57: =IF(B57<>"計",ROUNDDOWN(E57*G57,0),SUM(M$1:M56)) -> 0 | N57: =IF((+H57-M57)<>0,H57-M57,IF(H57>0,"0",""))
H59: =IF(B59<>"計",ROUNDDOWN(E59*G59,0),SUM(H$1:H58)) -> 0 | M59: =IF(B59<>"計",ROUNDDOWN(E59*G59,0),SUM(M$1:M58)) -> 0 | N59: =IF((+H59-M59)<>0,H59-M59,IF(H59>0,"0",""))
... H73: =IF(B73<>"計",ROUNDDOWN(E73*G73,0),SUM(H$1:H72)) -> 0 | M73: =IF(B73<>"計",ROUNDDOWN(E73*G73,0),SUM(M$1:M72)) -> 0 | N73: =IF((+H73-M73)<>0,H73-M73,IF(H73>0,"0",""))
H75: =IF(B75<>"計",ROUNDDOWN(E75*G75,0),SUM(H$1:H74)) -> 0
H77: =IF(B77<>"計",ROUNDDOWN(E77*G77,0),SUM(H$1:H76)) -> 0
H79: =IF(B79<>"計",ROUNDDOWN(E79*G79,0),SUM(H$1:H78)) -> 0
H81: =IF(B81<>"計",ROUNDDOWN(E81*G81,0),SUM(H$1:H80)) -> 0
H83: =IF(B83<>"計",ROUNDDOWN(E83*G83,0),SUM(H$1:H82)) -> 0
H85: =IF(B85<>"計",ROUNDDOWN(E85*G85,0),SUM(H$1:H84)) -> 0
H87: =IF(B87<>"計",ROUNDDOWN(E87*G87,0),SUM(H$1:H86)) -> 0
H89: =IF(B89<>"計",ROUNDDOWN(E89*G89,0),SUM(H$1:H88)) -> 0
H91: =IF(B91<>"計",ROUNDDOWN(E91*G91,0),SUM(H$1:H90)) -> 0
H93: =IF(B93<>"計",ROUNDDOWN(E93*G93,0),SUM(H$1:H92)) -> 0
H95: =IF(B95<>"計",ROUNDDOWN(E95*G95,0),SUM(H$1:H94)) -> 0
H97: =IF(B97<>"計",ROUNDDOWN(E97*G97,0),SUM(H$1:H96)) -> 0
... H181: =IF(B181<>"計",ROUNDDOWN(E181*G181,0),SUM(H$1:H180)) -> 0
H183: =ROUNDDOWN(E183*G183,0) -> 0
H185: =ROUNDDOWN(E185*G185,0) -> 0
H187: =ROUNDDOWN(E187*G187,0) -> 0
H189: =ROUNDDOWN(E189*G189,0) -> 0
H191: =ROUNDDOWN(E191*G191,0) -> 0
H193: =ROUNDDOWN(E193*G193,0) -> 0
H195: =ROUNDDOWN(E195*G195,0) -> 0
H197: =ROUNDDOWN(E197*G197,0) -> 0
H199: =ROUNDDOWN(E199*G199,0) -> 0
H201: =ROUNDDOWN(E201*G201,0) -> 0
H203: =ROUNDDOWN(E203*G203,0) -> 0
H205: =ROUNDDOWN(E205*G205,0) -> 0
... H225: =ROUNDDOWN(E225*G225,0) -> 0

Sheet 空調内訳
B1: 名 称 | C1: 摘 要 | E1: 数 量 | F1: 単位 | G1: 単 価 | H1: 金 額 | I1: 備 考 | M1: 検算欄 | N1: 検算差額
M2: 下以降一式と合計は各自設定 | N2: 差額が0であればOK
H3: =IF(B3<>"計",ROUNDDOWN(E3*G3,0),SUM(H$1:H2)) -> 0 | M3: =IF(B3<>"計",ROUNDDOWN(E3*G3,0),SUM(M$1:M2)) -> 0 | N3: =IF((+H3-M3)<>0,H3-M3,IF(H3>0,"0",""))
H5: =IF(B5<>"計",ROUNDDOWN(E5*G5,0),SUM(H$1:H4)) -> 0 | M5: =IF(B5<>"計",ROUNDDOWN(E5*G5,0),SUM(M$1:M4)) -> 0 | N5: =IF((+H5-M5)<>0,H5-M5,IF(H5>0,"0",""))
H7: =IF(B7<>"計",ROUNDDOWN(E7*G7,0),SUM(H$1:H6)) -> 0 | M7: =IF(B7<>"計",ROUNDDOWN(E7*G7,0),SUM(M$1:M6)) -> 0 | N7: =IF((+H7-M7)<>0,H7-M7,IF(H7>0,"0",""))
H9: =IF(B9<>"計",ROUNDDOWN(E9*G9,0),SUM(H$1:H8)) -> 0 | M9: =IF(B9<>"計",ROUNDDOWN(E9*G9,0),SUM(M$1:M8)) -> 0 | N9: =IF((+H9-M9)<>0,H9-M9,IF(H9>0,"0",""))
H11: =IF(B11<>"計",ROUNDDOWN(E11*G11,0),SUM(H$1:H10)) -> 0 | M11: =IF(B11<>"計",ROUNDDOWN(E11*G11,0),SUM(M$1:M10)) -> 0 | N11: =IF((+H11-M11)<>0,H11-M11,IF(H11>0,"0",""))
H13: =IF(B13<>"計",ROUNDDOWN(E13*G13,0),SUM(H$1:H12)) -> 0 | M13: =IF(B13<>"計",ROUNDDOWN(E13*G13,0),SUM(M$1:M12)) -> 0 | N13: =IF((+H13-M13)<>0,H13-M13,IF(H13>0,"0",""))
H15: =IF(B15<>"計",ROUNDDOWN(E15*G15,0),SUM(H$1:H14)) -> 0 | M15: =IF(B15<>"計",ROUNDDOWN(E15*G15,0),SUM(M$1:M14)) -> 0 | N15: =IF((+H15-M15)<>0,H15-M15,IF(H15>0,"0",""))
H17: =IF(B17<>"計",ROUNDDOWN(E17*G17,0),SUM(H$1:H16)) -> 0 | M17: =IF(B17<>"計",ROUNDDOWN(E17*G17,0),SUM(M$1:M16)) -> 0 | N17: =IF((+H17-M17)<>0,H17-M17,IF(H17>0,"0",""))
H19: =IF(B19<>"計",ROUNDDOWN(E19*G19,0),SUM(H$1:H18)) -> 0 | M19: =IF(B19<>"計",ROUNDDOWN(E19*G19,0),SUM(M$1:M18)) -> 0 | N19: =IF((+H19-M19)<>0,H19-M19,IF(H19>0,"0",""))
H21: =IF(B21<>"計",ROUNDDOWN(E21*G21,0),SUM(H$1:H20)) -> 0 | M21: =IF(B21<>"計",ROUNDDOWN(E21*G21,0),SUM(M$1:M20)) -> 0 | N21: =IF((+H21-M21)<>0,H21-M21,IF(H21>0,"0",""))
H23: =IF(B23<>"計",ROUNDDOWN(E23*G23,0),SUM(H$1:H22)) -> 0 | M23: =IF(B23<>"計",ROUNDDOWN(E23*G23,0),SUM(M$1:M22)) -> 0 | N23: =IF((+H23-M23)<>0,H23-M23,IF(H23>0,"0",""))
H25: =IF(B25<>"計",ROUNDDOWN(E25*G25,0),SUM(H$1:H24)) -> 0 | M25: =IF(B25<>"計",ROUNDDOWN(E25*G25,0),SUM(M$1:M24)) -> 0 | N25: =IF((+H25-M25)<>0,H25-M25,IF(H25>0,"0",""))
... H181: =IF(B181<>"計",ROUNDDOWN(E181*G181,0),SUM(H$1:H180)) -> 0 | M181: =IF(B181<>"計",ROUNDDOWN(E181*G181,0),SUM(M$1:M180)) -> 0 | N181: =IF((+H181-M181)<>0,H181-M181,IF(H181>0,"0",""))
H183: =ROUNDDOWN(E183*G183,0) -> 0
H185: =ROUNDDOWN(E185*G185,0) -> 0
H187: =ROUNDDOWN(E187*G187,0) -> 0
H189: =ROUNDDOWN(E189*G189,0) -> 0
H191: =ROUNDDOWN(E191*G191,0) -> 0
H193: =ROUNDDOWN(E193*G193,0) -> 0
H195: =ROUNDDOWN(E195*G195,0) -> 0
H197: =ROUNDDOWN(E197*G197,0) -> 0
H199: =ROUNDDOWN(E199*G199,0) -> 0
H201: =ROUNDDOWN(E201*G201,0) -> 0
H203: =ROUNDDOWN(E203*G203,0) -> 0
H205: =ROUNDDOWN(E205*G205,0) -> 0
... H333: =ROUNDDOWN(E333*G333,0) -> 0

Sheet （4）衛生
B1: 名 称 | C1: 摘 要 | E1: 数 量 | F1: 単位 | G1: 単 価 | H1: 金 額 | I1: 備 考 | M1: 検算欄 | N1: 検算差額
M2: 下以降一式と合計は各自設定 | N2: 差額が0であればOK
A3: （4） | B3: 給排水衛生設備工事 | H3: =IF(B3<>"計",ROUNDDOWN(E3*G3,0),SUM(H$1:H2)) -> 0 | M3: =IF(B3<>"計",ROUNDDOWN(E3*G3,0),SUM(M$1:M2)) -> 0 | N3: =IF((+H3-M3)<>0,H3-M3,IF(H3>0,"0",""))
H5: =IF(B5<>"計",ROUNDDOWN(E5*G5,0),SUM(H$1:H4)) -> 0 | M5: =IF(B5<>"計",ROUNDDOWN(E5*G5,0),SUM(M$1:M4)) -> 0 | N5: =IF((+H5-M5)<>0,H5-M5,IF(H5>0,"0",""))
A7: 1. | B7: 衛生器具設備 | E7: 1 | F7: 式 | H7: =IF(B7<>"計",ROUNDDOWN(E7*G7,0),SUM(H$1:H6)) -> 0 | M7: =IF(B7<>"計",ROUNDDOWN(E7*G7,0),SUM(M$1:M6)) -> 0 | N7: =IF((+H7-M7)<>0,H7-M7,IF(H7>0,"0",""))
A9: 2. | B9: 給水設備 | E9: 1 | F9: 式 | H9: =IF(B9<>"計",ROUNDDOWN(E9*G9,0),SUM(H$1:H8)) -> 0 | M9: =IF(B9<>"計",ROUNDDOWN(E9*G9,0),SUM(M$1:M8)) -> 0 | N9: =IF((+H9-M9)<>0,H9-M9,IF(H9>0,"0",""))
A11: 3. | B11: 排水設備 | E11: 1 | F11: 式 | H11: =IF(B11<>"計",ROUNDDOWN(E11*G11,0),SUM(H$1:H10)) -> 0 | M11: =IF(B11<>"計",ROUNDDOWN(E11*G11,0),SUM(M$1:M10)) -> 0 | N11: =IF((+H11-M11)<>0,H11-M11,IF(H11>0,"0",""))
A13: 4. | B13: 給湯設備 | E13: 1 | F13: 式 | H13: =IF(B13<>"計",ROUNDDOWN(E13*G13,0),SUM(H$1:H12)) -> 0 | M13: =IF(B13<>"計",ROUNDDOWN(E13*G13,0),SUM(M$1:M12)) -> 0 | N13: =IF((+H13-M13)<>0,H13-M13,IF(H13>0,"0",""))
A15: 5. | B15: 消火設備 | E15: 1 | F15: 式 | H15: =IF(B15<>"計",ROUNDDOWN(E15*G15,0),SUM(H$1:H14)) -> 0 | M15: =IF(B15<>"計",ROUNDDOWN(E15*G15,0),SUM(M$1:M14)) -> 0 | N15: =IF((+H15-M15)<>0,H15-M15,IF(H15>0,"0",""))
A17: 6. | B17: 厨房機器設備 | E17: 1 | F17: 式 | H17: =IF(B17<>"計",ROUNDDOWN(E17*G17,0),SUM(H$1:H16)) -> 0 | M17: =IF(B17<>"計",ROUNDDOWN(E17*G17,0),SUM(M$1:M16)) -> 0 | N17: =IF((+H17-M17)<>0,H17-M17,IF(H17>0,"0",""))
A19: 7. | B19: ガス設備 | E19: 1 | F19: 式 | H19: =IF(B19<>"計",ROUNDDOWN(E19*G19,0),SUM(H$1:H18)) -> 0 | M19: =IF(B19<>"計",ROUNDDOWN(E19*G19,0),SUM(M$1:M18)) -> 0 | N19: =IF((+H19-M19)<>0,H19-M19,IF(H19>0,"0",""))
A21: 8. | B21: 雑費 | E21: 1 | F21: 式 | H21: =IF(B21<>"計",ROUNDDOWN(E21*G21,0),SUM(H$1:H20)) -> 0 | M21: =IF(B21<>"計",ROUNDDOWN(E21*G21,0),SUM(M$1:M20)) -> 0 | N21: =IF((+H21-M21)<>0,H21-M21,IF(H21>0,"0",""))
H23: =IF(B23<>"計",ROUNDDOWN(E23*G23,0),SUM(H$1:H22)) -> 0 | M23: =IF(B23<>"計",ROUNDDOWN(E23*G23,0),SUM(M$1:M22)) -> 0 | N23: =IF((+H23-M23)<>0,H23-M23,IF(H23>0,"0",""))
H25: =IF(B25<>"計",ROUNDDOWN(E25*G25,0),SUM(H$1:H24)) -> 0 | M25: =IF(B25<>"計",ROUNDDOWN(E25*G25,0),SUM(M$1:M24)) -> 0 | N25: =IF((+H25-M25)<>0,H25-M25,IF(H25>0,"0",""))
H27: =IF(B27<>"計",ROUNDDOWN(E27*G27,0),SUM(H$1:H26)) -> 0 | M27: =IF(B27<>"計",ROUNDDOWN(E27*G27,0),SUM(M$1:M26)) -> 0 | N27: =IF((+H27-M27)<>0,H27-M27,IF(H27>0,"0",""))
H29: =IF(B29<>"計",ROUNDDOWN(E29*G29,0),SUM(H$1:H28)) -> 0 | M29: =IF(B29<>"計",ROUNDDOWN(E29*G29,0),SUM(M$1:M28)) -> 0 | N29: =IF((+H29-M29)<>0,H29-M29,IF(H29>0,"0",""))
H31: =IF(B31<>"計",ROUNDDOWN(E31*G31,0),SUM(H$1:H30)) -> 0 | M31: =IF(B31<>"計",ROUNDDOWN(E31*G31,0),SUM(M$1:M30)) -> 0 | N31: =IF((+H31-M31)<>0,H31-M31,IF(H31>0,"0",""))
H33: =IF(B33<>"計",ROUNDDOWN(E33*G33,0),SUM(H$1:H32)) -> 0 | M33: =IF(B33<>"計",ROUNDDOWN(E33*G33,0),SUM(M$1:M32)) -> 0 | N33: =IF((+H33-M33)<>0,H33-M33,IF(H33>0,"0",""))
B35: 計 | H35: =IF(B35<>"計",ROUNDDOWN(E35*G35,0),SUM(H$1:H34)) -> 0 | M35: =IF(B35<>"計",ROUNDDOWN(E35*G35,0),SUM(M$1:M34)) -> 0 | N35: =IF((+H35-M35)<>0,H35-M35,IF(H35>0,"0",""))
H37: =IF(B37<>"計",ROUNDDOWN(E37*G37,0),SUM(H$1:H36)) -> 0 | M37: =IF(B37<>"計",ROUNDDOWN(E37*G37,0),SUM(M$1:M36)) -> 0 | N37: =IF((+H37-M37)<>0,H37-M37,IF(H37>0,"0",""))
H39: =IF(B39<>"計",ROUNDDOWN(E39*G39,0),SUM(H$1:H38)) -> 0 | M39: =IF(B39<>"計",ROUNDDOWN(E39*G39,0),SUM(M$1:M38)) -> 0 | N39: =IF((+H39-M39)<>0,H39-M39,IF(H39>0,"0",""))
H41: =IF(B41<>"計",ROUNDDOWN(E41*G41,0),SUM(H$1:H40)) -> 0 | M41: =IF(B41<>"計",ROUNDDOWN(E41*G41,0),SUM(M$1:M40)) -> 0 | N41: =IF((+H41-M41)<>0,H41-M41,IF(H41>0,"0",""))
H43: =IF(B43<>"計",ROUNDDOWN(E43*G43,0),SUM(H$1:H42)) -> 0 | M43: =IF(B43<>"計",ROUNDDOWN(E43*G43,0),SUM(M$1:M42)) -> 0 | N43: =IF((+H43-M43)<>0,H43-M43,IF(H43>0,"0",""))
H45: =IF(B45<>"計",ROUNDDOWN(E45*G45,0),SUM(H$1:H44)) -> 0 | M45: =IF(B45<>"計",ROUNDDOWN(E45*G45,0),SUM(M$1:M44)) -> 0 | N45: =IF((+H45-M45)<>0,H45-M45,IF(H45>0,"0",""))
H47: =IF(B47<>"計",ROUNDDOWN(E47*G47,0),SUM(H$1:H46)) -> 0 | M47: =IF(B47<>"計",ROUNDDOWN(E47*G47,0),SUM(M$1:M46)) -> 0 | N47: =IF((+H47-M47)<>0,H47-M47,IF(H47>0,"0",""))
H49: =IF(B49<>"計",ROUNDDOWN(E49*G49,0),SUM(H$1:H48)) -> 0 | M49: =IF(B49<>"計",ROUNDDOWN(E49*G49,0),SUM(M$1:M48)) -> 0 | N49: =IF((+H49-M49)<>0,H49-M49,IF(H49>0,"0",""))
H51: =IF(B51<>"計",ROUNDDOWN(E51*G51,0),SUM(H$1:H50)) -> 0 | M51: =IF(B51<>"計",ROUNDDOWN(E51*G51,0),SUM(M$1:M50)) -> 0 | N51: =IF((+H51-M51)<>0,H51-M51,IF(H51>0,"0",""))
H53: =IF(B53<>"計",ROUNDDOWN(E53*G53,0),SUM(H$1:H52)) -> 0 | M53: =IF(B53<>"計",ROUNDDOWN(E53*G53,0),SUM(M$1:M52)) -> 0 | N53: =IF((+H53-M53)<>0,H53-M53,IF(H53>0,"0",""))
H55: =IF(B55<>"計",ROUNDDOWN(E55*G55,0),SUM(H$1:H54)) -> 0 | M55: =IF(B55<>"計",ROUNDDOWN(E55*G55,0),SUM(M$1:M54)) -> 0 | N55: =IF((+H55-M55)<>0,H55-M55,IF(H55>0,"0",""))
H57: =IF(B57<>"計",ROUNDDOWN(E57*G57,0),SUM(H$1:H56)) -> 0 | M57: =IF(B57<>"計",ROUNDDOWN(E57*G57,0),SUM(M$1:M56)) -> 0 | N57: =IF((+H57-M57)<>0,H57-M57,IF(H57>0,"0",""))
H59: =IF(B59<>"計",ROUNDDOWN(E59*G59,0),SUM(H$1:H58)) -> 0 | M59: =IF(B59<>"計",ROUNDDOWN(E59*G59,0),SUM(M$1:M58)) -> 0 | N59: =IF((+H59-M59)<>0,H59-M59,IF(H59>0,"0",""))
... H73: =IF(B73<>"計",ROUNDDOWN(E73*G73,0),SUM(H$1:H72)) -> 0 | M73: =IF(B73<>"計",ROUNDDOWN(E73*G73,0),SUM(M$1:M72)) -> 0 | N73: =IF((+H73-M73)<>0,H73-M73,IF(H73>0,"0",""))
H191: =ROUNDDOWN(E191*G191,0) -> 0
H193: =ROUNDDOWN(E193*G193,0) -> 0
H195: =ROUNDDOWN(E195*G195,0) -> 0
H197: =ROUNDDOWN(E197*G197,0) -> 0
H199: =ROUNDDOWN(E199*G199,0) -> 0
H201: =ROUNDDOWN(E201*G201,0) -> 0
H203: =ROUNDDOWN(E203*G203,0) -> 0
H205: =ROUNDDOWN(E205*G205,0) -> 0
H207: =ROUNDDOWN(E207*G207,0) -> 0
H209: =ROUNDDOWN(E209*G209,0) -> 0
H211: =ROUNDDOWN(E211*G211,0) -> 0
H213: =ROUNDDOWN(E213*G213,0) -> 0
... H225: =ROUNDDOWN(E225*G225,0) -> 0

Sheet 衛生内訳
B1: 名 称 | C1: 摘 要 | E1: 数 量 | F1: 単位 | G1: 単 価 | H1: 金 額 | I1: 備 考 | M1: 検算欄 | N1: 検算差額
M2: 下以降一式と合計は各自設定 | N2: 差額が0であればOK
H3: =IF(B3<>"計",ROUNDDOWN(E3*G3,0),SUM(H$1:H2)) -> 0 | M3: =IF(B3<>"計",ROUNDDOWN(E3*G3,0),SUM(M$1:M2)) -> 0 | N3: =IF((+H3-M3)<>0,H3-M3,IF(H3>0,"0",""))
H5: =IF(B5<>"計",ROUNDDOWN(E5*G5,0),SUM(H$1:H4)) -> 0 | M5: =IF(B5<>"計",ROUNDDOWN(E5*G5,0),SUM(M$1:M4)) -> 0 | N5: =IF((+H5-M5)<>0,H5-M5,IF(H5>0,"0",""))
H7: =IF(B7<>"計",ROUNDDOWN(E7*G7,0),SUM(H$1:H6)) -> 0 | M7: =IF(B7<>"計",ROUNDDOWN(E7*G7,0),SUM(M$1:M6)) -> 0 | N7: =IF((+H7-M7)<>0,H7-M7,IF(H7>0,"0",""))
H9: =IF(B9<>"計",ROUNDDOWN(E9*G9,0),SUM(H$1:H8)) -> 0 | M9: =IF(B9<>"計",ROUNDDOWN(E9*G9,0),SUM(M$1:M8)) -> 0 | N9: =IF((+H9-M9)<>0,H9-M9,IF(H9>0,"0",""))
H11: =IF(B11<>"計",ROUNDDOWN(E11*G11,0),SUM(H$1:H10)) -> 0 | M11: =IF(B11<>"計",ROUNDDOWN(E11*G11,0),SUM(M$1:M10)) -> 0 | N11: =IF((+H11-M11)<>0,H11-M11,IF(H11>0,"0",""))
H13: =IF(B13<>"計",ROUNDDOWN(E13*G13,0),SUM(H$1:H12)) -> 0 | M13: =IF(B13<>"計",ROUNDDOWN(E13*G13,0),SUM(M$1:M12)) -> 0 | N13: =IF((+H13-M13)<>0,H13-M13,IF(H13>0,"0",""))
H15: =IF(B15<>"計",ROUNDDOWN(E15*G15,0),SUM(H$1:H14)) -> 0 | M15: =IF(B15<>"計",ROUNDDOWN(E15*G15,0),SUM(M$1:M14)) -> 0 | N15: =IF((+H15-M15)<>0,H15-M15,IF(H15>0,"0",""))
H17: =IF(B17<>"計",ROUNDDOWN(E17*G17,0),SUM(H$1:H16)) -> 0 | M17: =IF(B17<>"計",ROUNDDOWN(E17*G17,0),SUM(M$1:M16)) -> 0 | N17: =IF((+H17-M17)<>0,H17-M17,IF(H17>0,"0",""))
H19: =IF(B19<>"計",ROUNDDOWN(E19*G19,0),SUM(H$1:H18)) -> 0 | M19: =IF(B19<>"計",ROUNDDOWN(E19*G19,0),SUM(M$1:M18)) -> 0 | N19: =IF((+H19-M19)<>0,H19-M19,IF(H19>0,"0",""))
H21: =IF(B21<>"計",ROUNDDOWN(E21*G21,0),SUM(H$1:H20)) -> 0 | M21: =IF(B21<>"計",ROUNDDOWN(E21*G21,0),SUM(M$1:M20)) -> 0 | N21: =IF((+H21-M21)<>0,H21-M21,IF(H21>0,"0",""))
H23: =IF(B23<>"計",ROUNDDOWN(E23*G23,0),SUM(H$1:H22)) -> 0 | M23: =IF(B23<>"計",ROUNDDOWN(E23*G23,0),SUM(M$1:M22)) -> 0 | N23: =IF((+H23-M23)<>0,H23-M23,IF(H23>0,"0",""))
H25: =IF(B25<>"計",ROUNDDOWN(E25*G25,0),SUM(H$1:H24)) -> 0 | M25: =IF(B25<>"計",ROUNDDOWN(E25*G25,0),SUM(M$1:M24)) -> 0 | N25: =IF((+H25-M25)<>0,H25-M25,IF(H25>0,"0",""))
... H181: =IF(B181<>"計",ROUNDDOWN(E181*G181,0),SUM(H$1:H180)) -> 0 | M181: =IF(B181<>"計",ROUNDDOWN(E181*G181,0),SUM(M$1:M180)) -> 0 | N181: =IF((+H181-M181)<>0,H181-M181,IF(H181>0,"0",""))
H183: =ROUNDDOWN(E183*G183,0) -> 0
H185: =ROUNDDOWN(E185*G185,0) -> 0
H187: =ROUNDDOWN(E187*G187,0) -> 0
H189: =ROUNDDOWN(E189*G189,0) -> 0
H191: =ROUNDDOWN(E191*G191,0) -> 0
H193: =ROUNDDOWN(E193*G193,0) -> 0
H195: =ROUNDDOWN(E195*G195,0) -> 0
H197: =ROUNDDOWN(E197*G197,0) -> 0
H199: =ROUNDDOWN(E199*G199,0) -> 0
H201: =ROUNDDOWN(E201*G201,0) -> 0
H203: =ROUNDDOWN(E203*G203,0) -> 0
H205: =ROUNDDOWN(E205*G205,0) -> 0
... H333: =ROUNDDOWN(E333*G333,0) -> 0

Sheet （5）昇降機　説明
B1: 名 称 | C1: 摘 要 | E1: 数 量 | F1: 単位 | G1: 単 価 | H1: 金 額 | I1: 備 考 | M1: 検算欄 | N1: 検算差額
M2: 下以降一式と合計は各自設定 | N2: 差額が0であればOK
A3: （5) | B3: 昇降機設備工事 | H3: =IF(B3<>"計",ROUNDDOWN(E3*G3,0),SUM(H$1:H2)) -> 0 | M3: =IF(B3<>"計",ROUNDDOWN(E3*G3,0),SUM(M$1:M2)) -> 0 | N3: =IF((+H3-M3)<>0,H3-M3,IF(H3>0,"0",""))
H5: =IF(B5<>"計",ROUNDDOWN(E5*G5,0),SUM(H$1:H4)) -> 0 | M5: =IF(B5<>"計",ROUNDDOWN(E5*G5,0),SUM(M$1:M4)) -> 0 | N5: =IF((+H5-M5)<>0,H5-M5,IF(H5>0,"0",""))
A7: No1 | B7: 乗用エレベーター | C7: 積載荷重 1,600kg | E7: 1 | F7: 台 | H7: =IF(B7<>"計",ROUNDDOWN(E7*G7,0),SUM(H$1:H6)) -> 0 | M7: =IF(B7<>"計",ROUNDDOWN(E7*G7,0),SUM(M$1:M6)) -> 0 | N7: =IF((+H7-M7)<>0,H7-M7,IF(H7>0,"0",""))
C8: 定員 24名
C9: 速度 150m/分 | H9: =IF(B9<>"計",ROUNDDOWN(E9*G9,0),SUM(H$1:H8)) -> 0 | M9: =IF(B9<>"計",ROUNDDOWN(E9*G9,0),SUM(M$1:M8)) -> 0 | N9: =IF((+H9-M9)<>0,H9-M9,IF(H9>0,"0",""))
C10: 停止個所 17個所(B1～16階)
C11: 地震時管制運転(Ｐ波ｾﾝｻ-) | H11: =IF(B11<>"計",ROUNDDOWN(E11*G11,0),SUM(H$1:H10)) -> 0 | M11: =IF(B11<>"計",ROUNDDOWN(E11*G11,0),SUM(M$1:M10)) -> 0 | N11: =IF((+H11-M11)<>0,H11-M11,IF(H11>0,"0",""))
C12: 火災時管制運転
C13: 停電時自動着床装置 | E13: 1 | F13: 台 | H13: =IF(B13<>"計",ROUNDDOWN(E13*G13,0),SUM(H$1:H12)) -> 0 | M13: =IF(B13<>"計",ROUNDDOWN(E13*G13,0),SUM(M$1:M12)) -> 0 | N13: =IF((+H13-M13)<>0,H13-M13,IF(H13>0,"0",""))
C14: 三方枠 大枠ｽﾃﾝﾚｽHL仕上
C15: ｸ-ﾗ-付 | H15: =IF(B15<>"計",ROUNDDOWN(E15*G15,0),SUM(H$1:H14)) -> 0 | M15: =IF(B15<>"計",ROUNDDOWN(E15*G15,0),SUM(M$1:M14)) -> 0 | N15: =IF((+H15-M15)<>0,H15-M15,IF(H15>0,"0",""))
H17: =IF(B17<>"計",ROUNDDOWN(E17*G17,0),SUM(H$1:H16)) -> 0 | M17: =IF(B17<>"計",ROUNDDOWN(E17*G17,0),SUM(M$1:M16)) -> 0 | N17: =IF((+H17-M17)<>0,H17-M17,IF(H17>0,"0",""))
A19: No2 | B19: 人荷兼非常用エレベーター | C19: 積載荷重 1,900kg | H19: =IF(B19<>"計",ROUNDDOWN(E19*G19,0),SUM(H$1:H18)) -> 0 | M19: =IF(B19<>"計",ROUNDDOWN(E19*G19,0),SUM(M$1:M18)) -> 0 | N19: =IF((+H19-M19)<>0,H19-M19,IF(H19>0,"0",""))
C20: 定員 29名
C21: 速度 105m/分 | H21: =IF(B21<>"計",ROUNDDOWN(E21*G21,0),SUM(H$1:H20)) -> 0 | M21: =IF(B21<>"計",ROUNDDOWN(E21*G21,0),SUM(M$1:M20)) -> 0 | N21: =IF((+H21-M21)<>0,H21-M21,IF(H21>0,"0",""))
C22: 停止個所 18個所(B2～16階)
C23: 地震時管制運転(Ｐ波ｾﾝｻ-) | H23: =IF(B23<>"計",ROUNDDOWN(E23*G23,0),SUM(H$1:H22)) -> 0 | M23: =IF(B23<>"計",ROUNDDOWN(E23*G23,0),SUM(M$1:M22)) -> 0 | N23: =IF((+H23-M23)<>0,H23-M23,IF(H23>0,"0",""))
C24: 三方枠 大枠ｽﾃﾝﾚｽHL仕上
C25: 車椅子仕様付 | H25: =IF(B25<>"計",ROUNDDOWN(E25*G25,0),SUM(H$1:H24)) -> 0 | M25: =IF(B25<>"計",ROUNDDOWN(E25*G25,0),SUM(M$1:M24)) -> 0 | N25: =IF((+H25-M25)<>0,H25-M25,IF(H25>0,"0",""))
H27: =IF(B27<>"計",ROUNDDOWN(E27*G27,0),SUM(H$1:H26)) -> 0 | M27: =IF(B27<>"計",ROUNDDOWN(E27*G27,0),SUM(M$1:M26)) -> 0 | N27: =IF((+H27-M27)<>0,H27-M27,IF(H27>0,"0",""))
B29: 監視盤 | E29: 1 | F29: 式 | H29: =IF(B29<>"計",ROUNDDOWN(E29*G29,0),SUM(H$1:H28)) -> 0 | M29: =IF(B29<>"計",ROUNDDOWN(E29*G29,0),SUM(M$1:M28)) -> 0 | N29: =IF((+H29-M29)<>0,H29-M29,IF(H29>0,"0",""))
H31: =IF(B31<>"計",ROUNDDOWN(E31*G31,0),SUM(H$1:H30)) -> 0 | M31: =IF(B31<>"計",ROUNDDOWN(E31*G31,0),SUM(M$1:M30)) -> 0 | N31: =IF((+H31-M31)<>0,H31-M31,IF(H31>0,"0",""))
H33: =IF(B33<>"計",ROUNDDOWN(E33*G33,0),SUM(H$1:H32)) -> 0 | M33: =IF(B33<>"計",ROUNDDOWN(E33*G33,0),SUM(M$1:M32)) -> 0 | N33: =IF((+H33-M33)<>0,H33-M33,IF(H33>0,"0",""))
B35: 計 | H35: =IF(B35<>"計",ROUNDDOWN(E35*G35,0),SUM(H$1:H34)) -> 0 | M35: =IF(B35<>"計",ROUNDDOWN(E35*G35,0),SUM(M$1:M34)) -> 0 | N35: =IF((+H35-M35)<>0,H35-M35,IF(H35>0,"0",""))
H37: =IF(B37<>"計",ROUNDDOWN(E37*G37,0),SUM(H$1:H36)) -> 0 | M37: =IF(B37<>"計",ROUNDDOWN(E37*G37,0),SUM(M$1:M36)) -> 0 | N37: =IF((+H37-M37)<>0,H37-M37,IF(H37>0,"0",""))
H39: =IF(B39<>"計",ROUNDDOWN(E39*G39,0),SUM(H$1:H38)) -> 0 | M39: =IF(B39<>"計",ROUNDDOWN(E39*G39,0),SUM(M$1:M38)) -> 0 | N39: =IF((+H39-M39)<>0,H39-M39,IF(H39>0,"0",""))
H41: =IF(B41<>"計",ROUNDDOWN(E41*G41,0),SUM(H$1:H40)) -> 0 | M41: =IF(B41<>"計",ROUNDDOWN(E41*G41,0),SUM(M$1:M40)) -> 0 | N41: =IF((+H41-M41)<>0,H41-M41,IF(H41>0,"0",""))
H43: =IF(B43<>"計",ROUNDDOWN(E43*G43,0),SUM(H$1:H42)) -> 0 | M43: =IF(B43<>"計",ROUNDDOWN(E43*G43,0),SUM(M$1:M42)) -> 0 | N43: =IF((+H43-M43)<>0,H43-M43,IF(H43>0,"0",""))
H45: =IF(B45<>"計",ROUNDDOWN(E45*G45,0),SUM(H$1:H44)) -> 0 | M45: =IF(B45<>"計",ROUNDDOWN(E45*G45,0),SUM(M$1:M44)) -> 0 | N45: =IF((+H45-M45)<>0,H45-M45,IF(H45>0,"0",""))
H47: =IF(B47<>"計",ROUNDDOWN(E47*G47,0),SUM(H$1:H46)) -> 0 | M47: =IF(B47<>"計",ROUNDDOWN(E47*G47,0),SUM(M$1:M46)) -> 0 | N47: =IF((+H47-M47)<>0,H47-M47,IF(H47>0,"0",""))
H49: =IF(B49<>"計",ROUNDDOWN(E49*G49,0),SUM(H$1:H48)) -> 0 | M49: =IF(B49<>"計",ROUNDDOWN(E49*G49,0),SUM(M$1:M48)) -> 0 | N49: =IF((+H49-M49)<>0,H49-M49,IF(H49>0,"0",""))
H51: =IF(B51<>"計",ROUNDDOWN(E51*G51,0),SUM(H$1:H50)) -> 0 | M51: =IF(B51<>"計",ROUNDDOWN(E51*G51,0),SUM(M$1:M50)) -> 0 | N51: =IF((+H51-M51)<>0,H51-M51,IF(H51>0,"0",""))
H53: =IF(B53<>"計",ROUNDDOWN(E53*G53,0),SUM(H$1:H52)) -> 0 | M53: =IF(B53<>"計",ROUNDDOWN(E53*G53,0),SUM(M$1:M52)) -> 0 | N53: =IF((+H53-M53)<>0,H53-M53,IF(H53>0,"0",""))
H55: =IF(B55<>"計",ROUNDDOWN(E55*G55,0),SUM(H$1:H54)) -> 0 | M55: =IF(B55<>"計",ROUNDDOWN(E55*G55,0),SUM(M$1:M54)) -> 0 | N55: =IF((+H55-M55)<>0,H55-M55,IF(H55>0,"0",""))
H57: =IF(B57<>"計",ROUNDDOWN(E57*G57,0),SUM(H$1:H56)) -> 0 | M57: =IF(B57<>"計",ROUNDDOWN(E57*G57,0),SUM(M$1:M56)) -> 0 | N57: =IF((+H57-M57)<>0,H57-M57,IF(H57>0,"0",""))
H59: =IF(B59<>"計",ROUNDDOWN(E59*G59,0),SUM(H$1:H58)) -> 0 | M59: =IF(B59<>"計",ROUNDDOWN(E59*G59,0),SUM(M$1:M58)) -> 0 | N59: =IF((+H59-M59)<>0,H59-M59,IF(H59>0,"0",""))
... H73: =IF(B73<>"計",ROUNDDOWN(E73*G73,0),SUM(H$1:H72)) -> 0 | M73: =IF(B73<>"計",ROUNDDOWN(E73*G73,0),SUM(M$1:M72)) -> 0 | N73: =IF((+H73-M73)<>0,H73-M73,IF(H73>0,"0",""))
H75: =ROUNDDOWN(E75*G75,0) -> 0
H77: =ROUNDDOWN(E77*G77,0) -> 0
H79: =ROUNDDOWN(E79*G79,0) -> 0
H81: =ROUNDDOWN(E81*G81,0) -> 0
H83: =ROUNDDOWN(E83*G83,0) -> 0
H85: =ROUNDDOWN(E85*G85,0) -> 0
H87: =ROUNDDOWN(E87*G87,0) -> 0
H89: =ROUNDDOWN(E89*G89,0) -> 0
H91: =ROUNDDOWN(E91*G91,0) -> 0
H93: =ROUNDDOWN(E93*G93,0) -> 0
H95: =ROUNDDOWN(E95*G95,0) -> 0
H97: =ROUNDDOWN(E97*G97,0) -> 0
... H119: =ROUNDDOWN(E119*G119,0) -> 0

Sheet （6）機械　説明
B1: 名 称 | C1: 摘 要 | E1: 数 量 | F1: 単位 | G1: 単 価 | H1: 金 額 | I1: 備 考 | M1: 検算欄 | N1: 検算差額
M2: 下以降一式と合計は各自設定 | N2: 差額が0であればOK
A3: （6) | B3: 機械駐車設備工事 | H3: =IF(B3<>"計",ROUNDDOWN(E3*G3,0),SUM(H$1:H2)) -> 0 | M3: =IF(B3<>"計",ROUNDDOWN(E3*G3,0),SUM(M$1:M2)) -> 0 | N3: =IF((+H3-M3)<>0,H3-M3,IF(H3>0,"0",""))
H5: =IF(B5<>"計",ROUNDDOWN(E5*G5,0),SUM(H$1:H4)) -> 0 | M5: =IF(B5<>"計",ROUNDDOWN(E5*G5,0),SUM(M$1:M4)) -> 0 | N5: =IF((+H5-M5)<>0,H5-M5,IF(H5>0,"0",""))
B7: 機械式駐車設備 | C7: 昇降・横行二段式 | E7: 1 | F7: 式 | H7: =IF(B7<>"計",ROUNDDOWN(E7*G7,0),SUM(H$1:H6)) -> 0 | M7: =IF(B7<>"計",ROUNDDOWN(E7*G7,0),SUM(M$1:M6)) -> 0 | N7: =IF((+H7-M7)<>0,H7-M7,IF(H7>0,"0",""))
C8: 小型車 16台収容
H9: =IF(B9<>"計",ROUNDDOWN(E9*G9,0),SUM(H$1:H8)) -> 0 | M9: =IF(B9<>"計",ROUNDDOWN(E9*G9,0),SUM(M$1:M8)) -> 0 | N9: =IF((+H9-M9)<>0,H9-M9,IF(H9>0,"0",""))
B11: 機械式駐車設備 | C11: 昇降・横行二段式 | E11: 1 | F11: 式 | H11: =IF(B11<>"計",ROUNDDOWN(E11*G11,0),SUM(H$1:H10)) -> 0 | M11: =IF(B11<>"計",ROUNDDOWN(E11*G11,0),SUM(M$1:M10)) -> 0 | N11: =IF((+H11-M11)<>0,H11-M11,IF(H11>0,"0",""))
C12: 中型車 33台収容
H13: =IF(B13<>"計",ROUNDDOWN(E13*G13,0),SUM(H$1:H12)) -> 0 | M13: =IF(B13<>"計",ROUNDDOWN(E13*G13,0),SUM(M$1:M12)) -> 0 | N13: =IF((+H13-M13)<>0,H13-M13,IF(H13>0,"0",""))
H15: =IF(B15<>"計",ROUNDDOWN(E15*G15,0),SUM(H$1:H14)) -> 0 | M15: =IF(B15<>"計",ROUNDDOWN(E15*G15,0),SUM(M$1:M14)) -> 0 | N15: =IF((+H15-M15)<>0,H15-M15,IF(H15>0,"0",""))
H17: =IF(B17<>"計",ROUNDDOWN(E17*G17,0),SUM(H$1:H16)) -> 0 | M17: =IF(B17<>"計",ROUNDDOWN(E17*G17,0),SUM(M$1:M16)) -> 0 | N17: =IF((+H17-M17)<>0,H17-M17,IF(H17>0,"0",""))
H19: =IF(B19<>"計",ROUNDDOWN(E19*G19,0),SUM(H$1:H18)) -> 0 | M19: =IF(B19<>"計",ROUNDDOWN(E19*G19,0),SUM(M$1:M18)) -> 0 | N19: =IF((+H19-M19)<>0,H19-M19,IF(H19>0,"0",""))
H21: =IF(B21<>"計",ROUNDDOWN(E21*G21,0),SUM(H$1:H20)) -> 0 | M21: =IF(B21<>"計",ROUNDDOWN(E21*G21,0),SUM(M$1:M20)) -> 0 | N21: =IF((+H21-M21)<>0,H21-M21,IF(H21>0,"0",""))
H23: =IF(B23<>"計",ROUNDDOWN(E23*G23,0),SUM(H$1:H22)) -> 0 | M23: =IF(B23<>"計",ROUNDDOWN(E23*G23,0),SUM(M$1:M22)) -> 0 | N23: =IF((+H23-M23)<>0,H23-M23,IF(H23>0,"0",""))
H25: =IF(B25<>"計",ROUNDDOWN(E25*G25,0),SUM(H$1:H24)) -> 0 | M25: =IF(B25<>"計",ROUNDDOWN(E25*G25,0),SUM(M$1:M24)) -> 0 | N25: =IF((+H25-M25)<>0,H25-M25,IF(H25>0,"0",""))
H27: =IF(B27<>"計",ROUNDDOWN(E27*G27,0),SUM(H$1:H26)) -> 0 | M27: =IF(B27<>"計",ROUNDDOWN(E27*G27,0),SUM(M$1:M26)) -> 0 | N27: =IF((+H27-M27)<>0,H27-M27,IF(H27>0,"0",""))
H29: =IF(B29<>"計",ROUNDDOWN(E29*G29,0),SUM(H$1:H28)) -> 0 | M29: =IF(B29<>"計",ROUNDDOWN(E29*G29,0),SUM(M$1:M28)) -> 0 | N29: =IF((+H29-M29)<>0,H29-M29,IF(H29>0,"0",""))
H31: =IF(B31<>"計",ROUNDDOWN(E31*G31,0),SUM(H$1:H30)) -> 0 | M31: =IF(B31<>"計",ROUNDDOWN(E31*G31,0),SUM(M$1:M30)) -> 0 | N31: =IF((+H31-M31)<>0,H31-M31,IF(H31>0,"0",""))
H33: =IF(B33<>"計",ROUNDDOWN(E33*G33,0),SUM(H$1:H32)) -> 0 | M33: =IF(B33<>"計",ROUNDDOWN(E33*G33,0),SUM(M$1:M32)) -> 0 | N33: =IF((+H33-M33)<>0,H33-M33,IF(H33>0,"0",""))
B35: 計 | H35: =IF(B35<>"計",ROUNDDOWN(E35*G35,0),SUM(H$1:H34)) -> 0 | M35: =IF(B35<>"計",ROUNDDOWN(E35*G35,0),SUM(M$1:M34)) -> 0 | N35: =IF((+H35-M35)<>0,H35-M35,IF(H35>0,"0",""))
H37: =IF(B37<>"計",ROUNDDOWN(E37*G37,0),SUM(H$1:H36)) -> 0 | M37: =IF(B37<>"計",ROUNDDOWN(E37*G37,0),SUM(M$1:M36)) -> 0 | N37: =IF((+H37-M37)<>0,H37-M37,IF(H37>0,"0",""))
H189: =ROUNDDOWN(E189*G189,0) -> 0
H191: =ROUNDDOWN(E191*G191,0) -> 0
H193: =ROUNDDOWN(E193*G193,0) -> 0
H195: =ROUNDDOWN(E195*G195,0) -> 0
H197: =ROUNDDOWN(E197*G197,0) -> 0
H199: =ROUNDDOWN(E199*G199,0) -> 0
H201: =ROUNDDOWN(E201*G201,0) -> 0
H203: =ROUNDDOWN(E203*G203,0) -> 0
H205: =ROUNDDOWN(E205*G205,0) -> 0
H207: =ROUNDDOWN(E207*G207,0) -> 0
H209: =ROUNDDOWN(E209*G209,0) -> 0
H211: =ROUNDDOWN(E211*G211,0) -> 0
... H221: =ROUNDDOWN(E221*G221,0) -> 0

Sheet （7） 屋外 
B1: 名 称 | C1: 摘 要 | E1: 数 量 | F1: 単位 | G1: 単 価 | H1: 金 額 | I1: 備 考 | M1: 検算欄 | N1: 検算差額
M2: 下以降一式と合計は各自設定 | N2: 差額が0であればOK
A3: （7) | B3: 屋外施設工事 | H3: =IF(B3<>"計",ROUNDDOWN(E3*G3,0),SUM(H$1:H2)) -> 0 | M3: =IF(B3<>"計",ROUNDDOWN(E3*G3,0),SUM(M$1:M2)) -> 0 | N3: =IF((+H3-M3)<>0,H3-M3,IF(H3>0,"0",""))
H5: =IF(B5<>"計",ROUNDDOWN(E5*G5,0),SUM(H$1:H4)) -> 0 | M5: =IF(B5<>"計",ROUNDDOWN(E5*G5,0),SUM(M$1:M4)) -> 0 | N5: =IF((+H5-M5)<>0,H5-M5,IF(H5>0,"0",""))
A7: 1. | B7: 直接仮設 | E7: 1 | F7: 式 | H7: =IF(B7<>"計",ROUNDDOWN(E7*G7,0),SUM(H$1:H6)) -> 0 | M7: =IF(B7<>"計",ROUNDDOWN(E7*G7,0),SUM(M$1:M6)) -> 0 | N7: =IF((+H7-M7)<>0,H7-M7,IF(H7>0,"0",""))
A9: 2. | B9: 舗装 | E9: 1 | F9: 式 | H9: =IF(B9<>"計",ROUNDDOWN(E9*G9,0),SUM(H$1:H8)) -> 0 | M9: =IF(B9<>"計",ROUNDDOWN(E9*G9,0),SUM(M$1:M8)) -> 0 | N9: =IF((+H9-M9)<>0,H9-M9,IF(H9>0,"0",""))
A11: 3. | B11: 屋外排水設備 | E11: 1 | F11: 式 | H11: =IF(B11<>"計",ROUNDDOWN(E11*G11,0),SUM(H$1:H10)) -> 0 | M11: =IF(B11<>"計",ROUNDDOWN(E11*G11,0),SUM(M$1:M10)) -> 0 | N11: =IF((+H11-M11)<>0,H11-M11,IF(H11>0,"0",""))
A13: 4. | B13: 造園 | E13: 1 | F13: 式 | H13: =IF(B13<>"計",ROUNDDOWN(E13*G13,0),SUM(H$1:H12)) -> 0 | M13: =IF(B13<>"計",ROUNDDOWN(E13*G13,0),SUM(M$1:M12)) -> 0 | N13: =IF((+H13-M13)<>0,H13-M13,IF(H13>0,"0",""))
A15: 5. | B15: 囲障 | E15: 1 | F15: 式 | H15: =IF(B15<>"計",ROUNDDOWN(E15*G15,0),SUM(H$1:H14)) -> 0 | M15: =IF(B15<>"計",ROUNDDOWN(E15*G15,0),SUM(M$1:M14)) -> 0 | N15: =IF((+H15-M15)<>0,H15-M15,IF(H15>0,"0",""))
A17: 6. | B17: 外部工作物 | E17: 1 | F17: 式 | H17: =IF(B17<>"計",ROUNDDOWN(E17*G17,0),SUM(H$1:H16)) -> 0 | M17: =IF(B17<>"計",ROUNDDOWN(E17*G17,0),SUM(M$1:M16)) -> 0 | N17: =IF((+H17-M17)<>0,H17-M17,IF(H17>0,"0",""))
H19: =IF(B19<>"計",ROUNDDOWN(E19*G19,0),SUM(H$1:H18)) -> 0 | M19: =IF(B19<>"計",ROUNDDOWN(E19*G19,0),SUM(M$1:M18)) -> 0 | N19: =IF((+H19-M19)<>0,H19-M19,IF(H19>0,"0",""))
H21: =IF(B21<>"計",ROUNDDOWN(E21*G21,0),SUM(H$1:H20)) -> 0 | M21: =IF(B21<>"計",ROUNDDOWN(E21*G21,0),SUM(M$1:M20)) -> 0 | N21: =IF((+H21-M21)<>0,H21-M21,IF(H21>0,"0",""))
H23: =IF(B23<>"計",ROUNDDOWN(E23*G23,0),SUM(H$1:H22)) -> 0 | M23: =IF(B23<>"計",ROUNDDOWN(E23*G23,0),SUM(M$1:M22)) -> 0 | N23: =IF((+H23-M23)<>0,H23-M23,IF(H23>0,"0",""))
H25: =IF(B25<>"計",ROUNDDOWN(E25*G25,0),SUM(H$1:H24)) -> 0 | M25: =IF(B25<>"計",ROUNDDOWN(E25*G25,0),SUM(M$1:M24)) -> 0 | N25: =IF((+H25-M25)<>0,H25-M25,IF(H25>0,"0",""))
H27: =IF(B27<>"計",ROUNDDOWN(E27*G27,0),SUM(H$1:H26)) -> 0 | M27: =IF(B27<>"計",ROUNDDOWN(E27*G27,0),SUM(M$1:M26)) -> 0 | N27: =IF((+H27-M27)<>0,H27-M27,IF(H27>0,"0",""))
H29: =IF(B29<>"計",ROUNDDOWN(E29*G29,0),SUM(H$1:H28)) -> 0 | M29: =IF(B29<>"計",ROUNDDOWN(E29*G29,0),SUM(M$1:M28)) -> 0 | N29: =IF((+H29-M29)<>0,H29-M29,IF(H29>0,"0",""))
H31: =IF(B31<>"計",ROUNDDOWN(E31*G31,0),SUM(H$1:H30)) -> 0 | M31: =IF(B31<>"計",ROUNDDOWN(E31*G31,0),SUM(M$1:M30)) -> 0 | N31: =IF((+H31-M31)<>0,H31-M31,IF(H31>0,"0",""))
H33: =IF(B33<>"計",ROUNDDOWN(E33*G33,0),SUM(H$1:H32)) -> 0 | M33: =IF(B33<>"計",ROUNDDOWN(E33*G33,0),SUM(M$1:M32)) -> 0 | N33: =IF((+H33-M33)<>0,H33-M33,IF(H33>0,"0",""))
B35: 計 | H35: =IF(B35<>"計",ROUNDDOWN(E35*G35,0),SUM(H$1:H34)) -> 0 | M35: =IF(B35<>"計",ROUNDDOWN(E35*G35,0),SUM(M$1:M34)) -> 0 | N35: =IF((+H35-M35)<>0,H35-M35,IF(H35>0,"0",""))
H37: =IF(B37<>"計",ROUNDDOWN(E37*G37,0),SUM(H$1:H36)) -> 0 | M37: =IF(B37<>"計",ROUNDDOWN(E37*G37,0),SUM(M$1:M36)) -> 0 | N37: =IF((+H37-M37)<>0,H37-M37,IF(H37>0,"0",""))
H39: =ROUNDDOWN(E39*G39,0) -> 0
H41: =ROUNDDOWN(E41*G41,0) -> 0
H43: =ROUNDDOWN(E43*G43,0) -> 0
H45: =ROUNDDOWN(E45*G45,0) -> 0
H47: =ROUNDDOWN(E47*G47,0) -> 0
H49: =ROUNDDOWN(E49*G49,0) -> 0
H51: =ROUNDDOWN(E51*G51,0) -> 0
H53: =ROUNDDOWN(E53*G53,0) -> 0
H55: =ROUNDDOWN(E55*G55,0) -> 0
H57: =ROUNDDOWN(E57*G57,0) -> 0
H59: =ROUNDDOWN(E59*G59,0) -> 0
H61: =ROUNDDOWN(E61*G61,0) -> 0
... H191: =ROUNDDOWN(E191*G191,0) -> 0

Sheet 屋外内訳 
B1: 名 称 | C1: 摘 要 | E1: 数 量 | F1: 単位 | G1: 単 価 | H1: 金 額 | I1: 備 考 | M1: 検算欄 | N1: 検算差額
M2: 下以降一式と合計は各自設定 | N2: 差額が0であればOK
H3: =IF(B3<>"計",ROUNDDOWN(E3*G3,0),SUM(H$1:H2)) -> 0 | M3: =IF(B3<>"計",ROUNDDOWN(E3*G3,0),SUM(M$1:M2)) -> 0 | N3: =IF((+H3-M3)<>0,H3-M3,IF(H3>0,"0",""))
H5: =IF(B5<>"計",ROUNDDOWN(E5*G5,0),SUM(H$1:H4)) -> 0 | M5: =IF(B5<>"計",ROUNDDOWN(E5*G5,0),SUM(M$1:M4)) -> 0 | N5: =IF((+H5-M5)<>0,H5-M5,IF(H5>0,"0",""))
H7: =IF(B7<>"計",ROUNDDOWN(E7*G7,0),SUM(H$1:H6)) -> 0 | M7: =IF(B7<>"計",ROUNDDOWN(E7*G7,0),SUM(M$1:M6)) -> 0 | N7: =IF((+H7-M7)<>0,H7-M7,IF(H7>0,"0",""))
H9: =IF(B9<>"計",ROUNDDOWN(E9*G9,0),SUM(H$1:H8)) -> 0 | M9: =IF(B9<>"計",ROUNDDOWN(E9*G9,0),SUM(M$1:M8)) -> 0 | N9: =IF((+H9-M9)<>0,H9-M9,IF(H9>0,"0",""))
H11: =IF(B11<>"計",ROUNDDOWN(E11*G11,0),SUM(H$1:H10)) -> 0 | M11: =IF(B11<>"計",ROUNDDOWN(E11*G11,0),SUM(M$1:M10)) -> 0 | N11: =IF((+H11-M11)<>0,H11-M11,IF(H11>0,"0",""))
H13: =IF(B13<>"計",ROUNDDOWN(E13*G13,0),SUM(H$1:H12)) -> 0 | M13: =IF(B13<>"計",ROUNDDOWN(E13*G13,0),SUM(M$1:M12)) -> 0 | N13: =IF((+H13-M13)<>0,H13-M13,IF(H13>0,"0",""))
H15: =IF(B15<>"計",ROUNDDOWN(E15*G15,0),SUM(H$1:H14)) -> 0 | M15: =IF(B15<>"計",ROUNDDOWN(E15*G15,0),SUM(M$1:M14)) -> 0 | N15: =IF((+H15-M15)<>0,H15-M15,IF(H15>0,"0",""))
H17: =IF(B17<>"計",ROUNDDOWN(E17*G17,0),SUM(H$1:H16)) -> 0 | M17: =IF(B17<>"計",ROUNDDOWN(E17*G17,0),SUM(M$1:M16)) -> 0 | N17: =IF((+H17-M17)<>0,H17-M17,IF(H17>0,"0",""))
H19: =IF(B19<>"計",ROUNDDOWN(E19*G19,0),SUM(H$1:H18)) -> 0 | M19: =IF(B19<>"計",ROUNDDOWN(E19*G19,0),SUM(M$1:M18)) -> 0 | N19: =IF((+H19-M19)<>0,H19-M19,IF(H19>0,"0",""))
H21: =IF(B21<>"計",ROUNDDOWN(E21*G21,0),SUM(H$1:H20)) -> 0 | M21: =IF(B21<>"計",ROUNDDOWN(E21*G21,0),SUM(M$1:M20)) -> 0 | N21: =IF((+H21-M21)<>0,H21-M21,IF(H21>0,"0",""))
H23: =IF(B23<>"計",ROUNDDOWN(E23*G23,0),SUM(H$1:H22)) -> 0 | M23: =IF(B23<>"計",ROUNDDOWN(E23*G23,0),SUM(M$1:M22)) -> 0 | N23: =IF((+H23-M23)<>0,H23-M23,IF(H23>0,"0",""))
H25: =IF(B25<>"計",ROUNDDOWN(E25*G25,0),SUM(H$1:H24)) -> 0 | M25: =IF(B25<>"計",ROUNDDOWN(E25*G25,0),SUM(M$1:M24)) -> 0 | N25: =IF((+H25-M25)<>0,H25-M25,IF(H25>0,"0",""))
... H37: =IF(B37<>"計",ROUNDDOWN(E37*G37,0),SUM(H$1:H36)) -> 0 | M37: =IF(B37<>"計",ROUNDDOWN(E37*G37,0),SUM(M$1:M36)) -> 0 | N37: =IF((+H37-M37)<>0,H37-M37,IF(H37>0,"0",""))
H39: =IF(B39<>"計",ROUNDDOWN(E39*G39,0),SUM(H$1:H38)) -> 0
H41: =IF(B41<>"計",ROUNDDOWN(E41*G41,0),SUM(H$1:H40)) -> 0 | M41: =IF(B41<>"計",ROUNDDOWN(E41*G41,0),SUM(M$1:M40)) -> 0 | N41: =IF((+H41-M41)<>0,H41-M41,IF(H41>0,"0",""))
H43: =IF(B43<>"計",ROUNDDOWN(E43*G43,0),SUM(H$1:H42)) -> 0 | M43: =IF(B43<>"計",ROUNDDOWN(E43*G43,0),SUM(M$1:M42)) -> 0 | N43: =IF((+H43-M43)<>0,H43-M43,IF(H43>0,"0",""))
H45: =IF(B45<>"計",ROUNDDOWN(E45*G45,0),SUM(H$1:H44)) -> 0 | M45: =IF(B45<>"計",ROUNDDOWN(E45*G45,0),SUM(M$1:M44)) -> 0 | N45: =IF((+H45-M45)<>0,H45-M45,IF(H45>0,"0",""))
H47: =IF(B47<>"計",ROUNDDOWN(E47*G47,0),SUM(H$1:H46)) -> 0 | M47: =IF(B47<>"計",ROUNDDOWN(E47*G47,0),SUM(M$1:M46)) -> 0 | N47: =IF((+H47-M47)<>0,H47-M47,IF(H47>0,"0",""))
H49: =IF(B49<>"計",ROUNDDOWN(E49*G49,0),SUM(H$1:H48)) -> 0 | M49: =IF(B49<>"計",ROUNDDOWN(E49*G49,0),SUM(M$1:M48)) -> 0 | N49: =IF((+H49-M49)<>0,H49-M49,IF(H49>0,"0",""))
H51: =IF(B51<>"計",ROUNDDOWN(E51*G51,0),SUM(H$1:H50)) -> 0 | M51: =IF(B51<>"計",ROUNDDOWN(E51*G51,0),SUM(M$1:M50)) -> 0 | N51: =IF((+H51-M51)<>0,H51-M51,IF(H51>0,"0",""))
H53: =IF(B53<>"計",ROUNDDOWN(E53*G53,0),SUM(H$1:H52)) -> 0 | M53: =IF(B53<>"計",ROUNDDOWN(E53*G53,0),SUM(M$1:M52)) -> 0 | N53: =IF((+H53-M53)<>0,H53-M53,IF(H53>0,"0",""))
H55: =IF(B55<>"計",ROUNDDOWN(E55*G55,0),SUM(H$1:H54)) -> 0 | M55: =IF(B55<>"計",ROUNDDOWN(E55*G55,0),SUM(M$1:M54)) -> 0 | N55: =IF((+H55-M55)<>0,H55-M55,IF(H55>0,"0",""))
H57: =IF(B57<>"計",ROUNDDOWN(E57*G57,0),SUM(H$1:H56)) -> 0 | M57: =IF(B57<>"計",ROUNDDOWN(E57*G57,0),SUM(M$1:M56)) -> 0 | N57: =IF((+H57-M57)<>0,H57-M57,IF(H57>0,"0",""))
H59: =IF(B59<>"計",ROUNDDOWN(E59*G59,0),SUM(H$1:H58)) -> 0 | M59: =IF(B59<>"計",ROUNDDOWN(E59*G59,0),SUM(M$1:M58)) -> 0 | N59: =IF((+H59-M59)<>0,H59-M59,IF(H59>0,"0",""))
H61: =IF(B61<>"計",ROUNDDOWN(E61*G61,0),SUM(H$1:H60)) -> 0 | M61: =IF(B61<>"計",ROUNDDOWN(E61*G61,0),SUM(M$1:M60)) -> 0 | N61: =IF((+H61-M61)<>0,H61-M61,IF(H61>0,"0",""))
H63: =IF(B63<>"計",ROUNDDOWN(E63*G63,0),SUM(H$1:H62)) -> 0 | M63: =IF(B63<>"計",ROUNDDOWN(E63*G63,0),SUM(M$1:M62)) -> 0 | N63: =IF((+H63-M63)<>0,H63-M63,IF(H63>0,"0",""))
... H181: =IF(B181<>"計",ROUNDDOWN(E181*G181,0),SUM(H$1:H180)) -> 0 | M181: =IF(B181<>"計",ROUNDDOWN(E181*G181,0),SUM(M$1:M180)) -> 0 | N181: =IF((+H181-M181)<>0,H181-M181,IF(H181>0,"0",""))

Sheet 部分別種目
B1: 名 称 | C1: 摘 要 | E1: 数 量 | F1: 単位 | G1: 単 価 | H1: 金 額 | I1: 備 考 | M1: 検算欄 | N1: 検算差額
M2: 下以降一式と合計は各自設定 | N2: 差額が0であればOK
B3: ○○○新築工事 | H3: =ROUNDDOWN(E3*G3,0) -> 0 | M3: =IF(B3<>"計",ROUNDDOWN(E3*G3,0),SUM(M$1:M2)) -> 0 | N3: =IF((+H3-M3)<>0,H3-M3,IF(H3>0,"0",""))
A5: Ⅰ | B5: 直接工事費 | H5: =ROUNDDOWN(E5*G5,0) -> 0 | M5: =IF(B5<>"計",ROUNDDOWN(E5*G5,0),SUM(M$1:M4)) -> 0 | N5: =IF((+H5-M5)<>0,H5-M5,IF(H5>0,"0",""))
A7: (1) | B7: 建築工事 | E7: 1 | F7: 式 | H7: =IF(B7<>"計",ROUNDDOWN(E7*G7,0),SUM(H$1:H6)) -> 0 | M7: =IF(B7<>"計",ROUNDDOWN(E7*G7,0),SUM(M$1:M6)) -> 0 | N7: =IF((+H7-M7)<>0,H7-M7,IF(H7>0,"0",""))
A9: (2) | B9: 電気設備工事 | E9: 1 | F9: 式 | H9: =IF(B9<>"計",ROUNDDOWN(E9*G9,0),SUM(H$1:H8)) -> 0 | M9: =IF(B9<>"計",ROUNDDOWN(E9*G9,0),SUM(M$1:M8)) -> 0 | N9: =IF((+H9-M9)<>0,H9-M9,IF(H9>0,"0",""))
A11: (3) | B11: 空気調和設備工事 | E11: 1 | F11: 式 | H11: =IF(B11<>"計",ROUNDDOWN(E11*G11,0),SUM(H$1:H10)) -> 0 | M11: =IF(B11<>"計",ROUNDDOWN(E11*G11,0),SUM(M$1:M10)) -> 0 | N11: =IF((+H11-M11)<>0,H11-M11,IF(H11>0,"0",""))
A13: (4) | B13: 給排水衛生設備工事 | E13: 1 | F13: 式 | H13: =IF(B13<>"計",ROUNDDOWN(E13*G13,0),SUM(H$1:H12)) -> 0 | M13: =IF(B13<>"計",ROUNDDOWN(E13*G13,0),SUM(M$1:M12)) -> 0 | N13: =IF((+H13-M13)<>0,H13-M13,IF(H13>0,"0",""))
A15: (5) | B15: 昇降機設備工事 | E15: 1 | F15: 式 | H15: =IF(B15<>"計",ROUNDDOWN(E15*G15,0),SUM(H$1:H14)) -> 0 | M15: =IF(B15<>"計",ROUNDDOWN(E15*G15,0),SUM(M$1:M14)) -> 0 | N15: =IF((+H15-M15)<>0,H15-M15,IF(H15>0,"0",""))
A17: (6) | B17: 機械駐車設備工事 | E17: 1 | F17: 式 | H17: =IF(B17<>"計",ROUNDDOWN(E17*G17,0),SUM(H$1:H16)) -> 0 | M17: =IF(B17<>"計",ROUNDDOWN(E17*G17,0),SUM(M$1:M16)) -> 0 | N17: =IF((+H17-M17)<>0,H17-M17,IF(H17>0,"0",""))
A19: (7) | B19: 屋外施設工事 | E19: 1 | F19: 式 | H19: =IF(B19<>"計",ROUNDDOWN(E19*G19,0),SUM(H$1:H18)) -> 0 | M19: =IF(B19<>"計",ROUNDDOWN(E19*G19,0),SUM(M$1:M18)) -> 0 | N19: =IF((+H19-M19)<>0,H19-M19,IF(H19>0,"0",""))
B21: 計 | H21: =IF(B21<>"計",ROUNDDOWN(E21*G21,0),SUM(H$1:H20)) -> 0 | M21: =IF(B21<>"計",ROUNDDOWN(E21*G21,0),SUM(M$1:M20)) -> 0 | N21: =IF((+H21-M21)<>0,H21-M21,IF(H21>0,"0",""))
A23: Ⅱ | B23: 共通費 | H23: =ROUNDDOWN(E23*G23,0) -> 0 | M23: =IF(B23<>"計",ROUNDDOWN(E23*G23,0),SUM(M$1:M22)) -> 0 | N23: =IF((+H23-M23)<>0,H23-M23,IF(H23>0,"0",""))
A25: (1) | B25: 共通仮設費 | E25: 1 | F25: 式 | G25: =ROUNDDOWN(H21*I25,-4) -> 0 | H25: =IF(B25<>"計",ROUNDDOWN(E25*G25,0),SUM(H$1:H24)) -> 0 | I25: 0.04 | M25: =IF(B25<>"計",ROUNDDOWN(E25*G25,0),SUM(M$1:M24)) -> 0 | N25: =IF((+H25-M25)<>0,H25-M25,IF(H25>0,"0",""))
A27: (2) | B27: 諸経費 | E27: 1 | F27: 式 | G27: =+H31-H21-H25 -> 0 | H27: =IF(B27<>"計",ROUNDDOWN(E27*G27,0),SUM(H$1:H26)) -> 0 | I27: 0.1 | M27: =IF(B27<>"計",ROUNDDOWN(E27*G27,0),SUM(M$1:M26)) -> 0 | N27: =IF((+H27-M27)<>0,H27-M27,IF(H27>0,"0",""))
B29: 計 | H29: =SUM(H24:H27) -> 0 | M29: =IF(B29<>"計",ROUNDDOWN(E29*G29,0),SUM(M$24:M28)) -> 0 | N29: =IF((+H29-M29)<>0,H29-M29,IF(H29>0,"0",""))
B31: 合計（工事価格） | H31: =ROUNDDOWN((H21+H25)*(1+I27),-4) -> 0 | M31: =+M21+M29 -> 0 | N31: =IF((+H31-M31)<>0,H31-M31,IF(H31>0,"0",""))
A33: Ⅲ | B33: 消費税等相当額 | E33: 1 | F33: 式 | G33: =ROUNDDOWN(H31*I33,0) -> 0 | H33: =IF(B33<>"計",ROUNDDOWN(E33*G33,0),SUM(H$1:H32)) -> 0 | I33: 0.08 | M33: =IF(B33<>"計",ROUNDDOWN(E33*G33,0),SUM(M$1:M32)) -> 0 | N33: =IF((+H33-M33)<>0,H33-M33,IF(H33>0,"0",""))
B35: 総合計（工事費） | H35: =+H31+H33 -> 0 | M35: =+M31+M33 -> 0 | N35: =IF((+H35-M35)<>0,H35-M35,IF(H35>0,"0",""))
H37: =ROUNDDOWN(E37*G37,0) -> 0 | M37: =IF(B37<>"計",ROUNDDOWN(E37*G37,0),SUM(M$1:M36)) -> 0 | N37: =IF((+H37-M37)<>0,H37-M37,IF(H37>0,"0",""))
H38: =ROUNDDOWN(E38*G38,0) -> 0
H40: =ROUNDDOWN(E40*G40,0) -> 0
H42: =ROUNDDOWN(E42*G42,0) -> 0
H44: =ROUNDDOWN(E44*G44,0) -> 0
H46: =ROUNDDOWN(E46*G46,0) -> 0
H48: =ROUNDDOWN(E48*G48,0) -> 0
H50: =ROUNDDOWN(E50*G50,0) -> 0
H52: =ROUNDDOWN(E52*G52,0) -> 0
H54: =ROUNDDOWN(E54*G54,0) -> 0
H56: =ROUNDDOWN(E56*G56,0) -> 0
H58: =ROUNDDOWN(E58*G58,0) -> 0
H60: =ROUNDDOWN(E60*G60,0) -> 0
... H148: =ROUNDDOWN(E148*G148,0) -> 0

Sheet 部分別建築
B1: 名 称 | C1: 摘 要 | E1: 数 量 | F1: 単位 | G1: 単 価 | H1: 金 額 | I1: 備 考 | M1: 検算欄 | N1: 検算差額
M2: 下以降一式と合計は各自設定 | N2: 差額が0であればOK
A3: （1） | B3: 建築工事 | H3: =IF(B3<>"計",ROUNDDOWN(E3*G3,0),SUM(H$1:H2)) -> 0 | M3: =IF(B3<>"計",ROUNDDOWN(E3*G3,0),SUM(M$1:M2)) -> 0 | N3: =IF((+H3-M3)<>0,H3-M3,IF(H3>0,"0",""))
H5: =IF(B5<>"計",ROUNDDOWN(E5*G5,0),SUM(H$1:H4)) -> 0 | M5: =IF(B5<>"計",ROUNDDOWN(E5*G5,0),SUM(M$1:M4)) -> 0 | N5: =IF((+H5-M5)<>0,H5-M5,IF(H5>0,"0",""))
A7: 1. | B7: 直接仮設 | E7: 1 | F7: 式 | H7: =IF(B7<>"計",ROUNDDOWN(E7*G7,0),SUM(H$1:H6)) -> 0 | M7: =IF(B7<>"計",ROUNDDOWN(E7*G7,0),SUM(M$1:M6)) -> 0 | N7: =IF((+H7-M7)<>0,H7-M7,IF(H7>0,"0",""))
A9: 2. | B9: 土工・地業 | E9: 1 | F9: 式 | H9: =IF(B9<>"計",ROUNDDOWN(E9*G9,0),SUM(H$1:H8)) -> 0 | M9: =IF(B9<>"計",ROUNDDOWN(E9*G9,0),SUM(M$1:M8)) -> 0 | N9: =IF((+H9-M9)<>0,H9-M9,IF(H9>0,"0",""))
A11: 3. | B11: 躯体 | E11: 1 | F11: 式 | H11: =IF(B11<>"計",ROUNDDOWN(E11*G11,0),SUM(H$1:H10)) -> 0 | M11: =IF(B11<>"計",ROUNDDOWN(E11*G11,0),SUM(M$1:M10)) -> 0 | N11: =IF((+H11-M11)<>0,H11-M11,IF(H11>0,"0",""))
A13: 4. | B13: 外部仕上 | E13: 1 | F13: 式 | H13: =IF(B13<>"計",ROUNDDOWN(E13*G13,0),SUM(H$1:H12)) -> 0 | M13: =IF(B13<>"計",ROUNDDOWN(E13*G13,0),SUM(M$1:M12)) -> 0 | N13: =IF((+H13-M13)<>0,H13-M13,IF(H13>0,"0",""))
A15: 5. | B15: 内部仕上 | E15: 1 | F15: 式 | H15: =IF(B15<>"計",ROUNDDOWN(E15*G15,0),SUM(H$1:H14)) -> 0 | M15: =IF(B15<>"計",ROUNDDOWN(E15*G15,0),SUM(M$1:M14)) -> 0 | N15: =IF((+H15-M15)<>0,H15-M15,IF(H15>0,"0",""))
H17: =IF(B17<>"計",ROUNDDOWN(E17*G17,0),SUM(H$1:H16)) -> 0 | M17: =IF(B17<>"計",ROUNDDOWN(E17*G17,0),SUM(M$1:M16)) -> 0 | N17: =IF((+H17-M17)<>0,H17-M17,IF(H17>0,"0",""))
H19: =IF(B19<>"計",ROUNDDOWN(E19*G19,0),SUM(H$1:H18)) -> 0 | M19: =IF(B19<>"計",ROUNDDOWN(E19*G19,0),SUM(M$1:M18)) -> 0 | N19: =IF((+H19-M19)<>0,H19-M19,IF(H19>0,"0",""))
H21: =IF(B21<>"計",ROUNDDOWN(E21*G21,0),SUM(H$1:H20)) -> 0 | M21: =IF(B21<>"計",ROUNDDOWN(E21*G21,0),SUM(M$1:M20)) -> 0 | N21: =IF((+H21-M21)<>0,H21-M21,IF(H21>0,"0",""))
H23: =IF(B23<>"計",ROUNDDOWN(E23*G23,0),SUM(H$1:H22)) -> 0 | M23: =IF(B23<>"計",ROUNDDOWN(E23*G23,0),SUM(M$1:M22)) -> 0 | N23: =IF((+H23-M23)<>0,H23-M23,IF(H23>0,"0",""))
H25: =IF(B25<>"計",ROUNDDOWN(E25*G25,0),SUM(H$1:H24)) -> 0 | M25: =IF(B25<>"計",ROUNDDOWN(E25*G25,0),SUM(M$1:M24)) -> 0 | N25: =IF((+H25-M25)<>0,H25-M25,IF(H25>0,"0",""))
H27: =IF(B27<>"計",ROUNDDOWN(E27*G27,0),SUM(H$1:H26)) -> 0 | M27: =IF(B27<>"計",ROUNDDOWN(E27*G27,0),SUM(M$1:M26)) -> 0 | N27: =IF((+H27-M27)<>0,H27-M27,IF(H27>0,"0",""))
H29: =IF(B29<>"計",ROUNDDOWN(E29*G29,0),SUM(H$1:H28)) -> 0 | M29: =IF(B29<>"計",ROUNDDOWN(E29*G29,0),SUM(M$1:M28)) -> 0 | N29: =IF((+H29-M29)<>0,H29-M29,IF(H29>0,"0",""))
H31: =IF(B31<>"計",ROUNDDOWN(E31*G31,0),SUM(H$1:H30)) -> 0 | M31: =IF(B31<>"計",ROUNDDOWN(E31*G31,0),SUM(M$1:M30)) -> 0 | N31: =IF((+H31-M31)<>0,H31-M31,IF(H31>0,"0",""))
H33: =IF(B33<>"計",ROUNDDOWN(E33*G33,0),SUM(H$1:H32)) -> 0 | M33: =IF(B33<>"計",ROUNDDOWN(E33*G33,0),SUM(M$1:M32)) -> 0 | N33: =IF((+H33-M33)<>0,H33-M33,IF(H33>0,"0",""))
B35: 計 | H35: =IF(B35<>"計",ROUNDDOWN(E35*G35,0),SUM(H$1:H34)) -> 0 | M35: =IF(B35<>"計",ROUNDDOWN(E35*G35,0),SUM(M$1:M34)) -> 0 | N35: =IF((+H35-M35)<>0,H35-M35,IF(H35>0,"0",""))
H37: =IF(B37<>"計",ROUNDDOWN(E37*G37,0),SUM(H$1:H36)) -> 0 | M37: =IF(B37<>"計",ROUNDDOWN(E37*G37,0),SUM(M$1:M36)) -> 0 | N37: =IF((+H37-M37)<>0,H37-M37,IF(H37>0,"0",""))

Sheet 改修種目
B1: 名 称 | C1: 摘 要 | E1: 数 量 | F1: 単位 | G1: 単 価 | H1: 金 額 | I1: 備 考 | M1: 検算欄 | N1: 検算差額
M2: 下以降一式と合計は各自設定 | N2: 差額が0であればOK
B3: ○○○新築工事 | H3: =ROUNDDOWN(E3*G3,0) -> 0 | M3: =IF(B3<>"計",ROUNDDOWN(E3*G3,0),SUM(M$1:M2)) -> 0 | N3: =IF((+H3-M3)<>0,H3-M3,IF(H3>0,"0",""))
A5: Ⅰ | B5: 直接工事費 | H5: =ROUNDDOWN(E5*G5,0) -> 0 | M5: =IF(B5<>"計",ROUNDDOWN(E5*G5,0),SUM(M$1:M4)) -> 0 | N5: =IF((+H5-M5)<>0,H5-M5,IF(H5>0,"0",""))
A7: (1) | B7: 建築工事 | E7: 1 | F7: 式 | H7: =IF(B7<>"計",ROUNDDOWN(E7*G7,0),SUM(H$1:H6)) -> 0 | M7: =IF(B7<>"計",ROUNDDOWN(E7*G7,0),SUM(M$1:M6)) -> 0 | N7: =IF((+H7-M7)<>0,H7-M7,IF(H7>0,"0",""))
A9: (2) | B9: 電気設備工事 | E9: 1 | F9: 式 | H9: =IF(B9<>"計",ROUNDDOWN(E9*G9,0),SUM(H$1:H8)) -> 0 | M9: =IF(B9<>"計",ROUNDDOWN(E9*G9,0),SUM(M$1:M8)) -> 0 | N9: =IF((+H9-M9)<>0,H9-M9,IF(H9>0,"0",""))
A11: (3) | B11: 空気調和設備工事 | E11: 1 | F11: 式 | H11: =IF(B11<>"計",ROUNDDOWN(E11*G11,0),SUM(H$1:H10)) -> 0 | M11: =IF(B11<>"計",ROUNDDOWN(E11*G11,0),SUM(M$1:M10)) -> 0 | N11: =IF((+H11-M11)<>0,H11-M11,IF(H11>0,"0",""))
A13: (4) | B13: 給排水衛生設備工事 | E13: 1 | F13: 式 | H13: =IF(B13<>"計",ROUNDDOWN(E13*G13,0),SUM(H$1:H12)) -> 0 | M13: =IF(B13<>"計",ROUNDDOWN(E13*G13,0),SUM(M$1:M12)) -> 0 | N13: =IF((+H13-M13)<>0,H13-M13,IF(H13>0,"0",""))
A15: (5) | B15: 昇降機設備工事 | E15: 1 | F15: 式 | H15: =IF(B15<>"計",ROUNDDOWN(E15*G15,0),SUM(H$1:H14)) -> 0 | M15: =IF(B15<>"計",ROUNDDOWN(E15*G15,0),SUM(M$1:M14)) -> 0 | N15: =IF((+H15-M15)<>0,H15-M15,IF(H15>0,"0",""))
A17: (6) | B17: 機械駐車設備工事 | E17: 1 | F17: 式 | H17: =IF(B17<>"計",ROUNDDOWN(E17*G17,0),SUM(H$1:H16)) -> 0 | M17: =IF(B17<>"計",ROUNDDOWN(E17*G17,0),SUM(M$1:M16)) -> 0 | N17: =IF((+H17-M17)<>0,H17-M17,IF(H17>0,"0",""))
A19: (7) | B19: 屋外施設工事 | E19: 1 | F19: 式 | H19: =IF(B19<>"計",ROUNDDOWN(E19*G19,0),SUM(H$1:H18)) -> 0 | M19: =IF(B19<>"計",ROUNDDOWN(E19*G19,0),SUM(M$1:M18)) -> 0 | N19: =IF((+H19-M19)<>0,H19-M19,IF(H19>0,"0",""))
B21: 計 | H21: =IF(B21<>"計",ROUNDDOWN(E21*G21,0),SUM(H$1:H20)) -> 0 | M21: =IF(B21<>"計",ROUNDDOWN(E21*G21,0),SUM(M$1:M20)) -> 0 | N21: =IF((+H21-M21)<>0,H21-M21,IF(H21>0,"0",""))
A23: Ⅱ | B23: 共通費 | H23: =ROUNDDOWN(E23*G23,0) -> 0 | M23: =IF(B23<>"計",ROUNDDOWN(E23*G23,0),SUM(M$1:M22)) -> 0 | N23: =IF((+H23-M23)<>0,H23-M23,IF(H23>0,"0",""))
A25: (1) | B25: 共通仮設費 | E25: 1 | F25: 式 | G25: =ROUNDDOWN(H21*I25,-4) -> 0 | H25: =IF(B25<>"計",ROUNDDOWN(E25*G25,0),SUM(H$1:H24)) -> 0 | I25: 0.04 | M25: =IF(B25<>"計",ROUNDDOWN(E25*G25,0),SUM(M$1:M24)) -> 0 | N25: =IF((+H25-M25)<>0,H25-M25,IF(H25>0,"0",""))
A27: (2) | B27: 諸経費 | E27: 1 | F27: 式 | G27: =+H31-H21-H25 -> 0 | H27: =IF(B27<>"計",ROUNDDOWN(E27*G27,0),SUM(H$1:H26)) -> 0 | I27: 0.1 | M27: =IF(B27<>"計",ROUNDDOWN(E27*G27,0),SUM(M$1:M26)) -> 0 | N27: =IF((+H27-M27)<>0,H27-M27,IF(H27>0,"0",""))
B29: 計 | H29: =SUM(H24:H27) -> 0 | M29: =IF(B29<>"計",ROUNDDOWN(E29*G29,0),SUM(M$24:M28)) -> 0 | N29: =IF((+H29-M29)<>0,H29-M29,IF(H29>0,"0",""))
B31: 合計（工事価格） | H31: =ROUNDDOWN((H21+H25)*(1+I27),-4) -> 0 | M31: =+M21+M29 -> 0 | N31: =IF((+H31-M31)<>0,H31-M31,IF(H31>0,"0",""))
A33: Ⅲ | B33: 消費税等相当額 | E33: 1 | F33: 式 | G33: =ROUNDDOWN(H31*I33,0) -> 0 | H33: =IF(B33<>"計",ROUNDDOWN(E33*G33,0),SUM(H$1:H32)) -> 0 | I33: 0.08 | M33: =IF(B33<>"計",ROUNDDOWN(E33*G33,0),SUM(M$1:M32)) -> 0 | N33: =IF((+H33-M33)<>0,H33-M33,IF(H33>0,"0",""))
B35: 総合計（工事費） | H35: =+H31+H33 -> 0 | M35: =+M31+M33 -> 0 | N35: =IF((+H35-M35)<>0,H35-M35,IF(H35>0,"0",""))
H37: =ROUNDDOWN(E37*G37,0) -> 0 | M37: =IF(B37<>"計",ROUNDDOWN(E37*G37,0),SUM(M$1:M36)) -> 0 | N37: =IF((+H37-M37)<>0,H37-M37,IF(H37>0,"0",""))
H38: =ROUNDDOWN(E38*G38,0) -> 0
H40: =ROUNDDOWN(E40*G40,0) -> 0
H42: =ROUNDDOWN(E42*G42,0) -> 0
H44: =ROUNDDOWN(E44*G44,0) -> 0
H46: =ROUNDDOWN(E46*G46,0) -> 0
H48: =ROUNDDOWN(E48*G48,0) -> 0
H50: =ROUNDDOWN(E50*G50,0) -> 0
H52: =ROUNDDOWN(E52*G52,0) -> 0
H54: =ROUNDDOWN(E54*G54,0) -> 0
H56: =ROUNDDOWN(E56*G56,0) -> 0
H58: =ROUNDDOWN(E58*G58,0) -> 0
H60: =ROUNDDOWN(E60*G60,0) -> 0
... H148: =ROUNDDOWN(E148*G148,0) -> 0

Sheet (1)小科目S3
B1: 名 称 | C1: 摘 要 | E1: 数 量 | F1: 単位 | G1: 単 価 | H1: 金 額 | I1: 備 考
A2: Ⅰ-(1)-1 | B2: ステップＳ３（宿泊棟）
A3: 3-1 | B3: 空気調和設備
A7: 1. | B7: 機器設備 | E7: 1 | F7: 式
A9: 2. | B9: 配管設備 | E9: 1 | F9: 式
A11: 3. | B11: 総合調整 | E11: 1 | F11: 式
B15: 計
A18: Ⅰ-(1)-1 | B18: ステップＳ３（宿泊棟）
A19: 3-2 | B19: 換気設備
A23: 1. | B23: 機器設備 | E23: 1 | F23: 式
A25: 2. | B25: ダクト設備 | E25: 1 | F25: 式
A27: 3. | B27: 総合調整 | E27: 1 | F27: 式
B31: 計
A34: Ⅰ-(1)-1 | B34: ステップＳ３（宿泊棟）
A35: 3-3 | B35: 撤去工事
A39: 1. | B39: 撤去工事 | E39: 1 | F39: 式
B43: 計
A46: Ⅰ-(1)-1 | B46: ステップＳ３（宿泊棟）
A47: 3-4 | B47: 発生材処理
A51: 1. | B51: 発生材処理 | E51: 1 | F51: 式
B55: 計
H63: =IF(B63<>"計",ROUNDDOWN(E63*G63,0),SUM(H$1:H62)) -> 0
H65: =IF(B65<>"計",ROUNDDOWN(E65*G65,0),SUM(H$1:H64)) -> 0
H67: =IF(B67<>"計",ROUNDDOWN(E67*G67,0),SUM(H$1:H66)) -> 0
H69: =IF(B69<>"計",ROUNDDOWN(E69*G69,0),SUM(H$1:H68)) -> 0
H71: =IF(B71<>"計",ROUNDDOWN(E71*G71,0),SUM(H$1:H70)) -> 0
H73: =IF(B73<>"計",ROUNDDOWN(E73*G73,0),SUM(H$1:H72)) -> 0
H75: =IF(B75<>"計",ROUNDDOWN(E75*G75,0),SUM(H$1:H74)) -> 0
H77: =IF(B77<>"計",ROUNDDOWN(E77*G77,0),SUM(H$1:H76)) -> 0
H79: =IF(B79<>"計",ROUNDDOWN(E79*G79,0),SUM(H$1:H78)) -> 0
H81: =IF(B81<>"計",ROUNDDOWN(E81*G81,0),SUM(H$1:H80)) -> 0

Sheet 2-4-1-1
B1: =B5 -> 4-1 | C1: =C5 -> 空気調和設備 | H1: 小計→ | I1: =MAX(I4:I369) -> 0
B2: =B7 -> 1. | C2: =C7 -> 機器設備
C3: 名 称 | D3: 摘 要 | F3: 数 量 | G3: 単位 | H3: 単 価 | I3: 金 額 | J3: 備 考
B4: Ⅰ-(1)-1 | C4: ステップＳ３（宿泊棟）
B5: 4-1 | C5: 空気調和設備
B7: 1. | C7: 機器設備
C10: ACR-S461 | D10: ﾙｰﾑｴｱｺﾝ壁掛型 | I10: 取外し再取付品
C11: パッケージ形空気調和機 | D11: 冷却：2.8ｋｗ、加熱：3.6kw | F11: 1 | G11: 台
C12: ACR-S462 | D12: ﾙｰﾑｴｱｺﾝ壁掛型
C13: パッケージ形空気調和機 | D13: 冷却：2.8ｋｗ、加熱：3.6kw | F13: 1 | G13: 台
C14: ACR-S536 | D14: ﾙｰﾑｴｱｺﾝ壁掛型
C15: パッケージ形空気調和機 | D15: 冷却：2.2ｋｗ、加熱：2.2kw | F15: 1 | G15: 台
C16: ACR-S537 | D16: ﾙｰﾑｴｱｺﾝ壁掛型
C17: パッケージ形空気調和機 | D17: 冷却：2.2ｋｗ、加熱：2.2kw | F17: 1 | G17: 台
C18: ACP-S401 | D18: ペアタイプ | E18: 天吊型
C19: 空冷ﾋｰﾄﾎﾟﾝﾌﾟｴｱｺﾝ | D19: 冷却：4.5ｋｗ、加熱：5.0kw | F19: 1 | G19: 台
C20: ACM-S101～S1001 | D20: 埋込床置ローボーイ型
C21: マルチパッケージ形空調調和機 | D21: 冷却：2.8ｋｗ、加熱：3.2kw | F21: 2 | G21: 台
C22: ACM-S102～902 | D22: 天井カセット型（1方向）
C23: マルチパッケージ形空調調和機 | D23: 冷却：5.6ｋｗ、加熱：6.3kw | F23: 2 | G23: 台
C24: ACM-S103～1003 | D24: 天井カセット型（2方向）
C25: マルチパッケージ形空調調和機 | D25: 冷却：2.2ｋｗ、加熱：2.5kw | F25: 2 | G25: 台
C27: 搬入・据付費 | F27: 1 | G27: 式 | J27: ='別紙明細2-4-1-1'!C4 -> 別紙明細2-4-1-1-1
C31: 計
I35: =IF(C35<>"計",ROUNDDOWN(F35*H35,0),SUM(I$3:I34)) -> 0
I37: =IF(C37<>"計",ROUNDDOWN(F37*H37,0),SUM(I$3:I36)) -> 0
I39: =IF(C39<>"計",ROUNDDOWN(F39*H39,0),SUM(I$3:I38)) -> 0
I41: =IF(C41<>"計",ROUNDDOWN(F41*H41,0),SUM(I$3:I40)) -> 0
I43: =IF(C43<>"計",ROUNDDOWN(F43*H43,0),SUM(I$3:I42)) -> 0
I45: =IF(C45<>"計",ROUNDDOWN(F45*H45,0),SUM(I$3:I44)) -> 0
I47: =IF(C47<>"計",ROUNDDOWN(F47*H47,0),SUM(I$3:I46)) -> 0
I49: =IF(C49<>"計",ROUNDDOWN(F49*H49,0),SUM(I$3:I48)) -> 0
I51: =IF(C51<>"計",ROUNDDOWN(F51*H51,0),SUM(I$3:I50)) -> 0
I53: =IF(C53<>"計",ROUNDDOWN(F53*H53,0),SUM(I$3:I52)) -> 0
I55: =IF(C55<>"計",ROUNDDOWN(F55*H55,0),SUM(I$3:I54)) -> 0
I57: =IF(C57<>"計",ROUNDDOWN(F57*H57,0),SUM(I$3:I56)) -> 0
... I369: =IF(C369<>"計",ROUNDDOWN(F369*H369,0),SUM(I$3:I368)) -> 0

Sheet 2-4-1-2
B1: =B5 -> 4-1 | C1: =C5 -> 空気調和設備 | H1: 小計→ | I1: =MAX(I4:I413) -> 0
B2: =B7 -> 2. | C2: =C7 -> 配管設備
C3: 名 称 | D3: 摘 要 | F3: 数 量 | G3: 単位 | H3: 単 価 | I3: 金 額 | J3: 備 考
B4: Ⅰ-(1)-1 | C4: ステップＳ３（宿泊棟）
B5: 4-1 | C5: 空気調和設備 | I5: =IF(C5<>"計",ROUNDDOWN(F5*H5,0),SUM(I$3:I4)) -> 0
B7: 2. | C7: 配管設備
D10: 一般配管用SUS | E10: 拡管式接合
C11: 給水管 | D11: 屋内一般 | E11: 20SU | F11: 16 | G11: ｍ
D12: ACドレン | E12: 融着接合
C13: ドレン管 | D13: 屋内一般 | E13: 20A | F13: 6 | G13: ｍ
D14: ACドレン | E14: 融着接合
C15: ドレン管 | D15: 屋内一般 | E15: 25A | F15: 16 | G15: ｍ
D16: ACドレン | E16: 融着接合
C17: ドレン管 | D17: 屋外 | E17: 20A | F17: 4 | G17: ｍ
D18: ACドレン | E18: 融着接合
C19: ドレン管 | D19: 屋外 | E19: 25A | F19: 10 | G19: ｍ
D20: SUS製 | E20: ねじ
C21: 仕切弁 | D21: JIS10K | E21: 20A | F21: 13 | G21: 個
D22: SUS製 | E22: ねじ
C23: 逆止弁 | D23: JIS10K | E23: 20A | F23: 4 | G23: 個
C25: 間接排水受金物 | E25: 50A | F25: 2 | G25: 個
C27: 冷媒管 | F27: 1 | G27: 式 | J27: ='別紙明細2-4-1-2'!C4 -> 別紙明細2-4-1-2-1
C29: 保温 | F29: 1 | G29: 式 | J29: ='別紙明細2-4-1-2'!C26 -> 別紙明細2-4-1-2-2
C31: あと施工アンカー | F31: 1 | G31: 式 | J31: ='別紙明細2-4-1-2'!C44 -> 別紙明細2-4-1-2-3
C33: はつり補修 | F33: 1 | G33: 式 | J33: ='別紙明細2-4-1-2'!C62 -> 別紙明細2-4-1-2-4
C35: スリーブ | F35: 1 | G35: 式 | J35: ='別紙明細2-4-1-2'!C78 -> 別紙明細2-4-1-2-5
C39: 計
I41: =IF(C41<>"計",ROUNDDOWN(F41*H41,0),SUM(I$3:I40)) -> 0
I43: =IF(C43<>"計",ROUNDDOWN(F43*H43,0),SUM(I$3:I42)) -> 0
I45: =IF(C45<>"計",ROUNDDOWN(F45*H45,0),SUM(I$3:I44)) -> 0
I47: =IF(C47<>"計",ROUNDDOWN(F47*H47,0),SUM(I$3:I46)) -> 0
I49: =IF(C49<>"計",ROUNDDOWN(F49*H49,0),SUM(I$3:I48)) -> 0
I51: =IF(C51<>"計",ROUNDDOWN(F51*H51,0),SUM(I$3:I50)) -> 0
I53: =IF(C53<>"計",ROUNDDOWN(F53*H53,0),SUM(I$3:I52)) -> 0
I55: =IF(C55<>"計",ROUNDDOWN(F55*H55,0),SUM(I$3:I54)) -> 0
I57: =IF(C57<>"計",ROUNDDOWN(F57*H57,0),SUM(I$3:I56)) -> 0
I59: =IF(C59<>"計",ROUNDDOWN(F59*H59,0),SUM(I$3:I58)) -> 0
I61: =IF(C61<>"計",ROUNDDOWN(F61*H61,0),SUM(I$3:I60)) -> 0
I63: =IF(C63<>"計",ROUNDDOWN(F63*H63,0),SUM(I$3:I62)) -> 0
... I413: =IF(C413<>"計",ROUNDDOWN(F413*H413,0),SUM(I$3:I412)) -> 0

Sheet 2-4-1-3
B1: =B5 -> 4-1 | C1: =C5 -> 空気調和設備 | H1: 小計→ | I1: =MAX(I4:I413) -> 0
B2: =B7 -> 3. | C2: =C7 -> 総合調整
C3: 名 称 | D3: 摘 要 | F3: 数 量 | G3: 単位 | H3: 単 価 | I3: 金 額 | J3: 備 考
B4: Ⅰ-(1)-1 | C4: ステップＳ３（宿泊棟）
B5: 4-1 | C5: 空気調和設備 | I5: =IF(C5<>"計",ROUNDDOWN(F5*H5,0),SUM(I$3:I4)) -> 0
B7: 3. | C7: 総合調整
C11: 総合調整 | F11: 1 | G11: 式 | J11: ='別紙明細2-4-1-3'!C4 -> 別紙明細2-4-1-3-1
C15: 計
I19: =IF(C19<>"計",ROUNDDOWN(F19*H19,0),SUM(I$3:I18)) -> 0
I21: =IF(C21<>"計",ROUNDDOWN(F21*H21,0),SUM(I$3:I20)) -> 0
I23: =IF(C23<>"計",ROUNDDOWN(F23*H23,0),SUM(I$3:I22)) -> 0
I25: =IF(C25<>"計",ROUNDDOWN(F25*H25,0),SUM(I$3:I24)) -> 0
I27: =IF(C27<>"計",ROUNDDOWN(F27*H27,0),SUM(I$3:I26)) -> 0
I29: =IF(C29<>"計",ROUNDDOWN(F29*H29,0),SUM(I$3:I28)) -> 0
I31: =IF(C31<>"計",ROUNDDOWN(F31*H31,0),SUM(I$3:I30)) -> 0
I33: =IF(C33<>"計",ROUNDDOWN(F33*H33,0),SUM(I$3:I32)) -> 0
I35: =IF(C35<>"計",ROUNDDOWN(F35*H35,0),SUM(I$3:I34)) -> 0
I37: =IF(C37<>"計",ROUNDDOWN(F37*H37,0),SUM(I$3:I36)) -> 0
I39: =IF(C39<>"計",ROUNDDOWN(F39*H39,0),SUM(I$3:I38)) -> 0
I41: =IF(C41<>"計",ROUNDDOWN(F41*H41,0),SUM(I$3:I40)) -> 0
... I413: =IF(C413<>"計",ROUNDDOWN(F413*H413,0),SUM(I$3:I412)) -> 0

Sheet 2-4-2-1
B1: =B5 -> 4-2 | C1: =C5 -> 換気設備 | H1: 小計→ | I1: =MAX(I4:I391) -> 0
B2: =B7 -> 1. | C2: =C7 -> 機器設備
C3: 名 称 | D3: 摘 要 | F3: 数 量 | G3: 単位 | H3: 単 価 | I3: 金 額 | J3: 備 考
B4: Ⅰ-(1)-1 | C4: ステップＳ３（宿泊棟）
B5: 4-2 | C5: 換気設備
B7: 1. | C7: 機器設備
C10: FE-S261～S961
C11: 天井扇 | D11: 天吊 | F11: 2 | G11: 台
C12: FE-S262～S962
C13: 天井扇 | D13: 天吊 | F13: 2 | G13: 台
C14: FE-S464
C15: 消音BOX付きｽﾄﾚｰﾄｼﾛｯｺﾌｧﾝ | D15: 天吊 | E15: #1 1/2 | F15: 1 | G15: 台
C16: FE-S536
C17: 中間ダクトファン | D17: 天吊 | F17: 1 | G17: 台
C18: FE-S537
C19: 中間ダクトファン | D19: 天吊 | F19: 1 | G19: 台
C20: HEU-S401 | D20: 天井埋込型 加湿付
C21: 静止型全熱交換器ユニット | D21: 天吊 | F21: 1 | G21: 台
C22: HEU-S402 | D22: 天井埋込型 加湿付
C23: 静止型全熱交換器ユニット | D23: 天吊 | F23: 1 | G23: 台
C24: HEU-S403 | D24: 天井埋込型 加湿付
C25: 静止型全熱交換器ユニット | D25: 天吊 | F25: 1 | G25: 台
C27: 搬入・据付費 | F27: 1 | G27: 式 | J27: ='別紙明細2-4-2-1'!C4 -> 別紙明細2-4-2-1-1
C31: 計
I35: =IF(C35<>"計",ROUNDDOWN(F35*H35,0),SUM(I$3:I34)) -> 0
I37: =IF(C37<>"計",ROUNDDOWN(F37*H37,0),SUM(I$3:I36)) -> 0
I39: =IF(C39<>"計",ROUNDDOWN(F39*H39,0),SUM(I$3:I38)) -> 0
I41: =IF(C41<>"計",ROUNDDOWN(F41*H41,0),SUM(I$3:I40)) -> 0
I43: =IF(C43<>"計",ROUNDDOWN(F43*H43,0),SUM(I$3:I42)) -> 0
I45: =IF(C45<>"計",ROUNDDOWN(F45*H45,0),SUM(I$3:I44)) -> 0
I47: =IF(C47<>"計",ROUNDDOWN(F47*H47,0),SUM(I$3:I46)) -> 0
I49: =IF(C49<>"計",ROUNDDOWN(F49*H49,0),SUM(I$3:I48)) -> 0
I51: =IF(C51<>"計",ROUNDDOWN(F51*H51,0),SUM(I$3:I50)) -> 0
I53: =IF(C53<>"計",ROUNDDOWN(F53*H53,0),SUM(I$3:I52)) -> 0
I55: =IF(C55<>"計",ROUNDDOWN(F55*H55,0),SUM(I$3:I54)) -> 0
I57: =IF(C57<>"計",ROUNDDOWN(F57*H57,0),SUM(I$3:I56)) -> 0
... I393: =IF(C393<>"計",ROUNDDOWN(F393*H393,0),SUM(I$3:I392)) -> 0

Sheet 2-4-2-2
B1: =B5 -> 4-2 | C1: =C5 -> 換気設備 | H1: 小計→ | I1: =MAX(I4:I395) -> 0
B2: =B7 -> 2. | C2: =C7 -> ダクト設備
C3: 名 称 | D3: 摘 要 | F3: 数 量 | G3: 単位 | H3: 単 価 | I3: 金 額 | J3: 備 考
B4: Ⅰ-(1)-1 | C4: ステップＳ３（宿泊棟）
B5: 4-2 | C5: 換気設備
B7: 2. | C7: ダクト設備
C11: ＜ＳＡ＞
D12: (低圧)
C13: スパイラルダクト | D13: 亜鉛鉄板 | E13: 150φ | F13: 4 | G13: ｍ
C15: ＜ＲＡ＞
D16: (低圧)
C17: スパイラルダクト | D17: 亜鉛鉄板 | E17: 150φ | F17: 8 | G17: ｍ
C19: ＜ＯＡ＞
D20: (低圧)
C21: スパイラルダクト | D21: 亜鉛鉄板 | E21: 100φ | F21: 6 | G21: ｍ
D22: (低圧)
C23: スパイラルダクト | D23: 亜鉛鉄板 | E23: 150φ | F23: 10 | G23: ｍ
C25: ＜ＥＡ＞
D26: (低圧)
C27: スパイラルダクト | D27: 亜鉛鉄板 | E27: 100φ | F27: 24 | G27: ｍ
D28: (低圧)
C29: スパイラルダクト | D29: 亜鉛鉄板 | E29: 150φ | F29: 12 | G29: ｍ
D30: ﾕﾆﾊﾞｰｻﾙ形吹出口
C31: 制気口 | D31: VHS | E31: 150×150 | F31: 1 | G31: 個
D32: ﾕﾆﾊﾞｰｻﾙ形吹出口(結露防止型)
C33: 制気口 | D33: VHS | E33: 150×150 | F33: 3 | G33: 個
D34: ﾕﾆﾊﾞｰｻﾙ形吹出口
C35: 制気口 | D35: HS | E35: 150×150 | F35: 5 | G35: 個
D36: ﾕﾆﾊﾞｰｻﾙ形吹出口
C37: 制気口 | D37: HS | E37: 550×550 | F37: 1 | G37: 個
C39: 制気口 | D39: 金網 | E39: 100φ | F39: 2 | G39: 個
C41: 制気口 | D41: 金網 | E41: 150φ | F41: 1 | G41: 個
C43: 防火ダンパー | D43: FD | E43: 100φ | F43: 1 | G43: 個
D44: SUS製
C45: ベントキャップ | D45: ガラリ型 | E45: 100φ | F45: 2 | G45: 個
D46: SUS製
C47: ベントキャップ | D47: ガラリ型 | E47: 100φ | F47: 4 | G47: 個
D48: SUS製 | E48: FD付
C49: ベントキャップ | D49: ガラリ型 | E49: 100φ | F49: 4 | G49: 個
C51: 制気口ボックス類 | F51: 1 | G51: 式 | J51: ='別紙明細2-4-2-2'!C4 -> 別紙明細2-4-2-2-1
C53: 保温 | F53: 1 | G53: 式 | J53: ='別紙明細2-4-2-2'!C24 -> 別紙明細2-4-2-2-2
C55: あと施工アンカー | F55: 1 | G55: 式 | J55: ='別紙明細2-4-2-2'!C44 -> 別紙明細2-4-2-2-3
C57: スリーブ | F57: 1 | G57: 式 | J57: ='別紙明細2-4-2-2'!C64 -> 別紙明細2-4-2-2-4
C61: 計
I77: =IF(C77<>"計",ROUNDDOWN(F77*H77,0),SUM(I$3:I76)) -> 0
I79: =IF(C79<>"計",ROUNDDOWN(F79*H79,0),SUM(I$3:I78)) -> 0
I81: =IF(C81<>"計",ROUNDDOWN(F81*H81,0),SUM(I$3:I80)) -> 0
I83: =IF(C83<>"計",ROUNDDOWN(F83*H83,0),SUM(I$3:I82)) -> 0
I85: =IF(C85<>"計",ROUNDDOWN(F85*H85,0),SUM(I$3:I84)) -> 0
I87: =IF(C87<>"計",ROUNDDOWN(F87*H87,0),SUM(I$3:I86)) -> 0
I89: =IF(C89<>"計",ROUNDDOWN(F89*H89,0),SUM(I$3:I88)) -> 0
I91: =IF(C91<>"計",ROUNDDOWN(F91*H91,0),SUM(I$3:I90)) -> 0
I93: =IF(C93<>"計",ROUNDDOWN(F93*H93,0),SUM(I$3:I92)) -> 0
I95: =IF(C95<>"計",ROUNDDOWN(F95*H95,0),SUM(I$3:I94)) -> 0
I97: =IF(C97<>"計",ROUNDDOWN(F97*H97,0),SUM(I$3:I96)) -> 0
I99: =IF(C99<>"計",ROUNDDOWN(F99*H99,0),SUM(I$3:I98)) -> 0
... I391: =IF(C391<>"計",ROUNDDOWN(F391*H391,0),SUM(I$3:I390)) -> 0

Sheet 2-4-2-3
B1: =B5 -> 4-2 | C1: =C5 -> 換気設備 | H1: 小計→ | I1: =MAX(I4:I389) -> 0
B2: =B7 -> 3. | C2: =C7 -> 総合調整
C3: 名 称 | D3: 摘 要 | F3: 数 量 | G3: 単位 | H3: 単 価 | I3: 金 額 | J3: 備 考
B4: Ⅰ-(1)-1 | C4: ステップＳ３（宿泊棟）
B5: 4-2 | C5: 換気設備 | I5: =IF(C5<>"計",ROUNDDOWN(F5*H5,0),SUM(I$3:I4)) -> 0
B7: 3. | C7: 総合調整 | I7: =IF(C7<>"計",ROUNDDOWN(F7*H7,0),SUM(I$3:I6)) -> 0
C11: 総合調整 | F11: 1 | G11: 式 | H11: ='別紙明細2-4-2-3'!J23 -> 0 | J11: ='別紙明細2-4-2-3'!C4 -> 別紙明細2-4-2-3-1
C15: 計
I21: =IF(C21<>"計",ROUNDDOWN(F21*H21,0),SUM(I$3:I20)) -> 0
I23: =IF(C23<>"計",ROUNDDOWN(F23*H23,0),SUM(I$3:I22)) -> 0
I25: =IF(C25<>"計",ROUNDDOWN(F25*H25,0),SUM(I$3:I24)) -> 0
I27: =IF(C27<>"計",ROUNDDOWN(F27*H27,0),SUM(I$3:I26)) -> 0
I29: =IF(C29<>"計",ROUNDDOWN(F29*H29,0),SUM(I$3:I28)) -> 0
I31: =IF(C31<>"計",ROUNDDOWN(F31*H31,0),SUM(I$3:I30)) -> 0
I33: =IF(C33<>"計",ROUNDDOWN(F33*H33,0),SUM(I$3:I32)) -> 0
I35: =IF(C35<>"計",ROUNDDOWN(F35*H35,0),SUM(I$3:I34)) -> 0
I37: =IF(C37<>"計",ROUNDDOWN(F37*H37,0),SUM(I$3:I36)) -> 0
I39: =IF(C39<>"計",ROUNDDOWN(F39*H39,0),SUM(I$3:I38)) -> 0
I41: =IF(C41<>"計",ROUNDDOWN(F41*H41,0),SUM(I$3:I40)) -> 0
I43: =IF(C43<>"計",ROUNDDOWN(F43*H43,0),SUM(I$3:I42)) -> 0
... I391: =IF(C391<>"計",ROUNDDOWN(F391*H391,0),SUM(I$3:I390)) -> 0

Sheet 2-4-3-1
B1: =B5 -> 4-3 | C1: =C5 -> 撤去工事 | H1: 小計→ | I1: =MAX(I4:I385) -> 0
B2: =B7 -> 1. | C2: =C7 -> 撤去工事
C3: 名 称 | D3: 摘 要 | F3: 数 量 | G3: 単位 | H3: 単 価 | I3: 金 額 | J3: 備 考
B4: Ⅰ-(1)-1 | C4: ステップＳ３（宿泊棟）
B5: 4-3 | C5: 撤去工事 | I5: =IF(C5<>"計",ROUNDDOWN(F5*H5,0),SUM(I$3:I4)) -> 0
B7: 1. | C7: 撤去工事 | I7: =IF(C7<>"計",ROUNDDOWN(F7*H7,0),SUM(I$3:I6)) -> 0
C11: 機器類撤去 | F11: 1 | G11: 式 | H11: ='別紙明細2-4-3-1'!J19 -> 0 | J11: ='別紙明細2-4-3-1'!C4 -> 別紙明細2-4-3-1-1
C13: ダクト類撤去 | F13: 1 | G13: 式 | H13: ='別紙明細2-4-3-1'!J51 -> 0 | J13: ='別紙明細2-4-3-1'!C22 -> 別紙明細2-4-3-1-2
C17: 計
I21: =IF(C21<>"計",ROUNDDOWN(F21*H21,0),SUM(I$3:I20)) -> 0
I23: =IF(C23<>"計",ROUNDDOWN(F23*H23,0),SUM(I$3:I22)) -> 0
I25: =IF(C25<>"計",ROUNDDOWN(F25*H25,0),SUM(I$3:I24)) -> 0
I27: =IF(C27<>"計",ROUNDDOWN(F27*H27,0),SUM(I$3:I26)) -> 0
I29: =IF(C29<>"計",ROUNDDOWN(F29*H29,0),SUM(I$3:I28)) -> 0
I31: =IF(C31<>"計",ROUNDDOWN(F31*H31,0),SUM(I$3:I30)) -> 0
I33: =IF(C33<>"計",ROUNDDOWN(F33*H33,0),SUM(I$3:I32)) -> 0
I35: =IF(C35<>"計",ROUNDDOWN(F35*H35,0),SUM(I$3:I34)) -> 0
I37: =IF(C37<>"計",ROUNDDOWN(F37*H37,0),SUM(I$3:I36)) -> 0
I39: =IF(C39<>"計",ROUNDDOWN(F39*H39,0),SUM(I$3:I38)) -> 0
I41: =IF(C41<>"計",ROUNDDOWN(F41*H41,0),SUM(I$3:I40)) -> 0
I43: =IF(C43<>"計",ROUNDDOWN(F43*H43,0),SUM(I$3:I42)) -> 0
... I387: =IF(C387<>"計",ROUNDDOWN(F387*H387,0),SUM(I$3:I386)) -> 0

Sheet 2-4-4-1
B1: =B5 -> 4-4 | C1: =C5 -> 発生材処理 | H1: 小計→ | I1: =MAX(I4:I383) -> 0
B2: =B7 -> 1. | C2: =C7 -> 発生材処理
C3: 名 称 | D3: 摘 要 | F3: 数 量 | G3: 単位 | H3: 単 価 | I3: 金 額 | J3: 備 考
B4: Ⅰ-(1)-1 | C4: ステップＳ３（宿泊棟）
B5: 4-4 | C5: 発生材処理 | I5: =IF(C5<>"計",ROUNDDOWN(F5*H5,0),SUM(I$3:I4)) -> 0
B7: 1. | C7: 発生材処理
C11: 発生材処理 | F11: 1 | G11: 式 | H11: ='別紙明細2-4-4-1'!J15 -> 0 | J11: ='別紙明細2-4-4-1'!C4 -> 別紙明細2-4-4-1-1
C15: 計
I19: =IF(C19<>"計",ROUNDDOWN(F19*H19,0),SUM(I$3:I18)) -> 0
I21: =IF(C21<>"計",ROUNDDOWN(F21*H21,0),SUM(I$3:I20)) -> 0
I23: =IF(C23<>"計",ROUNDDOWN(F23*H23,0),SUM(I$3:I22)) -> 0
I25: =IF(C25<>"計",ROUNDDOWN(F25*H25,0),SUM(I$3:I24)) -> 0
I27: =IF(C27<>"計",ROUNDDOWN(F27*H27,0),SUM(I$3:I26)) -> 0
I29: =IF(C29<>"計",ROUNDDOWN(F29*H29,0),SUM(I$3:I28)) -> 0
I31: =IF(C31<>"計",ROUNDDOWN(F31*H31,0),SUM(I$3:I30)) -> 0
I33: =IF(C33<>"計",ROUNDDOWN(F33*H33,0),SUM(I$3:I32)) -> 0
I35: =IF(C35<>"計",ROUNDDOWN(F35*H35,0),SUM(I$3:I34)) -> 0
I37: =IF(C37<>"計",ROUNDDOWN(F37*H37,0),SUM(I$3:I36)) -> 0
I39: =IF(C39<>"計",ROUNDDOWN(F39*H39,0),SUM(I$3:I38)) -> 0
I41: =IF(C41<>"計",ROUNDDOWN(F41*H41,0),SUM(I$3:I40)) -> 0
... I385: =IF(C385<>"計",ROUNDDOWN(F385*H385,0),SUM(I$3:I384)) -> 0

Sheet 別紙明細2-4-1-1
C3: 名 称 | D3: 摘 要 | F3: 数 量 | G3: 単位 | H3: 単 価 | I3: 金 額 | J3: 備 考
C4: 別紙明細2-4-1-1-1
C5: 搬入・据付費 | F5: 1 | G5: 式 | I5: =IF(C5<>"計",ROUNDDOWN(F5*H5,0),SUM(I$3:I4)) -> 0
D8: 設備機械工
C9: 据付費 | D9: 歩掛り5.71人×1.2 | F9: =5.71*1.2 -> 6.852 | G9: 人
D10: 設備機械工
C11: 据付費（再取付品） | D11: 歩掛り52.80人×1.2 | F11: =52.8*1.2 -> 63.36 | G11: 人
C15: 計
I25: =IF(C25<>"計",ROUNDDOWN(F25*H25,0),SUM(I$3:I24)) -> 0
I27: =IF(C27<>"計",ROUNDDOWN(F27*H27,0),SUM(I$3:I26)) -> 0
I29: =IF(C29<>"計",ROUNDDOWN(F29*H29,0),SUM(I$3:I28)) -> 0
I31: =IF(C31<>"計",ROUNDDOWN(F31*H31,0),SUM(I$3:I30)) -> 0
I33: =IF(C33<>"計",ROUNDDOWN(F33*H33,0),SUM(I$3:I32)) -> 0
I35: =IF(C35<>"計",ROUNDDOWN(F35*H35,0),SUM(I$3:I34)) -> 0
I37: =IF(C37<>"計",ROUNDDOWN(F37*H37,0),SUM(I$3:I36)) -> 0
I39: =IF(C39<>"計",ROUNDDOWN(F39*H39,0),SUM(I$3:I38)) -> 0
I41: =IF(C41<>"計",ROUNDDOWN(F41*H41,0),SUM(I$3:I40)) -> 0
I43: =IF(C43<>"計",ROUNDDOWN(F43*H43,0),SUM(I$3:I42)) -> 0
I45: =IF(C45<>"計",ROUNDDOWN(F45*H45,0),SUM(I$3:I44)) -> 0
I47: =IF(C47<>"計",ROUNDDOWN(F47*H47,0),SUM(I$3:I46)) -> 0
... I229: =IF(C229<>"計",ROUNDDOWN(F229*H229,0),SUM(I$3:I228)) -> 0
I231: =ROUNDDOWN(F231*H231,0) -> 0
I233: =ROUNDDOWN(F233*H233,0) -> 0
I235: =ROUNDDOWN(F235*H235,0) -> 0
I237: =ROUNDDOWN(F237*H237,0) -> 0
I239: =ROUNDDOWN(F239*H239,0) -> 0
I241: =ROUNDDOWN(F241*H241,0) -> 0
I243: =ROUNDDOWN(F243*H243,0) -> 0
I245: =ROUNDDOWN(F245*H245,0) -> 0
I247: =ROUNDDOWN(F247*H247,0) -> 0
I249: =ROUNDDOWN(F249*H249,0) -> 0
I251: =ROUNDDOWN(F251*H251,0) -> 0
I253: =ROUNDDOWN(F253*H253,0) -> 0
... I381: =ROUNDDOWN(F381*H381,0) -> 0

Sheet 別紙明細2-4-1-2
C3: 名 称 | D3: 摘 要 | F3: 数 量 | G3: 単位 | H3: 単 価 | I3: 金 額 | J3: 備 考
C4: 別紙明細2-4-1-2-1
C5: 冷媒管 | F5: 1 | G5: 式 | I5: =IF(C5<>"計",ROUNDDOWN(F5*H5,0),SUM(I$3:I4)) -> 0
D8: 冷媒用断熱材被服銅管
C9: 冷媒管 | D9: 液管(10mm) | E9: 6.4φ | F9: 31 | G9: ｍ
D10: 冷媒用断熱材被服銅管
C11: 冷媒管 | D11: 液管(10mm) | E11: 9.5φ | F11: 7 | G11: ｍ
D12: 冷媒用断熱材被服銅管
C13: 冷媒管 | D13: ガス管(20mm) | E13: 9.5φ | F13: 5 | G13: ｍ
D14: 冷媒用断熱材被服銅管
C15: 冷媒管 | D15: ガス管(20mm) | E15: 12.7φ | F15: 32 | G15: ｍ
D16: EM-CEE-3.5mm-2C
C17: 制御用ケーブル | D17: 管内配線 | F17: 31 | G17: ｍ
D18: EM-CEE-3.5mm-2C
C19: 制御用ケーブル | D19: 管内配線 | F19: 7 | G19: ｍ
C23: 計
C26: 別紙明細2-4-1-2-2
C27: 保温 | F27: 1 | G27: 式
D30: 隠蔽 | E30: ｱﾙﾐｶﾞﾗｽｸﾛｽ
C31: 保温 | D31: GW 給水管 | E31: 20A | F31: 16 | G31: ｍ
C33: 保温化粧ケース | D33: 樹脂製 | E33: 100×70 | F33: 2 | G33: ｍ
C35: 冷媒管保温外装 | D35: ｽﾃﾝﾚｽ鋼板 | F35: 5 | G35: ｍ
C37: 断熱支持材 | F37: 1 | G37: 式
C41: 計
C44: 別紙明細2-4-1-2-3
C45: あと施工アンカー | F45: 1 | G45: 式
C49: あと施工アンカー | D49: 上打 | E49: M10 | F49: 6 | G49: 本
C51: あと施工アンカー | D51: 上打 | E51: M10 | F51: 13 | G51: 本
C53: あと施工アンカー | D53: 上打 | E53: M10 | F53: =ROUND(27/2,0) -> 14 | G53: 本
C55: 鉄筋探査 | D55: 0.5m×0.5m/箇所 | F55: =SUM(F48:F53) -> 33 | G55: ヶ所
C59: 計
C62: 別紙明細2-4-1-2-4
C63: はつり補修 | F63: 1 | G63: 式
D66: ﾀﾞｲﾔﾓﾝﾄﾞｶｯﾀｰ | E66: RC厚150mm程度
C67: 機械はつり | E67: 100φ | F67: 15 | G67: ヶ所
D68: ﾀﾞｲﾔﾓﾝﾄﾞｶｯﾀｰ | E68: RC厚200mm程度
C69: 機械はつり | E69: 100φ | F69: 5 | G69: ヶ所
C71: 鉄筋探査 | D71: 0.5m×0.5m/箇所 | F71: =SUM(F66:F69) -> 20 | G71: ヶ所
C75: 計
C78: 別紙明細2-4-1-2-5
C79: スリーブ | F79: 1 | G79: 式
D82: 一般配管用SUS | E82: 拡管式接合
C83: 給水管 | D83: 屋内一般 | E83: 20SU | F83: 16 | G83: ｍ
D84: ACドレン | E84: 融着接合
C85: ドレン管 | D85: 屋内一般 | E85: 20A | F85: 6 | G85: ｍ
D86: ACドレン | E86: 融着接合
C87: ドレン管 | D87: 屋内一般 | E87: 25A | F87: 16 | G87: ｍ
D88: ACドレン | E88: 融着接合
C89: ドレン管 | D89: 屋外 | E89: 20A | F89: 4 | G89: ｍ
D90: ACドレン | E90: 融着接合
C91: ドレン管 | D91: 屋外 | E91: 25A | F91: 10 | G91: ｍ
D92: 冷媒用断熱材被服銅管
C93: 冷媒管 | D93: 液管(10mm) | E93: 6.4φ | F93: 31 | G93: ｍ
D94: 冷媒用断熱材被服銅管
C95: 冷媒管 | D95: 液管(10mm) | E95: 9.5φ | F95: 7 | G95: ｍ
D96: 冷媒用断熱材被服銅管
C97: 冷媒管 | D97: ガス管(20mm) | E97: 9.5φ | F97: 5 | G97: ｍ
D98: 冷媒用断熱材被服銅管
C99: 冷媒管 | D99: ガス管(20mm) | E99: 12.7φ | F99: 32 | G99: ｍ
C101: 小計
C103: 計 | D103: 9
I109: =IF(C109<>"計",ROUNDDOWN(F109*H109,0),SUM(I$3:I108)) -> 0
I111: =IF(C111<>"計",ROUNDDOWN(F111*H111,0),SUM(I$3:I110)) -> 0
I113: =IF(C113<>"計",ROUNDDOWN(F113*H113,0),SUM(I$3:I112)) -> 0
I115: =IF(C115<>"計",ROUNDDOWN(F115*H115,0),SUM(I$3:I114)) -> 0
I117: =IF(C117<>"計",ROUNDDOWN(F117*H117,0),SUM(I$3:I116)) -> 0
I119: =IF(C119<>"計",ROUNDDOWN(F119*H119,0),SUM(I$3:I118)) -> 0
I121: =IF(C121<>"計",ROUNDDOWN(F121*H121,0),SUM(I$3:I120)) -> 0
I123: =IF(C123<>"計",ROUNDDOWN(F123*H123,0),SUM(I$3:I122)) -> 0
I125: =IF(C125<>"計",ROUNDDOWN(F125*H125,0),SUM(I$3:I124)) -> 0
I127: =IF(C127<>"計",ROUNDDOWN(F127*H127,0),SUM(I$3:I126)) -> 0
I129: =IF(C129<>"計",ROUNDDOWN(F129*H129,0),SUM(I$3:I128)) -> 0
I131: =IF(C131<>"計",ROUNDDOWN(F131*H131,0),SUM(I$3:I130)) -> 0
... I209: =IF(C209<>"計",ROUNDDOWN(F209*H209,0),SUM(I$3:I208)) -> 0
I211: =ROUNDDOWN(F211*H211,0) -> 0
I213: =ROUNDDOWN(F213*H213,0) -> 0
I215: =ROUNDDOWN(F215*H215,0) -> 0
I217: =ROUNDDOWN(F217*H217,0) -> 0
I219: =ROUNDDOWN(F219*H219,0) -> 0
I221: =ROUNDDOWN(F221*H221,0) -> 0
I223: =ROUNDDOWN(F223*H223,0) -> 0
I225: =ROUNDDOWN(F225*H225,0) -> 0
I227: =ROUNDDOWN(F227*H227,0) -> 0
I229: =ROUNDDOWN(F229*H229,0) -> 0
I231: =ROUNDDOWN(F231*H231,0) -> 0
I233: =ROUNDDOWN(F233*H233,0) -> 0
... I361: =ROUNDDOWN(F361*H361,0) -> 0

Sheet 別紙明細2-4-1-3
C3: 名 称 | D3: 摘 要 | F3: 数 量 | G3: 単位 | H3: 単 価 | I3: 金 額 | J3: 備 考
C4: 別紙明細2-4-1-3-1
C5: 総合調整 | F5: 1 | G5: 式 | I5: =IF(C5<>"計",ROUNDDOWN(F5*H5,0),SUM(I$3:I4)) -> 0
D8: 一般配管用SUS | E8: 拡管式接合
C9: 給水管 | D9: 屋内一般 | E9: 20SU | F9: 16 | G9: ｍ
C13: 計
I21: =IF(C21<>"計",ROUNDDOWN(F21*H21,0),SUM(I$3:I20)) -> 0
I23: =IF(C23<>"計",ROUNDDOWN(F23*H23,0),SUM(I$3:I22)) -> 0
I25: =IF(C25<>"計",ROUNDDOWN(F25*H25,0),SUM(I$3:I24)) -> 0
I27: =IF(C27<>"計",ROUNDDOWN(F27*H27,0),SUM(I$3:I26)) -> 0
I29: =IF(C29<>"計",ROUNDDOWN(F29*H29,0),SUM(I$3:I28)) -> 0
I31: =IF(C31<>"計",ROUNDDOWN(F31*H31,0),SUM(I$3:I30)) -> 0
I33: =IF(C33<>"計",ROUNDDOWN(F33*H33,0),SUM(I$3:I32)) -> 0
I35: =IF(C35<>"計",ROUNDDOWN(F35*H35,0),SUM(I$3:I34)) -> 0
I37: =IF(C37<>"計",ROUNDDOWN(F37*H37,0),SUM(I$3:I36)) -> 0
I39: =IF(C39<>"計",ROUNDDOWN(F39*H39,0),SUM(I$3:I38)) -> 0
I41: =IF(C41<>"計",ROUNDDOWN(F41*H41,0),SUM(I$3:I40)) -> 0
I43: =IF(C43<>"計",ROUNDDOWN(F43*H43,0),SUM(I$3:I42)) -> 0
... I229: =IF(C229<>"計",ROUNDDOWN(F229*H229,0),SUM(I$3:I228)) -> 0
I231: =ROUNDDOWN(F231*H231,0) -> 0
I233: =ROUNDDOWN(F233*H233,0) -> 0
I235: =ROUNDDOWN(F235*H235,0) -> 0
I237: =ROUNDDOWN(F237*H237,0) -> 0
I239: =ROUNDDOWN(F239*H239,0) -> 0
I241: =ROUNDDOWN(F241*H241,0) -> 0
I243: =ROUNDDOWN(F243*H243,0) -> 0
I245: =ROUNDDOWN(F245*H245,0) -> 0
I247: =ROUNDDOWN(F247*H247,0) -> 0
I249: =ROUNDDOWN(F249*H249,0) -> 0
I251: =ROUNDDOWN(F251*H251,0) -> 0
I253: =ROUNDDOWN(F253*H253,0) -> 0
... I381: =ROUNDDOWN(F381*H381,0) -> 0

Sheet 別紙明細2-4-2-1
C3: 名 称 | D3: 摘 要 | F3: 数 量 | G3: 単位 | H3: 単 価 | I3: 金 額 | J3: 備 考
C4: 別紙明細2-4-2-1-1
C5: 搬入・据付費 | F5: 1 | G5: 式
D8: 設備機械工
C9: 据付費 | D9: 歩掛り17.99人×1.2 | F9: =17.99*1.2 -> 21.588 | G9: 人
C13: 計
I25: =IF(C25<>"計",ROUNDDOWN(F25*H25,0),SUM(I$3:I24)) -> 0
I27: =IF(C27<>"計",ROUNDDOWN(F27*H27,0),SUM(I$3:I26)) -> 0
I29: =IF(C29<>"計",ROUNDDOWN(F29*H29,0),SUM(I$3:I28)) -> 0
I31: =IF(C31<>"計",ROUNDDOWN(F31*H31,0),SUM(I$3:I30)) -> 0
I33: =IF(C33<>"計",ROUNDDOWN(F33*H33,0),SUM(I$3:I32)) -> 0
I35: =IF(C35<>"計",ROUNDDOWN(F35*H35,0),SUM(I$3:I34)) -> 0
I37: =IF(C37<>"計",ROUNDDOWN(F37*H37,0),SUM(I$3:I36)) -> 0
I39: =IF(C39<>"計",ROUNDDOWN(F39*H39,0),SUM(I$3:I38)) -> 0
I41: =IF(C41<>"計",ROUNDDOWN(F41*H41,0),SUM(I$3:I40)) -> 0
I43: =IF(C43<>"計",ROUNDDOWN(F43*H43,0),SUM(I$3:I42)) -> 0
I45: =IF(C45<>"計",ROUNDDOWN(F45*H45,0),SUM(I$3:I44)) -> 0
I47: =IF(C47<>"計",ROUNDDOWN(F47*H47,0),SUM(I$3:I46)) -> 0
... I241: =IF(C241<>"計",ROUNDDOWN(F241*H241,0),SUM(I$3:I240)) -> 0
I243: =ROUNDDOWN(F243*H243,0) -> 0
I245: =ROUNDDOWN(F245*H245,0) -> 0
I247: =ROUNDDOWN(F247*H247,0) -> 0
I249: =ROUNDDOWN(F249*H249,0) -> 0
I251: =ROUNDDOWN(F251*H251,0) -> 0
I253: =ROUNDDOWN(F253*H253,0) -> 0
I255: =ROUNDDOWN(F255*H255,0) -> 0
I257: =ROUNDDOWN(F257*H257,0) -> 0
I259: =ROUNDDOWN(F259*H259,0) -> 0
I261: =ROUNDDOWN(F261*H261,0) -> 0
I263: =ROUNDDOWN(F263*H263,0) -> 0
I265: =ROUNDDOWN(F265*H265,0) -> 0
... I393: =ROUNDDOWN(F393*H393,0) -> 0

Sheet 別紙明細2-4-2-2
C3: 名 称 | D3: 摘 要 | F3: 数 量 | G3: 単位 | H3: 単 価 | I3: 金 額 | J3: 備 考
C4: 別紙明細2-4-2-2-1
C5: 制気口ボックス類 | F5: 1 | G5: 式 | I5: =IF(C5<>"計",ROUNDDOWN(F5*H5,0),SUM(I$3:I4)) -> 0
D8: ｱﾝｸﾞﾙﾌﾗﾝｼﾞ工法(低圧)
C9: 長方形ダクト | D9: 亜鉛鉄板 | E9: 0.5mm厚 | F9: 3.15 | G9: ㎡
D10: ｱﾝｸﾞﾙﾌﾗﾝｼﾞ工法(低圧)
C11: 長方形ダクト | D11: 亜鉛鉄板 | E11: 0.6mm厚 | F11: 2.14 | G11: ㎡
C13: 消音内貼 | D13: GW25t | F13: 2.5 | G13: ㎡
C15: あと施工アンカー | D15: 上打 | E15: M10 | F15: 30 | G15: 本
C17: 鉄筋探査 | D17: 0.5m×0.5m/箇所 | F17: =SUM(F14:F15) -> 30 | G17: ヶ所
C21: 計
C24: 別紙明細2-4-2-2-2
C25: 保温 | F25: 1 | G25: 式
D28: 屋内露出 | E28: ｶﾗｰ亜鉛鉄板
C29: 保温 | D29: GW | E29: ｽﾊﾟｲﾗﾙﾀﾞｸﾄ | F29: 1.97 | G29: ㎡
D30: 屋内露出 | E30: ｶﾗｰ亜鉛鉄板
C31: 保温 | D31: GW | E31: ｽﾊﾟｲﾗﾙﾀﾞｸﾄ | F31: 3.76 | G31: ㎡
D32: 屋内露出 | E32: ｶﾗｰ亜鉛鉄板
C33: 保温 | D33: GW | E33: ｽﾊﾟｲﾗﾙﾀﾞｸﾄ | F33: 4.21 | G33: ㎡
D34: 屋外露出 | E34: ｶﾗｰ亜鉛鉄板
C35: 保温 | D35: GW | E35: ｽﾊﾟｲﾗﾙﾀﾞｸﾄ | F35: 2.17 | G35: ㎡
D36: 屋内露出 | E36: ｶﾗｰ亜鉛鉄板
C37: 保温 | D37: GW | E37: ｽﾊﾟｲﾗﾙﾀﾞｸﾄ | F37: 12.65 | G37: ㎡
C41: 計
C44: 別紙明細2-4-2-2-3
C45: あと施工アンカー | F45: 1 | G45: 式
C49: あと施工アンカー | D49: 上打 | E49: M10 | F49: 2 | G49: 本
C51: あと施工アンカー | D51: 上打 | E51: M10 | F51: 3 | G51: 本
C53: あと施工アンカー | D53: 上打 | E53: M10 | F53: 6 | G53: 本
C55: あと施工アンカー | D55: 上打 | E55: M10 | F55: 13 | G55: 本
C57: 鉄筋探査 | D57: 0.5m×0.5m/箇所 | F57: =SUM(F48:F55) -> 24 | G57: ヶ所
C61: 計
C64: 別紙明細2-4-2-2-4
C65: スリーブ | F65: 1 | G65: 式
C69: ＜ＳＡ＞
D70: (低圧)
C71: スパイラルダクト | D71: 亜鉛鉄板 | E71: 150φ | F71: 4 | G71: ｍ
C73: ＜ＲＡ＞
D74: (低圧)
C75: スパイラルダクト | D75: 亜鉛鉄板 | E75: 150φ | F75: 8 | G75: ｍ
C77: ＜ＯＡ＞
D78: (低圧)
C79: スパイラルダクト | D79: 亜鉛鉄板 | E79: 100φ | F79: 6 | G79: ｍ
D80: (低圧)
C81: スパイラルダクト | D81: 亜鉛鉄板 | E81: 150φ | F81: 10 | G81: ｍ
C83: ＜ＥＡ＞
D84: (低圧)
C85: スパイラルダクト | D85: 亜鉛鉄板 | E85: 100φ | F85: 24 | G85: ｍ
D86: (低圧)
C87: スパイラルダクト | D87: 亜鉛鉄板 | E87: 150φ | F87: 12 | G87: ｍ
C89: 小計
C91: 計 | D91: 9
I99: =IF(C99<>"計",ROUNDDOWN(F99*H99,0),SUM(I$3:I98)) -> 0
I101: =IF(C101<>"計",ROUNDDOWN(F101*H101,0),SUM(I$3:I100)) -> 0
I103: =IF(C103<>"計",ROUNDDOWN(F103*H103,0),SUM(I$3:I102)) -> 0
I105: =IF(C105<>"計",ROUNDDOWN(F105*H105,0),SUM(I$3:I104)) -> 0
I107: =IF(C107<>"計",ROUNDDOWN(F107*H107,0),SUM(I$3:I106)) -> 0
I109: =IF(C109<>"計",ROUNDDOWN(F109*H109,0),SUM(I$3:I108)) -> 0
I111: =IF(C111<>"計",ROUNDDOWN(F111*H111,0),SUM(I$3:I110)) -> 0
I113: =IF(C113<>"計",ROUNDDOWN(F113*H113,0),SUM(I$3:I112)) -> 0
I115: =IF(C115<>"計",ROUNDDOWN(F115*H115,0),SUM(I$3:I114)) -> 0
I117: =IF(C117<>"計",ROUNDDOWN(F117*H117,0),SUM(I$3:I116)) -> 0
I119: =IF(C119<>"計",ROUNDDOWN(F119*H119,0),SUM(I$3:I118)) -> 0
I121: =IF(C121<>"計",ROUNDDOWN(F121*H121,0),SUM(I$3:I120)) -> 0
... I241: =IF(C241<>"計",ROUNDDOWN(F241*H241,0),SUM(I$3:I240)) -> 0
I243: =ROUNDDOWN(F243*H243,0) -> 0
I245: =ROUNDDOWN(F245*H245,0) -> 0
I247: =ROUNDDOWN(F247*H247,0) -> 0
I249: =ROUNDDOWN(F249*H249,0) -> 0
I251: =ROUNDDOWN(F251*H251,0) -> 0
I253: =ROUNDDOWN(F253*H253,0) -> 0
I255: =ROUNDDOWN(F255*H255,0) -> 0
I257: =ROUNDDOWN(F257*H257,0) -> 0
I259: =ROUNDDOWN(F259*H259,0) -> 0
I261: =ROUNDDOWN(F261*H261,0) -> 0
I263: =ROUNDDOWN(F263*H263,0) -> 0
I265: =ROUNDDOWN(F265*H265,0) -> 0
... I393: =ROUNDDOWN(F393*H393,0) -> 0

Sheet 別紙明細2-4-2-3
C3: 名 称 | D3: 摘 要 | F3: 数 量 | G3: 単位 | H3: 単 価 | I3: 金 額 | J3: 備 考
C4: 別紙明細2-4-2-3-1
C5: 総合調整 | F5: 1 | G5: 式
D8: (低圧)
C9: スパイラルダクト | D9: 亜鉛鉄板 | E9: 150φ | F9: 4 | G9: ｍ
D10: (低圧)
C11: スパイラルダクト | D11: 亜鉛鉄板 | E11: 150φ | F11: 8 | G11: ｍ
D12: (低圧)
C13: スパイラルダクト | D13: 亜鉛鉄板 | E13: 100φ | F13: 6 | G13: ｍ
D14: (低圧)
C15: スパイラルダクト | D15: 亜鉛鉄板 | E15: 150φ | F15: 10 | G15: ｍ
D16: (低圧)
C17: スパイラルダクト | D17: 亜鉛鉄板 | E17: 100φ | F17: 24 | G17: ｍ
D18: (低圧)
C19: スパイラルダクト | D19: 亜鉛鉄板 | E19: 150φ | F19: 12 | G19: ｍ
C23: 計
I29: =IF(C29<>"計",ROUNDDOWN(F29*H29,0),SUM(I$3:I28)) -> 0
I31: =IF(C31<>"計",ROUNDDOWN(F31*H31,0),SUM(I$3:I30)) -> 0
I33: =IF(C33<>"計",ROUNDDOWN(F33*H33,0),SUM(I$3:I32)) -> 0
I35: =IF(C35<>"計",ROUNDDOWN(F35*H35,0),SUM(I$3:I34)) -> 0
I37: =IF(C37<>"計",ROUNDDOWN(F37*H37,0),SUM(I$3:I36)) -> 0
I39: =IF(C39<>"計",ROUNDDOWN(F39*H39,0),SUM(I$3:I38)) -> 0
I41: =IF(C41<>"計",ROUNDDOWN(F41*H41,0),SUM(I$3:I40)) -> 0
I43: =IF(C43<>"計",ROUNDDOWN(F43*H43,0),SUM(I$3:I42)) -> 0
I45: =IF(C45<>"計",ROUNDDOWN(F45*H45,0),SUM(I$3:I44)) -> 0
I47: =IF(C47<>"計",ROUNDDOWN(F47*H47,0),SUM(I$3:I46)) -> 0
I49: =IF(C49<>"計",ROUNDDOWN(F49*H49,0),SUM(I$3:I48)) -> 0
I51: =IF(C51<>"計",ROUNDDOWN(F51*H51,0),SUM(I$3:I50)) -> 0
... I251: =IF(C251<>"計",ROUNDDOWN(F251*H251,0),SUM(I$3:I250)) -> 0
I253: =ROUNDDOWN(F253*H253,0) -> 0
I255: =ROUNDDOWN(F255*H255,0) -> 0
I257: =ROUNDDOWN(F257*H257,0) -> 0
I259: =ROUNDDOWN(F259*H259,0) -> 0
I261: =ROUNDDOWN(F261*H261,0) -> 0
I263: =ROUNDDOWN(F263*H263,0) -> 0
I265: =ROUNDDOWN(F265*H265,0) -> 0
I267: =ROUNDDOWN(F267*H267,0) -> 0
I269: =ROUNDDOWN(F269*H269,0) -> 0
I271: =ROUNDDOWN(F271*H271,0) -> 0
I273: =ROUNDDOWN(F273*H273,0) -> 0
I275: =ROUNDDOWN(F275*H275,0) -> 0
... I403: =ROUNDDOWN(F403*H403,0) -> 0

Sheet 別紙明細2-4-3-1
C3: 名 称 | D3: 摘 要 | F3: 数 量 | G3: 単位 | H3: 単 価 | I3: 金 額 | J3: 備 考
C4: 別紙明細2-4-3-1-1
C5: 機器類撤去 | F5: 1 | G5: 式
D8: 設備機械工
C9: 空調設備機器 撤去 | D9: 歩掛り10.61人×0.3 | F9: =10.61*0.3 -> 3.183 | G9: 人
D10: 設備機械工
C11: 空調設備機器（再取付品） 撤去 | D11: 歩掛り52.80人×0.4 | F11: =52.8*0.4 -> 21.12 | G11: 人
C13: 冷媒回収作業 | F13: 96 | G13: 台
D14: 設備機械工
C15: 換気設備機器 撤去 | D15: 歩掛り18.34人×0.3 | F15: =18.34*0.3 -> 5.502 | G15: 人
C19: 計
C22: 別紙明細2-4-3-1-2
C23: ダクト類撤去 | F23: 1 | G23: 式
C27: スパイラルダクト 撤去 | E27: 100φ | F27: 12 | G27: ｍ
C29: スパイラルダクト 撤去 | E29: 100φ | F29: 41 | G29: ｍ
C31: スパイラルダクト 撤去 | E31: 250φ | F31: 3 | G31: ｍ
C33: スパイラルダクト 撤去 | E33: 300φ | F33: 4 | G33: ｍ
D34: ﾕﾆﾊﾞｰｻﾙ形吹出口
C35: 制気口 撤去 | D35: VHS | E35: 150×150 | F35: 2 | G35: 個
D36: ﾕﾆﾊﾞｰｻﾙ形吹出口
C37: 制気口 撤去 | D37: HS | E37: 200×150 | F37: 2 | G37: 個
C39: ベントキャップ | E39: 100φ | F39: 4 | G39: 個
C41: 長方形ダクト 撤去 | E41: 0.5mm厚 | F41: 1.52 | G41: ㎡
D42: 隠蔽 | E42: ｱﾙﾐｶﾞﾗｽｸﾛｽ
C43: 保温 撤去 | D43: GW | E43: ｽﾊﾟｲﾗﾙﾀﾞｸﾄ | F43: 3.72 | G43: ㎡
D44: 屋内露出 | E44: ｶﾗｰ亜鉛鉄板
C45: 保温 撤去 | D45: GW | E45: ｽﾊﾟｲﾗﾙﾀﾞｸﾄ | F45: 0.19 | G45: ㎡
D46: 隠蔽 | E46: ｱﾙﾐｶﾞﾗｽｸﾛｽ
C47: 保温 撤去 | D47: GW | E47: ｽﾊﾟｲﾗﾙﾀﾞｸﾄ | F47: 17.9 | G47: ㎡
C51: 計
I59: =IF(C59<>"計",ROUNDDOWN(F59*H59,0),SUM(I$3:I58)) -> 0
I61: =IF(C61<>"計",ROUNDDOWN(F61*H61,0),SUM(I$3:I60)) -> 0
I63: =IF(C63<>"計",ROUNDDOWN(F63*H63,0),SUM(I$3:I62)) -> 0
I65: =IF(C65<>"計",ROUNDDOWN(F65*H65,0),SUM(I$3:I64)) -> 0
I67: =IF(C67<>"計",ROUNDDOWN(F67*H67,0),SUM(I$3:I66)) -> 0
I69: =IF(C69<>"計",ROUNDDOWN(F69*H69,0),SUM(I$3:I68)) -> 0
I71: =IF(C71<>"計",ROUNDDOWN(F71*H71,0),SUM(I$3:I70)) -> 0
I73: =IF(C73<>"計",ROUNDDOWN(F73*H73,0),SUM(I$3:I72)) -> 0
I75: =IF(C75<>"計",ROUNDDOWN(F75*H75,0),SUM(I$3:I74)) -> 0
I77: =IF(C77<>"計",ROUNDDOWN(F77*H77,0),SUM(I$3:I76)) -> 0
I79: =IF(C79<>"計",ROUNDDOWN(F79*H79,0),SUM(I$3:I78)) -> 0
I81: =IF(C81<>"計",ROUNDDOWN(F81*H81,0),SUM(I$3:I80)) -> 0
... I259: =IF(C259<>"計",ROUNDDOWN(F259*H259,0),SUM(I$3:I258)) -> 0
I261: =ROUNDDOWN(F261*H261,0) -> 0
I263: =ROUNDDOWN(F263*H263,0) -> 0
I265: =ROUNDDOWN(F265*H265,0) -> 0
I267: =ROUNDDOWN(F267*H267,0) -> 0
I269: =ROUNDDOWN(F269*H269,0) -> 0
I271: =ROUNDDOWN(F271*H271,0) -> 0
I273: =ROUNDDOWN(F273*H273,0) -> 0
I275: =ROUNDDOWN(F275*H275,0) -> 0
I277: =ROUNDDOWN(F277*H277,0) -> 0
I279: =ROUNDDOWN(F279*H279,0) -> 0
I281: =ROUNDDOWN(F281*H281,0) -> 0
I283: =ROUNDDOWN(F283*H283,0) -> 0
... I411: =ROUNDDOWN(F411*H411,0) -> 0

Sheet 別紙明細2-4-4-1
C3: 名 称 | D3: 摘 要 | F3: 数 量 | G3: 単位 | H3: 単 価 | I3: 金 額 | J3: 備 考
C4: 別紙明細2-4-4-1-1
C5: 発生材処理 | F5: 1 | G5: 式 | I5: =IF(C5<>"計",ROUNDDOWN(F5*H5,0),SUM(I$3:I4)) -> 0
D8: 運搬費
C9: 発生材処理 | D9: 4tダンプ | E9: 概ね25km | F9: 0.64 | G9: ｔ
C11: 発生材処理 | D11: 安定型混合廃棄物 | F11: 3.71 | G11: ㎥
C15: 計
I23: =IF(C23<>"計",ROUNDDOWN(F23*H23,0),SUM(I$3:I22)) -> 0
I25: =IF(C25<>"計",ROUNDDOWN(F25*H25,0),SUM(I$3:I24)) -> 0
I27: =IF(C27<>"計",ROUNDDOWN(F27*H27,0),SUM(I$3:I26)) -> 0
I29: =IF(C29<>"計",ROUNDDOWN(F29*H29,0),SUM(I$3:I28)) -> 0
I31: =IF(C31<>"計",ROUNDDOWN(F31*H31,0),SUM(I$3:I30)) -> 0
I33: =IF(C33<>"計",ROUNDDOWN(F33*H33,0),SUM(I$3:I32)) -> 0
I35: =IF(C35<>"計",ROUNDDOWN(F35*H35,0),SUM(I$3:I34)) -> 0
I37: =IF(C37<>"計",ROUNDDOWN(F37*H37,0),SUM(I$3:I36)) -> 0
I39: =IF(C39<>"計",ROUNDDOWN(F39*H39,0),SUM(I$3:I38)) -> 0
I41: =IF(C41<>"計",ROUNDDOWN(F41*H41,0),SUM(I$3:I40)) -> 0
I43: =IF(C43<>"計",ROUNDDOWN(F43*H43,0),SUM(I$3:I42)) -> 0
I45: =IF(C45<>"計",ROUNDDOWN(F45*H45,0),SUM(I$3:I44)) -> 0
... I243: =IF(C243<>"計",ROUNDDOWN(F243*H243,0),SUM(I$3:I242)) -> 0
I245: =ROUNDDOWN(F245*H245,0) -> 0
I247: =ROUNDDOWN(F247*H247,0) -> 0
I249: =ROUNDDOWN(F249*H249,0) -> 0
I251: =ROUNDDOWN(F251*H251,0) -> 0
I253: =ROUNDDOWN(F253*H253,0) -> 0
I255: =ROUNDDOWN(F255*H255,0) -> 0
I257: =ROUNDDOWN(F257*H257,0) -> 0
I259: =ROUNDDOWN(F259*H259,0) -> 0
I261: =ROUNDDOWN(F261*H261,0) -> 0
I263: =ROUNDDOWN(F263*H263,0) -> 0
I265: =ROUNDDOWN(F265*H265,0) -> 0
I267: =ROUNDDOWN(F267*H267,0) -> 0
... I395: =ROUNDDOWN(F395*H395,0) -> 0
