Workbook

Sheet ○表紙西暦
E1: 2021 | G1: 年 | H1: 4 | I1: 月 | J1: 1 | K1: 日
B5: (仮称)○○○○○○ビル新築工事
B8: 工 事 費 内 訳 書

Sheet △表紙年号令和
E1: 令和 | F1: 3 | G1: 年 | H1: 4 | I1: 月 | J1: 1 | K1: 日
B5: (仮称)○○○○○○ビル新築工事
B8: 工 事 費 内 訳 書

Sheet (1)小科目S4
B1: 名 称 | C1: 摘 要 | E1: 数 量 | F1: 単位 | G1: 単 価 | H1: 金 額 | I1: 備 考 | M1: 検算欄 | N1: 検算差額
A2: Ⅰ-(1)-1 | B2: ステップＳ４（宿泊棟） | M2: 下以降一式と合計は各自設定 | N2: 差額が0であればOK
A3: 4-1 | B3: 空気調和設備 | H3: =IF(B3<>"計",ROUNDDOWN(E3*G3,0),SUM(H$1:H2)) -> 0 | M3: =IF(B3<>"計",ROUNDDOWN(E3*G3,0),SUM(M$1:M2)) -> 0 | N3: =IF((+H3-M3)<>0,H3-M3,IF(H3>0,"0",""))
M5: =IF(B5<>"計",ROUNDDOWN(E5*G5,0),SUM(M$1:M4)) -> 0 | N5: =IF((+H5-M5)<>0,H5-M5,IF(H5>0,"0",""))
A7: 1. | B7: 機器設備 | E7: 1 | F7: 式 | M7: =IF(B7<>"計",ROUNDDOWN(E7*G7,0),SUM(M$1:M6)) -> 0 | N7: =IF((+H7-M7)<>0,H7-M7,IF(H7>0,"0",""))
A9: 2. | B9: 配管設備 | E9: 1 | F9: 式 | M9: =IF(B9<>"計",ROUNDDOWN(E9*G9,0),SUM(M$2:M8)) -> 0 | N9: =IF((+H9-M9)<>0,H9-M9,IF(H9>0,"0",""))
A11: 3. | B11: 総合調整 | E11: 1 | F11: 式 | M11: =IF(B11<>"計",ROUNDDOWN(E11*G11,0),SUM(M$1:M10)) -> 0 | N11: =IF((+H11-M11)<>0,H11-M11,IF(H11>0,"0",""))
M13: =IF(B13<>"計",ROUNDDOWN(E13*G13,0),SUM(M$1:M12)) -> 0 | N13: =IF((+H13-M13)<>0,H13-M13,IF(H13>0,"0",""))
B15: 計 | M15: =IF(B15<>"計",ROUNDDOWN(E15*G15,0),SUM(M2:M14)) -> 0 | N15: =IF((+H15-M15)<>0,H15-M15,IF(H15>0,"0",""))
M17: =IF(B17<>"計",ROUNDDOWN(E17*G17,0),SUM(M$1:M16)) -> 0 | N17: =IF((+H17-M17)<>0,H17-M17,IF(H17>0,"0",""))
A18: Ⅰ-(1)-1 | B18: ステップＳ４（宿泊棟）
A19: 4-2 | B19: 換気設備 | M19: =IF(B19<>"計",ROUNDDOWN(E19*G19,0),SUM(M$1:M18)) -> 0 | N19: =IF((+H19-M19)<>0,H19-M19,IF(H19>0,"0",""))
M21: =IF(B21<>"計",ROUNDDOWN(E21*G21,0),SUM(M$1:M20)) -> 0 | N21: =IF((+H21-M21)<>0,H21-M21,IF(H21>0,"0",""))
A23: 1. | B23: 機器設備 | E23: 1 | F23: 式 | M23: =IF(B23<>"計",ROUNDDOWN(E23*G23,0),SUM(M$1:M22)) -> 0 | N23: =IF((+H23-M23)<>0,H23-M23,IF(H23>0,"0",""))
A25: 2. | B25: ダクト設備 | E25: 1 | F25: 式 | M25: =IF(B25<>"計",ROUNDDOWN(E25*G25,0),SUM(M$1:M24)) -> 0 | N25: =IF((+H25-M25)<>0,H25-M25,IF(H25>0,"0",""))
A27: 3. | B27: 総合調整 | E27: 1 | F27: 式 | M27: =IF(B27<>"計",ROUNDDOWN(E27*G27,0),SUM(M$1:M26)) -> 0 | N27: =IF((+H27-M27)<>0,H27-M27,IF(H27>0,"0",""))
M29: =IF(B29<>"計",ROUNDDOWN(E29*G29,0),SUM(M$1:M28)) -> 0 | N29: =IF((+H29-M29)<>0,H29-M29,IF(H29>0,"0",""))
B31: 計 | M31: =IF(B31<>"計",ROUNDDOWN(E31*G31,0),SUM(M18:M30)) -> 0 | N31: =IF((+H31-M31)<>0,H31-M31,IF(H31>0,"0",""))
M33: =IF(B33<>"計",ROUNDDOWN(E33*G33,0),SUM(M$1:M32)) -> 0 | N33: =IF((+H33-M33)<>0,H33-M33,IF(H33>0,"0",""))
A34: Ⅰ-(1)-1 | B34: ステップＳ４（宿泊棟）
A35: 4-3 | B35: 自動制御設備 | M35: =IF(B35<>"計",ROUNDDOWN(E35*G35,0),SUM(M$1:M34)) -> 0 | N35: =IF((+H35-M35)<>0,H35-M35,IF(H35>0,"0",""))
M37: =IF(B37<>"計",ROUNDDOWN(E37*G37,0),SUM(M$1:M36)) -> 0 | N37: =IF((+H37-M37)<>0,H37-M37,IF(H37>0,"0",""))
A39: 1. | B39: 自動制御設備 | E39: 1 | F39: 式 | M39: =IF(B39<>"計",ROUNDDOWN(E39*G39,0),SUM(M$1:M38)) -> 0 | N39: =IF((+H39-M39)<>0,H39-M39,IF(H39>0,"0",""))
M41: =IF(B41<>"計",ROUNDDOWN(E41*G41,0),SUM(M$1:M40)) -> 0 | N41: =IF((+H41-M41)<>0,H41-M41,IF(H41>0,"0",""))
B43: 計 | M43: =IF(B43<>"計",ROUNDDOWN(E43*G43,0),SUM(M34:M42)) -> 0 | N43: =IF((+H43-M43)<>0,H43-M43,IF(H43>0,"0",""))
M45: =IF(B45<>"計",ROUNDDOWN(E45*G45,0),SUM(M$1:M44)) -> 0 | N45: =IF((+H45-M45)<>0,H45-M45,IF(H45>0,"0",""))
A46: Ⅰ-(1)-1 | B46: ステップＳ４（宿泊棟）
A47: 4-4 | B47: 撤去工事 | M47: =IF(B47<>"計",ROUNDDOWN(E47*G47,0),SUM(M$1:M46)) -> 0 | N47: =IF((+H47-M47)<>0,H47-M47,IF(H47>0,"0",""))
M49: =IF(B49<>"計",ROUNDDOWN(E49*G49,0),SUM(M$1:M48)) -> 0 | N49: =IF((+H49-M49)<>0,H49-M49,IF(H49>0,"0",""))
A51: 1. | B51: 撤去工事 | E51: 1 | F51: 式 | M51: =IF(B51<>"計",ROUNDDOWN(E51*G51,0),SUM(M$1:M50)) -> 0 | N51: =IF((+H51-M51)<>0,H51-M51,IF(H51>0,"0",""))
M53: =IF(B53<>"計",ROUNDDOWN(E53*G53,0),SUM(M$1:M52)) -> 0 | N53: =IF((+H53-M53)<>0,H53-M53,IF(H53>0,"0",""))
B55: 計 | M55: =IF(B55<>"計",ROUNDDOWN(E55*G55,0),SUM(M46:M54)) -> 0 | N55: =IF((+H55-M55)<>0,H55-M55,IF(H55>0,"0",""))
M57: =IF(B57<>"計",ROUNDDOWN(E57*G57,0),SUM(M$1:M56)) -> 0 | N57: =IF((+H57-M57)<>0,H57-M57,IF(H57>0,"0",""))
A58: Ⅰ-(1)-1 | B58: ステップＳ４（宿泊棟）
A59: 4-5 | B59: アスベスト含有フランジ撤去 | M59: =IF(B59<>"計",ROUNDDOWN(E59*G59,0),SUM(M$1:M58)) -> 0 | N59: =IF((+H59-M59)<>0,H59-M59,IF(H59>0,"0",""))
M61: =IF(B61<>"計",ROUNDDOWN(E61*G61,0),SUM(M$1:M60)) -> 0 | N61: =IF((+H61-M61)<>0,H61-M61,IF(H61>0,"0",""))
A63: 1. | B63: アスベスト含有フランジ撤去 | E63: 1 | F63: 式 | M63: =IF(B63<>"計",ROUNDDOWN(E63*G63,0),SUM(M$1:M62)) -> 0 | N63: =IF((+H63-M63)<>0,H63-M63,IF(H63>0,"0",""))
M65: =IF(B65<>"計",ROUNDDOWN(E65*G65,0),SUM(M$1:M64)) -> 0 | N65: =IF((+H65-M65)<>0,H65-M65,IF(H65>0,"0",""))
B67: 計 | M67: =IF(B67<>"計",ROUNDDOWN(E67*G67,0),SUM(M58:M66)) -> 0 | N67: =IF((+H67-M67)<>0,H67-M67,IF(H67>0,"0",""))
M69: =IF(B69<>"計",ROUNDDOWN(E69*G69,0),SUM(M$1:M68)) -> 0 | N69: =IF((+H69-M69)<>0,H69-M69,IF(H69>0,"0",""))
A70: Ⅰ-(1)-1 | B70: ステップＳ４（宿泊棟）
A71: 4-6 | B71: 足場組立及び解体工事 | M71: =IF(B71<>"計",ROUNDDOWN(E71*G71,0),SUM(M$1:M70)) -> 0 | N71: =IF((+H71-M71)<>0,H71-M71,IF(H71>0,"0",""))
M73: =IF(B73<>"計",ROUNDDOWN(E73*G73,0),SUM(M$1:M72)) -> 0 | N73: =IF((+H73-M73)<>0,H73-M73,IF(H73>0,"0",""))
A75: 1. | B75: 足場組立及び解体工事 | E75: 1 | F75: 式 | M75: =IF(B75<>"計",ROUNDDOWN(E75*G75,0),SUM(M$1:M74)) -> 0 | N75: =IF((+H75-M75)<>0,H75-M75,IF(H75>0,"0",""))
M77: =IF(B77<>"計",ROUNDDOWN(E77*G77,0),SUM(M$1:M76)) -> 0 | N77: =IF((+H77-M77)<>0,H77-M77,IF(H77>0,"0",""))
B79: 計 | M79: =IF(B79<>"計",ROUNDDOWN(E79*G79,0),SUM(M70:M78)) -> 0 | N79: =IF((+H79-M79)<>0,H79-M79,IF(H79>0,"0",""))
M81: =IF(B81<>"計",ROUNDDOWN(E81*G81,0),SUM(M$1:M80)) -> 0 | N81: =IF((+H81-M81)<>0,H81-M81,IF(H81>0,"0",""))
A82: Ⅰ-(1)-1 | B82: ステップＳ４（宿泊棟）
A83: 4-7 | B83: 発生材処理 | M83: =IF(B83<>"計",ROUNDDOWN(E83*G83,0),SUM(M$1:M82)) -> 0 | N83: =IF((+H83-M83)<>0,H83-M83,IF(H83>0,"0",""))
M85: =IF(B85<>"計",ROUNDDOWN(E85*G85,0),SUM(M$1:M84)) -> 0 | N85: =IF((+H85-M85)<>0,H85-M85,IF(H85>0,"0",""))
A87: 1. | B87: 発生材処理 | E87: 1 | F87: 式 | M87: =IF(B87<>"計",ROUNDDOWN(E87*G87,0),SUM(M$1:M86)) -> 0 | N87: =IF((+H87-M87)<>0,H87-M87,IF(H87>0,"0",""))
M89: =IF(B89<>"計",ROUNDDOWN(E89*G89,0),SUM(M$1:M88)) -> 0 | N89: =IF((+H89-M89)<>0,H89-M89,IF(H89>0,"0",""))
B91: 計 | M91: =IF(B91<>"計",ROUNDDOWN(E91*G91,0),SUM(M82:M90)) -> 0 | N91: =IF((+H91-M91)<>0,H91-M91,IF(H91>0,"0",""))
M93: =IF(B93<>"計",ROUNDDOWN(E93*G93,0),SUM(M$1:M92)) -> 0 | N93: =IF((+H93-M93)<>0,H93-M93,IF(H93>0,"0",""))
H95: =IF(B95<>"計",ROUNDDOWN(E95*G95,0),SUM(H$1:H94)) -> 0 | M95: =IF(B95<>"計",ROUNDDOWN(E95*G95,0),SUM(M$1:M94)) -> 0 | N95: =IF((+H95-M95)<>0,H95-M95,IF(H95>0,"0",""))
H97: =IF(B97<>"計",ROUNDDOWN(E97*G97,0),SUM(H$1:H96)) -> 0 | M97: =IF(B97<>"計",ROUNDDOWN(E97*G97,0),SUM(M$1:M96)) -> 0 | N97: =IF((+H97-M97)<>0,H97-M97,IF(H97>0,"0",""))
H99: =IF(B99<>"計",ROUNDDOWN(E99*G99,0),SUM(H$1:H98)) -> 0 | M99: =IF(B99<>"計",ROUNDDOWN(E99*G99,0),SUM(M$1:M98)) -> 0 | N99: =IF((+H99-M99)<>0,H99-M99,IF(H99>0,"0",""))
H101: =IF(B101<>"計",ROUNDDOWN(E101*G101,0),SUM(H$1:H100)) -> 0 | M101: =IF(B101<>"計",ROUNDDOWN(E101*G101,0),SUM(M$1:M100)) -> 0 | N101: =IF((+H101-M101)<>0,H101-M101,IF(H101>0,"0",""))
H103: =IF(B103<>"計",ROUNDDOWN(E103*G103,0),SUM(H$1:H102)) -> 0 | M103: =IF(B103<>"計",ROUNDDOWN(E103*G103,0),SUM(M$1:M102)) -> 0 | N103: =IF((+H103-M103)<>0,H103-M103,IF(H103>0,"0",""))
H105: =IF(B105<>"計",ROUNDDOWN(E105*G105,0),SUM(H$1:H104)) -> 0 | M105: =IF(B105<>"計",ROUNDDOWN(E105*G105,0),SUM(M$1:M104)) -> 0 | N105: =IF((+H105-M105)<>0,H105-M105,IF(H105>0,"0",""))
H107: =IF(B107<>"計",ROUNDDOWN(E107*G107,0),SUM(H$1:H106)) -> 0 | M107: =IF(B107<>"計",ROUNDDOWN(E107*G107,0),SUM(M$1:M106)) -> 0 | N107: =IF((+H107-M107)<>0,H107-M107,IF(H107>0,"0",""))
H109: =IF(B109<>"計",ROUNDDOWN(E109*G109,0),SUM(H$1:H108)) -> 0 | M109: =IF(B109<>"計",ROUNDDOWN(E109*G109,0),SUM(M$1:M108)) -> 0 | N109: =IF((+H109-M109)<>0,H109-M109,IF(H109>0,"0",""))
H111: =IF(B111<>"計",ROUNDDOWN(E111*G111,0),SUM(H$1:H110)) -> 0 | M111: =IF(B111<>"計",ROUNDDOWN(E111*G111,0),SUM(M$1:M110)) -> 0 | N111: =IF((+H111-M111)<>0,H111-M111,IF(H111>0,"0",""))
H113: =IF(B113<>"計",ROUNDDOWN(E113*G113,0),SUM(H$1:H112)) -> 0 | M113: =IF(B113<>"計",ROUNDDOWN(E113*G113,0),SUM(M$1:M112)) -> 0 | N113: =IF((+H113-M113)<>0,H113-M113,IF(H113>0,"0",""))
H115: =IF(B115<>"計",ROUNDDOWN(E115*G115,0),SUM(H$1:H114)) -> 0 | M115: =IF(B115<>"計",ROUNDDOWN(E115*G115,0),SUM(M$1:M114)) -> 0 | N115: =IF((+H115-M115)<>0,H115-M115,IF(H115>0,"0",""))
H117: =IF(B117<>"計",ROUNDDOWN(E117*G117,0),SUM(H$1:H116)) -> 0 | M117: =IF(B117<>"計",ROUNDDOWN(E117*G117,0),SUM(M$1:M116)) -> 0 | N117: =IF((+H117-M117)<>0,H117-M117,IF(H117>0,"0",""))
... H147: =IF(B147<>"計",ROUNDDOWN(E147*G147,0),SUM(H$1:H146)) -> 0 | M147: =IF(B147<>"計",ROUNDDOWN(E147*G147,0),SUM(M$1:M146)) -> 0 | N147: =IF((+H147-M147)<>0,H147-M147,IF(H147>0,"0",""))

Sheet （1）建築
B1: 名 称 | C1: 摘 要 | E1: 数 量 | F1: 単位 | G1: 単 価 | H1: 金 額 | I1: 備 考 | M1: 検算欄 | N1: 検算差額
M2: 下以降一式と合計は各自設定 | N2: 差額が0であればOK
A3: （1） | B3: 建築工事 | H3: =IF(B3<>"計",ROUNDDOWN(E3*G3,0),SUM(H$1:H2)) -> 0 | M3: =IF(B3<>"計",ROUNDDOWN(E3*G3,0),SUM(M$1:M2)) -> 0 | N3: =IF((+H3-M3)<>0,H3-M3,IF(H3>0,"0",""))
H5: =IF(B5<>"計",ROUNDDOWN(E5*G5,0),SUM(H$1:H4)) -> 0 | M5: =IF(B5<>"計",ROUNDDOWN(E5*G5,0),SUM(M$1:M4)) -> 0 | N5: =IF((+H5-M5)<>0,H5-M5,IF(H5>0,"0",""))
A7: 1. | B7: 直接仮設 | E7: 1 | F7: 式 | H7: =IF(B7<>"計",ROUNDDOWN(E7*G7,0),SUM(H$1:H6)) -> 0 | M7: =IF(B7<>"計",ROUNDDOWN(E7*G7,0),SUM(M$1:M6)) -> 0 | N7: =IF((+H7-M7)<>0,H7-M7,IF(H7>0,"0",""))
A9: 2. | B9: 土工 | E9: 1 | F9: 式 | H9: =IF(B9<>"計",ROUNDDOWN(E9*G9,0),SUM(H$1:H8)) -> 0 | M9: =IF(B9<>"計",ROUNDDOWN(E9*G9,0),SUM(M$1:M8)) -> 0 | N9: =IF((+H9-M9)<>0,H9-M9,IF(H9>0,"0",""))
A11: 3. | B11: 地業 | E11: 1 | F11: 式 | H11: =IF(B11<>"計",ROUNDDOWN(E11*G11,0),SUM(H$1:H10)) -> 0 | M11: =IF(B11<>"計",ROUNDDOWN(E11*G11,0),SUM(M$1:M10)) -> 0 | N11: =IF((+H11-M11)<>0,H11-M11,IF(H11>0,"0",""))
A13: 4. | B13: 鉄筋 | E13: 1 | F13: 式 | H13: =IF(B13<>"計",ROUNDDOWN(E13*G13,0),SUM(H$1:H12)) -> 0 | M13: =IF(B13<>"計",ROUNDDOWN(E13*G13,0),SUM(M$1:M12)) -> 0 | N13: =IF((+H13-M13)<>0,H13-M13,IF(H13>0,"0",""))
A15: 5. | B15: コンクリ－ト | E15: 1 | F15: 式 | H15: =IF(B15<>"計",ROUNDDOWN(E15*G15,0),SUM(H$1:H14)) -> 0 | M15: =IF(B15<>"計",ROUNDDOWN(E15*G15,0),SUM(M$1:M14)) -> 0 | N15: =IF((+H15-M15)<>0,H15-M15,IF(H15>0,"0",""))
A17: 6. | B17: 型枠 | E17: 1 | F17: 式 | H17: =IF(B17<>"計",ROUNDDOWN(E17*G17,0),SUM(H$1:H16)) -> 0 | M17: =IF(B17<>"計",ROUNDDOWN(E17*G17,0),SUM(M$1:M16)) -> 0 | N17: =IF((+H17-M17)<>0,H17-M17,IF(H17>0,"0",""))
A19: 7. | B19: 鉄骨 | E19: 1 | F19: 式 | H19: =IF(B19<>"計",ROUNDDOWN(E19*G19,0),SUM(H$1:H18)) -> 0 | M19: =IF(B19<>"計",ROUNDDOWN(E19*G19,0),SUM(M$1:M18)) -> 0 | N19: =IF((+H19-M19)<>0,H19-M19,IF(H19>0,"0",""))
A21: 8. | B21: 既製コンクリ－ト | E21: 1 | F21: 式 | H21: =IF(B21<>"計",ROUNDDOWN(E21*G21,0),SUM(H$1:H20)) -> 0 | M21: =IF(B21<>"計",ROUNDDOWN(E21*G21,0),SUM(M$1:M20)) -> 0 | N21: =IF((+H21-M21)<>0,H21-M21,IF(H21>0,"0",""))
A23: 9. | B23: 防水 | E23: 1 | F23: 式 | H23: =IF(B23<>"計",ROUNDDOWN(E23*G23,0),SUM(H$1:H22)) -> 0 | M23: =IF(B23<>"計",ROUNDDOWN(E23*G23,0),SUM(M$1:M22)) -> 0 | N23: =IF((+H23-M23)<>0,H23-M23,IF(H23>0,"0",""))
A25: 10. | B25: 石 | E25: 1 | F25: 式 | H25: =IF(B25<>"計",ROUNDDOWN(E25*G25,0),SUM(H$1:H24)) -> 0 | M25: =IF(B25<>"計",ROUNDDOWN(E25*G25,0),SUM(M$1:M24)) -> 0 | N25: =IF((+H25-M25)<>0,H25-M25,IF(H25>0,"0",""))
A27: 11. | B27: タイル | E27: 1 | F27: 式 | H27: =IF(B27<>"計",ROUNDDOWN(E27*G27,0),SUM(H$1:H26)) -> 0 | M27: =IF(B27<>"計",ROUNDDOWN(E27*G27,0),SUM(M$1:M26)) -> 0 | N27: =IF((+H27-M27)<>0,H27-M27,IF(H27>0,"0",""))
A29: 12. | B29: 木工 | E29: 1 | F29: 式 | H29: =IF(B29<>"計",ROUNDDOWN(E29*G29,0),SUM(H$1:H28)) -> 0 | M29: =IF(B29<>"計",ROUNDDOWN(E29*G29,0),SUM(M$1:M28)) -> 0 | N29: =IF((+H29-M29)<>0,H29-M29,IF(H29>0,"0",""))
... A47: 21. | B47: 発生材処理 | E47: 1 | F47: 式 | H47: =IF(B47<>"計",ROUNDDOWN(E47*G47,0),SUM(H$1:H46)) -> 0 | M47: =IF(B47<>"計",ROUNDDOWN(E47*G47,0),SUM(M$1:M46)) -> 0 | N47: =IF((+H47-M47)<>0,H47-M47,IF(H47>0,"0",""))
H49: =IF(B49<>"計",ROUNDDOWN(E49*G49,0),SUM(H$1:H48)) -> 0 | M49: =IF(B49<>"計",ROUNDDOWN(E49*G49,0),SUM(M$1:M48)) -> 0 | N49: =IF((+H49-M49)<>0,H49-M49,IF(H49>0,"0",""))
H51: =IF(B51<>"計",ROUNDDOWN(E51*G51,0),SUM(H$1:H50)) -> 0 | M51: =IF(B51<>"計",ROUNDDOWN(E51*G51,0),SUM(M$1:M50)) -> 0 | N51: =IF((+H51-M51)<>0,H51-M51,IF(H51>0,"0",""))
H53: =IF(B53<>"計",ROUNDDOWN(E53*G53,0),SUM(H$1:H52)) -> 0 | M53: =IF(B53<>"計",ROUNDDOWN(E53*G53,0),SUM(M$1:M52)) -> 0 | N53: =IF((+H53-M53)<>0,H53-M53,IF(H53>0,"0",""))
H55: =IF(B55<>"計",ROUNDDOWN(E55*G55,0),SUM(H$1:H54)) -> 0 | M55: =IF(B55<>"計",ROUNDDOWN(E55*G55,0),SUM(M$1:M54)) -> 0 | N55: =IF((+H55-M55)<>0,H55-M55,IF(H55>0,"0",""))
H57: =IF(B57<>"計",ROUNDDOWN(E57*G57,0),SUM(H$1:H56)) -> 0 | M57: =IF(B57<>"計",ROUNDDOWN(E57*G57,0),SUM(M$1:M56)) -> 0 | N57: =IF((+H57-M57)<>0,H57-M57,IF(H57>0,"0",""))
H59: =IF(B59<>"計",ROUNDDOWN(E59*G59,0),SUM(H$1:H58)) -> 0 | M59: =IF(B59<>"計",ROUNDDOWN(E59*G59,0),SUM(M$1:M58)) -> 0 | N59: =IF((+H59-M59)<>0,H59-M59,IF(H59>0,"0",""))
H61: =IF(B61<>"計",ROUNDDOWN(E61*G61,0),SUM(H$1:H60)) -> 0 | M61: =IF(B61<>"計",ROUNDDOWN(E61*G61,0),SUM(M$1:M60)) -> 0 | N61: =IF((+H61-M61)<>0,H61-M61,IF(H61>0,"0",""))
H63: =IF(B63<>"計",ROUNDDOWN(E63*G63,0),SUM(H$1:H62)) -> 0 | M63: =IF(B63<>"計",ROUNDDOWN(E63*G63,0),SUM(M$1:M62)) -> 0 | N63: =IF((+H63-M63)<>0,H63-M63,IF(H63>0,"0",""))
H65: =IF(B65<>"計",ROUNDDOWN(E65*G65,0),SUM(H$1:H64)) -> 0 | M65: =IF(B65<>"計",ROUNDDOWN(E65*G65,0),SUM(M$1:M64)) -> 0 | N65: =IF((+H65-M65)<>0,H65-M65,IF(H65>0,"0",""))
H67: =IF(B67<>"計",ROUNDDOWN(E67*G67,0),SUM(H$1:H66)) -> 0 | M67: =IF(B67<>"計",ROUNDDOWN(E67*G67,0),SUM(M$1:M66)) -> 0 | N67: =IF((+H67-M67)<>0,H67-M67,IF(H67>0,"0",""))
H69: =IF(B69<>"計",ROUNDDOWN(E69*G69,0),SUM(H$1:H68)) -> 0 | M69: =IF(B69<>"計",ROUNDDOWN(E69*G69,0),SUM(M$1:M68)) -> 0 | N69: =IF((+H69-M69)<>0,H69-M69,IF(H69>0,"0",""))
B71: 計 | H71: =IF(B71<>"計",ROUNDDOWN(E71*G71,0),SUM(H$1:H70)) -> 0 | M71: =IF(B71<>"計",ROUNDDOWN(E71*G71,0),SUM(M$1:M70)) -> 0 | N71: =IF((+H71-M71)<>0,H71-M71,IF(H71>0,"0",""))
H73: =IF(B73<>"計",ROUNDDOWN(E73*G73,0),SUM(H$1:H72)) -> 0 | M73: =IF(B73<>"計",ROUNDDOWN(E73*G73,0),SUM(M$1:M72)) -> 0 | N73: =IF((+H73-M73)<>0,H73-M73,IF(H73>0,"0",""))
H75: =ROUNDDOWN(E75*G75,0) -> 0
H77: =ROUNDDOWN(E77*G77,0) -> 0
H79: =ROUNDDOWN(E79*G79,0) -> 0
H81: =ROUNDDOWN(E81*G81,0) -> 0
H83: =ROUNDDOWN(E83*G83,0) -> 0
H85: =ROUNDDOWN(E85*G85,0) -> 0
H87: =ROUNDDOWN(E87*G87,0) -> 0
H89: =ROUNDDOWN(E89*G89,0) -> 0
H91: =ROUNDDOWN(E91*G91,0) -> 0
H93: =ROUNDDOWN(E93*G93,0) -> 0
H95: =ROUNDDOWN(E95*G95,0) -> 0
H97: =ROUNDDOWN(E97*G97,0) -> 0
... H167: =ROUNDDOWN(E167*G167,0) -> 0

Sheet 建築内訳
B1: 名 称 | C1: 摘 要 | E1: 数 量 | F1: 単位 | G1: 単 価 | H1: 金 額 | I1: 備 考 | M1: 検算欄 | N1: 検算差額
M2: 下以降一式と合計は各自設定 | N2: 差額が0であればOK
H3: =IF(B3<>"計",ROUNDDOWN(E3*G3,0),SUM(H$1:H2)) -> 0 | M3: =IF(B3<>"計",ROUNDDOWN(E3*G3,0),SUM(M$1:M2)) -> 0 | N3: =IF((+H3-M3)<>0,H3-M3,IF(H3>0,"0",""))
H5: =IF(B5<>"計",ROUNDDOWN(E5*G5,0),SUM(H$1:H4)) -> 0 | M5: =IF(B5<>"計",ROUNDDOWN(E5*G5,0),SUM(M$1:M4)) -> 0 | N5: =IF((+H5-M5)<>0,H5-M5,IF(H5>0,"0",""))
H7: =IF(B7<>"計",ROUNDDOWN(E7*G7,0),SUM(H$1:H6)) -> 0 | M7: =IF(B7<>"計",ROUNDDOWN(E7*G7,0),SUM(M$1:M6)) -> 0 | N7: =IF((+H7-M7)<>0,H7-M7,IF(H7>0,"0",""))
H9: =IF(B9<>"計",ROUNDDOWN(E9*G9,0),SUM(H$1:H8)) -> 0 | M9: =IF(B9<>"計",ROUNDDOWN(E9*G9,0),SUM(M$1:M8)) -> 0 | N9: =IF((+H9-M9)<>0,H9-M9,IF(H9>0,"0",""))
H11: =IF(B11<>"計",ROUNDDOWN(E11*G11,0),SUM(H$1:H10)) -> 0 | M11: =IF(B11<>"計",ROUNDDOWN(E11*G11,0),SUM(M$1:M10)) -> 0 | N11: =IF((+H11-M11)<>0,H11-M11,IF(H11>0,"0",""))
H13: =IF(B13<>"計",ROUNDDOWN(E13*G13,0),SUM(H$1:H12)) -> 0 | M13: =IF(B13<>"計",ROUNDDOWN(E13*G13,0),SUM(M$1:M12)) -> 0 | N13: =IF((+H13-M13)<>0,H13-M13,IF(H13>0,"0",""))
H15: =IF(B15<>"計",ROUNDDOWN(E15*G15,0),SUM(H$1:H14)) -> 0 | M15: =IF(B15<>"計",ROUNDDOWN(E15*G15,0),SUM(M$1:M14)) -> 0 | N15: =IF((+H15-M15)<>0,H15-M15,IF(H15>0,"0",""))
H17: =IF(B17<>"計",ROUNDDOWN(E17*G17,0),SUM(H$1:H16)) -> 0 | M17: =IF(B17<>"計",ROUNDDOWN(E17*G17,0),SUM(M$1:M16)) -> 0 | N17: =IF((+H17-M17)<>0,H17-M17,IF(H17>0,"0",""))
H19: =IF(B19<>"計",ROUNDDOWN(E19*G19,0),SUM(H$1:H18)) -> 0 | M19: =IF(B19<>"計",ROUNDDOWN(E19*G19,0),SUM(M$1:M18)) -> 0 | N19: =IF((+H19-M19)<>0,H19-M19,IF(H19>0,"0",""))
H21: =IF(B21<>"計",ROUNDDOWN(E21*G21,0),SUM(H$1:H20)) -> 0 | M21: =IF(B21<>"計",ROUNDDOWN(E21*G21,0),SUM(M$1:M20)) -> 0 | N21: =IF((+H21-M21)<>0,H21-M21,IF(H21>0,"0",""))
H23: =IF(B23<>"計",ROUNDDOWN(E23*G23,0),SUM(H$1:H22)) -> 0 | M23: =IF(B23<>"計",ROUNDDOWN(E23*G23,0),SUM(M$1:M22)) -> 0 | N23: =IF((+H23-M23)<>0,H23-M23,IF(H23>0,"0",""))
H25: =IF(B25<>"計",ROUNDDOWN(E25*G25,0),SUM(H$1:H24)) -> 0 | M25: =IF(B25<>"計",ROUNDDOWN(E25*G25,0),SUM(M$1:M24)) -> 0 | N25: =IF((+H25-M25)<>0,H25-M25,IF(H25>0,"0",""))
... H37: =IF(B37<>"計",ROUNDDOWN(E37*G37,0),SUM(H$1:H36)) -> 0 | M37: =IF(B37<>"計",ROUNDDOWN(E37*G37,0),SUM(M$1:M36)) -> 0 | N37: =IF((+H37-M37)<>0,H37-M37,IF(H37>0,"0",""))
H39: =IF(B39<>"計",ROUNDDOWN(E39*G39,0),SUM(H$1:H38)) -> 0
H41: =IF(B41<>"計",ROUNDDOWN(E41*G41,0),SUM(H$1:H40)) -> 0 | M41: =IF(B41<>"計",ROUNDDOWN(E41*G41,0),SUM(M$1:M40)) -> 0 | N41: =IF((+H41-M41)<>0,H41-M41,IF(H41>0,"0",""))
H43: =IF(B43<>"計",ROUNDDOWN(E43*G43,0),SUM(H$1:H42)) -> 0 | M43: =IF(B43<>"計",ROUNDDOWN(E43*G43,0),SUM(M$1:M42)) -> 0 | N43: =IF((+H43-M43)<>0,H43-M43,IF(H43>0,"0",""))
H45: =IF(B45<>"計",ROUNDDOWN(E45*G45,0),SUM(H$1:H44)) -> 0 | M45: =IF(B45<>"計",ROUNDDOWN(E45*G45,0),SUM(M$1:M44)) -> 0 | N45: =IF((+H45-M45)<>0,H45-M45,IF(H45>0,"0",""))
H47: =IF(B47<>"計",ROUNDDOWN(E47*G47,0),SUM(H$1:H46)) -> 0 | M47: =IF(B47<>"計",ROUNDDOWN(E47*G47,0),SUM(M$1:M46)) -> 0 | N47: =IF((+H47-M47)<>0,H47-M47,IF(H47>0,"0",""))
H49: =IF(B49<>"計",ROUNDDOWN(E49*G49,0),SUM(H$1:H48)) -> 0 | M49: =IF(B49<>"計",ROUNDDOWN(E49*G49,0),SUM(M$1:M48)) -> 0 | N49: =IF((+H49-M49)<>0,H49-M49,IF(H49>0,"0",""))
H51: =IF(B51<>"計",ROUNDDOWN(E51*G51,0),SUM(H$1:H50)) -> 0 | M51: =IF(B51<>"計",ROUNDDOWN(E51*G51,0),SUM(M$1:M50)) -> 0 | N51: =IF((+H51-M51)<>0,H51-M51,IF(H51>0,"0",""))
H53: =IF(B53<>"計",ROUNDDOWN(E53*G53,0),SUM(H$1:H52)) -> 0 | M53: =IF(B53<>"計",ROUNDDOWN(E53*G53,0),SUM(M$1:M52)) -> 0 | N53: =IF((+H53-M53)<>0,H53-M53,IF(H53>0,"0",""))
H55: =IF(B55<>"計",ROUNDDOWN(E55*G55,0),SUM(H$1:H54)) -> 0 | M55: =IF(B55<>"計",ROUNDDOWN(E55*G55,0),SUM(M$1:M54)) -> 0 | N55: =IF((+H55-M55)<>0,H55-M55,IF(H55>0,"0",""))
H57: =IF(B57<>"計",ROUNDDOWN(E57*G57,0),SUM(H$1:H56)) -> 0 | M57: =IF(B57<>"計",ROUNDDOWN(E57*G57,0),SUM(M$1:M56)) -> 0 | N57: =IF((+H57-M57)<>0,H57-M57,IF(H57>0,"0",""))
H59: =IF(B59<>"計",ROUNDDOWN(E59*G59,0),SUM(H$1:H58)) -> 0 | M59: =IF(B59<>"計",ROUNDDOWN(E59*G59,0),SUM(M$1:M58)) -> 0 | N59: =IF((+H59-M59)<>0,H59-M59,IF(H59>0,"0",""))
H61: =IF(B61<>"計",ROUNDDOWN(E61*G61,0),SUM(H$1:H60)) -> 0 | M61: =IF(B61<>"計",ROUNDDOWN(E61*G61,0),SUM(M$1:M60)) -> 0 | N61: =IF((+H61-M61)<>0,H61-M61,IF(H61>0,"0",""))
H63: =IF(B63<>"計",ROUNDDOWN(E63*G63,0),SUM(H$1:H62)) -> 0 | M63: =IF(B63<>"計",ROUNDDOWN(E63*G63,0),SUM(M$1:M62)) -> 0 | N63: =IF((+H63-M63)<>0,H63-M63,IF(H63>0,"0",""))
... H181: =IF(B181<>"計",ROUNDDOWN(E181*G181,0),SUM(H$1:H180)) -> 0 | M181: =IF(B181<>"計",ROUNDDOWN(E181*G181,0),SUM(M$1:M180)) -> 0 | N181: =IF((+H181-M181)<>0,H181-M181,IF(H181>0,"0",""))

Sheet （2）電気
B1: 名 称 | C1: 摘 要 | E1: 数 量 | F1: 単位 | G1: 単 価 | H1: 金 額 | I1: 備 考 | L1: 050930改 | M1: 検算欄 | N1: 検算差額
M2: 下以降一式と合計は各自設定 | N2: 差額が0であればOK
A3: （2） | B3: 電気設備工事 | H3: =IF(B3<>"計",ROUNDDOWN(E3*G3,0),SUM(H$1:H2)) -> 0 | M3: =IF(B3<>"計",ROUNDDOWN(E3*G3,0),SUM(M$1:M2)) -> 0 | N3: =IF((+H3-M3)<>0,H3-M3,IF(H3>0,"0",""))
H5: =IF(B5<>"計",ROUNDDOWN(E5*G5,0),SUM(H$1:H4)) -> 0 | M5: =IF(B5<>"計",ROUNDDOWN(E5*G5,0),SUM(M$1:M4)) -> 0 | N5: =IF((+H5-M5)<>0,H5-M5,IF(H5>0,"0",""))
A7: 1. | B7: 電灯設備 | E7: 1 | F7: 式 | H7: =IF(B7<>"計",ROUNDDOWN(E7*G7,0),SUM(H$1:H6)) -> 0 | M7: =IF(B7<>"計",ROUNDDOWN(E7*G7,0),SUM(M$1:M6)) -> 0 | N7: =IF((+H7-M7)<>0,H7-M7,IF(H7>0,"0",""))
A9: 1.1 | B9: 照明設備 | E9: 1 | F9: 式 | H9: =IF(B9<>"計",ROUNDDOWN(E9*G9,0),SUM(H$1:H8)) -> 0 | M9: =IF(B9<>"計",ROUNDDOWN(E9*G9,0),SUM(M$1:M8)) -> 0 | N9: =IF((+H9-M9)<>0,H9-M9,IF(H9>0,"0",""))
A11: 1.2 | B11: コンセント設備 | E11: 1 | F11: 式 | H11: =IF(B11<>"計",ROUNDDOWN(E11*G11,0),SUM(H$1:H10)) -> 0 | M11: =IF(B11<>"計",ROUNDDOWN(E11*G11,0),SUM(M$1:M10)) -> 0 | N11: =IF((+H11-M11)<>0,H11-M11,IF(H11>0,"0",""))
A13: 1.3 | B13: 非常照明･誘導灯設備 | E13: 1 | F13: 式 | H13: =IF(B13<>"計",ROUNDDOWN(E13*G13,0),SUM(H$1:H12)) -> 0 | M13: =IF(B13<>"計",ROUNDDOWN(E13*G13,0),SUM(M$1:M12)) -> 0 | N13: =IF((+H13-M13)<>0,H13-M13,IF(H13>0,"0",""))
A15: 2. | B15: 動力設備 | E15: 1 | F15: 式 | H15: =IF(B15<>"計",ROUNDDOWN(E15*G15,0),SUM(H$1:H14)) -> 0 | M15: =IF(B15<>"計",ROUNDDOWN(E15*G15,0),SUM(M$1:M14)) -> 0 | N15: =IF((+H15-M15)<>0,H15-M15,IF(H15>0,"0",""))
A17: 3. | B17: 電熱設備 | E17: 1 | F17: 式 | H17: =IF(B17<>"計",ROUNDDOWN(E17*G17,0),SUM(H$1:H16)) -> 0 | M17: =IF(B17<>"計",ROUNDDOWN(E17*G17,0),SUM(M$1:M16)) -> 0 | N17: =IF((+H17-M17)<>0,H17-M17,IF(H17>0,"0",""))
A19: 4. | B19: 接地設備 | E19: 1 | F19: 式 | H19: =IF(B19<>"計",ROUNDDOWN(E19*G19,0),SUM(H$1:H18)) -> 0 | M19: =IF(B19<>"計",ROUNDDOWN(E19*G19,0),SUM(M$1:M18)) -> 0 | N19: =IF((+H19-M19)<>0,H19-M19,IF(H19>0,"0",""))
A21: 5. | B21: 幹線設備 | E21: 1 | F21: 式 | H21: =IF(B21<>"計",ROUNDDOWN(E21*G21,0),SUM(H$1:H20)) -> 0 | M21: =IF(B21<>"計",ROUNDDOWN(E21*G21,0),SUM(M$1:M20)) -> 0 | N21: =IF((+H21-M21)<>0,H21-M21,IF(H21>0,"0",""))
A23: 5.1 | B23: 電灯幹線設備 | E23: 1 | F23: 式 | H23: =IF(B23<>"計",ROUNDDOWN(E23*G23,0),SUM(H$1:H22)) -> 0 | M23: =IF(B23<>"計",ROUNDDOWN(E23*G23,0),SUM(M$1:M22)) -> 0 | N23: =IF((+H23-M23)<>0,H23-M23,IF(H23>0,"0",""))
A25: 5.2 | B25: 動力幹線設備 | E25: 1 | F25: 式 | H25: =IF(B25<>"計",ROUNDDOWN(E25*G25,0),SUM(H$1:H24)) -> 0 | M25: =IF(B25<>"計",ROUNDDOWN(E25*G25,0),SUM(M$1:M24)) -> 0 | N25: =IF((+H25-M25)<>0,H25-M25,IF(H25>0,"0",""))
A27: 6. | B27: 雷保護設備 | E27: 1 | F27: 式 | H27: =IF(B27<>"計",ROUNDDOWN(E27*G27,0),SUM(H$1:H26)) -> 0 | M27: =IF(B27<>"計",ROUNDDOWN(E27*G27,0),SUM(M$1:M26)) -> 0 | N27: =IF((+H27-M27)<>0,H27-M27,IF(H27>0,"0",""))
A29: 7. | B29: 航空障害灯等設備 | E29: 1 | F29: 式 | H29: =IF(B29<>"計",ROUNDDOWN(E29*G29,0),SUM(H$1:H28)) -> 0 | M29: =IF(B29<>"計",ROUNDDOWN(E29*G29,0),SUM(M$1:M28)) -> 0 | N29: =IF((+H29-M29)<>0,H29-M29,IF(H29>0,"0",""))
... A111: 29. | B111: 雑費 | E111: 1 | F111: 式 | H111: =IF(B111<>"計",ROUNDDOWN(E111*G111,0),SUM(H$1:H110)) -> 0 | M111: =IF(B111<>"計",ROUNDDOWN(E111*G111,0),SUM(M$1:M110)) -> 0 | N111: =IF((+H111-M111)<>0,H111-M111,IF(H111>0,"0",""))
H113: =IF(B113<>"計",ROUNDDOWN(E113*G113,0),SUM(H$1:H112)) -> 0 | M113: =IF(B113<>"計",ROUNDDOWN(E113*G113,0),SUM(M$1:M112)) -> 0 | N113: =IF((+H113-M113)<>0,H113-M113,IF(H113>0,"0",""))
H115: =IF(B115<>"計",ROUNDDOWN(E115*G115,0),SUM(H$1:H114)) -> 0 | M115: =IF(B115<>"計",ROUNDDOWN(E115*G115,0),SUM(M$1:M114)) -> 0 | N115: =IF((+H115-M115)<>0,H115-M115,IF(H115>0,"0",""))
H117: =IF(B117<>"計",ROUNDDOWN(E117*G117,0),SUM(H$1:H116)) -> 0 | M117: =IF(B117<>"計",ROUNDDOWN(E117*G117,0),SUM(M$1:M116)) -> 0 | N117: =IF((+H117-M117)<>0,H117-M117,IF(H117>0,"0",""))
H119: =IF(B119<>"計",ROUNDDOWN(E119*G119,0),SUM(H$1:H118)) -> 0 | M119: =IF(B119<>"計",ROUNDDOWN(E119*G119,0),SUM(M$1:M118)) -> 0 | N119: =IF((+H119-M119)<>0,H119-M119,IF(H119>0,"0",""))
H121: =IF(B121<>"計",ROUNDDOWN(E121*G121,0),SUM(H$1:H120)) -> 0 | M121: =IF(B121<>"計",ROUNDDOWN(E121*G121,0),SUM(M$1:M120)) -> 0 | N121: =IF((+H121-M121)<>0,H121-M121,IF(H121>0,"0",""))
H123: =IF(B123<>"計",ROUNDDOWN(E123*G123,0),SUM(H$1:H122)) -> 0 | M123: =IF(B123<>"計",ROUNDDOWN(E123*G123,0),SUM(M$1:M122)) -> 0 | N123: =IF((+H123-M123)<>0,H123-M123,IF(H123>0,"0",""))
H125: =IF(B125<>"計",ROUNDDOWN(E125*G125,0),SUM(H$1:H124)) -> 0 | M125: =IF(B125<>"計",ROUNDDOWN(E125*G125,0),SUM(M$1:M124)) -> 0 | N125: =IF((+H125-M125)<>0,H125-M125,IF(H125>0,"0",""))
H127: =IF(B127<>"計",ROUNDDOWN(E127*G127,0),SUM(H$1:H126)) -> 0 | M127: =IF(B127<>"計",ROUNDDOWN(E127*G127,0),SUM(M$1:M126)) -> 0 | N127: =IF((+H127-M127)<>0,H127-M127,IF(H127>0,"0",""))
H129: =IF(B129<>"計",ROUNDDOWN(E129*G129,0),SUM(H$1:H128)) -> 0 | M129: =IF(B129<>"計",ROUNDDOWN(E129*G129,0),SUM(M$1:M128)) -> 0 | N129: =IF((+H129-M129)<>0,H129-M129,IF(H129>0,"0",""))
H131: =IF(B131<>"計",ROUNDDOWN(E131*G131,0),SUM(H$1:H130)) -> 0 | M131: =IF(B131<>"計",ROUNDDOWN(E131*G131,0),SUM(M$1:M130)) -> 0 | N131: =IF((+H131-M131)<>0,H131-M131,IF(H131>0,"0",""))
H133: =IF(B133<>"計",ROUNDDOWN(E133*G133,0),SUM(H$1:H132)) -> 0 | M133: =IF(B133<>"計",ROUNDDOWN(E133*G133,0),SUM(M$1:M132)) -> 0 | N133: =IF((+H133-M133)<>0,H133-M133,IF(H133>0,"0",""))
H135: =IF(B135<>"計",ROUNDDOWN(E135*G135,0),SUM(H$1:H134)) -> 0 | M135: =IF(B135<>"計",ROUNDDOWN(E135*G135,0),SUM(M$1:M134)) -> 0 | N135: =IF((+H135-M135)<>0,H135-M135,IF(H135>0,"0",""))
... H141: =IF(B141<>"計",ROUNDDOWN(E141*G141,0),SUM(H$1:H140)) -> 0 | M141: =IF(B141<>"計",ROUNDDOWN(E141*G141,0),SUM(M$1:M140)) -> 0 | N141: =IF((+H141-M141)<>0,H141-M141,IF(H141>0,"0",""))
B143: 計 | H143: =IF(B143<>"計",ROUNDDOWN(E143*G143,0),SUM(H$1:H142)) -> 0 | M143: =IF(B143<>"計",ROUNDDOWN(E143*G143,0),SUM(M$1:M142)) -> 0 | N143: =IF((+H143-M143)<>0,H143-M143,IF(H143>0,"0",""))
H145: =IF(B145<>"計",ROUNDDOWN(E145*G145,0),SUM(H$1:H144)) -> 0 | M145: =IF(B145<>"計",ROUNDDOWN(E145*G145,0),SUM(M$1:M144)) -> 0 | N145: =IF((+H145-M145)<>0,H145-M145,IF(H145>0,"0",""))
H146: =ROUNDDOWN(E146*G146,0) -> 0
H148: =ROUNDDOWN(E148*G148,0) -> 0
H150: =ROUNDDOWN(E150*G150,0) -> 0
H152: =ROUNDDOWN(E152*G152,0) -> 0
H154: =ROUNDDOWN(E154*G154,0) -> 0
H156: =ROUNDDOWN(E156*G156,0) -> 0
H158: =ROUNDDOWN(E158*G158,0) -> 0
H160: =ROUNDDOWN(E160*G160,0) -> 0
H162: =ROUNDDOWN(E162*G162,0) -> 0
H164: =ROUNDDOWN(E164*G164,0) -> 0
H166: =ROUNDDOWN(E166*G166,0) -> 0
H168: =ROUNDDOWN(E168*G168,0) -> 0
... H296: =ROUNDDOWN(E296*G296,0) -> 0

Sheet 電気内訳
B1: 名 称 | C1: 摘 要 | E1: 数 量 | F1: 単位 | G1: 単 価 | H1: 金 額 | I1: 備 考 | M1: 検算欄 | N1: 検算差額
M2: 下以降一式と合計は各自設定 | N2: 差額が0であればOK
H3: =IF(B3<>"計",ROUNDDOWN(E3*G3,0),SUM(H$1:H2)) -> 0 | M3: =IF(B3<>"計",ROUNDDOWN(E3*G3,0),SUM(M$1:M2)) -> 0 | N3: =IF((+H3-M3)<>0,H3-M3,IF(H3>0,"0",""))
H5: =IF(B5<>"計",ROUNDDOWN(E5*G5,0),SUM(H$1:H4)) -> 0 | M5: =IF(B5<>"計",ROUNDDOWN(E5*G5,0),SUM(M$1:M4)) -> 0 | N5: =IF((+H5-M5)<>0,H5-M5,IF(H5>0,"0",""))
H7: =IF(B7<>"計",ROUNDDOWN(E7*G7,0),SUM(H$1:H6)) -> 0 | M7: =IF(B7<>"計",ROUNDDOWN(E7*G7,0),SUM(M$1:M6)) -> 0 | N7: =IF((+H7-M7)<>0,H7-M7,IF(H7>0,"0",""))
H9: =IF(B9<>"計",ROUNDDOWN(E9*G9,0),SUM(H$1:H8)) -> 0 | M9: =IF(B9<>"計",ROUNDDOWN(E9*G9,0),SUM(M$1:M8)) -> 0 | N9: =IF((+H9-M9)<>0,H9-M9,IF(H9>0,"0",""))
H11: =IF(B11<>"計",ROUNDDOWN(E11*G11,0),SUM(H$1:H10)) -> 0 | M11: =IF(B11<>"計",ROUNDDOWN(E11*G11,0),SUM(M$1:M10)) -> 0 | N11: =IF((+H11-M11)<>0,H11-M11,IF(H11>0,"0",""))
H13: =IF(B13<>"計",ROUNDDOWN(E13*G13,0),SUM(H$1:H12)) -> 0 | M13: =IF(B13<>"計",ROUNDDOWN(E13*G13,0),SUM(M$1:M12)) -> 0 | N13: =IF((+H13-M13)<>0,H13-M13,IF(H13>0,"0",""))
H15: =IF(B15<>"計",ROUNDDOWN(E15*G15,0),SUM(H$1:H14)) -> 0 | M15: =IF(B15<>"計",ROUNDDOWN(E15*G15,0),SUM(M$1:M14)) -> 0 | N15: =IF((+H15-M15)<>0,H15-M15,IF(H15>0,"0",""))
H17: =IF(B17<>"計",ROUNDDOWN(E17*G17,0),SUM(H$1:H16)) -> 0 | M17: =IF(B17<>"計",ROUNDDOWN(E17*G17,0),SUM(M$1:M16)) -> 0 | N17: =IF((+H17-M17)<>0,H17-M17,IF(H17>0,"0",""))
H19: =IF(B19<>"計",ROUNDDOWN(E19*G19,0),SUM(H$1:H18)) -> 0 | M19: =IF(B19<>"計",ROUNDDOWN(E19*G19,0),SUM(M$1:M18)) -> 0 | N19: =IF((+H19-M19)<>0,H19-M19,IF(H19>0,"0",""))
H21: =IF(B21<>"計",ROUNDDOWN(E21*G21,0),SUM(H$1:H20)) -> 0 | M21: =IF(B21<>"計",ROUNDDOWN(E21*G21,0),SUM(M$1:M20)) -> 0 | N21: =IF((+H21-M21)<>0,H21-M21,IF(H21>0,"0",""))
H23: =IF(B23<>"計",ROUNDDOWN(E23*G23,0),SUM(H$1:H22)) -> 0 | M23: =IF(B23<>"計",ROUNDDOWN(E23*G23,0),SUM(M$1:M22)) -> 0 | N23: =IF((+H23-M23)<>0,H23-M23,IF(H23>0,"0",""))
H25: =IF(B25<>"計",ROUNDDOWN(E25*G25,0),SUM(H$1:H24)) -> 0 | M25: =IF(B25<>"計",ROUNDDOWN(E25*G25,0),SUM(M$1:M24)) -> 0 | N25: =IF((+H25-M25)<>0,H25-M25,IF(H25>0,"0",""))
... H181: =IF(B181<>"計",ROUNDDOWN(E181*G181,0),SUM(H$1:H180)) -> 0 | M181: =IF(B181<>"計",ROUNDDOWN(E181*G181,0),SUM(M$1:M180)) -> 0 | N181: =IF((+H181-M181)<>0,H181-M181,IF(H181>0,"0",""))
H183: =ROUNDDOWN(E183*G183,0) -> 0
H185: =ROUNDDOWN(E185*G185,0) -> 0
H187: =ROUNDDOWN(E187*G187,0) -> 0
H189: =ROUNDDOWN(E189*G189,0) -> 0
H191: =ROUNDDOWN(E191*G191,0) -> 0
H193: =ROUNDDOWN(E193*G193,0) -> 0
H195: =ROUNDDOWN(E195*G195,0) -> 0
H197: =ROUNDDOWN(E197*G197,0) -> 0
H199: =ROUNDDOWN(E199*G199,0) -> 0
H201: =ROUNDDOWN(E201*G201,0) -> 0
H203: =ROUNDDOWN(E203*G203,0) -> 0
H205: =ROUNDDOWN(E205*G205,0) -> 0
... H333: =ROUNDDOWN(E333*G333,0) -> 0

Sheet （3）空調
B1: 名 称 | C1: 摘 要 | E1: 数 量 | F1: 単位 | G1: 単 価 | H1: 金 額 | I1: 備 考 | M1: 検算欄 | N1: 検算差額
M2: 下以降一式と合計は各自設定 | N2: 差額が0であればOK
A3: （3） | B3: 空気調和設備工事 | H3: =IF(B3<>"計",ROUNDDOWN(E3*G3,0),SUM(H$1:H2)) -> 0 | M3: =IF(B3<>"計",ROUNDDOWN(E3*G3,0),SUM(M$1:M2)) -> 0 | N3: =IF((+H3-M3)<>0,H3-M3,IF(H3>0,"0",""))
H5: =IF(B5<>"計",ROUNDDOWN(E5*G5,0),SUM(H$1:H4)) -> 0 | M5: =IF(B5<>"計",ROUNDDOWN(E5*G5,0),SUM(M$1:M4)) -> 0 | N5: =IF((+H5-M5)<>0,H5-M5,IF(H5>0,"0",""))
A7: 1. | B7: 空気調和設備 | E7: 1 | F7: 式 | H7: =IF(B7<>"計",ROUNDDOWN(E7*G7,0),SUM(H$1:H6)) -> 0 | M7: =IF(B7<>"計",ROUNDDOWN(E7*G7,0),SUM(M$1:M6)) -> 0 | N7: =IF((+H7-M7)<>0,H7-M7,IF(H7>0,"0",""))
A9: 2. | B9: 換気設備 | E9: 1 | F9: 式 | H9: =IF(B9<>"計",ROUNDDOWN(E9*G9,0),SUM(H$1:H8)) -> 0 | M9: =IF(B9<>"計",ROUNDDOWN(E9*G9,0),SUM(M$1:M8)) -> 0 | N9: =IF((+H9-M9)<>0,H9-M9,IF(H9>0,"0",""))
A11: 3. | B11: 排煙設備 | E11: 1 | F11: 式 | H11: =IF(B11<>"計",ROUNDDOWN(E11*G11,0),SUM(H$1:H10)) -> 0 | M11: =IF(B11<>"計",ROUNDDOWN(E11*G11,0),SUM(M$1:M10)) -> 0 | N11: =IF((+H11-M11)<>0,H11-M11,IF(H11>0,"0",""))
A13: 4. | B13: 自動制御設備 | E13: 1 | F13: 式 | H13: =IF(B13<>"計",ROUNDDOWN(E13*G13,0),SUM(H$1:H12)) -> 0 | M13: =IF(B13<>"計",ROUNDDOWN(E13*G13,0),SUM(M$1:M12)) -> 0 | N13: =IF((+H13-M13)<>0,H13-M13,IF(H13>0,"0",""))
A15: 5. | B15: 雑費 | E15: 1 | F15: 式 | H15: =IF(B15<>"計",ROUNDDOWN(E15*G15,0),SUM(H$1:H14)) -> 0 | M15: =IF(B15<>"計",ROUNDDOWN(E15*G15,0),SUM(M$1:M14)) -> 0 | N15: =IF((+H15-M15)<>0,H15-M15,IF(H15>0,"0",""))
H17: =IF(B17<>"計",ROUNDDOWN(E17*G17,0),SUM(H$1:H16)) -> 0 | M17: =IF(B17<>"計",ROUNDDOWN(E17*G17,0),SUM(M$1:M16)) -> 0 | N17: =IF((+H17-M17)<>0,H17-M17,IF(H17>0,"0",""))
H19: =IF(B19<>"計",ROUNDDOWN(E19*G19,0),SUM(H$1:H18)) -> 0 | M19: =IF(B19<>"計",ROUNDDOWN(E19*G19,0),SUM(M$1:M18)) -> 0 | N19: =IF((+H19-M19)<>0,H19-M19,IF(H19>0,"0",""))
H21: =IF(B21<>"計",ROUNDDOWN(E21*G21,0),SUM(H$1:H20)) -> 0 | M21: =IF(B21<>"計",ROUNDDOWN(E21*G21,0),SUM(M$1:M20)) -> 0 | N21: =IF((+H21-M21)<>0,H21-M21,IF(H21>0,"0",""))
H23: =IF(B23<>"計",ROUNDDOWN(E23*G23,0),SUM(H$1:H22)) -> 0 | M23: =IF(B23<>"計",ROUNDDOWN(E23*G23,0),SUM(M$1:M22)) -> 0 | N23: =IF((+H23-M23)<>0,H23-M23,IF(H23>0,"0",""))
H25: =IF(B25<>"計",ROUNDDOWN(E25*G25,0),SUM(H$1:H24)) -> 0 | M25: =IF(B25<>"計",ROUNDDOWN(E25*G25,0),SUM(M$1:M24)) -> 0 | N25: =IF((+H25-M25)<>0,H25-M25,IF(H25>0,"0",""))
H27: =IF(B27<>"計",ROUNDDOWN(E27*G27,0),SUM(H$1:H26)) -> 0 | M27: =IF(B27<>"計",ROUNDDOWN(E27*G27,0),SUM(M$1:M26)) -> 0 | N27: =IF((+H27-M27)<>0,H27-M27,IF(H27>0,"0",""))
H29: =IF(B29<>"計",ROUNDDOWN(E29*G29,0),SUM(H$1:H28)) -> 0 | M29: =IF(B29<>"計",ROUNDDOWN(E29*G29,0),SUM(M$1:M28)) -> 0 | N29: =IF((+H29-M29)<>0,H29-M29,IF(H29>0,"0",""))
H31: =IF(B31<>"計",ROUNDDOWN(E31*G31,0),SUM(H$1:H30)) -> 0 | M31: =IF(B31<>"計",ROUNDDOWN(E31*G31,0),SUM(M$1:M30)) -> 0 | N31: =IF((+H31-M31)<>0,H31-M31,IF(H31>0,"0",""))
H33: =IF(B33<>"計",ROUNDDOWN(E33*G33,0),SUM(H$1:H32)) -> 0 | M33: =IF(B33<>"計",ROUNDDOWN(E33*G33,0),SUM(M$1:M32)) -> 0 | N33: =IF((+H33-M33)<>0,H33-M33,IF(H33>0,"0",""))
B35: 計 | H35: =IF(B35<>"計",ROUNDDOWN(E35*G35,0),SUM(H$1:H34)) -> 0 | M35: =IF(B35<>"計",ROUNDDOWN(E35*G35,0),SUM(M$1:M34)) -> 0 | N35: =IF((+H35-M35)<>0,H35-M35,IF(H35>0,"0",""))
H37: =IF(B37<>"計",ROUNDDOWN(E37*G37,0),SUM(H$1:H36)) -> 0 | M37: =IF(B37<>"計",ROUNDDOWN(E37*G37,0),SUM(M$1:M36)) -> 0 | N37: =IF((+H37-M37)<>0,H37-M37,IF(H37>0,"0",""))
H39: =IF(B39<>"計",ROUNDDOWN(E39*G39,0),SUM(H$1:H38)) -> 0 | M39: =IF(B39<>"計",ROUNDDOWN(E39*G39,0),SUM(M$1:M38)) -> 0 | N39: =IF((+H39-M39)<>0,H39-M39,IF(H39>0,"0",""))
H41: =IF(B41<>"計",ROUNDDOWN(E41*G41,0),SUM(H$1:H40)) -> 0 | M41: =IF(B41<>"計",ROUNDDOWN(E41*G41,0),SUM(M$1:M40)) -> 0 | N41: =IF((+H41-M41)<>0,H41-M41,IF(H41>0,"0",""))
H43: =IF(B43<>"計",ROUNDDOWN(E43*G43,0),SUM(H$1:H42)) -> 0 | M43: =IF(B43<>"計",ROUNDDOWN(E43*G43,0),SUM(M$1:M42)) -> 0 | N43: =IF((+H43-M43)<>0,H43-M43,IF(H43>0,"0",""))
H45: =IF(B45<>"計",ROUNDDOWN(E45*G45,0),SUM(H$1:H44)) -> 0 | M45: =IF(B45<>"計",ROUNDDOWN(E45*G45,0),SUM(M$1:M44)) -> 0 | N45: =IF((+H45-M45)<>0,H45-M45,IF(H45>0,"0",""))
H47: =IF(B47<>"計",ROUNDDOWN(E47*G47,0),SUM(H$1:H46)) -> 0 | M47: =IF(B47<>"計",ROUNDDOWN(E47*G47,0),SUM(M$1:M46)) -> 0 | N47: =IF((+H47-M47)<>0,H47-M47,IF(H47>0,"0",""))
H49: =IF(B49<>"計",ROUNDDOWN(E49*G49,0),SUM(H$1:H48)) -> 0 | M49: =IF(B49<>"計",ROUNDDOWN(E49*G49,0),SUM(M$1:M48)) -> 0 | N49: =IF((+H49-M49)<>0,H49-M49,IF(H49>0,"0",""))
H51: =IF(B51<>"計",ROUNDDOWN(E51*G51,0),SUM(H$1:H50)) -> 0 | M51: =IF(B51<>"計",ROUNDDOWN(E51*G51,0),SUM(M$1:M50)) -> 0 | N51: =IF((+H51-M51)<>0,H51-M51,IF(H51>0,"0",""))
H53: =IF(B53<>"計",ROUNDDOWN(E53*G53,0),SUM(H$1:H52)) -> 0 | M53: =IF(B53<>"計",ROUNDDOWN(E53*G53,0),SUM(M$1:M52)) -> 0 | N53: =IF((+H53-M53)<>0,H53-M53,IF(H53>0,"0",""))
H55: =IF(B55<>"計",ROUNDDOWN(E55*G55,0),SUM(H$1:H54)) -> 0 | M55: =IF(B55<>"計",ROUNDDOWN(E55*G55,0),SUM(M$1:M54)) -> 0 | N55: =IF((+H55-M55)<>0,H55-M55,IF(H55>0,"0",""))
H57: =IF(B57<>"計",ROUNDDOWN(E57*G57,0),SUM(H$1:H56)) -> 0 | M57: =IF(B57<>"計",ROUNDDOWN(E57*G57,0),SUM(M$1:M56)) -> 0 | N57: =IF((+H57-M57)<>0,H57-M57,IF(H57>0,"0",""))
H59: =IF(B59<>"計",ROUNDDOWN(E59*G59,0),SUM(H$1:H58)) -> 0 | M59: =IF(B59<>"計",ROUNDDOWN(E59*G59,0),SUM(M$1:M58)) -> 0 | N59: =IF((+H59-M59)<>0,H59-M59,IF(H59>0,"0",""))
... H73: =IF(B73<>"計",ROUNDDOWN(E73*G73,0),SUM(H$1:H72)) -> 0 | M73: =IF(B73<>"計",ROUNDDOWN(E73*G73,0),SUM(M$1:M72)) -> 0 | N73: =IF((+H73-M73)<>0,H73-M73,IF(H73>0,"0",""))
H75: =IF(B75<>"計",ROUNDDOWN(E75*G75,0),SUM(H$1:H74)) -> 0
H77: =IF(B77<>"計",ROUNDDOWN(E77*G77,0),SUM(H$1:H76)) -> 0
H79: =IF(B79<>"計",ROUNDDOWN(E79*G79,0),SUM(H$1:H78)) -> 0
H81: =IF(B81<>"計",ROUNDDOWN(E81*G81,0),SUM(H$1:H80)) -> 0
H83: =IF(B83<>"計",ROUNDDOWN(E83*G83,0),SUM(H$1:H82)) -> 0
H85: =IF(B85<>"計",ROUNDDOWN(E85*G85,0),SUM(H$1:H84)) -> 0
H87: =IF(B87<>"計",ROUNDDOWN(E87*G87,0),SUM(H$1:H86)) -> 0
H89: =IF(B89<>"計",ROUNDDOWN(E89*G89,0),SUM(H$1:H88)) -> 0
H91: =IF(B91<>"計",ROUNDDOWN(E91*G91,0),SUM(H$1:H90)) -> 0
H93: =IF(B93<>"計",ROUNDDOWN(E93*G93,0),SUM(H$1:H92)) -> 0
H95: =IF(B95<>"計",ROUNDDOWN(E95*G95,0),SUM(H$1:H94)) -> 0
H97: =IF(B97<>"計",ROUNDDOWN(E97*G97,0),SUM(H$1:H96)) -> 0
... H181: =IF(B181<>"計",ROUNDDOWN(E181*G181,0),SUM(H$1:H180)) -> 0
H183: =ROUNDDOWN(E183*G183,0) -> 0
H185: =ROUNDDOWN(E185*G185,0) -> 0
H187: =ROUNDDOWN(E187*G187,0) -> 0
H189: =ROUNDDOWN(E189*G189,0) -> 0
H191: =ROUNDDOWN(E191*G191,0) -> 0
H193: =ROUNDDOWN(E193*G193,0) -> 0
H195: =ROUNDDOWN(E195*G195,0) -> 0
H197: =ROUNDDOWN(E197*G197,0) -> 0
H199: =ROUNDDOWN(E199*G199,0) -> 0
H201: =ROUNDDOWN(E201*G201,0) -> 0
H203: =ROUNDDOWN(E203*G203,0) -> 0
H205: =ROUNDDOWN(E205*G205,0) -> 0
... H225: =ROUNDDOWN(E225*G225,0) -> 0

Sheet 空調内訳
B1: 名 称 | C1: 摘 要 | E1: 数 量 | F1: 単位 | G1: 単 価 | H1: 金 額 | I1: 備 考 | M1: 検算欄 | N1: 検算差額
M2: 下以降一式と合計は各自設定 | N2: 差額が0であればOK
H3: =IF(B3<>"計",ROUNDDOWN(E3*G3,0),SUM(H$1:H2)) -> 0 | M3: =IF(B3<>"計",ROUNDDOWN(E3*G3,0),SUM(M$1:M2)) -> 0 | N3: =IF((+H3-M3)<>0,H3-M3,IF(H3>0,"0",""))
H5: =IF(B5<>"計",ROUNDDOWN(E5*G5,0),SUM(H$1:H4)) -> 0 | M5: =IF(B5<>"計",ROUNDDOWN(E5*G5,0),SUM(M$1:M4)) -> 0 | N5: =IF((+H5-M5)<>0,H5-M5,IF(H5>0,"0",""))
H7: =IF(B7<>"計",ROUNDDOWN(E7*G7,0),SUM(H$1:H6)) -> 0 | M7: =IF(B7<>"計",ROUNDDOWN(E7*G7,0),SUM(M$1:M6)) -> 0 | N7: =IF((+H7-M7)<>0,H7-M7,IF(H7>0,"0",""))
H9: =IF(B9<>"計",ROUNDDOWN(E9*G9,0),SUM(H$1:H8)) -> 0 | M9: =IF(B9<>"計",ROUNDDOWN(E9*G9,0),SUM(M$1:M8)) -> 0 | N9: =IF((+H9-M9)<>0,H9-M9,IF(H9>0,"0",""))
H11: =IF(B11<>"計",ROUNDDOWN(E11*G11,0),SUM(H$1:H10)) -> 0 | M11: =IF(B11<>"計",ROUNDDOWN(E11*G11,0),SUM(M$1:M10)) -> 0 | N11: =IF((+H11-M11)<>0,H11-M11,IF(H11>0,"0",""))
H13: =IF(B13<>"計",ROUNDDOWN(E13*G13,0),SUM(H$1:H12)) -> 0 | M13: =IF(B13<>"計",ROUNDDOWN(E13*G13,0),SUM(M$1:M12)) -> 0 | N13: =IF((+H13-M13)<>0,H13-M13,IF(H13>0,"0",""))
H15: =IF(B15<>"計",ROUNDDOWN(E15*G15,0),SUM(H$1:H14)) -> 0 | M15: =IF(B15<>"計",ROUNDDOWN(E15*G15,0),SUM(M$1:M14)) -> 0 | N15: =IF((+H15-M15)<>0,H15-M15,IF(H15>0,"0",""))
H17: =IF(B17<>"計",ROUNDDOWN(E17*G17,0),SUM(H$1:H16)) -> 0 | M17: =IF(B17<>"計",ROUNDDOWN(E17*G17,0),SUM(M$1:M16)) -> 0 | N17: =IF((+H17-M17)<>0,H17-M17,IF(H17>0,"0",""))
H19: =IF(B19<>"計",ROUNDDOWN(E19*G19,0),SUM(H$1:H18)) -> 0 | M19: =IF(B19<>"計",ROUNDDOWN(E19*G19,0),SUM(M$1:M18)) -> 0 | N19: =IF((+H19-M19)<>0,H19-M19,IF(H19>0,"0",""))
H21: =IF(B21<>"計",ROUNDDOWN(E21*G21,0),SUM(H$1:H20)) -> 0 | M21: =IF(B21<>"計",ROUNDDOWN(E21*G21,0),SUM(M$1:M20)) -> 0 | N21: =IF((+H21-M21)<>0,H21-M21,IF(H21>0,"0",""))
H23: =IF(B23<>"計",ROUNDDOWN(E23*G23,0),SUM(H$1:H22)) -> 0 | M23: =IF(B23<>"計",ROUNDDOWN(E23*G23,0),SUM(M$1:M22)) -> 0 | N23: =IF((+H23-M23)<>0,H23-M23,IF(H23>0,"0",""))
H25: =IF(B25<>"計",ROUNDDOWN(E25*G25,0),SUM(H$1:H24)) -> 0 | M25: =IF(B25<>"計",ROUNDDOWN(E25*G25,0),SUM(M$1:M24)) -> 0 | N25: =IF((+H25-M25)<>0,H25-M25,IF(H25>0,"0",""))
... H181: =IF(B181<>"計",ROUNDDOWN(E181*G181,0),SUM(H$1:H180)) -> 0 | M181: =IF(B181<>"計",ROUNDDOWN(E181*G181,0),SUM(M$1:M180)) -> 0 | N181: =IF((+H181-M181)<>0,H181-M181,IF(H181>0,"0",""))
H183: =ROUNDDOWN(E183*G183,0) -> 0
H185: =ROUNDDOWN(E185*G185,0) -> 0
H187: =ROUNDDOWN(E187*G187,0) -> 0
H189: =ROUNDDOWN(E189*G189,0) -> 0
H191: =ROUNDDOWN(E191*G191,0) -> 0
H193: =ROUNDDOWN(E193*G193,0) -> 0
H195: =ROUNDDOWN(E195*G195,0) -> 0
H197: =ROUNDDOWN(E197*G197,0) -> 0
H199: =ROUNDDOWN(E199*G199,0) -> 0
H201: =ROUNDDOWN(E201*G201,0) -> 0
H203: =ROUNDDOWN(E203*G203,0) -> 0
H205: =ROUNDDOWN(E205*G205,0) -> 0
... H333: =ROUNDDOWN(E333*G333,0) -> 0

Sheet （4）衛生
B1: 名 称 | C1: 摘 要 | E1: 数 量 | F1: 単位 | G1: 単 価 | H1: 金 額 | I1: 備 考 | M1: 検算欄 | N1: 検算差額
M2: 下以降一式と合計は各自設定 | N2: 差額が0であればOK
A3: （4） | B3: 給排水衛生設備工事 | H3: =IF(B3<>"計",ROUNDDOWN(E3*G3,0),SUM(H$1:H2)) -> 0 | M3: =IF(B3<>"計",ROUNDDOWN(E3*G3,0),SUM(M$1:M2)) -> 0 | N3: =IF((+H3-M3)<>0,H3-M3,IF(H3>0,"0",""))
H5: =IF(B5<>"計",ROUNDDOWN(E5*G5,0),SUM(H$1:H4)) -> 0 | M5: =IF(B5<>"計",ROUNDDOWN(E5*G5,0),SUM(M$1:M4)) -> 0 | N5: =IF((+H5-M5)<>0,H5-M5,IF(H5>0,"0",""))
A7: 1. | B7: 衛生器具設備 | E7: 1 | F7: 式 | H7: =IF(B7<>"計",ROUNDDOWN(E7*G7,0),SUM(H$1:H6)) -> 0 | M7: =IF(B7<>"計",ROUNDDOWN(E7*G7,0),SUM(M$1:M6)) -> 0 | N7: =IF((+H7-M7)<>0,H7-M7,IF(H7>0,"0",""))
A9: 2. | B9: 給水設備 | E9: 1 | F9: 式 | H9: =IF(B9<>"計",ROUNDDOWN(E9*G9,0),SUM(H$1:H8)) -> 0 | M9: =IF(B9<>"計",ROUNDDOWN(E9*G9,0),SUM(M$1:M8)) -> 0 | N9: =IF((+H9-M9)<>0,H9-M9,IF(H9>0,"0",""))
A11: 3. | B11: 排水設備 | E11: 1 | F11: 式 | H11: =IF(B11<>"計",ROUNDDOWN(E11*G11,0),SUM(H$1:H10)) -> 0 | M11: =IF(B11<>"計",ROUNDDOWN(E11*G11,0),SUM(M$1:M10)) -> 0 | N11: =IF((+H11-M11)<>0,H11-M11,IF(H11>0,"0",""))
A13: 4. | B13: 給湯設備 | E13: 1 | F13: 式 | H13: =IF(B13<>"計",ROUNDDOWN(E13*G13,0),SUM(H$1:H12)) -> 0 | M13: =IF(B13<>"計",ROUNDDOWN(E13*G13,0),SUM(M$1:M12)) -> 0 | N13: =IF((+H13-M13)<>0,H13-M13,IF(H13>0,"0",""))
A15: 5. | B15: 消火設備 | E15: 1 | F15: 式 | H15: =IF(B15<>"計",ROUNDDOWN(E15*G15,0),SUM(H$1:H14)) -> 0 | M15: =IF(B15<>"計",ROUNDDOWN(E15*G15,0),SUM(M$1:M14)) -> 0 | N15: =IF((+H15-M15)<>0,H15-M15,IF(H15>0,"0",""))
A17: 6. | B17: 厨房機器設備 | E17: 1 | F17: 式 | H17: =IF(B17<>"計",ROUNDDOWN(E17*G17,0),SUM(H$1:H16)) -> 0 | M17: =IF(B17<>"計",ROUNDDOWN(E17*G17,0),SUM(M$1:M16)) -> 0 | N17: =IF((+H17-M17)<>0,H17-M17,IF(H17>0,"0",""))
A19: 7. | B19: ガス設備 | E19: 1 | F19: 式 | H19: =IF(B19<>"計",ROUNDDOWN(E19*G19,0),SUM(H$1:H18)) -> 0 | M19: =IF(B19<>"計",ROUNDDOWN(E19*G19,0),SUM(M$1:M18)) -> 0 | N19: =IF((+H19-M19)<>0,H19-M19,IF(H19>0,"0",""))
A21: 8. | B21: 雑費 | E21: 1 | F21: 式 | H21: =IF(B21<>"計",ROUNDDOWN(E21*G21,0),SUM(H$1:H20)) -> 0 | M21: =IF(B21<>"計",ROUNDDOWN(E21*G21,0),SUM(M$1:M20)) -> 0 | N21: =IF((+H21-M21)<>0,H21-M21,IF(H21>0,"0",""))
H23: =IF(B23<>"計",ROUNDDOWN(E23*G23,0),SUM(H$1:H22)) -> 0 | M23: =IF(B23<>"計",ROUNDDOWN(E23*G23,0),SUM(M$1:M22)) -> 0 | N23: =IF((+H23-M23)<>0,H23-M23,IF(H23>0,"0",""))
H25: =IF(B25<>"計",ROUNDDOWN(E25*G25,0),SUM(H$1:H24)) -> 0 | M25: =IF(B25<>"計",ROUNDDOWN(E25*G25,0),SUM(M$1:M24)) -> 0 | N25: =IF((+H25-M25)<>0,H25-M25,IF(H25>0,"0",""))
H27: =IF(B27<>"計",ROUNDDOWN(E27*G27,0),SUM(H$1:H26)) -> 0 | M27: =IF(B27<>"計",ROUNDDOWN(E27*G27,0),SUM(M$1:M26)) -> 0 | N27: =IF((+H27-M27)<>0,H27-M27,IF(H27>0,"0",""))
H29: =IF(B29<>"計",ROUNDDOWN(E29*G29,0),SUM(H$1:H28)) -> 0 | M29: =IF(B29<>"計",ROUNDDOWN(E29*G29,0),SUM(M$1:M28)) -> 0 | N29: =IF((+H29-M29)<>0,H29-M29,IF(H29>0,"0",""))
H31: =IF(B31<>"計",ROUNDDOWN(E31*G31,0),SUM(H$1:H30)) -> 0 | M31: =IF(B31<>"計",ROUNDDOWN(E31*G31,0),SUM(M$1:M30)) -> 0 | N31: =IF((+H31-M31)<>0,H31-M31,IF(H31>0,"0",""))
H33: =IF(B33<>"計",ROUNDDOWN(E33*G33,0),SUM(H$1:H32)) -> 0 | M33: =IF(B33<>"計",ROUNDDOWN(E33*G33,0),SUM(M$1:M32)) -> 0 | N33: =IF((+H33-M33)<>0,H33-M33,IF(H33>0,"0",""))
B35: 計 | H35: =IF(B35<>"計",ROUNDDOWN(E35*G35,0),SUM(H$1:H34)) -> 0 | M35: =IF(B35<>"計",ROUNDDOWN(E35*G35,0),SUM(M$1:M34)) -> 0 | N35: =IF((+H35-M35)<>0,H35-M35,IF(H35>0,"0",""))
H37: =IF(B37<>"計",ROUNDDOWN(E37*G37,0),SUM(H$1:H36)) -> 0 | M37: =IF(B37<>"計",ROUNDDOWN(E37*G37,0),SUM(M$1:M36)) -> 0 | N37: =IF((+H37-M37)<>0,H37-M37,IF(H37>0,"0",""))
H39: =IF(B39<>"計",ROUNDDOWN(E39*G39,0),SUM(H$1:H38)) -> 0 | M39: =IF(B39<>"計",ROUNDDOWN(E39*G39,0),SUM(M$1:M38)) -> 0 | N39: =IF((+H39-M39)<>0,H39-M39,IF(H39>0,"0",""))
H41: =IF(B41<>"計",ROUNDDOWN(E41*G41,0),SUM(H$1:H40)) -> 0 | M41: =IF(B41<>"計",ROUNDDOWN(E41*G41,0),SUM(M$1:M40)) -> 0 | N41: =IF((+H41-M41)<>0,H41-M41,IF(H41>0,"0",""))
H43: =IF(B43<>"計",ROUNDDOWN(E43*G43,0),SUM(H$1:H42)) -> 0 | M43: =IF(B43<>"計",ROUNDDOWN(E43*G43,0),SUM(M$1:M42)) -> 0 | N43: =IF((+H43-M43)<>0,H43-M43,IF(H43>0,"0",""))
H45: =IF(B45<>"計",ROUNDDOWN(E45*G45,0),SUM(H$1:H44)) -> 0 | M45: =IF(B45<>"計",ROUNDDOWN(E45*G45,0),SUM(M$1:M44)) -> 0 | N45: =IF((+H45-M45)<>0,H45-M45,IF(H45>0,"0",""))
H47: =IF(B47<>"計",ROUNDDOWN(E47*G47,0),SUM(H$1:H46)) -> 0 | M47: =IF(B47<>"計",ROUNDDOWN(E47*G47,0),SUM(M$1:M46)) -> 0 | N47: =IF((+H47-M47)<>0,H47-M47,IF(H47>0,"0",""))
H49: =IF(B49<>"計",ROUNDDOWN(E49*G49,0),SUM(H$1:H48)) -> 0 | M49: =IF(B49<>"計",ROUNDDOWN(E49*G49,0),SUM(M$1:M48)) -> 0 | N49: =IF((+H49-M49)<>0,H49-M49,IF(H49>0,"0",""))
H51: =IF(B51<>"計",ROUNDDOWN(E51*G51,0),SUM(H$1:H50)) -> 0 | M51: =IF(B51<>"計",ROUNDDOWN(E51*G51,0),SUM(M$1:M50)) -> 0 | N51: =IF((+H51-M51)<>0,H51-M51,IF(H51>0,"0",""))
H53: =IF(B53<>"計",ROUNDDOWN(E53*G53,0),SUM(H$1:H52)) -> 0 | M53: =IF(B53<>"計",ROUNDDOWN(E53*G53,0),SUM(M$1:M52)) -> 0 | N53: =IF((+H53-M53)<>0,H53-M53,IF(H53>0,"0",""))
H55: =IF(B55<>"計",ROUNDDOWN(E55*G55,0),SUM(H$1:H54)) -> 0 | M55: =IF(B55<>"計",ROUNDDOWN(E55*G55,0),SUM(M$1:M54)) -> 0 | N55: =IF((+H55-M55)<>0,H55-M55,IF(H55>0,"0",""))
H57: =IF(B57<>"計",ROUNDDOWN(E57*G57,0),SUM(H$1:H56)) -> 0 | M57: =IF(B57<>"計",ROUNDDOWN(E57*G57,0),SUM(M$1:M56)) -> 0 | N57: =IF((+H57-M57)<>0,H57-M57,IF(H57>0,"0",""))
H59: =IF(B59<>"計",ROUNDDOWN(E59*G59,0),SUM(H$1:H58)) -> 0 | M59: =IF(B59<>"計",ROUNDDOWN(E59*G59,0),SUM(M$1:M58)) -> 0 | N59: =IF((+H59-M59)<>0,H59-M59,IF(H59>0,"0",""))
... H73: =IF(B73<>"計",ROUNDDOWN(E73*G73,0),SUM(H$1:H72)) -> 0 | M73: =IF(B73<>"計",ROUNDDOWN(E73*G73,0),SUM(M$1:M72)) -> 0 | N73: =IF((+H73-M73)<>0,H73-M73,IF(H73>0,"0",""))
H191: =ROUNDDOWN(E191*G191,0) -> 0
H193: =ROUNDDOWN(E193*G193,0) -> 0
H195: =ROUNDDOWN(E195*G195,0) -> 0
H197: =ROUNDDOWN(E197*G197,0) -> 0
H199: =ROUNDDOWN(E199*G199,0) -> 0
H201: =ROUNDDOWN(E201*G201,0) -> 0
H203: =ROUNDDOWN(E203*G203,0) -> 0
H205: =ROUNDDOWN(E205*G205,0) -> 0
H207: =ROUNDDOWN(E207*G207,0) -> 0
H209: =ROUNDDOWN(E209*G209,0) -> 0
H211: =ROUNDDOWN(E211*G211,0) -> 0
H213: =ROUNDDOWN(E213*G213,0) -> 0
... H225: =ROUNDDOWN(E225*G225,0) -> 0

Sheet 衛生内訳
B1: 名 称 | C1: 摘 要 | E1: 数 量 | F1: 単位 | G1: 単 価 | H1: 金 額 | I1: 備 考 | M1: 検算欄 | N1: 検算差額
M2: 下以降一式と合計は各自設定 | N2: 差額が0であればOK
H3: =IF(B3<>"計",ROUNDDOWN(E3*G3,0),SUM(H$1:H2)) -> 0 | M3: =IF(B3<>"計",ROUNDDOWN(E3*G3,0),SUM(M$1:M2)) -> 0 | N3: =IF((+H3-M3)<>0,H3-M3,IF(H3>0,"0",""))
H5: =IF(B5<>"計",ROUNDDOWN(E5*G5,0),SUM(H$1:H4)) -> 0 | M5: =IF(B5<>"計",ROUNDDOWN(E5*G5,0),SUM(M$1:M4)) -> 0 | N5: =IF((+H5-M5)<>0,H5-M5,IF(H5>0,"0",""))
H7: =IF(B7<>"計",ROUNDDOWN(E7*G7,0),SUM(H$1:H6)) -> 0 | M7: =IF(B7<>"計",ROUNDDOWN(E7*G7,0),SUM(M$1:M6)) -> 0 | N7: =IF((+H7-M7)<>0,H7-M7,IF(H7>0,"0",""))
H9: =IF(B9<>"計",ROUNDDOWN(E9*G9,0),SUM(H$1:H8)) -> 0 | M9: =IF(B9<>"計",ROUNDDOWN(E9*G9,0),SUM(M$1:M8)) -> 0 | N9: =IF((+H9-M9)<>0,H9-M9,IF(H9>0,"0",""))
H11: =IF(B11<>"計",ROUNDDOWN(E11*G11,0),SUM(H$1:H10)) -> 0 | M11: =IF(B11<>"計",ROUNDDOWN(E11*G11,0),SUM(M$1:M10)) -> 0 | N11: =IF((+H11-M11)<>0,H11-M11,IF(H11>0,"0",""))
H13: =IF(B13<>"計",ROUNDDOWN(E13*G13,0),SUM(H$1:H12)) -> 0 | M13: =IF(B13<>"計",ROUNDDOWN(E13*G13,0),SUM(M$1:M12)) -> 0 | N13: =IF((+H13-M13)<>0,H13-M13,IF(H13>0,"0",""))
H15: =IF(B15<>"計",ROUNDDOWN(E15*G15,0),SUM(H$1:H14)) -> 0 | M15: =IF(B15<>"計",ROUNDDOWN(E15*G15,0),SUM(M$1:M14)) -> 0 | N15: =IF((+H15-M15)<>0,H15-M15,IF(H15>0,"0",""))
H17: =IF(B17<>"計",ROUNDDOWN(E17*G17,0),SUM(H$1:H16)) -> 0 | M17: =IF(B17<>"計",ROUNDDOWN(E17*G17,0),SUM(M$1:M16)) -> 0 | N17: =IF((+H17-M17)<>0,H17-M17,IF(H17>0,"0",""))
H19: =IF(B19<>"計",ROUNDDOWN(E19*G19,0),SUM(H$1:H18)) -> 0 | M19: =IF(B19<>"計",ROUNDDOWN(E19*G19,0),SUM(M$1:M18)) -> 0 | N19: =IF((+H19-M19)<>0,H19-M19,IF(H19>0,"0",""))
H21: =IF(B21<>"計",ROUNDDOWN(E21*G21,0),SUM(H$1:H20)) -> 0 | M21: =IF(B21<>"計",ROUNDDOWN(E21*G21,0),SUM(M$1:M20)) -> 0 | N21: =IF((+H21-M21)<>0,H21-M21,IF(H21>0,"0",""))
H23: =IF(B23<>"計",ROUNDDOWN(E23*G23,0),SUM(H$1:H22)) -> 0 | M23: =IF(B23<>"計",ROUNDDOWN(E23*G23,0),SUM(M$1:M22)) -> 0 | N23: =IF((+H23-M23)<>0,H23-M23,IF(H23>0,"0",""))
H25: =IF(B25<>"計",ROUNDDOWN(E25*G25,0),SUM(H$1:H24)) -> 0 | M25: =IF(B25<>"計",ROUNDDOWN(E25*G25,0),SUM(M$1:M24)) -> 0 | N25: =IF((+H25-M25)<>0,H25-M25,IF(H25>0,"0",""))
... H181: =IF(B181<>"計",ROUNDDOWN(E181*G181,0),SUM(H$1:H180)) -> 0 | M181: =IF(B181<>"計",ROUNDDOWN(E181*G181,0),SUM(M$1:M180)) -> 0 | N181: =IF((+H181-M181)<>0,H181-M181,IF(H181>0,"0",""))
H183: =ROUNDDOWN(E183*G183,0) -> 0
H185: =ROUNDDOWN(E185*G185,0) -> 0
H187: =ROUNDDOWN(E187*G187,0) -> 0
H189: =ROUNDDOWN(E189*G189,0) -> 0
H191: =ROUNDDOWN(E191*G191,0) -> 0
H193: =ROUNDDOWN(E193*G193,0) -> 0
H195: =ROUNDDOWN(E195*G195,0) -> 0
H197: =ROUNDDOWN(E197*G197,0) -> 0
H199: =ROUNDDOWN(E199*G199,0) -> 0
H201: =ROUNDDOWN(E201*G201,0) -> 0
H203: =ROUNDDOWN(E203*G203,0) -> 0
H205: =ROUNDDOWN(E205*G205,0) -> 0
... H333: =ROUNDDOWN(E333*G333,0) -> 0

Sheet （5）昇降機　説明
B1: 名 称 | C1: 摘 要 | E1: 数 量 | F1: 単位 | G1: 単 価 | H1: 金 額 | I1: 備 考 | M1: 検算欄 | N1: 検算差額
M2: 下以降一式と合計は各自設定 | N2: 差額が0であればOK
A3: （5) | B3: 昇降機設備工事 | H3: =IF(B3<>"計",ROUNDDOWN(E3*G3,0),SUM(H$1:H2)) -> 0 | M3: =IF(B3<>"計",ROUNDDOWN(E3*G3,0),SUM(M$1:M2)) -> 0 | N3: =IF((+H3-M3)<>0,H3-M3,IF(H3>0,"0",""))
H5: =IF(B5<>"計",ROUNDDOWN(E5*G5,0),SUM(H$1:H4)) -> 0 | M5: =IF(B5<>"計",ROUNDDOWN(E5*G5,0),SUM(M$1:M4)) -> 0 | N5: =IF((+H5-M5)<>0,H5-M5,IF(H5>0,"0",""))
A7: No1 | B7: 乗用エレベーター | C7: 積載荷重 1,600kg | E7: 1 | F7: 台 | H7: =IF(B7<>"計",ROUNDDOWN(E7*G7,0),SUM(H$1:H6)) -> 0 | M7: =IF(B7<>"計",ROUNDDOWN(E7*G7,0),SUM(M$1:M6)) -> 0 | N7: =IF((+H7-M7)<>0,H7-M7,IF(H7>0,"0",""))
C8: 定員 24名
C9: 速度 150m/分 | H9: =IF(B9<>"計",ROUNDDOWN(E9*G9,0),SUM(H$1:H8)) -> 0 | M9: =IF(B9<>"計",ROUNDDOWN(E9*G9,0),SUM(M$1:M8)) -> 0 | N9: =IF((+H9-M9)<>0,H9-M9,IF(H9>0,"0",""))
C10: 停止個所 17個所(B1～16階)
C11: 地震時管制運転(Ｐ波ｾﾝｻ-) | H11: =IF(B11<>"計",ROUNDDOWN(E11*G11,0),SUM(H$1:H10)) -> 0 | M11: =IF(B11<>"計",ROUNDDOWN(E11*G11,0),SUM(M$1:M10)) -> 0 | N11: =IF((+H11-M11)<>0,H11-M11,IF(H11>0,"0",""))
C12: 火災時管制運転
C13: 停電時自動着床装置 | E13: 1 | F13: 台 | H13: =IF(B13<>"計",ROUNDDOWN(E13*G13,0),SUM(H$1:H12)) -> 0 | M13: =IF(B13<>"計",ROUNDDOWN(E13*G13,0),SUM(M$1:M12)) -> 0 | N13: =IF((+H13-M13)<>0,H13-M13,IF(H13>0,"0",""))
C14: 三方枠 大枠ｽﾃﾝﾚｽHL仕上
C15: ｸ-ﾗ-付 | H15: =IF(B15<>"計",ROUNDDOWN(E15*G15,0),SUM(H$1:H14)) -> 0 | M15: =IF(B15<>"計",ROUNDDOWN(E15*G15,0),SUM(M$1:M14)) -> 0 | N15: =IF((+H15-M15)<>0,H15-M15,IF(H15>0,"0",""))
H17: =IF(B17<>"計",ROUNDDOWN(E17*G17,0),SUM(H$1:H16)) -> 0 | M17: =IF(B17<>"計",ROUNDDOWN(E17*G17,0),SUM(M$1:M16)) -> 0 | N17: =IF((+H17-M17)<>0,H17-M17,IF(H17>0,"0",""))
A19: No2 | B19: 人荷兼非常用エレベーター | C19: 積載荷重 1,900kg | H19: =IF(B19<>"計",ROUNDDOWN(E19*G19,0),SUM(H$1:H18)) -> 0 | M19: =IF(B19<>"計",ROUNDDOWN(E19*G19,0),SUM(M$1:M18)) -> 0 | N19: =IF((+H19-M19)<>0,H19-M19,IF(H19>0,"0",""))
C20: 定員 29名
C21: 速度 105m/分 | H21: =IF(B21<>"計",ROUNDDOWN(E21*G21,0),SUM(H$1:H20)) -> 0 | M21: =IF(B21<>"計",ROUNDDOWN(E21*G21,0),SUM(M$1:M20)) -> 0 | N21: =IF((+H21-M21)<>0,H21-M21,IF(H21>0,"0",""))
C22: 停止個所 18個所(B2～16階)
C23: 地震時管制運転(Ｐ波ｾﾝｻ-) | H23: =IF(B23<>"計",ROUNDDOWN(E23*G23,0),SUM(H$1:H22)) -> 0 | M23: =IF(B23<>"計",ROUNDDOWN(E23*G23,0),SUM(M$1:M22)) -> 0 | N23: =IF((+H23-M23)<>0,H23-M23,IF(H23>0,"0",""))
C24: 三方枠 大枠ｽﾃﾝﾚｽHL仕上
C25: 車椅子仕様付 | H25: =IF(B25<>"計",ROUNDDOWN(E25*G25,0),SUM(H$1:H24)) -> 0 | M25: =IF(B25<>"計",ROUNDDOWN(E25*G25,0),SUM(M$1:M24)) -> 0 | N25: =IF((+H25-M25)<>0,H25-M25,IF(H25>0,"0",""))
H27: =IF(B27<>"計",ROUNDDOWN(E27*G27,0),SUM(H$1:H26)) -> 0 | M27: =IF(B27<>"計",ROUNDDOWN(E27*G27,0),SUM(M$1:M26)) -> 0 | N27: =IF((+H27-M27)<>0,H27-M27,IF(H27>0,"0",""))
B29: 監視盤 | E29: 1 | F29: 式 | H29: =IF(B29<>"計",ROUNDDOWN(E29*G29,0),SUM(H$1:H28)) -> 0 | M29: =IF(B29<>"計",ROUNDDOWN(E29*G29,0),SUM(M$1:M28)) -> 0 | N29: =IF((+H29-M29)<>0,H29-M29,IF(H29>0,"0",""))
H31: =IF(B31<>"計",ROUNDDOWN(E31*G31,0),SUM(H$1:H30)) -> 0 | M31: =IF(B31<>"計",ROUNDDOWN(E31*G31,0),SUM(M$1:M30)) -> 0 | N31: =IF((+H31-M31)<>0,H31-M31,IF(H31>0,"0",""))
H33: =IF(B33<>"計",ROUNDDOWN(E33*G33,0),SUM(H$1:H32)) -> 0 | M33: =IF(B33<>"計",ROUNDDOWN(E33*G33,0),SUM(M$1:M32)) -> 0 | N33: =IF((+H33-M33)<>0,H33-M33,IF(H33>0,"0",""))
B35: 計 | H35: =IF(B35<>"計",ROUNDDOWN(E35*G35,0),SUM(H$1:H34)) -> 0 | M35: =IF(B35<>"計",ROUNDDOWN(E35*G35,0),SUM(M$1:M34)) -> 0 | N35: =IF((+H35-M35)<>0,H35-M35,IF(H35>0,"0",""))
H37: =IF(B37<>"計",ROUNDDOWN(E37*G37,0),SUM(H$1:H36)) -> 0 | M37: =IF(B37<>"計",ROUNDDOWN(E37*G37,0),SUM(M$1:M36)) -> 0 | N37: =IF((+H37-M37)<>0,H37-M37,IF(H37>0,"0",""))
H39: =IF(B39<>"計",ROUNDDOWN(E39*G39,0),SUM(H$1:H38)) -> 0 | M39: =IF(B39<>"計",ROUNDDOWN(E39*G39,0),SUM(M$1:M38)) -> 0 | N39: =IF((+H39-M39)<>0,H39-M39,IF(H39>0,"0",""))
H41: =IF(B41<>"計",ROUNDDOWN(E41*G41,0),SUM(H$1:H40)) -> 0 | M41: =IF(B41<>"計",ROUNDDOWN(E41*G41,0),SUM(M$1:M40)) -> 0 | N41: =IF((+H41-M41)<>0,H41-M41,IF(H41>0,"0",""))
H43: =IF(B43<>"計",ROUNDDOWN(E43*G43,0),SUM(H$1:H42)) -> 0 | M43: =IF(B43<>"計",ROUNDDOWN(E43*G43,0),SUM(M$1:M42)) -> 0 | N43: =IF((+H43-M43)<>0,H43-M43,IF(H43>0,"0",""))
H45: =IF(B45<>"計",ROUNDDOWN(E45*G45,0),SUM(H$1:H44)) -> 0 | M45: =IF(B45<>"計",ROUNDDOWN(E45*G45,0),SUM(M$1:M44)) -> 0 | N45: =IF((+H45-M45)<>0,H45-M45,IF(H45>0,"0",""))
H47: =IF(B47<>"計",ROUNDDOWN(E47*G47,0),SUM(H$1:H46)) -> 0 | M47: =IF(B47<>"計",ROUNDDOWN(E47*G47,0),SUM(M$1:M46)) -> 0 | N47: =IF((+H47-M47)<>0,H47-M47,IF(H47>0,"0",""))
H49: =IF(B49<>"計",ROUNDDOWN(E49*G49,0),SUM(H$1:H48)) -> 0 | M49: =IF(B49<>"計",ROUNDDOWN(E49*G49,0),SUM(M$1:M48)) -> 0 | N49: =IF((+H49-M49)<>0,H49-M49,IF(H49>0,"0",""))
H51: =IF(B51<>"計",ROUNDDOWN(E51*G51,0),SUM(H$1:H50)) -> 0 | M51: =IF(B51<>"計",ROUNDDOWN(E51*G51,0),SUM(M$1:M50)) -> 0 | N51: =IF((+H51-M51)<>0,H51-M51,IF(H51>0,"0",""))
H53: =IF(B53<>"計",ROUNDDOWN(E53*G53,0),SUM(H$1:H52)) -> 0 | M53: =IF(B53<>"計",ROUNDDOWN(E53*G53,0),SUM(M$1:M52)) -> 0 | N53: =IF((+H53-M53)<>0,H53-M53,IF(H53>0,"0",""))
H55: =IF(B55<>"計",ROUNDDOWN(E55*G55,0),SUM(H$1:H54)) -> 0 | M55: =IF(B55<>"計",ROUNDDOWN(E55*G55,0),SUM(M$1:M54)) -> 0 | N55: =IF((+H55-M55)<>0,H55-M55,IF(H55>0,"0",""))
H57: =IF(B57<>"計",ROUNDDOWN(E57*G57,0),SUM(H$1:H56)) -> 0 | M57: =IF(B57<>"計",ROUNDDOWN(E57*G57,0),SUM(M$1:M56)) -> 0 | N57: =IF((+H57-M57)<>0,H57-M57,IF(H57>0,"0",""))
H59: =IF(B59<>"計",ROUNDDOWN(E59*G59,0),SUM(H$1:H58)) -> 0 | M59: =IF(B59<>"計",ROUNDDOWN(E59*G59,0),SUM(M$1:M58)) -> 0 | N59: =IF((+H59-M59)<>0,H59-M59,IF(H59>0,"0",""))
... H73: =IF(B73<>"計",ROUNDDOWN(E73*G73,0),SUM(H$1:H72)) -> 0 | M73: =IF(B73<>"計",ROUNDDOWN(E73*G73,0),SUM(M$1:M72)) -> 0 | N73: =IF((+H73-M73)<>0,H73-M73,IF(H73>0,"0",""))
H75: =ROUNDDOWN(E75*G75,0) -> 0
H77: =ROUNDDOWN(E77*G77,0) -> 0
H79: =ROUNDDOWN(E79*G79,0) -> 0
H81: =ROUNDDOWN(E81*G81,0) -> 0
H83: =ROUNDDOWN(E83*G83,0) -> 0
H85: =ROUNDDOWN(E85*G85,0) -> 0
H87: =ROUNDDOWN(E87*G87,0) -> 0
H89: =ROUNDDOWN(E89*G89,0) -> 0
H91: =ROUNDDOWN(E91*G91,0) -> 0
H93: =ROUNDDOWN(E93*G93,0) -> 0
H95: =ROUNDDOWN(E95*G95,0) -> 0
H97: =ROUNDDOWN(E97*G97,0) -> 0
... H119: =ROUNDDOWN(E119*G119,0) -> 0

Sheet （6）機械　説明
B1: 名 称 | C1: 摘 要 | E1: 数 量 | F1: 単位 | G1: 単 価 | H1: 金 額 | I1: 備 考 | M1: 検算欄 | N1: 検算差額
M2: 下以降一式と合計は各自設定 | N2: 差額が0であればOK
A3: （6) | B3: 機械駐車設備工事 | H3: =IF(B3<>"計",ROUNDDOWN(E3*G3,0),SUM(H$1:H2)) -> 0 | M3: =IF(B3<>"計",ROUNDDOWN(E3*G3,0),SUM(M$1:M2)) -> 0 | N3: =IF((+H3-M3)<>0,H3-M3,IF(H3>0,"0",""))
H5: =IF(B5<>"計",ROUNDDOWN(E5*G5,0),SUM(H$1:H4)) -> 0 | M5: =IF(B5<>"計",ROUNDDOWN(E5*G5,0),SUM(M$1:M4)) -> 0 | N5: =IF((+H5-M5)<>0,H5-M5,IF(H5>0,"0",""))
B7: 機械式駐車設備 | C7: 昇降・横行二段式 | E7: 1 | F7: 式 | H7: =IF(B7<>"計",ROUNDDOWN(E7*G7,0),SUM(H$1:H6)) -> 0 | M7: =IF(B7<>"計",ROUNDDOWN(E7*G7,0),SUM(M$1:M6)) -> 0 | N7: =IF((+H7-M7)<>0,H7-M7,IF(H7>0,"0",""))
C8: 小型車 16台収容
H9: =IF(B9<>"計",ROUNDDOWN(E9*G9,0),SUM(H$1:H8)) -> 0 | M9: =IF(B9<>"計",ROUNDDOWN(E9*G9,0),SUM(M$1:M8)) -> 0 | N9: =IF((+H9-M9)<>0,H9-M9,IF(H9>0,"0",""))
B11: 機械式駐車設備 | C11: 昇降・横行二段式 | E11: 1 | F11: 式 | H11: =IF(B11<>"計",ROUNDDOWN(E11*G11,0),SUM(H$1:H10)) -> 0 | M11: =IF(B11<>"計",ROUNDDOWN(E11*G11,0),SUM(M$1:M10)) -> 0 | N11: =IF((+H11-M11)<>0,H11-M11,IF(H11>0,"0",""))
C12: 中型車 33台収容
H13: =IF(B13<>"計",ROUNDDOWN(E13*G13,0),SUM(H$1:H12)) -> 0 | M13: =IF(B13<>"計",ROUNDDOWN(E13*G13,0),SUM(M$1:M12)) -> 0 | N13: =IF((+H13-M13)<>0,H13-M13,IF(H13>0,"0",""))
H15: =IF(B15<>"計",ROUNDDOWN(E15*G15,0),SUM(H$1:H14)) -> 0 | M15: =IF(B15<>"計",ROUNDDOWN(E15*G15,0),SUM(M$1:M14)) -> 0 | N15: =IF((+H15-M15)<>0,H15-M15,IF(H15>0,"0",""))
H17: =IF(B17<>"計",ROUNDDOWN(E17*G17,0),SUM(H$1:H16)) -> 0 | M17: =IF(B17<>"計",ROUNDDOWN(E17*G17,0),SUM(M$1:M16)) -> 0 | N17: =IF((+H17-M17)<>0,H17-M17,IF(H17>0,"0",""))
H19: =IF(B19<>"計",ROUNDDOWN(E19*G19,0),SUM(H$1:H18)) -> 0 | M19: =IF(B19<>"計",ROUNDDOWN(E19*G19,0),SUM(M$1:M18)) -> 0 | N19: =IF((+H19-M19)<>0,H19-M19,IF(H19>0,"0",""))
H21: =IF(B21<>"計",ROUNDDOWN(E21*G21,0),SUM(H$1:H20)) -> 0 | M21: =IF(B21<>"計",ROUNDDOWN(E21*G21,0),SUM(M$1:M20)) -> 0 | N21: =IF((+H21-M21)<>0,H21-M21,IF(H21>0,"0",""))
H23: =IF(B23<>"計",ROUNDDOWN(E23*G23,0),SUM(H$1:H22)) -> 0 | M23: =IF(B23<>"計",ROUNDDOWN(E23*G23,0),SUM(M$1:M22)) -> 0 | N23: =IF((+H23-M23)<>0,H23-M23,IF(H23>0,"0",""))
H25: =IF(B25<>"計",ROUNDDOWN(E25*G25,0),SUM(H$1:H24)) -> 0 | M25: =IF(B25<>"計",ROUNDDOWN(E25*G25,0),SUM(M$1:M24)) -> 0 | N25: =IF((+H25-M25)<>0,H25-M25,IF(H25>0,"0",""))
H27: =IF(B27<>"計",ROUNDDOWN(E27*G27,0),SUM(H$1:H26)) -> 0 | M27: =IF(B27<>"計",ROUNDDOWN(E27*G27,0),SUM(M$1:M26)) -> 0 | N27: =IF((+H27-M27)<>0,H27-M27,IF(H27>0,"0",""))
H29: =IF(B29<>"計",ROUNDDOWN(E29*G29,0),SUM(H$1:H28)) -> 0 | M29: =IF(B29<>"計",ROUNDDOWN(E29*G29,0),SUM(M$1:M28)) -> 0 | N29: =IF((+H29-M29)<>0,H29-M29,IF(H29>0,"0",""))
H31: =IF(B31<>"計",ROUNDDOWN(E31*G31,0),SUM(H$1:H30)) -> 0 | M31: =IF(B31<>"計",ROUNDDOWN(E31*G31,0),SUM(M$1:M30)) -> 0 | N31: =IF((+H31-M31)<>0,H31-M31,IF(H31>0,"0",""))
H33: =IF(B33<>"計",ROUNDDOWN(E33*G33,0),SUM(H$1:H32)) -> 0 | M33: =IF(B33<>"計",ROUNDDOWN(E33*G33,0),SUM(M$1:M32)) -> 0 | N33: =IF((+H33-M33)<>0,H33-M33,IF(H33>0,"0",""))
B35: 計 | H35: =IF(B35<>"計",ROUNDDOWN(E35*G35,0),SUM(H$1:H34)) -> 0 | M35: =IF(B35<>"計",ROUNDDOWN(E35*G35,0),SUM(M$1:M34)) -> 0 | N35: =IF((+H35-M35)<>0,H35-M35,IF(H35>0,"0",""))
H37: =IF(B37<>"計",ROUNDDOWN(E37*G37,0),SUM(H$1:H36)) -> 0 | M37: =IF(B37<>"計",ROUNDDOWN(E37*G37,0),SUM(M$1:M36)) -> 0 | N37: =IF((+H37-M37)<>0,H37-M37,IF(H37>0,"0",""))
H189: =ROUNDDOWN(E189*G189,0) -> 0
H191: =ROUNDDOWN(E191*G191,0) -> 0
H193: =ROUNDDOWN(E193*G193,0) -> 0
H195: =ROUNDDOWN(E195*G195,0) -> 0
H197: =ROUNDDOWN(E197*G197,0) -> 0
H199: =ROUNDDOWN(E199*G199,0) -> 0
H201: =ROUNDDOWN(E201*G201,0) -> 0
H203: =ROUNDDOWN(E203*G203,0) -> 0
H205: =ROUNDDOWN(E205*G205,0) -> 0
H207: =ROUNDDOWN(E207*G207,0) -> 0
H209: =ROUNDDOWN(E209*G209,0) -> 0
H211: =ROUNDDOWN(E211*G211,0) -> 0
... H221: =ROUNDDOWN(E221*G221,0) -> 0

Sheet （7） 屋外 
B1: 名 称 | C1: 摘 要 | E1: 数 量 | F1: 単位 | G1: 単 価 | H1: 金 額 | I1: 備 考 | M1: 検算欄 | N1: 検算差額
M2: 下以降一式と合計は各自設定 | N2: 差額が0であればOK
A3: （7) | B3: 屋外施設工事 | H3: =IF(B3<>"計",ROUNDDOWN(E3*G3,0),SUM(H$1:H2)) -> 0 | M3: =IF(B3<>"計",ROUNDDOWN(E3*G3,0),SUM(M$1:M2)) -> 0 | N3: =IF((+H3-M3)<>0,H3-M3,IF(H3>0,"0",""))
H5: =IF(B5<>"計",ROUNDDOWN(E5*G5,0),SUM(H$1:H4)) -> 0 | M5: =IF(B5<>"計",ROUNDDOWN(E5*G5,0),SUM(M$1:M4)) -> 0 | N5: =IF((+H5-M5)<>0,H5-M5,IF(H5>0,"0",""))
A7: 1. | B7: 直接仮設 | E7: 1 | F7: 式 | H7: =IF(B7<>"計",ROUNDDOWN(E7*G7,0),SUM(H$1:H6)) -> 0 | M7: =IF(B7<>"計",ROUNDDOWN(E7*G7,0),SUM(M$1:M6)) -> 0 | N7: =IF((+H7-M7)<>0,H7-M7,IF(H7>0,"0",""))
A9: 2. | B9: 舗装 | E9: 1 | F9: 式 | H9: =IF(B9<>"計",ROUNDDOWN(E9*G9,0),SUM(H$1:H8)) -> 0 | M9: =IF(B9<>"計",ROUNDDOWN(E9*G9,0),SUM(M$1:M8)) -> 0 | N9: =IF((+H9-M9)<>0,H9-M9,IF(H9>0,"0",""))
A11: 3. | B11: 屋外排水設備 | E11: 1 | F11: 式 | H11: =IF(B11<>"計",ROUNDDOWN(E11*G11,0),SUM(H$1:H10)) -> 0 | M11: =IF(B11<>"計",ROUNDDOWN(E11*G11,0),SUM(M$1:M10)) -> 0 | N11: =IF((+H11-M11)<>0,H11-M11,IF(H11>0,"0",""))
A13: 4. | B13: 造園 | E13: 1 | F13: 式 | H13: =IF(B13<>"計",ROUNDDOWN(E13*G13,0),SUM(H$1:H12)) -> 0 | M13: =IF(B13<>"計",ROUNDDOWN(E13*G13,0),SUM(M$1:M12)) -> 0 | N13: =IF((+H13-M13)<>0,H13-M13,IF(H13>0,"0",""))
A15: 5. | B15: 囲障 | E15: 1 | F15: 式 | H15: =IF(B15<>"計",ROUNDDOWN(E15*G15,0),SUM(H$1:H14)) -> 0 | M15: =IF(B15<>"計",ROUNDDOWN(E15*G15,0),SUM(M$1:M14)) -> 0 | N15: =IF((+H15-M15)<>0,H15-M15,IF(H15>0,"0",""))
A17: 6. | B17: 外部工作物 | E17: 1 | F17: 式 | H17: =IF(B17<>"計",ROUNDDOWN(E17*G17,0),SUM(H$1:H16)) -> 0 | M17: =IF(B17<>"計",ROUNDDOWN(E17*G17,0),SUM(M$1:M16)) -> 0 | N17: =IF((+H17-M17)<>0,H17-M17,IF(H17>0,"0",""))
H19: =IF(B19<>"計",ROUNDDOWN(E19*G19,0),SUM(H$1:H18)) -> 0 | M19: =IF(B19<>"計",ROUNDDOWN(E19*G19,0),SUM(M$1:M18)) -> 0 | N19: =IF((+H19-M19)<>0,H19-M19,IF(H19>0,"0",""))
H21: =IF(B21<>"計",ROUNDDOWN(E21*G21,0),SUM(H$1:H20)) -> 0 | M21: =IF(B21<>"計",ROUNDDOWN(E21*G21,0),SUM(M$1:M20)) -> 0 | N21: =IF((+H21-M21)<>0,H21-M21,IF(H21>0,"0",""))
H23: =IF(B23<>"計",ROUNDDOWN(E23*G23,0),SUM(H$1:H22)) -> 0 | M23: =IF(B23<>"計",ROUNDDOWN(E23*G23,0),SUM(M$1:M22)) -> 0 | N23: =IF((+H23-M23)<>0,H23-M23,IF(H23>0,"0",""))
H25: =IF(B25<>"計",ROUNDDOWN(E25*G25,0),SUM(H$1:H24)) -> 0 | M25: =IF(B25<>"計",ROUNDDOWN(E25*G25,0),SUM(M$1:M24)) -> 0 | N25: =IF((+H25-M25)<>0,H25-M25,IF(H25>0,"0",""))
H27: =IF(B27<>"計",ROUNDDOWN(E27*G27,0),SUM(H$1:H26)) -> 0 | M27: =IF(B27<>"計",ROUNDDOWN(E27*G27,0),SUM(M$1:M26)) -> 0 | N27: =IF((+H27-M27)<>0,H27-M27,IF(H27>0,"0",""))
H29: =IF(B29<>"計",ROUNDDOWN(E29*G29,0),SUM(H$1:H28)) -> 0 | M29: =IF(B29<>"計",ROUNDDOWN(E29*G29,0),SUM(M$1:M28)) -> 0 | N29: =IF((+H29-M29)<>0,H29-M29,IF(H29>0,"0",""))
H31: =IF(B31<>"計",ROUNDDOWN(E31*G31,0),SUM(H$1:H30)) -> 0 | M31: =IF(B31<>"計",ROUNDDOWN(E31*G31,0),SUM(M$1:M30)) -> 0 | N31: =IF((+H31-M31)<>0,H31-M31,IF(H31>0,"0",""))
H33: =IF(B33<>"計",ROUNDDOWN(E33*G33,0),SUM(H$1:H32)) -> 0 | M33: =IF(B33<>"計",ROUNDDOWN(E33*G33,0),SUM(M$1:M32)) -> 0 | N33: =IF((+H33-M33)<>0,H33-M33,IF(H33>0,"0",""))
B35: 計 | H35: =IF(B35<>"計",ROUNDDOWN(E35*G35,0),SUM(H$1:H34)) -> 0 | M35: =IF(B35<>"計",ROUNDDOWN(E35*G35,0),SUM(M$1:M34)) -> 0 | N35: =IF((+H35-M35)<>0,H35-M35,IF(H35>0,"0",""))
H37: =IF(B37<>"計",ROUNDDOWN(E37*G37,0),SUM(H$1:H36)) -> 0 | M37: =IF(B37<>"計",ROUNDDOWN(E37*G37,0),SUM(M$1:M36)) -> 0 | N37: =IF((+H37-M37)<>0,H37-M37,IF(H37>0,"0",""))
H39: =ROUNDDOWN(E39*G39,0) -> 0
H41: =ROUNDDOWN(E41*G41,0) -> 0
H43: =ROUNDDOWN(E43*G43,0) -> 0
H45: =ROUNDDOWN(E45*G45,0) -> 0
H47: =ROUNDDOWN(E47*G47,0) -> 0
H49: =ROUNDDOWN(E49*G49,0) -> 0
H51: =ROUNDDOWN(E51*G51,0) -> 0
H53: =ROUNDDOWN(E53*G53,0) -> 0
H55: =ROUNDDOWN(E55*G55,0) -> 0
H57: =ROUNDDOWN(E57*G57,0) -> 0
H59: =ROUNDDOWN(E59*G59,0) -> 0
H61: =ROUNDDOWN(E61*G61,0) -> 0
... H191: =ROUNDDOWN(E191*G191,0) -> 0

Sheet 屋外内訳 
B1: 名 称 | C1: 摘 要 | E1: 数 量 | F1: 単位 | G1: 単 価 | H1: 金 額 | I1: 備 考 | M1: 検算欄 | N1: 検算差額
M2: 下以降一式と合計は各自設定 | N2: 差額が0であればOK
H3: =IF(B3<>"計",ROUNDDOWN(E3*G3,0),SUM(H$1:H2)) -> 0 | M3: =IF(B3<>"計",ROUNDDOWN(E3*G3,0),SUM(M$1:M2)) -> 0 | N3: =IF((+H3-M3)<>0,H3-M3,IF(H3>0,"0",""))
H5: =IF(B5<>"計",ROUNDDOWN(E5*G5,0),SUM(H$1:H4)) -> 0 | M5: =IF(B5<>"計",ROUNDDOWN(E5*G5,0),SUM(M$1:M4)) -> 0 | N5: =IF((+H5-M5)<>0,H5-M5,IF(H5>0,"0",""))
H7: =IF(B7<>"計",ROUNDDOWN(E7*G7,0),SUM(H$1:H6)) -> 0 | M7: =IF(B7<>"計",ROUNDDOWN(E7*G7,0),SUM(M$1:M6)) -> 0 | N7: =IF((+H7-M7)<>0,H7-M7,IF(H7>0,"0",""))
H9: =IF(B9<>"計",ROUNDDOWN(E9*G9,0),SUM(H$1:H8)) -> 0 | M9: =IF(B9<>"計",ROUNDDOWN(E9*G9,0),SUM(M$1:M8)) -> 0 | N9: =IF((+H9-M9)<>0,H9-M9,IF(H9>0,"0",""))
H11: =IF(B11<>"計",ROUNDDOWN(E11*G11,0),SUM(H$1:H10)) -> 0 | M11: =IF(B11<>"計",ROUNDDOWN(E11*G11,0),SUM(M$1:M10)) -> 0 | N11: =IF((+H11-M11)<>0,H11-M11,IF(H11>0,"0",""))
H13: =IF(B13<>"計",ROUNDDOWN(E13*G13,0),SUM(H$1:H12)) -> 0 | M13: =IF(B13<>"計",ROUNDDOWN(E13*G13,0),SUM(M$1:M12)) -> 0 | N13: =IF((+H13-M13)<>0,H13-M13,IF(H13>0,"0",""))
H15: =IF(B15<>"計",ROUNDDOWN(E15*G15,0),SUM(H$1:H14)) -> 0 | M15: =IF(B15<>"計",ROUNDDOWN(E15*G15,0),SUM(M$1:M14)) -> 0 | N15: =IF((+H15-M15)<>0,H15-M15,IF(H15>0,"0",""))
H17: =IF(B17<>"計",ROUNDDOWN(E17*G17,0),SUM(H$1:H16)) -> 0 | M17: =IF(B17<>"計",ROUNDDOWN(E17*G17,0),SUM(M$1:M16)) -> 0 | N17: =IF((+H17-M17)<>0,H17-M17,IF(H17>0,"0",""))
H19: =IF(B19<>"計",ROUNDDOWN(E19*G19,0),SUM(H$1:H18)) -> 0 | M19: =IF(B19<>"計",ROUNDDOWN(E19*G19,0),SUM(M$1:M18)) -> 0 | N19: =IF((+H19-M19)<>0,H19-M19,IF(H19>0,"0",""))
H21: =IF(B21<>"計",ROUNDDOWN(E21*G21,0),SUM(H$1:H20)) -> 0 | M21: =IF(B21<>"計",ROUNDDOWN(E21*G21,0),SUM(M$1:M20)) -> 0 | N21: =IF((+H21-M21)<>0,H21-M21,IF(H21>0,"0",""))
H23: =IF(B23<>"計",ROUNDDOWN(E23*G23,0),SUM(H$1:H22)) -> 0 | M23: =IF(B23<>"計",ROUNDDOWN(E23*G23,0),SUM(M$1:M22)) -> 0 | N23: =IF((+H23-M23)<>0,H23-M23,IF(H23>0,"0",""))
H25: =IF(B25<>"計",ROUNDDOWN(E25*G25,0),SUM(H$1:H24)) -> 0 | M25: =IF(B25<>"計",ROUNDDOWN(E25*G25,0),SUM(M$1:M24)) -> 0 | N25: =IF((+H25-M25)<>0,H25-M25,IF(H25>0,"0",""))
... H37: =IF(B37<>"計",ROUNDDOWN(E37*G37,0),SUM(H$1:H36)) -> 0 | M37: =IF(B37<>"計",ROUNDDOWN(E37*G37,0),SUM(M$1:M36)) -> 0 | N37: =IF((+H37-M37)<>0,H37-M37,IF(H37>0,"0",""))
H39: =IF(B39<>"計",ROUNDDOWN(E39*G39,0),SUM(H$1:H38)) -> 0
H41: =IF(B41<>"計",ROUNDDOWN(E41*G41,0),SUM(H$1:H40)) -> 0 | M41: =IF(B41<>"計",ROUNDDOWN(E41*G41,0),SUM(M$1:M40)) -> 0 | N41: =IF((+H41-M41)<>0,H41-M41,IF(H41>0,"0",""))
H43: =IF(B43<>"計",ROUNDDOWN(E43*G43,0),SUM(H$1:H42)) -> 0 | M43: =IF(B43<>"計",ROUNDDOWN(E43*G43,0),SUM(M$1:M42)) -> 0 | N43: =IF((+H43-M43)<>0,H43-M43,IF(H43>0,"0",""))
H45: =IF(B45<>"計",ROUNDDOWN(E45*G45,0),SUM(H$1:H44)) -> 0 | M45: =IF(B45<>"計",ROUNDDOWN(E45*G45,0),SUM(M$1:M44)) -> 0 | N45: =IF((+H45-M45)<>0,H45-M45,IF(H45>0,"0",""))
H47: =IF(B47<>"計",ROUNDDOWN(E47*G47,0),SUM(H$1:H46)) -> 0 | M47: =IF(B47<>"計",ROUNDDOWN(E47*G47,0),SUM(M$1:M46)) -> 0 | N47: =IF((+H47-M47)<>0,H47-M47,IF(H47>0,"0",""))
H49: =IF(B49<>"計",ROUNDDOWN(E49*G49,0),SUM(H$1:H48)) -> 0 | M49: =IF(B49<>"計",ROUNDDOWN(E49*G49,0),SUM(M$1:M48)) -> 0 | N49: =IF((+H49-M49)<>0,H49-M49,IF(H49>0,"0",""))
H51: =IF(B51<>"計",ROUNDDOWN(E51*G51,0),SUM(H$1:H50)) -> 0 | M51: =IF(B51<>"計",ROUNDDOWN(E51*G51,0),SUM(M$1:M50)) -> 0 | N51: =IF((+H51-M51)<>0,H51-M51,IF(H51>0,"0",""))
H53: =IF(B53<>"計",ROUNDDOWN(E53*G53,0),SUM(H$1:H52)) -> 0 | M53: =IF(B53<>"計",ROUNDDOWN(E53*G53,0),SUM(M$1:M52)) -> 0 | N53: =IF((+H53-M53)<>0,H53-M53,IF(H53>0,"0",""))
H55: =IF(B55<>"計",ROUNDDOWN(E55*G55,0),SUM(H$1:H54)) -> 0 | M55: =IF(B55<>"計",ROUNDDOWN(E55*G55,0),SUM(M$1:M54)) -> 0 | N55: =IF((+H55-M55)<>0,H55-M55,IF(H55>0,"0",""))
H57: =IF(B57<>"計",ROUNDDOWN(E57*G57,0),SUM(H$1:H56)) -> 0 | M57: =IF(B57<>"計",ROUNDDOWN(E57*G57,0),SUM(M$1:M56)) -> 0 | N57: =IF((+H57-M57)<>0,H57-M57,IF(H57>0,"0",""))
H59: =IF(B59<>"計",ROUNDDOWN(E59*G59,0),SUM(H$1:H58)) -> 0 | M59: =IF(B59<>"計",ROUNDDOWN(E59*G59,0),SUM(M$1:M58)) -> 0 | N59: =IF((+H59-M59)<>0,H59-M59,IF(H59>0,"0",""))
H61: =IF(B61<>"計",ROUNDDOWN(E61*G61,0),SUM(H$1:H60)) -> 0 | M61: =IF(B61<>"計",ROUNDDOWN(E61*G61,0),SUM(M$1:M60)) -> 0 | N61: =IF((+H61-M61)<>0,H61-M61,IF(H61>0,"0",""))
H63: =IF(B63<>"計",ROUNDDOWN(E63*G63,0),SUM(H$1:H62)) -> 0 | M63: =IF(B63<>"計",ROUNDDOWN(E63*G63,0),SUM(M$1:M62)) -> 0 | N63: =IF((+H63-M63)<>0,H63-M63,IF(H63>0,"0",""))
... H181: =IF(B181<>"計",ROUNDDOWN(E181*G181,0),SUM(H$1:H180)) -> 0 | M181: =IF(B181<>"計",ROUNDDOWN(E181*G181,0),SUM(M$1:M180)) -> 0 | N181: =IF((+H181-M181)<>0,H181-M181,IF(H181>0,"0",""))

Sheet 部分別種目
B1: 名 称 | C1: 摘 要 | E1: 数 量 | F1: 単位 | G1: 単 価 | H1: 金 額 | I1: 備 考 | M1: 検算欄 | N1: 検算差額
M2: 下以降一式と合計は各自設定 | N2: 差額が0であればOK
B3: ○○○新築工事 | H3: =ROUNDDOWN(E3*G3,0) -> 0 | M3: =IF(B3<>"計",ROUNDDOWN(E3*G3,0),SUM(M$1:M2)) -> 0 | N3: =IF((+H3-M3)<>0,H3-M3,IF(H3>0,"0",""))
A5: Ⅰ | B5: 直接工事費 | H5: =ROUNDDOWN(E5*G5,0) -> 0 | M5: =IF(B5<>"計",ROUNDDOWN(E5*G5,0),SUM(M$1:M4)) -> 0 | N5: =IF((+H5-M5)<>0,H5-M5,IF(H5>0,"0",""))
A7: (1) | B7: 建築工事 | E7: 1 | F7: 式 | H7: =IF(B7<>"計",ROUNDDOWN(E7*G7,0),SUM(H$1:H6)) -> 0 | M7: =IF(B7<>"計",ROUNDDOWN(E7*G7,0),SUM(M$1:M6)) -> 0 | N7: =IF((+H7-M7)<>0,H7-M7,IF(H7>0,"0",""))
A9: (2) | B9: 電気設備工事 | E9: 1 | F9: 式 | H9: =IF(B9<>"計",ROUNDDOWN(E9*G9,0),SUM(H$1:H8)) -> 0 | M9: =IF(B9<>"計",ROUNDDOWN(E9*G9,0),SUM(M$1:M8)) -> 0 | N9: =IF((+H9-M9)<>0,H9-M9,IF(H9>0,"0",""))
A11: (3) | B11: 空気調和設備工事 | E11: 1 | F11: 式 | H11: =IF(B11<>"計",ROUNDDOWN(E11*G11,0),SUM(H$1:H10)) -> 0 | M11: =IF(B11<>"計",ROUNDDOWN(E11*G11,0),SUM(M$1:M10)) -> 0 | N11: =IF((+H11-M11)<>0,H11-M11,IF(H11>0,"0",""))
A13: (4) | B13: 給排水衛生設備工事 | E13: 1 | F13: 式 | H13: =IF(B13<>"計",ROUNDDOWN(E13*G13,0),SUM(H$1:H12)) -> 0 | M13: =IF(B13<>"計",ROUNDDOWN(E13*G13,0),SUM(M$1:M12)) -> 0 | N13: =IF((+H13-M13)<>0,H13-M13,IF(H13>0,"0",""))
A15: (5) | B15: 昇降機設備工事 | E15: 1 | F15: 式 | H15: =IF(B15<>"計",ROUNDDOWN(E15*G15,0),SUM(H$1:H14)) -> 0 | M15: =IF(B15<>"計",ROUNDDOWN(E15*G15,0),SUM(M$1:M14)) -> 0 | N15: =IF((+H15-M15)<>0,H15-M15,IF(H15>0,"0",""))
A17: (6) | B17: 機械駐車設備工事 | E17: 1 | F17: 式 | H17: =IF(B17<>"計",ROUNDDOWN(E17*G17,0),SUM(H$1:H16)) -> 0 | M17: =IF(B17<>"計",ROUNDDOWN(E17*G17,0),SUM(M$1:M16)) -> 0 | N17: =IF((+H17-M17)<>0,H17-M17,IF(H17>0,"0",""))
A19: (7) | B19: 屋外施設工事 | E19: 1 | F19: 式 | H19: =IF(B19<>"計",ROUNDDOWN(E19*G19,0),SUM(H$1:H18)) -> 0 | M19: =IF(B19<>"計",ROUNDDOWN(E19*G19,0),SUM(M$1:M18)) -> 0 | N19: =IF((+H19-M19)<>0,H19-M19,IF(H19>0,"0",""))
B21: 計 | H21: =IF(B21<>"計",ROUNDDOWN(E21*G21,0),SUM(H$1:H20)) -> 0 | M21: =IF(B21<>"計",ROUNDDOWN(E21*G21,0),SUM(M$1:M20)) -> 0 | N21: =IF((+H21-M21)<>0,H21-M21,IF(H21>0,"0",""))
A23: Ⅱ | B23: 共通費 | H23: =ROUNDDOWN(E23*G23,0) -> 0 | M23: =IF(B23<>"計",ROUNDDOWN(E23*G23,0),SUM(M$1:M22)) -> 0 | N23: =IF((+H23-M23)<>0,H23-M23,IF(H23>0,"0",""))
A25: (1) | B25: 共通仮設費 | E25: 1 | F25: 式 | G25: =ROUNDDOWN(H21*I25,-4) -> 0 | H25: =IF(B25<>"計",ROUNDDOWN(E25*G25,0),SUM(H$1:H24)) -> 0 | I25: 0.04 | M25: =IF(B25<>"計",ROUNDDOWN(E25*G25,0),SUM(M$1:M24)) -> 0 | N25: =IF((+H25-M25)<>0,H25-M25,IF(H25>0,"0",""))
A27: (2) | B27: 諸経費 | E27: 1 | F27: 式 | G27: =+H31-H21-H25 -> 0 | H27: =IF(B27<>"計",ROUNDDOWN(E27*G27,0),SUM(H$1:H26)) -> 0 | I27: 0.1 | M27: =IF(B27<>"計",ROUNDDOWN(E27*G27,0),SUM(M$1:M26)) -> 0 | N27: =IF((+H27-M27)<>0,H27-M27,IF(H27>0,"0",""))
B29: 計 | H29: =SUM(H24:H27) -> 0 | M29: =IF(B29<>"計",ROUNDDOWN(E29*G29,0),SUM(M$24:M28)) -> 0 | N29: =IF((+H29-M29)<>0,H29-M29,IF(H29>0,"0",""))
B31: 合計（工事価格） | H31: =ROUNDDOWN((H21+H25)*(1+I27),-4) -> 0 | M31: =+M21+M29 -> 0 | N31: =IF((+H31-M31)<>0,H31-M31,IF(H31>0,"0",""))
A33: Ⅲ | B33: 消費税等相当額 | E33: 1 | F33: 式 | G33: =ROUNDDOWN(H31*I33,0) -> 0 | H33: =IF(B33<>"計",ROUNDDOWN(E33*G33,0),SUM(H$1:H32)) -> 0 | I33: 0.08 | M33: =IF(B33<>"計",ROUNDDOWN(E33*G33,0),SUM(M$1:M32)) -> 0 | N33: =IF((+H33-M33)<>0,H33-M33,IF(H33>0,"0",""))
B35: 総合計（工事費） | H35: =+H31+H33 -> 0 | M35: =+M31+M33 -> 0 | N35: =IF((+H35-M35)<>0,H35-M35,IF(H35>0,"0",""))
H37: =ROUNDDOWN(E37*G37,0) -> 0 | M37: =IF(B37<>"計",ROUNDDOWN(E37*G37,0),SUM(M$1:M36)) -> 0 | N37: =IF((+H37-M37)<>0,H37-M37,IF(H37>0,"0",""))
H38: =ROUNDDOWN(E38*G38,0) -> 0
H40: =ROUNDDOWN(E40*G40,0) -> 0
H42: =ROUNDDOWN(E42*G42,0) -> 0
H44: =ROUNDDOWN(E44*G44,0) -> 0
H46: =ROUNDDOWN(E46*G46,0) -> 0
H48: =ROUNDDOWN(E48*G48,0) -> 0
H50: =ROUNDDOWN(E50*G50,0) -> 0
H52: =ROUNDDOWN(E52*G52,0) -> 0
H54: =ROUNDDOWN(E54*G54,0) -> 0
H56: =ROUNDDOWN(E56*G56,0) -> 0
H58: =ROUNDDOWN(E58*G58,0) -> 0
H60: =ROUNDDOWN(E60*G60,0) -> 0
... H148: =ROUNDDOWN(E148*G148,0) -> 0

Sheet 部分別建築
B1: 名 称 | C1: 摘 要 | E1: 数 量 | F1: 単位 | G1: 単 価 | H1: 金 額 | I1: 備 考 | M1: 検算欄 | N1: 検算差額
M2: 下以降一式と合計は各自設定 | N2: 差額が0であればOK
A3: （1） | B3: 建築工事 | H3: =IF(B3<>"計",ROUNDDOWN(E3*G3,0),SUM(H$1:H2)) -> 0 | M3: =IF(B3<>"計",ROUNDDOWN(E3*G3,0),SUM(M$1:M2)) -> 0 | N3: =IF((+H3-M3)<>0,H3-M3,IF(H3>0,"0",""))
H5: =IF(B5<>"計",ROUNDDOWN(E5*G5,0),SUM(H$1:H4)) -> 0 | M5: =IF(B5<>"計",ROUNDDOWN(E5*G5,0),SUM(M$1:M4)) -> 0 | N5: =IF((+H5-M5)<>0,H5-M5,IF(H5>0,"0",""))
A7: 1. | B7: 直接仮設 | E7: 1 | F7: 式 | H7: =IF(B7<>"計",ROUNDDOWN(E7*G7,0),SUM(H$1:H6)) -> 0 | M7: =IF(B7<>"計",ROUNDDOWN(E7*G7,0),SUM(M$1:M6)) -> 0 | N7: =IF((+H7-M7)<>0,H7-M7,IF(H7>0,"0",""))
A9: 2. | B9: 土工・地業 | E9: 1 | F9: 式 | H9: =IF(B9<>"計",ROUNDDOWN(E9*G9,0),SUM(H$1:H8)) -> 0 | M9: =IF(B9<>"計",ROUNDDOWN(E9*G9,0),SUM(M$1:M8)) -> 0 | N9: =IF((+H9-M9)<>0,H9-M9,IF(H9>0,"0",""))
A11: 3. | B11: 躯体 | E11: 1 | F11: 式 | H11: =IF(B11<>"計",ROUNDDOWN(E11*G11,0),SUM(H$1:H10)) -> 0 | M11: =IF(B11<>"計",ROUNDDOWN(E11*G11,0),SUM(M$1:M10)) -> 0 | N11: =IF((+H11-M11)<>0,H11-M11,IF(H11>0,"0",""))
A13: 4. | B13: 外部仕上 | E13: 1 | F13: 式 | H13: =IF(B13<>"計",ROUNDDOWN(E13*G13,0),SUM(H$1:H12)) -> 0 | M13: =IF(B13<>"計",ROUNDDOWN(E13*G13,0),SUM(M$1:M12)) -> 0 | N13: =IF((+H13-M13)<>0,H13-M13,IF(H13>0,"0",""))
A15: 5. | B15: 内部仕上 | E15: 1 | F15: 式 | H15: =IF(B15<>"計",ROUNDDOWN(E15*G15,0),SUM(H$1:H14)) -> 0 | M15: =IF(B15<>"計",ROUNDDOWN(E15*G15,0),SUM(M$1:M14)) -> 0 | N15: =IF((+H15-M15)<>0,H15-M15,IF(H15>0,"0",""))
H17: =IF(B17<>"計",ROUNDDOWN(E17*G17,0),SUM(H$1:H16)) -> 0 | M17: =IF(B17<>"計",ROUNDDOWN(E17*G17,0),SUM(M$1:M16)) -> 0 | N17: =IF((+H17-M17)<>0,H17-M17,IF(H17>0,"0",""))
H19: =IF(B19<>"計",ROUNDDOWN(E19*G19,0),SUM(H$1:H18)) -> 0 | M19: =IF(B19<>"計",ROUNDDOWN(E19*G19,0),SUM(M$1:M18)) -> 0 | N19: =IF((+H19-M19)<>0,H19-M19,IF(H19>0,"0",""))
H21: =IF(B21<>"計",ROUNDDOWN(E21*G21,0),SUM(H$1:H20)) -> 0 | M21: =IF(B21<>"計",ROUNDDOWN(E21*G21,0),SUM(M$1:M20)) -> 0 | N21: =IF((+H21-M21)<>0,H21-M21,IF(H21>0,"0",""))
H23: =IF(B23<>"計",ROUNDDOWN(E23*G23,0),SUM(H$1:H22)) -> 0 | M23: =IF(B23<>"計",ROUNDDOWN(E23*G23,0),SUM(M$1:M22)) -> 0 | N23: =IF((+H23-M23)<>0,H23-M23,IF(H23>0,"0",""))
H25: =IF(B25<>"計",ROUNDDOWN(E25*G25,0),SUM(H$1:H24)) -> 0 | M25: =IF(B25<>"計",ROUNDDOWN(E25*G25,0),SUM(M$1:M24)) -> 0 | N25: =IF((+H25-M25)<>0,H25-M25,IF(H25>0,"0",""))
H27: =IF(B27<>"計",ROUNDDOWN(E27*G27,0),SUM(H$1:H26)) -> 0 | M27: =IF(B27<>"計",ROUNDDOWN(E27*G27,0),SUM(M$1:M26)) -> 0 | N27: =IF((+H27-M27)<>0,H27-M27,IF(H27>0,"0",""))
H29: =IF(B29<>"計",ROUNDDOWN(E29*G29,0),SUM(H$1:H28)) -> 0 | M29: =IF(B29<>"計",ROUNDDOWN(E29*G29,0),SUM(M$1:M28)) -> 0 | N29: =IF((+H29-M29)<>0,H29-M29,IF(H29>0,"0",""))
H31: =IF(B31<>"計",ROUNDDOWN(E31*G31,0),SUM(H$1:H30)) -> 0 | M31: =IF(B31<>"計",ROUNDDOWN(E31*G31,0),SUM(M$1:M30)) -> 0 | N31: =IF((+H31-M31)<>0,H31-M31,IF(H31>0,"0",""))
H33: =IF(B33<>"計",ROUNDDOWN(E33*G33,0),SUM(H$1:H32)) -> 0 | M33: =IF(B33<>"計",ROUNDDOWN(E33*G33,0),SUM(M$1:M32)) -> 0 | N33: =IF((+H33-M33)<>0,H33-M33,IF(H33>0,"0",""))
B35: 計 | H35: =IF(B35<>"計",ROUNDDOWN(E35*G35,0),SUM(H$1:H34)) -> 0 | M35: =IF(B35<>"計",ROUNDDOWN(E35*G35,0),SUM(M$1:M34)) -> 0 | N35: =IF((+H35-M35)<>0,H35-M35,IF(H35>0,"0",""))
H37: =IF(B37<>"計",ROUNDDOWN(E37*G37,0),SUM(H$1:H36)) -> 0 | M37: =IF(B37<>"計",ROUNDDOWN(E37*G37,0),SUM(M$1:M36)) -> 0 | N37: =IF((+H37-M37)<>0,H37-M37,IF(H37>0,"0",""))

Sheet 改修種目
B1: 名 称 | C1: 摘 要 | E1: 数 量 | F1: 単位 | G1: 単 価 | H1: 金 額 | I1: 備 考 | M1: 検算欄 | N1: 検算差額
M2: 下以降一式と合計は各自設定 | N2: 差額が0であればOK
B3: ○○○新築工事 | H3: =ROUNDDOWN(E3*G3,0) -> 0 | M3: =IF(B3<>"計",ROUNDDOWN(E3*G3,0),SUM(M$1:M2)) -> 0 | N3: =IF((+H3-M3)<>0,H3-M3,IF(H3>0,"0",""))
A5: Ⅰ | B5: 直接工事費 | H5: =ROUNDDOWN(E5*G5,0) -> 0 | M5: =IF(B5<>"計",ROUNDDOWN(E5*G5,0),SUM(M$1:M4)) -> 0 | N5: =IF((+H5-M5)<>0,H5-M5,IF(H5>0,"0",""))
A7: (1) | B7: 建築工事 | E7: 1 | F7: 式 | H7: =IF(B7<>"計",ROUNDDOWN(E7*G7,0),SUM(H$1:H6)) -> 0 | M7: =IF(B7<>"計",ROUNDDOWN(E7*G7,0),SUM(M$1:M6)) -> 0 | N7: =IF((+H7-M7)<>0,H7-M7,IF(H7>0,"0",""))
A9: (2) | B9: 電気設備工事 | E9: 1 | F9: 式 | H9: =IF(B9<>"計",ROUNDDOWN(E9*G9,0),SUM(H$1:H8)) -> 0 | M9: =IF(B9<>"計",ROUNDDOWN(E9*G9,0),SUM(M$1:M8)) -> 0 | N9: =IF((+H9-M9)<>0,H9-M9,IF(H9>0,"0",""))
A11: (3) | B11: 空気調和設備工事 | E11: 1 | F11: 式 | H11: =IF(B11<>"計",ROUNDDOWN(E11*G11,0),SUM(H$1:H10)) -> 0 | M11: =IF(B11<>"計",ROUNDDOWN(E11*G11,0),SUM(M$1:M10)) -> 0 | N11: =IF((+H11-M11)<>0,H11-M11,IF(H11>0,"0",""))
A13: (4) | B13: 給排水衛生設備工事 | E13: 1 | F13: 式 | H13: =IF(B13<>"計",ROUNDDOWN(E13*G13,0),SUM(H$1:H12)) -> 0 | M13: =IF(B13<>"計",ROUNDDOWN(E13*G13,0),SUM(M$1:M12)) -> 0 | N13: =IF((+H13-M13)<>0,H13-M13,IF(H13>0,"0",""))
A15: (5) | B15: 昇降機設備工事 | E15: 1 | F15: 式 | H15: =IF(B15<>"計",ROUNDDOWN(E15*G15,0),SUM(H$1:H14)) -> 0 | M15: =IF(B15<>"計",ROUNDDOWN(E15*G15,0),SUM(M$1:M14)) -> 0 | N15: =IF((+H15-M15)<>0,H15-M15,IF(H15>0,"0",""))
A17: (6) | B17: 機械駐車設備工事 | E17: 1 | F17: 式 | H17: =IF(B17<>"計",ROUNDDOWN(E17*G17,0),SUM(H$1:H16)) -> 0 | M17: =IF(B17<>"計",ROUNDDOWN(E17*G17,0),SUM(M$1:M16)) -> 0 | N17: =IF((+H17-M17)<>0,H17-M17,IF(H17>0,"0",""))
A19: (7) | B19: 屋外施設工事 | E19: 1 | F19: 式 | H19: =IF(B19<>"計",ROUNDDOWN(E19*G19,0),SUM(H$1:H18)) -> 0 | M19: =IF(B19<>"計",ROUNDDOWN(E19*G19,0),SUM(M$1:M18)) -> 0 | N19: =IF((+H19-M19)<>0,H19-M19,IF(H19>0,"0",""))
B21: 計 | H21: =IF(B21<>"計",ROUNDDOWN(E21*G21,0),SUM(H$1:H20)) -> 0 | M21: =IF(B21<>"計",ROUNDDOWN(E21*G21,0),SUM(M$1:M20)) -> 0 | N21: =IF((+H21-M21)<>0,H21-M21,IF(H21>0,"0",""))
A23: Ⅱ | B23: 共通費 | H23: =ROUNDDOWN(E23*G23,0) -> 0 | M23: =IF(B23<>"計",ROUNDDOWN(E23*G23,0),SUM(M$1:M22)) -> 0 | N23: =IF((+H23-M23)<>0,H23-M23,IF(H23>0,"0",""))
A25: (1) | B25: 共通仮設費 | E25: 1 | F25: 式 | G25: =ROUNDDOWN(H21*I25,-4) -> 0 | H25: =IF(B25<>"計",ROUNDDOWN(E25*G25,0),SUM(H$1:H24)) -> 0 | I25: 0.04 | M25: =IF(B25<>"計",ROUNDDOWN(E25*G25,0),SUM(M$1:M24)) -> 0 | N25: =IF((+H25-M25)<>0,H25-M25,IF(H25>0,"0",""))
A27: (2) | B27: 諸経費 | E27: 1 | F27: 式 | G27: =+H31-H21-H25 -> 0 | H27: =IF(B27<>"計",ROUNDDOWN(E27*G27,0),SUM(H$1:H26)) -> 0 | I27: 0.1 | M27: =IF(B27<>"計",ROUNDDOWN(E27*G27,0),SUM(M$1:M26)) -> 0 | N27: =IF((+H27-M27)<>0,H27-M27,IF(H27>0,"0",""))
B29: 計 | H29: =SUM(H24:H27) -> 0 | M29: =IF(B29<>"計",ROUNDDOWN(E29*G29,0),SUM(M$24:M28)) -> 0 | N29: =IF((+H29-M29)<>0,H29-M29,IF(H29>0,"0",""))
B31: 合計（工事価格） | H31: =ROUNDDOWN((H21+H25)*(1+I27),-4) -> 0 | M31: =+M21+M29 -> 0 | N31: =IF((+H31-M31)<>0,H31-M31,IF(H31>0,"0",""))
A33: Ⅲ | B33: 消費税等相当額 | E33: 1 | F33: 式 | G33: =ROUNDDOWN(H31*I33,0) -> 0 | H33: =IF(B33<>"計",ROUNDDOWN(E33*G33,0),SUM(H$1:H32)) -> 0 | I33: 0.08 | M33: =IF(B33<>"計",ROUNDDOWN(E33*G33,0),SUM(M$1:M32)) -> 0 | N33: =IF((+H33-M33)<>0,H33-M33,IF(H33>0,"0",""))
B35: 総合計（工事費） | H35: =+H31+H33 -> 0 | M35: =+M31+M33 -> 0 | N35: =IF((+H35-M35)<>0,H35-M35,IF(H35>0,"0",""))
H37: =ROUNDDOWN(E37*G37,0) -> 0 | M37: =IF(B37<>"計",ROUNDDOWN(E37*G37,0),SUM(M$1:M36)) -> 0 | N37: =IF((+H37-M37)<>0,H37-M37,IF(H37>0,"0",""))
H38: =ROUNDDOWN(E38*G38,0) -> 0
H40: =ROUNDDOWN(E40*G40,0) -> 0
H42: =ROUNDDOWN(E42*G42,0) -> 0
H44: =ROUNDDOWN(E44*G44,0) -> 0
H46: =ROUNDDOWN(E46*G46,0) -> 0
H48: =ROUNDDOWN(E48*G48,0) -> 0
H50: =ROUNDDOWN(E50*G50,0) -> 0
H52: =ROUNDDOWN(E52*G52,0) -> 0
H54: =ROUNDDOWN(E54*G54,0) -> 0
H56: =ROUNDDOWN(E56*G56,0) -> 0
H58: =ROUNDDOWN(E58*G58,0) -> 0
H60: =ROUNDDOWN(E60*G60,0) -> 0
... H148: =ROUNDDOWN(E148*G148,0) -> 0

Sheet 2-5-1-1
B1: =B5 -> 5-1 | C1: =C5 -> 空気調和設備 | H1: 小計→ | I1: =MAX(I4:I393) -> 0
B2: =B7 -> 1. | C2: =C7 -> 機器設備
C3: 名 称 | D3: 摘 要 | F3: 数 量 | G3: 単位 | H3: 単 価 | I3: 金 額 | J3: 備 考
B4: Ⅰ-(1)-1 | C4: ステップＳ４（宿泊棟）
B5: 5-1 | C5: 空気調和設備 | I5: =IF(C5<>"計",ROUNDDOWN(F5*H5,0),SUM(I$3:I4)) -> 0
B7: 1. | C7: 機器設備
C10: ACR-S119 | D10: ﾙｰﾑｴｱｺﾝ壁掛型
C11: ﾊﾟｯｹｰｼﾞ形空気調和機 | D11: 冷却：3.6ｋｗ、加熱：4.2kw | F11: 2 | G11: 台
C12: ACR-S120 | D12: ﾙｰﾑｴｱｺﾝ壁掛型
C13: ﾊﾟｯｹｰｼﾞ形空気調和機 | D13: 冷却：3.6ｋｗ、加熱：4.2kw | F13: 2 | G13: 台
C14: ACR-S121 | D14: ﾙｰﾑｴｱｺﾝ壁掛型
C15: ﾊﾟｯｹｰｼﾞ形空気調和機 | D15: 冷却：5.6ｋｗ、加熱：6.7kw | F15: 1 | G15: 台
C16: ACR-S122 | D16: ﾙｰﾑｴｱｺﾝ壁掛型
C17: ﾊﾟｯｹｰｼﾞ形空気調和機 | D17: 冷却：3.6ｋｗ、加熱：4.2kw | F17: 2 | G17: 台
C18: ACR-S123 | D18: ﾙｰﾑｴｱｺﾝ壁掛型
C19: ﾊﾟｯｹｰｼﾞ形空気調和機 | D19: 冷却：5.6ｋｗ、加熱：6.7kw | F19: 1 | G19: 台
C20: ACR-S127 | D20: ﾙｰﾑｴｱｺﾝ壁掛型 | I20: 移設・再取付品
C21: ﾊﾟｯｹｰｼﾞ形空気調和機 | D21: 冷却：2.8ｋｗ、加熱：3.6kw | F21: 1 | G21: 台 | I21: =IF(C21<>"計",ROUNDDOWN(F21*H21,0),SUM(I$3:I20)) -> 0
C22: ACR-S128 | D22: ﾙｰﾑｴｱｺﾝ壁掛型 | I22: 移設・再取付品
C23: ﾊﾟｯｹｰｼﾞ形空気調和機 | D23: 冷却：2.8ｋｗ、加熱：3.6kw | F23: 1 | G23: 台 | I23: =IF(C23<>"計",ROUNDDOWN(F23*H23,0),SUM(I$3:I22)) -> 0
C24: ACR-S130 | D24: ﾙｰﾑｴｱｺﾝ壁掛型 | I24: 移設・再取付品
C25: ﾊﾟｯｹｰｼﾞ形空気調和機 | D25: 冷却：7.1ｋｗ、加熱：8.0kw | F25: 1 | G25: 台 | I25: =IF(C25<>"計",ROUNDDOWN(F25*H25,0),SUM(I$3:I24)) -> 0
C26: ACR-S361 | D26: ﾙｰﾑｴｱｺﾝ壁掛型
C27: ﾊﾟｯｹｰｼﾞ形空気調和機 | D27: 冷却：2.5ｋｗ、加熱：2.8kw | F27: 1 | G27: 台
C28: ACP-S101 | D28: 設備用ﾊﾟｯｹｰｼﾞｴｱｺﾝ
C29: ﾊﾟｯｹｰｼﾞ形空気調和機 屋外機 | D29: 冷却：71ｋｗ、加熱：80kw | F29: 1 | G29: 組
C30: ACP-S101
C31: ﾊﾟｯｹｰｼﾞ形空気調和機 屋内機 | D31: 床置き型(ﾀﾞｸﾄ接続) | F31: 1 | G31: 台
C32: ACP-S101
C33: ﾊﾟｯｹｰｼﾞ形空気調和機 屋外機 | D33: 消音フード | F33: 2 | G33: 台
C34: ACR-S111,S112 | D34: ﾙｰﾑｴｱｺﾝ壁掛型 | I34: 取外し再取付品
C35: ﾊﾟｯｹｰｼﾞ形空気調和機 | D35: 冷却：2.8ｋｗ、加熱：3.6kw | F35: 2 | G35: 台 | I35: =IF(C35<>"計",ROUNDDOWN(F35*H35,0),SUM(I$3:I34)) -> 0
C36: ACR-S113,S114 | D36: ﾙｰﾑｴｱｺﾝ壁掛型 | I36: 取外し再取付品
C37: ﾊﾟｯｹｰｼﾞ形空気調和機 | D37: 冷却：2.8ｋｗ、加熱：3.6kw | F37: 2 | G37: 台 | I37: =IF(C37<>"計",ROUNDDOWN(F37*H37,0),SUM(I$3:I36)) -> 0
C38: ACR-S115,S116 | D38: ﾙｰﾑｴｱｺﾝ壁掛型 | I38: 取外し再取付品
C39: ﾊﾟｯｹｰｼﾞ形空気調和機 | D39: 冷却：2.8ｋｗ、加熱：3.6kw | F39: 2 | G39: 台 | I39: =IF(C39<>"計",ROUNDDOWN(F39*H39,0),SUM(I$3:I38)) -> 0
C40: ACR-S117,S118 | D40: ﾙｰﾑｴｱｺﾝ壁掛型 | I40: 取外し再取付品
C41: ﾊﾟｯｹｰｼﾞ形空気調和機 | D41: 冷却：2.8ｋｗ、加熱：3.6kw | F41: 2 | G41: 台 | I41: =IF(C41<>"計",ROUNDDOWN(F41*H41,0),SUM(I$3:I40)) -> 0
C42: ACR-S124,S125 | D42: ﾙｰﾑｴｱｺﾝ壁掛型 | I42: 取外し再取付品
C43: ﾊﾟｯｹｰｼﾞ形空気調和機 | D43: 冷却：2.8ｋｗ、加熱：3.6kw | F43: 2 | G43: 台 | I43: =IF(C43<>"計",ROUNDDOWN(F43*H43,0),SUM(I$3:I42)) -> 0
C44: ACM-S101～S1001 | D44: 埋込床置ローボーイ型
C45: マルチパッケージ形空調調和機 | D45: 冷却：2.8ｋｗ、加熱：3.2kw | F45: 3 | G45: 台
C46: ACM-S102～902 | D46: 天井カセット型（1方向）
C47: マルチパッケージ形空調調和機 | D47: 冷却：5.6ｋｗ、加熱：6.3kw | F47: 3 | G47: 台
C48: ACM-S103～1003 | D48: 天井カセット型（2方向）
C49: マルチパッケージ形空調調和機 | D49: 冷却：2.2ｋｗ、加熱：2.5kw | F49: 3 | G49: 台
C51: 搬入・据付費 | F51: 1 | G51: 式 | J51: ='別紙明細2-5-1-1'!C4 -> 別紙明細2-5-1-1-1
C55: 計
I61: =IF(C61<>"計",ROUNDDOWN(F61*H61,0),SUM(I$3:I60)) -> 0
I63: =IF(C63<>"計",ROUNDDOWN(F63*H63,0),SUM(I$3:I62)) -> 0
I65: =IF(C65<>"計",ROUNDDOWN(F65*H65,0),SUM(I$3:I64)) -> 0
I67: =IF(C67<>"計",ROUNDDOWN(F67*H67,0),SUM(I$3:I66)) -> 0
I69: =IF(C69<>"計",ROUNDDOWN(F69*H69,0),SUM(I$3:I68)) -> 0
I71: =IF(C71<>"計",ROUNDDOWN(F71*H71,0),SUM(I$3:I70)) -> 0
I73: =IF(C73<>"計",ROUNDDOWN(F73*H73,0),SUM(I$3:I72)) -> 0
I75: =IF(C75<>"計",ROUNDDOWN(F75*H75,0),SUM(I$3:I74)) -> 0
I77: =IF(C77<>"計",ROUNDDOWN(F77*H77,0),SUM(I$3:I76)) -> 0
I79: =IF(C79<>"計",ROUNDDOWN(F79*H79,0),SUM(I$3:I78)) -> 0
I81: =IF(C81<>"計",ROUNDDOWN(F81*H81,0),SUM(I$3:I80)) -> 0
I83: =IF(C83<>"計",ROUNDDOWN(F83*H83,0),SUM(I$3:I82)) -> 0
... I393: =IF(C393<>"計",ROUNDDOWN(F393*H393,0),SUM(I$3:I392)) -> 0

Sheet 2-5-1-2
B1: =B5 -> 5-1 | C1: =C5 -> 空気調和設備 | H1: 小計→ | I1: =MAX(I4:I409) -> 0
B2: =B7 -> 2. | C2: =C7 -> 配管設備
C3: 名 称 | D3: 摘 要 | F3: 数 量 | G3: 単位 | H3: 単 価 | I3: 金 額 | J3: 備 考
B4: Ⅰ-(1)-1 | C4: ステップＳ４（宿泊棟）
B5: 5-1 | C5: 空気調和設備 | I5: =IF(C5<>"計",ROUNDDOWN(F5*H5,0),SUM(I$3:I4)) -> 0
B7: 2. | C7: 配管設備
D10: 一般配管用SUS | E10: 拡管式接合
C11: 給水管 | D11: 屋内一般 | E11: 20SU | F11: 33 | G11: ｍ
D12: ACドレン | E12: 融着接合
C13: ドレン管 | D13: 屋内一般 | E13: 20A | F13: 55 | G13: ｍ
D14: ACドレン | E14: 融着接合
C15: ドレン管 | D15: 屋内一般 | E15: 25A | F15: 39 | G15: ｍ
D16: ACドレン | E16: 融着接合
C17: ドレン管 | D17: 屋外 | E17: 20A | F17: 8 | G17: ｍ
D18: ACドレン | E18: 融着接合
C19: ドレン管 | D19: 屋外 | E19: 25A | F19: 8 | G19: ｍ
C21: 間接排水受金物 | E21: 50A | F21: 9 | G21: 個
C23: 冷媒管 | F23: 1 | G23: 式 | J23: ='別紙明細2-5-1-2'!C4 -> 別紙明細2-5-1-2-1
C25: 保温 | F25: 1 | G25: 式 | J25: ='別紙明細2-5-1-2'!C26 -> 別紙明細2-5-1-2-2
C27: あと施工アンカー | F27: 1 | G27: 式 | J27: ='別紙明細2-5-1-2'!C48 -> 別紙明細2-5-1-2-3
C29: はつり補修 | F29: 1 | G29: 式 | J29: ='別紙明細2-5-1-2'!C66 -> 別紙明細2-5-1-2-4
C31: コンクリートブロック撤去 | F31: 1 | G31: 式 | J31: ='別紙明細2-5-1-2'!C84 -> 別紙明細2-5-1-2-5
C33: スリーブ | F33: 1 | G33: 式 | J33: ='別紙明細2-5-1-2'!C96 -> 別紙明細2-5-1-2-6
C35: 防火区画貫通処理 | F35: 1 | G35: 式 | J35: ='別紙明細2-5-1-2'!C124 -> 別紙明細2-5-1-2-7
C39: 計
I41: =IF(C41<>"計",ROUNDDOWN(F41*H41,0),SUM(I$3:I40)) -> 0
I43: =IF(C43<>"計",ROUNDDOWN(F43*H43,0),SUM(I$3:I42)) -> 0
I45: =IF(C45<>"計",ROUNDDOWN(F45*H45,0),SUM(I$3:I44)) -> 0
I47: =IF(C47<>"計",ROUNDDOWN(F47*H47,0),SUM(I$3:I46)) -> 0
I49: =IF(C49<>"計",ROUNDDOWN(F49*H49,0),SUM(I$3:I48)) -> 0
I51: =IF(C51<>"計",ROUNDDOWN(F51*H51,0),SUM(I$3:I50)) -> 0
I53: =IF(C53<>"計",ROUNDDOWN(F53*H53,0),SUM(I$3:I52)) -> 0
I55: =IF(C55<>"計",ROUNDDOWN(F55*H55,0),SUM(I$3:I54)) -> 0
I57: =IF(C57<>"計",ROUNDDOWN(F57*H57,0),SUM(I$3:I56)) -> 0
I59: =IF(C59<>"計",ROUNDDOWN(F59*H59,0),SUM(I$3:I58)) -> 0
I61: =IF(C61<>"計",ROUNDDOWN(F61*H61,0),SUM(I$3:I60)) -> 0
I63: =IF(C63<>"計",ROUNDDOWN(F63*H63,0),SUM(I$3:I62)) -> 0
... I409: =IF(C409<>"計",ROUNDDOWN(F409*H409,0),SUM(I$3:I408)) -> 0

Sheet 2-5-1-3
B1: =B5 -> 5-1 | C1: =C5 -> 空気調和設備 | H1: 小計→ | I1: =MAX(I4:I409) -> 0
B2: =B7 -> 3. | C2: =C7 -> 総合調整
C3: 名 称 | D3: 摘 要 | F3: 数 量 | G3: 単位 | H3: 単 価 | I3: 金 額 | J3: 備 考
B4: Ⅰ-(1)-1 | C4: ステップＳ４（宿泊棟）
B5: 5-1 | C5: 空気調和設備 | I5: =IF(C5<>"計",ROUNDDOWN(F5*H5,0),SUM(I$3:I4)) -> 0
B7: 3. | C7: 総合調整 | I7: =IF(C7<>"計",ROUNDDOWN(F7*H7,0),SUM(I$3:I6)) -> 0
I9: =IF(C9<>"計",ROUNDDOWN(F9*H9,0),SUM(I$3:I8)) -> 0
C11: 総合調整 | F11: 1 | G11: 式 | J11: ='別紙明細2-5-1-3'!C4 -> 別紙明細2-5-1-3-1
C15: 計
I19: =IF(C19<>"計",ROUNDDOWN(F19*H19,0),SUM(I$3:I18)) -> 0
I21: =IF(C21<>"計",ROUNDDOWN(F21*H21,0),SUM(I$3:I20)) -> 0
I23: =IF(C23<>"計",ROUNDDOWN(F23*H23,0),SUM(I$3:I22)) -> 0
I25: =IF(C25<>"計",ROUNDDOWN(F25*H25,0),SUM(I$3:I24)) -> 0
I27: =IF(C27<>"計",ROUNDDOWN(F27*H27,0),SUM(I$3:I26)) -> 0
I29: =IF(C29<>"計",ROUNDDOWN(F29*H29,0),SUM(I$3:I28)) -> 0
I31: =IF(C31<>"計",ROUNDDOWN(F31*H31,0),SUM(I$3:I30)) -> 0
I33: =IF(C33<>"計",ROUNDDOWN(F33*H33,0),SUM(I$3:I32)) -> 0
I35: =IF(C35<>"計",ROUNDDOWN(F35*H35,0),SUM(I$3:I34)) -> 0
I37: =IF(C37<>"計",ROUNDDOWN(F37*H37,0),SUM(I$3:I36)) -> 0
I39: =IF(C39<>"計",ROUNDDOWN(F39*H39,0),SUM(I$3:I38)) -> 0
I41: =IF(C41<>"計",ROUNDDOWN(F41*H41,0),SUM(I$3:I40)) -> 0
... I409: =IF(C409<>"計",ROUNDDOWN(F409*H409,0),SUM(I$3:I408)) -> 0

Sheet 2-5-2-1
B1: =B5 -> 5-2 | C1: =C5 -> 換気設備 | H1: 小計→ | I1: =MAX(I4:I445) -> 0
B2: =B7 -> 1. | C2: =C7 -> 機器設備
C3: 名 称 | D3: 摘 要 | F3: 数 量 | G3: 単位 | H3: 単 価 | I3: 金 額 | J3: 備 考
B4: Ⅰ-(1)-1 | C4: ステップＳ４（宿泊棟）
B5: 5-2 | C5: 換気設備 | I5: =IF(C5<>"計",ROUNDDOWN(F5*H5,0),SUM(I$3:I4)) -> 0
B7: 1. | C7: 機器設備 | I7: =IF(C7<>"計",ROUNDDOWN(F7*H7,0),SUM(I$3:I6)) -> 0
C10: FS-S101 | D10: 多翼形 | E10: 片吸込形
C11: 遠心送風機 | D11: 床置型 | E11: #2 1/2 | F11: 1 | G11: 台
C12: FS-S102 | D12: 多翼形 | E12: 片吸込形
C13: 遠心送風機 | D13: 天吊型 | E13: #1 1/2 | F13: 1 | G13: 台
C14: FS-S103 | D14: 多翼形 | E14: 片吸込形
C15: 遠心送風機 | D15: 床置型 | E15: #3 | F15: 1 | G15: 台
C16: FS-S104
C17: 消音BOX付きｽﾄﾚｰﾄｼﾛｯｺﾌｧﾝ | D17: 天吊 | E17: #1 | F17: 1 | G17: 台
C18: FS-S105
C19: 消音BOX付きｽﾄﾚｰﾄｼﾛｯｺﾌｧﾝ | D19: 天吊 | E19: #1 | F19: 1 | G19: 台
C20: FE-S101 | D20: 多翼形 | E20: 片吸込形
C21: 遠心送風機 | D21: 床置型 | E21: #2 1/2 | F21: 1 | G21: 台
C22: FE-S102 | D22: 多翼形 | E22: 片吸込形
C23: 遠心送風機 | D23: 天吊型 | E23: #1 1/2 | F23: 1 | G23: 台
C24: FE-S103 | D24: 多翼形 | E24: 片吸込形
C25: 遠心送風機 | D25: 床置型 | E25: #3 | F25: 1 | G25: 台
C26: FE-S104
C27: 消音BOX付きｽﾄﾚｰﾄｼﾛｯｺﾌｧﾝ | D27: 天吊 | E27: #1 | F27: 1 | G27: 台
C28: FE-S105
C29: 消音BOX付きｽﾄﾚｰﾄｼﾛｯｺﾌｧﾝ | D29: 天吊 | E29: #1 | F29: 1 | G29: 台
C30: FE-S106
C31: 消音BOX付きｽﾄﾚｰﾄｼﾛｯｺﾌｧﾝ | D31: 天吊 | E31: #1 | F31: 1 | G31: 台
C32: FE-S111 | D32: フラットフード型
C33: レンジフードファン | D33: 天吊 | F33: 1 | G33: 台
C34: FE-S112 | D34: フラットフード型
C35: レンジフードファン | D35: 天吊 | F35: 1 | G35: 台
C36: FE-S113 | D36: フラットフード型
C37: レンジフードファン | D37: 天吊 | F37: 1 | G37: 台
C38: FE-S114
C39: 消音BOX付きｽﾄﾚｰﾄｼﾛｯｺﾌｧﾝ | D39: 天吊 | E39: #1 | F39: 1 | G39: 台
C40: FE-S115
C41: 消音BOX付きｽﾄﾚｰﾄｼﾛｯｺﾌｧﾝ | D41: 天吊 | E41: #1 | F41: 1 | G41: 台
C42: FE-S261～S961
C43: 天井扇 | D43: 天吊 | F43: 2 | G43: 台
C44: FE-S262～S962
C45: 天井扇 | D45: 天吊 | F45: 2 | G45: 台
C46: FE-S264
C47: 天井扇 | D47: 天吊 | F47: 2 | G47: 台
C48: FE-S367
C49: 消音BOX付きｽﾄﾚｰﾄｼﾛｯｺﾌｧﾝ | D49: 天吊 | E49: #1 1/4 | F49: 1 | G49: 台
C50: FE-S368 | D50: 多翼形 | E50: 片吸込形
C51: 遠心送風機 | D51: 床置型 | E51: #1 | F51: 1 | G51: 台
C52: HEU-S101 | D52: 天井埋込ダクト型加湿付
C53: 静止型全熱交換器ユニット | D53: 天吊 | F53: 1 | G53: 台
C54: HEU-S102 | D54: 天井埋込ダクト型加湿付
C55: 静止型全熱交換器ユニット | D55: 天吊 | F55: 1 | G55: 台
C56: HEU-S103 | D56: 天井埋込ダクト型加湿付
C57: 静止型全熱交換器ユニット | D57: 天吊 | F57: 1 | G57: 台
C58: HEU-S104 | D58: 天井埋込ダクト型加湿付
C59: 静止型全熱交換器ユニット | D59: 天吊 | F59: 1 | G59: 台
C60: HEU-S105 | D60: 天井埋込ダクト型
C61: 静止型全熱交換器ユニット | D61: 天吊 | F61: 1 | G61: 台
C62: HEU-S106 | D62: 天井埋込ダクト型加湿付
C63: 静止型全熱交換器ユニット | D63: 天吊 | F63: 1 | G63: 台
C64: HEU-S107 | D64: 天井埋込ダクト型加湿付
C65: 静止型全熱交換器ユニット | D65: 天吊 | F65: 1 | G65: 台
C66: HEU-S108 | D66: 天井埋込ダクト型加湿付
C67: 静止型全熱交換器ユニット | D67: 天吊 | F67: 1 | G67: 台
C68: HEU-S109 | D68: 天井埋込ダクト型加湿付
C69: 静止型全熱交換器ユニット | D69: 天吊 | F69: 1 | G69: 台
C70: HEU-S110 | D70: 天井埋込ダクト型加湿付
C71: 静止型全熱交換器ユニット | D71: 天吊 | F71: 1 | G71: 台
C72: HEU-S301
C73: 全熱交換器付き換気扇 | D73: 天吊 | F73: 1 | G73: 台
C74: FS-S1 | D74: 多翼形 | E74: 片吸込形
C75: 遠心送風機 | D75: 床置型 | E75: #2 1/2 | F75: 1 | G75: 台
C76: FE-S1 | D76: 多翼形 | E76: 片吸込形
C77: 遠心送風機 | D77: 床置型 | E77: #1 1/2 | F77: 1 | G77: 台
C78: FE-S1101
C79: 有圧扇 | D79: 天吊 | E79: 450φ | F79: 1 | G79: 台
C81: 搬入・据付費 | F81: 1 | G81: 式 | J81: ='別紙明細2-5-2-1'!C4 -> 別紙明細2-5-2-1-1
C85: 計
I89: =IF(C89<>"計",ROUNDDOWN(F89*H89,0),SUM(I$3:I88)) -> 0
I91: =IF(C91<>"計",ROUNDDOWN(F91*H91,0),SUM(I$3:I90)) -> 0
I93: =IF(C93<>"計",ROUNDDOWN(F93*H93,0),SUM(I$3:I92)) -> 0
I95: =IF(C95<>"計",ROUNDDOWN(F95*H95,0),SUM(I$3:I94)) -> 0
I97: =IF(C97<>"計",ROUNDDOWN(F97*H97,0),SUM(I$3:I96)) -> 0
I99: =IF(C99<>"計",ROUNDDOWN(F99*H99,0),SUM(I$3:I98)) -> 0
I101: =IF(C101<>"計",ROUNDDOWN(F101*H101,0),SUM(I$3:I100)) -> 0
I103: =IF(C103<>"計",ROUNDDOWN(F103*H103,0),SUM(I$3:I102)) -> 0
I105: =IF(C105<>"計",ROUNDDOWN(F105*H105,0),SUM(I$3:I104)) -> 0
I107: =IF(C107<>"計",ROUNDDOWN(F107*H107,0),SUM(I$3:I106)) -> 0
I109: =IF(C109<>"計",ROUNDDOWN(F109*H109,0),SUM(I$3:I108)) -> 0
I111: =IF(C111<>"計",ROUNDDOWN(F111*H111,0),SUM(I$3:I110)) -> 0
... I447: =IF(C447<>"計",ROUNDDOWN(F447*H447,0),SUM(I$3:I446)) -> 0

Sheet 2-5-2-2
B1: =B5 -> 5-2 | C1: =C5 -> 換気設備 | H1: 小計→ | I1: =MAX(I4:I433) -> 0
B2: =B7 -> 2. | C2: =C7 -> ダクト設備
C3: 名 称 | D3: 摘 要 | F3: 数 量 | G3: 単位 | H3: 単 価 | I3: 金 額 | J3: 備 考
B4: Ⅰ-(1)-1 | C4: ステップＳ４（宿泊棟）
B5: 5-2 | C5: 換気設備 | I5: =IF(C5<>"計",ROUNDDOWN(F5*H5,0),SUM(I$3:I4)) -> 0
B7: 2. | C7: ダクト設備 | I7: =IF(C7<>"計",ROUNDDOWN(F7*H7,0),SUM(I$3:I6)) -> 0
C11: ＜ＳＡ＞
D12: (低圧)
C13: スパイラルダクト | D13: 亜鉛鉄板 | E13: 150φ | F13: 8 | G13: ｍ
D14: (低圧)
C15: スパイラルダクト | D15: 亜鉛鉄板 | E15: 200φ | F15: 8 | G15: ｍ
C17: ＜ＲＡ＞
D18: (低圧)
C19: スパイラルダクト | D19: 亜鉛鉄板 | E19: 150φ | F19: 22 | G19: ｍ
D20: (低圧)
C21: スパイラルダクト | D21: 亜鉛鉄板 | E21: 200φ | F21: 18 | G21: ｍ
C23: ＜ＯＡ＞
D24: (低圧)
C25: スパイラルダクト | D25: 亜鉛鉄板 | E25: 100φ | F25: 31 | G25: ｍ
D26: (低圧)
C27: スパイラルダクト | D27: 亜鉛鉄板 | E27: 150φ | F27: 13 | G27: ｍ
D28: (低圧)
C29: スパイラルダクト | D29: 亜鉛鉄板 | E29: 175φ | F29: 11 | G29: ｍ
D30: (低圧)
C31: スパイラルダクト | D31: 亜鉛鉄板 | E31: 200φ | F31: 19 | G31: ｍ
C33: ＜ＥＡ＞
D34: (低圧)
C35: スパイラルダクト | D35: 亜鉛鉄板 | E35: 100φ | F35: 13 | G35: ｍ
D36: (低圧)
C37: スパイラルダクト | D37: 亜鉛鉄板 | E37: 125φ | F37: 9 | G37: ｍ
D38: (低圧)
C39: スパイラルダクト | D39: 亜鉛鉄板 | E39: 150φ | F39: 65 | G39: ｍ
D40: (低圧)
C41: スパイラルダクト | D41: 亜鉛鉄板 | E41: 175φ | F41: 6 | G41: ｍ
D42: (低圧)
C43: スパイラルダクト | D43: 亜鉛鉄板 | E43: 200φ | F43: 32 | G43: ｍ
D44: (低圧)
C45: スパイラルダクト | D45: 亜鉛鉄板 | E45: 325φ | F45: 5 | G45: ｍ
C47: ＜パス＞
D48: (低圧)
C49: スパイラルダクト | D49: 亜鉛鉄板 | E49: 150φ | F49: 2 | G49: ｍ
D50: ﾕﾆﾊﾞｰｻﾙ形吹出口
C51: 制気口 | D51: VHS | E51: 150×150 | F51: 7 | G51: 個
D52: ﾕﾆﾊﾞｰｻﾙ形吹出口
C53: 制気口 | D53: VHS | E53: 200×200 | F53: 1 | G53: 個
D54: ﾕﾆﾊﾞｰｻﾙ形吹出口(結露防止型)
C55: 制気口 | D55: VHS | E55: 150×150 | F55: 3 | G55: 個
D56: ﾕﾆﾊﾞｰｻﾙ形吹出口(結露防止型)
C57: 制気口 | D57: VHS | E57: 200×200 | F57: 3 | G57: 個
D58: ﾕﾆﾊﾞｰｻﾙ形吹出口(結露防止型)
C59: 制気口 | D59: VHS | E59: 250×250 | F59: 3 | G59: 個
D60: ﾕﾆﾊﾞｰｻﾙ形吹出口
C61: 制気口 | D61: HS | E61: 150×150 | F61: 10 | G61: 個
D62: ﾕﾆﾊﾞｰｻﾙ形吹出口
C63: 制気口 | D63: HS | E63: 200×200 | F63: 3 | G63: 個
D64: ﾕﾆﾊﾞｰｻﾙ形吹出口
C65: 制気口 | D65: HS | E65: 250×250 | F65: 3 | G65: 個
C67: 制気口 | D67: 金網 | E67: 150φ | F67: 9 | G67: 個
C69: 制気口 | D69: 金網 | E69: 200φ | F69: 3 | G69: 個
C71: 風量調整ダンパー | D71: VD | E71: 200φ | F71: 2 | G71: 個
C73: 風量調整ダンパー | D73: VD | E73: 325φ | F73: 1 | G73: 個
C75: 防火ダンパー | D75: FD | E75: 100φ | F75: 1 | G75: 個
C77: 防火ダンパー | D77: FD | E77: 200φ | F77: 3 | G77: 個
C79: 防火ダンパー | D79: FD | E79: 150φ | F79: 5 | G79: 個
C81: 防火ダンパー | D81: FD | E81: 200φ | F81: 5 | G81: 個
C83: 防火ダンパー | D83: FD | E83: 150φ | F83: 4 | G83: 個
D84: SUS製
C85: ベントキャップ | D85: ガラリ型 | E85: 100φ | F85: 8 | G85: 個
C87: 制気口ボックス類 | F87: 1 | G87: 式 | J87: ='別紙明細2-5-2-2'!C4 -> 別紙明細2-5-2-2-1
C89: 保温 | F89: 1 | G89: 式 | J89: ='別紙明細2-5-2-2'!C28 -> 別紙明細2-5-2-2-2
C91: あと施工アンカー | F91: 1 | G91: 式 | J91: ='別紙明細2-5-2-2'!C52 -> 別紙明細2-5-2-2-3
C93: スリーブ | F93: 1 | G93: 式 | J93: ='別紙明細2-5-2-2'!C74 -> 別紙明細2-5-2-2-4
C97: 計
I99: =IF(C99<>"計",ROUNDDOWN(F99*H99,0),SUM(I$3:I98)) -> 0
I101: =IF(C101<>"計",ROUNDDOWN(F101*H101,0),SUM(I$3:I100)) -> 0
I103: =IF(C103<>"計",ROUNDDOWN(F103*H103,0),SUM(I$3:I102)) -> 0
I105: =IF(C105<>"計",ROUNDDOWN(F105*H105,0),SUM(I$3:I104)) -> 0
I107: =IF(C107<>"計",ROUNDDOWN(F107*H107,0),SUM(I$3:I106)) -> 0
I109: =IF(C109<>"計",ROUNDDOWN(F109*H109,0),SUM(I$3:I108)) -> 0
I111: =IF(C111<>"計",ROUNDDOWN(F111*H111,0),SUM(I$3:I110)) -> 0
I113: =IF(C113<>"計",ROUNDDOWN(F113*H113,0),SUM(I$3:I112)) -> 0
I115: =IF(C115<>"計",ROUNDDOWN(F115*H115,0),SUM(I$3:I114)) -> 0
I117: =IF(C117<>"計",ROUNDDOWN(F117*H117,0),SUM(I$3:I116)) -> 0
I119: =IF(C119<>"計",ROUNDDOWN(F119*H119,0),SUM(I$3:I118)) -> 0
I121: =IF(C121<>"計",ROUNDDOWN(F121*H121,0),SUM(I$3:I120)) -> 0
... I429: =IF(C429<>"計",ROUNDDOWN(F429*H429,0),SUM(I$3:I428)) -> 0

Sheet 2-5-2-3
B1: =B5 -> 5-2 | C1: =C5 -> 換気設備 | H1: 小計→ | I1: =MAX(I4:I389) -> 0
B2: =B7 -> 3. | C2: =C7 -> 総合調整
C3: 名 称 | D3: 摘 要 | F3: 数 量 | G3: 単位 | H3: 単 価 | I3: 金 額 | J3: 備 考
B4: Ⅰ-(1)-1 | C4: ステップＳ４（宿泊棟）
B5: 5-2 | C5: 換気設備 | I5: =IF(C5<>"計",ROUNDDOWN(F5*H5,0),SUM(I$3:I4)) -> 0
B7: 3. | C7: 総合調整 | I7: =IF(C7<>"計",ROUNDDOWN(F7*H7,0),SUM(I$3:I6)) -> 0
C11: 総合調整 | F11: 1 | G11: 式 | J11: ='別紙明細2-5-2-3'!C4 -> 別紙明細2-5-2-3-1
C15: 計
I19: =IF(C19<>"計",ROUNDDOWN(F19*H19,0),SUM(I$3:I18)) -> 0
I21: =IF(C21<>"計",ROUNDDOWN(F21*H21,0),SUM(I$3:I20)) -> 0
I23: =IF(C23<>"計",ROUNDDOWN(F23*H23,0),SUM(I$3:I22)) -> 0
I25: =IF(C25<>"計",ROUNDDOWN(F25*H25,0),SUM(I$3:I24)) -> 0
I27: =IF(C27<>"計",ROUNDDOWN(F27*H27,0),SUM(I$3:I26)) -> 0
I29: =IF(C29<>"計",ROUNDDOWN(F29*H29,0),SUM(I$3:I28)) -> 0
I31: =IF(C31<>"計",ROUNDDOWN(F31*H31,0),SUM(I$3:I30)) -> 0
I33: =IF(C33<>"計",ROUNDDOWN(F33*H33,0),SUM(I$3:I32)) -> 0
I35: =IF(C35<>"計",ROUNDDOWN(F35*H35,0),SUM(I$3:I34)) -> 0
I37: =IF(C37<>"計",ROUNDDOWN(F37*H37,0),SUM(I$3:I36)) -> 0
I39: =IF(C39<>"計",ROUNDDOWN(F39*H39,0),SUM(I$3:I38)) -> 0
I41: =IF(C41<>"計",ROUNDDOWN(F41*H41,0),SUM(I$3:I40)) -> 0
... I391: =IF(C391<>"計",ROUNDDOWN(F391*H391,0),SUM(I$3:I390)) -> 0

Sheet 2-5-3-1
B1: =B5 -> 5-3 | C1: =C5 -> 自動制御設備 | H1: 小計→ | I1: =MAX(I4:I401) -> 0
B2: =B7 -> 1. | C2: =C7 -> 自動制御設備
C3: 名 称 | D3: 摘 要 | F3: 数 量 | G3: 単位 | H3: 単 価 | I3: 金 額 | J3: 備 考
B4: Ⅰ-(1)-1 | C4: ステップＳ４（宿泊棟）
B5: 5-3 | C5: 自動制御設備 | I5: =IF(C5<>"計",ROUNDDOWN(F5*H5,0),SUM(I$3:I4)) -> 0
B7: 1. | C7: 自動制御設備
C9: 【中央監視改造】
C11: 機器費 | F11: 1 | G11: 式
C13: エンジニアリング費 | F13: 1 | G13: 式
C15: 調整費 | F15: 1 | G15: 式
C17: 諸経費 | F17: 1 | G17: 式
C19: 【自動制御設備】
C21: 自動制御機器 | F21: 1 | G21: 式
C23: 盤関係 | F23: 1 | G23: 式
C25: エンジニアリング費 | F25: 1 | G25: 式
C27: 調整費 | F27: 1 | G27: 式
C29: 計装工事 | F29: 1 | G29: 式
C31: 諸経費 | F31: 1 | G31: 式
C37: 計
I41: =IF(C41<>"計",ROUNDDOWN(F41*H41,0),SUM(I$3:I40)) -> 0
I43: =IF(C43<>"計",ROUNDDOWN(F43*H43,0),SUM(I$3:I42)) -> 0
I45: =IF(C45<>"計",ROUNDDOWN(F45*H45,0),SUM(I$3:I44)) -> 0
I47: =IF(C47<>"計",ROUNDDOWN(F47*H47,0),SUM(I$3:I46)) -> 0
I49: =IF(C49<>"計",ROUNDDOWN(F49*H49,0),SUM(I$3:I48)) -> 0
I51: =IF(C51<>"計",ROUNDDOWN(F51*H51,0),SUM(I$3:I50)) -> 0
I53: =IF(C53<>"計",ROUNDDOWN(F53*H53,0),SUM(I$3:I52)) -> 0
I55: =IF(C55<>"計",ROUNDDOWN(F55*H55,0),SUM(I$3:I54)) -> 0
I57: =IF(C57<>"計",ROUNDDOWN(F57*H57,0),SUM(I$3:I56)) -> 0
I59: =IF(C59<>"計",ROUNDDOWN(F59*H59,0),SUM(I$3:I58)) -> 0
I61: =IF(C61<>"計",ROUNDDOWN(F61*H61,0),SUM(I$3:I60)) -> 0
I63: =IF(C63<>"計",ROUNDDOWN(F63*H63,0),SUM(I$3:I62)) -> 0
... I403: =IF(C403<>"計",ROUNDDOWN(F403*H403,0),SUM(I$3:I402)) -> 0

Sheet 2-5-4-1
B1: =B5 -> 5-4 | C1: =C5 -> 撤去工事 | H1: 小計→ | I1: =MAX(I4:I387) -> 0
B2: =B7 -> 1. | C2: =C7 -> 撤去工事
C3: 名 称 | D3: 摘 要 | F3: 数 量 | G3: 単位 | H3: 単 価 | I3: 金 額 | J3: 備 考
B4: Ⅰ-(1)-1 | C4: ステップＳ４（宿泊棟）
B5: 5-4 | C5: 撤去工事 | I5: =IF(C5<>"計",ROUNDDOWN(F5*H5,0),SUM(I$3:I4)) -> 0
B7: 1. | C7: 撤去工事 | I7: =IF(C7<>"計",ROUNDDOWN(F7*H7,0),SUM(I$3:I6)) -> 0
C11: 機器類撤去 | F11: 1 | G11: 式 | J11: ='別紙明細2-5-4-1'!C4 -> 別紙明細2-5-4-1-1
C13: ダクト類撤去 | F13: 1 | G13: 式 | J13: ='別紙明細2-5-4-1'!C30 -> 別紙明細2-5-4-1-2
C15: 配管類撤去 | F15: 1 | G15: 式 | J15: ='別紙明細2-5-4-1'!C82 -> 別紙明細2-5-4-1-3
C19: 計
I25: =IF(C25<>"計",ROUNDDOWN(F25*H25,0),SUM(I$3:I24)) -> 0
I27: =IF(C27<>"計",ROUNDDOWN(F27*H27,0),SUM(I$3:I26)) -> 0
I29: =IF(C29<>"計",ROUNDDOWN(F29*H29,0),SUM(I$3:I28)) -> 0
I31: =IF(C31<>"計",ROUNDDOWN(F31*H31,0),SUM(I$3:I30)) -> 0
I33: =IF(C33<>"計",ROUNDDOWN(F33*H33,0),SUM(I$3:I32)) -> 0
I35: =IF(C35<>"計",ROUNDDOWN(F35*H35,0),SUM(I$3:I34)) -> 0
I37: =IF(C37<>"計",ROUNDDOWN(F37*H37,0),SUM(I$3:I36)) -> 0
I39: =IF(C39<>"計",ROUNDDOWN(F39*H39,0),SUM(I$3:I38)) -> 0
I41: =IF(C41<>"計",ROUNDDOWN(F41*H41,0),SUM(I$3:I40)) -> 0
I43: =IF(C43<>"計",ROUNDDOWN(F43*H43,0),SUM(I$3:I42)) -> 0
I45: =IF(C45<>"計",ROUNDDOWN(F45*H45,0),SUM(I$3:I44)) -> 0
I47: =IF(C47<>"計",ROUNDDOWN(F47*H47,0),SUM(I$3:I46)) -> 0
... I389: =IF(C389<>"計",ROUNDDOWN(F389*H389,0),SUM(I$3:I388)) -> 0

Sheet 2-5-5-1
B1: =B5 -> 5-5 | C1: =C5 -> アスベスト含有フランジ撤去 | H1: 小計→ | I1: =MAX(I4:I403) -> 0
B2: =B7 -> 1. | C2: =C7 -> アスベスト含有フランジ撤去
C3: 名 称 | D3: 摘 要 | F3: 数 量 | G3: 単位 | H3: 単 価 | I3: 金 額 | J3: 備 考
B4: Ⅰ-(1)-1 | C4: ステップＳ４（宿泊棟）
B5: 5-5 | C5: アスベスト含有フランジ撤去 | I5: =IF(C5<>"計",ROUNDDOWN(F5*H5,0),SUM(I$3:I4)) -> 0
B7: 1. | C7: アスベスト含有フランジ撤去
C11: アスベスト含有フランジ撤去 | D11: AC-ERR | F11: 40 | G11: ヶ所
C13: アスベスト含有フランジ撤去 | D13: FOA-MR | F13: 10 | G13: ヶ所
C15: アスベスト含有フランジ撤去 | D15: FOA-ER | F15: 10 | G15: ヶ所
C17: アスベスト含有フランジ撤去 | D17: FOA-GE | F17: 10 | G17: ヶ所
C19: アスベスト含有フランジ撤去 | D19: FE-MR | F19: 10 | G19: ヶ所
C21: アスベスト含有フランジ撤去 | D21: FE-ER | F21: 10 | G21: ヶ所
C23: アスベスト含有フランジ撤去 | D23: FE-GE | F23: 10 | G23: ヶ所
C25: アスベスト含有フランジ撤去 | D25: FE-ST | F25: 10 | G25: ヶ所
C27: アスベスト含有フランジ撤去 | D27: FE-WC-4 | F27: 10 | G27: ヶ所
C29: アスベスト含有フランジ撤去 | D29: FOA-LAN | F29: 30 | G29: ヶ所
C31: アスベスト含有フランジ撤去 | D31: FE-LAN | F31: 30 | G31: ヶ所
C35: 計
I41: =IF(C41<>"計",ROUNDDOWN(F41*H41,0),SUM(I$3:I40)) -> 0
I43: =IF(C43<>"計",ROUNDDOWN(F43*H43,0),SUM(I$3:I42)) -> 0
I45: =IF(C45<>"計",ROUNDDOWN(F45*H45,0),SUM(I$3:I44)) -> 0
I47: =IF(C47<>"計",ROUNDDOWN(F47*H47,0),SUM(I$3:I46)) -> 0
I49: =IF(C49<>"計",ROUNDDOWN(F49*H49,0),SUM(I$3:I48)) -> 0
I51: =IF(C51<>"計",ROUNDDOWN(F51*H51,0),SUM(I$3:I50)) -> 0
I53: =IF(C53<>"計",ROUNDDOWN(F53*H53,0),SUM(I$3:I52)) -> 0
I55: =IF(C55<>"計",ROUNDDOWN(F55*H55,0),SUM(I$3:I54)) -> 0
I57: =IF(C57<>"計",ROUNDDOWN(F57*H57,0),SUM(I$3:I56)) -> 0
I59: =IF(C59<>"計",ROUNDDOWN(F59*H59,0),SUM(I$3:I58)) -> 0
I61: =IF(C61<>"計",ROUNDDOWN(F61*H61,0),SUM(I$3:I60)) -> 0
I63: =IF(C63<>"計",ROUNDDOWN(F63*H63,0),SUM(I$3:I62)) -> 0
... I405: =IF(C405<>"計",ROUNDDOWN(F405*H405,0),SUM(I$3:I404)) -> 0

Sheet 2-5-6-1
B1: =B5 -> 5-6 | C1: =C5 -> 足場組立及び解体工事 | H1: 小計→ | I1: =MAX(I4:I383) -> 0
B2: =B7 -> 1. | C2: =C7 -> 足場組立及び解体工事
C3: 名 称 | D3: 摘 要 | F3: 数 量 | G3: 単位 | H3: 単 価 | I3: 金 額 | J3: 備 考
B4: Ⅰ-(1)-1 | C4: ステップＳ４（宿泊棟）
B5: 5-6 | C5: 足場組立及び解体工事
B7: 1. | C7: 足場組立及び解体工事
C11: 足場組立及び解体工事 | F11: 1 | G11: 式 | J11: ='別紙明細2-5-6-1'!C4 -> 別紙明細2-5-6-1-1
C15: 計
I19: =IF(C19<>"計",ROUNDDOWN(F19*H19,0),SUM(I$3:I18)) -> 0
I21: =IF(C21<>"計",ROUNDDOWN(F21*H21,0),SUM(I$3:I20)) -> 0
I23: =IF(C23<>"計",ROUNDDOWN(F23*H23,0),SUM(I$3:I22)) -> 0
I25: =IF(C25<>"計",ROUNDDOWN(F25*H25,0),SUM(I$3:I24)) -> 0
I27: =IF(C27<>"計",ROUNDDOWN(F27*H27,0),SUM(I$3:I26)) -> 0
I29: =IF(C29<>"計",ROUNDDOWN(F29*H29,0),SUM(I$3:I28)) -> 0
I31: =IF(C31<>"計",ROUNDDOWN(F31*H31,0),SUM(I$3:I30)) -> 0
I33: =IF(C33<>"計",ROUNDDOWN(F33*H33,0),SUM(I$3:I32)) -> 0
I35: =IF(C35<>"計",ROUNDDOWN(F35*H35,0),SUM(I$3:I34)) -> 0
I37: =IF(C37<>"計",ROUNDDOWN(F37*H37,0),SUM(I$3:I36)) -> 0
I39: =IF(C39<>"計",ROUNDDOWN(F39*H39,0),SUM(I$3:I38)) -> 0
I41: =IF(C41<>"計",ROUNDDOWN(F41*H41,0),SUM(I$3:I40)) -> 0
... I385: =IF(C385<>"計",ROUNDDOWN(F385*H385,0),SUM(I$3:I384)) -> 0

Sheet 2-5-7-1
B1: =B5 -> 5-7 | C1: =C5 -> 発生材処理 | H1: 小計→ | I1: =MAX(I4:I383) -> 0
B2: =B7 -> 1. | C2: =C7 -> 発生材処理
C3: 名 称 | D3: 摘 要 | F3: 数 量 | G3: 単位 | H3: 単 価 | I3: 金 額 | J3: 備 考
B4: Ⅰ-(1)-1 | C4: ステップＳ４（宿泊棟）
B5: 5-7 | C5: 発生材処理 | I5: =IF(C5<>"計",ROUNDDOWN(F5*H5,0),SUM(I$3:I4)) -> 0
B7: 1. | C7: 発生材処理
C11: 発生材処理 | F11: 1 | G11: 式 | J11: ='別紙明細2-5-7-1'!C4 -> 別紙明細2-5-7-1-1
C15: 計
I21: =IF(C21<>"計",ROUNDDOWN(F21*H21,0),SUM(I$3:I20)) -> 0
I23: =IF(C23<>"計",ROUNDDOWN(F23*H23,0),SUM(I$3:I22)) -> 0
I25: =IF(C25<>"計",ROUNDDOWN(F25*H25,0),SUM(I$3:I24)) -> 0
I27: =IF(C27<>"計",ROUNDDOWN(F27*H27,0),SUM(I$3:I26)) -> 0
I29: =IF(C29<>"計",ROUNDDOWN(F29*H29,0),SUM(I$3:I28)) -> 0
I31: =IF(C31<>"計",ROUNDDOWN(F31*H31,0),SUM(I$3:I30)) -> 0
I33: =IF(C33<>"計",ROUNDDOWN(F33*H33,0),SUM(I$3:I32)) -> 0
I35: =IF(C35<>"計",ROUNDDOWN(F35*H35,0),SUM(I$3:I34)) -> 0
I37: =IF(C37<>"計",ROUNDDOWN(F37*H37,0),SUM(I$3:I36)) -> 0
I39: =IF(C39<>"計",ROUNDDOWN(F39*H39,0),SUM(I$3:I38)) -> 0
I41: =IF(C41<>"計",ROUNDDOWN(F41*H41,0),SUM(I$3:I40)) -> 0
I43: =IF(C43<>"計",ROUNDDOWN(F43*H43,0),SUM(I$3:I42)) -> 0
... I385: =IF(C385<>"計",ROUNDDOWN(F385*H385,0),SUM(I$3:I384)) -> 0

Sheet 別紙明細2-5-1-1
C3: 名 称 | D3: 摘 要 | F3: 数 量 | G3: 単位 | H3: 単 価 | I3: 金 額 | J3: 備 考
C4: 別紙明細2-5-1-1-1
C5: 搬入・据付費 | F5: 1 | G5: 式 | I5: =IF(C5<>"計",ROUNDDOWN(F5*H5,0),SUM(I$3:I4)) -> 0
C9: 機器搬入 | F9: 3.24 | G9: ｔ
D10: 設備機械工
C11: 据付費 | D11: 歩掛り27.19人×1.2 | F11: =27.19*1.2 -> 32.628 | G11: 人
D12: 設備機械工
C13: 据付費（再取付品） | D13: 歩掛り42.58人×1.2 | F13: =42.58*1.2 -> 51.096 | G13: 人
C17: 計
I29: =IF(C29<>"計",ROUNDDOWN(F29*H29,0),SUM(I$3:I28)) -> 0
I31: =IF(C31<>"計",ROUNDDOWN(F31*H31,0),SUM(I$3:I30)) -> 0
I33: =IF(C33<>"計",ROUNDDOWN(F33*H33,0),SUM(I$3:I32)) -> 0
I35: =IF(C35<>"計",ROUNDDOWN(F35*H35,0),SUM(I$3:I34)) -> 0
I37: =IF(C37<>"計",ROUNDDOWN(F37*H37,0),SUM(I$3:I36)) -> 0
I39: =IF(C39<>"計",ROUNDDOWN(F39*H39,0),SUM(I$3:I38)) -> 0
I41: =IF(C41<>"計",ROUNDDOWN(F41*H41,0),SUM(I$3:I40)) -> 0
I43: =IF(C43<>"計",ROUNDDOWN(F43*H43,0),SUM(I$3:I42)) -> 0
I45: =IF(C45<>"計",ROUNDDOWN(F45*H45,0),SUM(I$3:I44)) -> 0
I47: =IF(C47<>"計",ROUNDDOWN(F47*H47,0),SUM(I$3:I46)) -> 0
I49: =IF(C49<>"計",ROUNDDOWN(F49*H49,0),SUM(I$3:I48)) -> 0
I51: =IF(C51<>"計",ROUNDDOWN(F51*H51,0),SUM(I$3:I50)) -> 0
... I231: =IF(C231<>"計",ROUNDDOWN(F231*H231,0),SUM(I$3:I230)) -> 0
I233: =ROUNDDOWN(F233*H233,0) -> 0
I235: =ROUNDDOWN(F235*H235,0) -> 0
I237: =ROUNDDOWN(F237*H237,0) -> 0
I239: =ROUNDDOWN(F239*H239,0) -> 0
I241: =ROUNDDOWN(F241*H241,0) -> 0
I243: =ROUNDDOWN(F243*H243,0) -> 0
I245: =ROUNDDOWN(F245*H245,0) -> 0
I247: =ROUNDDOWN(F247*H247,0) -> 0
I249: =ROUNDDOWN(F249*H249,0) -> 0
I251: =ROUNDDOWN(F251*H251,0) -> 0
I253: =ROUNDDOWN(F253*H253,0) -> 0
I255: =ROUNDDOWN(F255*H255,0) -> 0
... I383: =ROUNDDOWN(F383*H383,0) -> 0

Sheet 別紙明細2-5-1-2
C3: 名 称 | D3: 摘 要 | F3: 数 量 | G3: 単位 | H3: 単 価 | I3: 金 額 | J3: 備 考
C4: 別紙明細2-5-1-2-1
C5: 冷媒管 | F5: 1 | G5: 式
D8: 冷媒用断熱材被服銅管
C9: 冷媒管 | D9: 液管(10mm) | E9: 6.4φ | F9: 40 | G9: ｍ
D10: 冷媒用断熱材被服銅管
C11: 冷媒管 | D11: 液管(10mm) | E11: 9.5φ | F11: 50 | G11: ｍ
D12: 冷媒用断熱材被服銅管
C13: 冷媒管 | D13: ガス管(20mm) | E13: 9.5φ | F13: 40 | G13: ｍ
D14: 冷媒用断熱材被服銅管
C15: 冷媒管 | D15: ガス管(20mm) | E15: 12.7φ | F15: 50 | G15: ｍ
D16: EM-CEE-3.5mm-2C
C17: 制御用ケーブル | D17: 管内配線 | F17: 40 | G17: ｍ
D18: EM-CEE-3.5mm-2C
C19: 制御用ケーブル | D19: 管内配線 | F19: 50 | G19: ｍ
C23: 計
C26: 別紙明細2-5-1-2-2
C27: 保温 | F27: 1 | G27: 式
D30: 隠蔽 | E30: ｱﾙﾐｶﾞﾗｽｸﾛｽ
C31: 保温 | D31: GW 給水管 | E31: 20A | F31: 33 | G31: ｍ
C33: 保温化粧ケース | D33: 樹脂製 | E33: 100×70 | F33: 10 | G33: ｍ
C35: 冷媒管保温外装 | D35: ｽﾃﾝﾚｽ鋼板 | F35: 11 | G35: ｍ
C37: 冷媒管保温外装 | D37: ｽﾃﾝﾚｽ鋼板 | F37: 10 | G37: ｍ
C39: 断熱支持材 | F39: 1 | G39: 式
C43: 計
C48: 別紙明細2-5-1-2-3
C49: あと施工アンカー | F49: 1 | G49: 式
C53: あと施工アンカー | D53: 上打 | E53: M10 | F53: 12 | G53: 本
C55: あと施工アンカー | D55: 上打 | E55: M10 | F55: 39 | G55: 本
C57: あと施工アンカー | D57: 上打 | E57: M10 | F57: =ROUND(67/2,0) -> 34 | G57: 本
C59: 鉄筋探査 | D59: 0.5m×0.5m/箇所 | F59: =SUM(F52:F57) -> 85 | G59: ヶ所
C63: 計
C66: 別紙明細2-5-1-2-4
C67: はつり補修 | F67: 1 | G67: 式
D70: ﾀﾞｲﾔﾓﾝﾄﾞｶｯﾀｰ | E70: RC厚150mm程度
C71: 機械はつり | E71: 100φ | F71: 30 | G71: ヶ所
D72: ﾀﾞｲﾔﾓﾝﾄﾞｶｯﾀｰ | E72: RC厚150mm程度
C73: 機械はつり | E73: 150φ | F73: 3 | G73: ヶ所
D74: ﾀﾞｲﾔﾓﾝﾄﾞｶｯﾀｰ | E74: RC厚200mm程度
C75: 機械はつり | E75: 100φ | F75: 9 | G75: ヶ所
C77: 鉄筋探査 | D77: 0.5m×0.5m/箇所 | F77: =SUM(F70:F75) -> 42 | G77: ヶ所
C81: 計
C84: 別紙明細2-5-1-2-5
C85: コンクリートブロック撤去 | F85: 1 | G85: 式
C89: コンクリートブロック撤去 | F89: 8 | G89: ヶ所
C93: 計
C96: 別紙明細2-5-1-2-6
C97: スリーブ | F97: 1 | G97: 式
D100: 一般配管用SUS | E100: 拡管式接合
C101: 給水管 | D101: 屋内一般 | E101: 20SU | F101: 33 | G101: ｍ
D102: ACドレン | E102: 融着接合
C103: ドレン管 | D103: 屋内一般 | E103: 20A | F103: 55 | G103: ｍ
D104: ACドレン | E104: 融着接合
C105: ドレン管 | D105: 屋内一般 | E105: 25A | F105: 39 | G105: ｍ
D106: ACドレン | E106: 融着接合
C107: ドレン管 | D107: 屋外 | E107: 20A | F107: 8 | G107: ｍ
D108: ACドレン | E108: 融着接合
C109: ドレン管 | D109: 屋外 | E109: 25A | F109: 8 | G109: ｍ
D110: 冷媒用断熱材被服銅管
C111: 冷媒管 | D111: 液管(10mm) | E111: 6.4φ | F111: 40 | G111: ｍ
D112: 冷媒用断熱材被服銅管
C113: 冷媒管 | D113: 液管(10mm) | E113: 9.5φ | F113: 50 | G113: ｍ
D114: 冷媒用断熱材被服銅管
C115: 冷媒管 | D115: ガス管(20mm) | E115: 9.5φ | F115: 40 | G115: ｍ
D116: 冷媒用断熱材被服銅管
C117: 冷媒管 | D117: ガス管(20mm) | E117: 12.7φ | F117: 50 | G117: ｍ
C119: 小計
C121: 計 | D121: 9
C124: 別紙明細2-5-1-2-7
C125: 防火区画貫通処理 | F125: 1 | G125: 式
C129: 防火区画貫通処理 | F129: 1 | G129: ヶ所
C133: 計
I139: =IF(C139<>"計",ROUNDDOWN(F139*H139,0),SUM(I$3:I138)) -> 0
I141: =IF(C141<>"計",ROUNDDOWN(F141*H141,0),SUM(I$3:I140)) -> 0
I143: =IF(C143<>"計",ROUNDDOWN(F143*H143,0),SUM(I$3:I142)) -> 0
I145: =IF(C145<>"計",ROUNDDOWN(F145*H145,0),SUM(I$3:I144)) -> 0
I147: =IF(C147<>"計",ROUNDDOWN(F147*H147,0),SUM(I$3:I146)) -> 0
I149: =IF(C149<>"計",ROUNDDOWN(F149*H149,0),SUM(I$3:I148)) -> 0
I151: =IF(C151<>"計",ROUNDDOWN(F151*H151,0),SUM(I$3:I150)) -> 0
I153: =IF(C153<>"計",ROUNDDOWN(F153*H153,0),SUM(I$3:I152)) -> 0
I155: =IF(C155<>"計",ROUNDDOWN(F155*H155,0),SUM(I$3:I154)) -> 0
I157: =IF(C157<>"計",ROUNDDOWN(F157*H157,0),SUM(I$3:I156)) -> 0
I159: =IF(C159<>"計",ROUNDDOWN(F159*H159,0),SUM(I$3:I158)) -> 0
I161: =IF(C161<>"計",ROUNDDOWN(F161*H161,0),SUM(I$3:I160)) -> 0
... I215: =IF(C215<>"計",ROUNDDOWN(F215*H215,0),SUM(I$3:I214)) -> 0
I217: =ROUNDDOWN(F217*H217,0) -> 0
I219: =ROUNDDOWN(F219*H219,0) -> 0
I221: =ROUNDDOWN(F221*H221,0) -> 0
I223: =ROUNDDOWN(F223*H223,0) -> 0
I225: =ROUNDDOWN(F225*H225,0) -> 0
I227: =ROUNDDOWN(F227*H227,0) -> 0
I229: =ROUNDDOWN(F229*H229,0) -> 0
I231: =ROUNDDOWN(F231*H231,0) -> 0
I233: =ROUNDDOWN(F233*H233,0) -> 0
I235: =ROUNDDOWN(F235*H235,0) -> 0
I237: =ROUNDDOWN(F237*H237,0) -> 0
I239: =ROUNDDOWN(F239*H239,0) -> 0
... I367: =ROUNDDOWN(F367*H367,0) -> 0

Sheet 別紙明細2-5-1-3
C3: 名 称 | D3: 摘 要 | F3: 数 量 | G3: 単位 | H3: 単 価 | I3: 金 額 | J3: 備 考
C4: 別紙明細2-5-1-3-1
C5: 総合調整 | F5: 1 | G5: 式
D8: 一般配管用SUS | E8: 拡管式接合
C9: 給水管 | D9: 屋内一般 | E9: 20SU | F9: 33 | G9: ｍ
C13: 計
I19: =IF(C19<>"計",ROUNDDOWN(F19*H19,0),SUM(I$3:I18)) -> 0
I21: =IF(C21<>"計",ROUNDDOWN(F21*H21,0),SUM(I$3:I20)) -> 0
I23: =IF(C23<>"計",ROUNDDOWN(F23*H23,0),SUM(I$3:I22)) -> 0
I25: =IF(C25<>"計",ROUNDDOWN(F25*H25,0),SUM(I$3:I24)) -> 0
I27: =IF(C27<>"計",ROUNDDOWN(F27*H27,0),SUM(I$3:I26)) -> 0
I29: =IF(C29<>"計",ROUNDDOWN(F29*H29,0),SUM(I$3:I28)) -> 0
I31: =IF(C31<>"計",ROUNDDOWN(F31*H31,0),SUM(I$3:I30)) -> 0
I33: =IF(C33<>"計",ROUNDDOWN(F33*H33,0),SUM(I$3:I32)) -> 0
I35: =IF(C35<>"計",ROUNDDOWN(F35*H35,0),SUM(I$3:I34)) -> 0
I37: =IF(C37<>"計",ROUNDDOWN(F37*H37,0),SUM(I$3:I36)) -> 0
I39: =IF(C39<>"計",ROUNDDOWN(F39*H39,0),SUM(I$3:I38)) -> 0
I41: =IF(C41<>"計",ROUNDDOWN(F41*H41,0),SUM(I$3:I40)) -> 0
... I231: =IF(C231<>"計",ROUNDDOWN(F231*H231,0),SUM(I$3:I230)) -> 0
I233: =ROUNDDOWN(F233*H233,0) -> 0
I235: =ROUNDDOWN(F235*H235,0) -> 0
I237: =ROUNDDOWN(F237*H237,0) -> 0
I239: =ROUNDDOWN(F239*H239,0) -> 0
I241: =ROUNDDOWN(F241*H241,0) -> 0
I243: =ROUNDDOWN(F243*H243,0) -> 0
I245: =ROUNDDOWN(F245*H245,0) -> 0
I247: =ROUNDDOWN(F247*H247,0) -> 0
I249: =ROUNDDOWN(F249*H249,0) -> 0
I251: =ROUNDDOWN(F251*H251,0) -> 0
I253: =ROUNDDOWN(F253*H253,0) -> 0
I255: =ROUNDDOWN(F255*H255,0) -> 0
... I383: =ROUNDDOWN(F383*H383,0) -> 0

Sheet 別紙明細2-5-2-1
C3: 名 称 | D3: 摘 要 | F3: 数 量 | G3: 単位 | H3: 単 価 | I3: 金 額 | J3: 備 考
C4: 別紙明細2-5-2-1-1
C5: 搬入・据付費 | F5: 1 | G5: 式
C9: 機器搬入 | F9: 1.24 | G9: ｔ
D10: 設備機械工
C11: 据付費 | D11: 歩掛り79.04人×1.2 | F11: =79.04*1.2 -> 94.848 | G11: 人
C15: 計
I21: =IF(C21<>"計",ROUNDDOWN(F21*H21,0),SUM(I$3:I20)) -> 0
I23: =IF(C23<>"計",ROUNDDOWN(F23*H23,0),SUM(I$3:I22)) -> 0
I25: =IF(C25<>"計",ROUNDDOWN(F25*H25,0),SUM(I$3:I24)) -> 0
I27: =IF(C27<>"計",ROUNDDOWN(F27*H27,0),SUM(I$3:I26)) -> 0
I29: =IF(C29<>"計",ROUNDDOWN(F29*H29,0),SUM(I$3:I28)) -> 0
I31: =IF(C31<>"計",ROUNDDOWN(F31*H31,0),SUM(I$3:I30)) -> 0
I33: =IF(C33<>"計",ROUNDDOWN(F33*H33,0),SUM(I$3:I32)) -> 0
I35: =IF(C35<>"計",ROUNDDOWN(F35*H35,0),SUM(I$3:I34)) -> 0
I37: =IF(C37<>"計",ROUNDDOWN(F37*H37,0),SUM(I$3:I36)) -> 0
I39: =IF(C39<>"計",ROUNDDOWN(F39*H39,0),SUM(I$3:I38)) -> 0
I41: =IF(C41<>"計",ROUNDDOWN(F41*H41,0),SUM(I$3:I40)) -> 0
I43: =IF(C43<>"計",ROUNDDOWN(F43*H43,0),SUM(I$3:I42)) -> 0
... I243: =IF(C243<>"計",ROUNDDOWN(F243*H243,0),SUM(I$3:I242)) -> 0
I245: =ROUNDDOWN(F245*H245,0) -> 0
I247: =ROUNDDOWN(F247*H247,0) -> 0
I249: =ROUNDDOWN(F249*H249,0) -> 0
I251: =ROUNDDOWN(F251*H251,0) -> 0
I253: =ROUNDDOWN(F253*H253,0) -> 0
I255: =ROUNDDOWN(F255*H255,0) -> 0
I257: =ROUNDDOWN(F257*H257,0) -> 0
I259: =ROUNDDOWN(F259*H259,0) -> 0
I261: =ROUNDDOWN(F261*H261,0) -> 0
I263: =ROUNDDOWN(F263*H263,0) -> 0
I265: =ROUNDDOWN(F265*H265,0) -> 0
I267: =ROUNDDOWN(F267*H267,0) -> 0
... I395: =ROUNDDOWN(F395*H395,0) -> 0

Sheet 別紙明細2-5-2-2
C3: 名 称 | D3: 摘 要 | F3: 数 量 | G3: 単位 | H3: 単 価 | I3: 金 額 | J3: 備 考
C4: 別紙明細2-5-2-2-1
C5: 制気口ボックス類 | F5: 1 | G5: 式 | I5: =IF(C5<>"計",ROUNDDOWN(F5*H5,0),SUM(I$3:I4)) -> 0
I7: =IF(C7<>"計",ROUNDDOWN(F7*H7,0),SUM(I$3:I6)) -> 0
D8: ｱﾝｸﾞﾙﾌﾗﾝｼﾞ工法(低圧)
C9: 長方形ダクト | D9: 亜鉛鉄板 | E9: 0.5mm厚 | F9: 9.71 | G9: ㎡
D10: ｱﾝｸﾞﾙﾌﾗﾝｼﾞ工法(低圧)
C11: 長方形ダクト | D11: 亜鉛鉄板 | E11: 0.5mm厚 | F11: 5.46 | G11: ㎡
C13: 消音内貼 | D13: GW25t | F13: 9.17 | G13: ㎡
C15: 消音内貼 | D15: GW25t | F15: 0.56 | G15: ㎡
C17: あと施工アンカー | D17: 上打 | E17: M10 | F17: 54 | G17: 本
C19: あと施工アンカー | D19: 上打 | E19: M10 | F19: 45 | G19: 本
C21: 鉄筋探査 | D21: 0.5m×0.5m/箇所 | F21: =SUM(F16:F19) -> 99 | G21: ヶ所
C25: 計
C28: 別紙明細2-5-2-2-2
C29: 保温 | F29: 1 | G29: 式
D32: 屋内露出 | E32: ｶﾗｰ亜鉛鉄板
C33: 保温 | D33: GW | E33: ｽﾊﾟｲﾗﾙﾀﾞｸﾄ | F33: 8.86 | G33: ㎡
D34: 屋内露出 | E34: ｶﾗｰ亜鉛鉄板
C35: 保温 | D35: GW | E35: ｽﾊﾟｲﾗﾙﾀﾞｸﾄ | F35: 21.74 | G35: ㎡
D36: 屋内露出 | E36: ｶﾗｰ亜鉛鉄板
C37: 保温 | D37: GW | E37: ｽﾊﾟｲﾗﾙﾀﾞｸﾄ | F37: 33.14 | G37: ㎡
D38: 隠蔽 | E38: ｱﾙﾐｶﾞﾗｽｸﾛｽ
C39: 保温 | D39: GW | E39: ｽﾊﾟｲﾗﾙﾀﾞｸﾄ | F39: 0.57 | G39: ㎡
D40: 屋内露出 | E40: ｶﾗｰ亜鉛鉄板
C41: 保温 | D41: GW | E41: ｽﾊﾟｲﾗﾙﾀﾞｸﾄ | F41: 41.95 | G41: ㎡
D42: 隠蔽 | E42: ｱﾙﾐｶﾞﾗｽｸﾛｽ
C43: 保温 | D43: GW | E43: ｽﾊﾟｲﾗﾙﾀﾞｸﾄ | F43: 11.77 | G43: ㎡
D44: 屋内露出 | E44: ｶﾗｰ亜鉛鉄板
C45: 保温 | D45: GW | E45: ｽﾊﾟｲﾗﾙﾀﾞｸﾄ | F45: 0.94 | G45: ㎡
C49: 計
C52: 別紙明細2-5-2-2-3
C53: あと施工アンカー | F53: 1 | G53: 式
C57: あと施工アンカー | D57: 上打 | E57: M10 | F57: 6 | G57: 本
C59: あと施工アンカー | D59: 上打 | E59: M10 | F59: 15 | G59: 本
C61: あと施工アンカー | D61: 上打 | E61: M10 | F61: 26 | G61: 本
C63: あと施工アンカー | D63: 上打 | E63: M10 | F63: 45 | G63: 本
C65: あと施工アンカー | D65: 上打 | E65: M10 | F65: 1 | G65: 本
C67: 鉄筋探査 | D67: 0.5m×0.5m/箇所 | F67: =SUM(F56:F65) -> 93 | G67: ヶ所
C71: 計
C74: 別紙明細2-5-2-2-4
C75: スリーブ | F75: 1 | G75: 式
C79: ＜ＳＡ＞
D80: (低圧)
C81: スパイラルダクト | D81: 亜鉛鉄板 | E81: 150φ | F81: 8 | G81: ｍ
D82: (低圧)
C83: スパイラルダクト | D83: 亜鉛鉄板 | E83: 200φ | F83: 8 | G83: ｍ
C85: ＜ＲＡ＞
D86: (低圧)
C87: スパイラルダクト | D87: 亜鉛鉄板 | E87: 150φ | F87: 22 | G87: ｍ
D88: (低圧)
C89: スパイラルダクト | D89: 亜鉛鉄板 | E89: 200φ | F89: 18 | G89: ｍ
C91: ＜ＯＡ＞
D92: (低圧)
C93: スパイラルダクト | D93: 亜鉛鉄板 | E93: 100φ | F93: 31 | G93: ｍ
D94: (低圧)
C95: スパイラルダクト | D95: 亜鉛鉄板 | E95: 150φ | F95: 13 | G95: ｍ
D96: (低圧)
C97: スパイラルダクト | D97: 亜鉛鉄板 | E97: 175φ | F97: 11 | G97: ｍ
D98: (低圧)
C99: スパイラルダクト | D99: 亜鉛鉄板 | E99: 200φ | F99: 19 | G99: ｍ
C101: ＜ＥＡ＞
D102: (低圧)
C103: スパイラルダクト | D103: 亜鉛鉄板 | E103: 100φ | F103: 13 | G103: ｍ
D104: (低圧)
C105: スパイラルダクト | D105: 亜鉛鉄板 | E105: 125φ | F105: 9 | G105: ｍ
D106: (低圧)
C107: スパイラルダクト | D107: 亜鉛鉄板 | E107: 150φ | F107: 65 | G107: ｍ
D108: (低圧)
C109: スパイラルダクト | D109: 亜鉛鉄板 | E109: 175φ | F109: 6 | G109: ｍ
D110: (低圧)
C111: スパイラルダクト | D111: 亜鉛鉄板 | E111: 200φ | F111: 32 | G111: ｍ
D112: (低圧)
C113: スパイラルダクト | D113: 亜鉛鉄板 | E113: 325φ | F113: 5 | G113: ｍ
C115: ＜パス＞
D116: (低圧)
C117: スパイラルダクト | D117: 亜鉛鉄板 | E117: 150φ | F117: 2 | G117: ｍ
C119: 小計
C121: 計 | D121: 9
I125: =IF(C125<>"計",ROUNDDOWN(F125*H125,0),SUM(I$3:I124)) -> 0
I127: =IF(C127<>"計",ROUNDDOWN(F127*H127,0),SUM(I$3:I126)) -> 0
I129: =IF(C129<>"計",ROUNDDOWN(F129*H129,0),SUM(I$3:I128)) -> 0
I131: =IF(C131<>"計",ROUNDDOWN(F131*H131,0),SUM(I$3:I130)) -> 0
I133: =IF(C133<>"計",ROUNDDOWN(F133*H133,0),SUM(I$3:I132)) -> 0
I135: =IF(C135<>"計",ROUNDDOWN(F135*H135,0),SUM(I$3:I134)) -> 0
I137: =IF(C137<>"計",ROUNDDOWN(F137*H137,0),SUM(I$3:I136)) -> 0
I139: =IF(C139<>"計",ROUNDDOWN(F139*H139,0),SUM(I$3:I138)) -> 0
I141: =IF(C141<>"計",ROUNDDOWN(F141*H141,0),SUM(I$3:I140)) -> 0
I143: =IF(C143<>"計",ROUNDDOWN(F143*H143,0),SUM(I$3:I142)) -> 0
I145: =IF(C145<>"計",ROUNDDOWN(F145*H145,0),SUM(I$3:I144)) -> 0
I147: =IF(C147<>"計",ROUNDDOWN(F147*H147,0),SUM(I$3:I146)) -> 0
... I251: =IF(C251<>"計",ROUNDDOWN(F251*H251,0),SUM(I$3:I250)) -> 0
I253: =ROUNDDOWN(F253*H253,0) -> 0
I255: =ROUNDDOWN(F255*H255,0) -> 0
I257: =ROUNDDOWN(F257*H257,0) -> 0
I259: =ROUNDDOWN(F259*H259,0) -> 0
I261: =ROUNDDOWN(F261*H261,0) -> 0
I263: =ROUNDDOWN(F263*H263,0) -> 0
I265: =ROUNDDOWN(F265*H265,0) -> 0
I267: =ROUNDDOWN(F267*H267,0) -> 0
...

Sheet 別紙明細2-5-2-3
C3: 名 称 | D3: 摘 要 | F3: 数 量 | G3: 単位 | H3: 単 価 | I3: 金 額 | J3: 備 考
C4: 別紙明細2-5-2-3-1
C5: 総合調整 | F5: 1 | G5: 式
D8: (低圧)
C9: スパイラルダクト | D9: 亜鉛鉄板 | E9: 150φ | F9: 8 | G9: ｍ
D10: (低圧)
C11: スパイラルダクト | D11: 亜鉛鉄板 | E11: 200φ | F11: 8 | G11: ｍ
D12: (低圧)
C13: スパイラルダクト | D13: 亜鉛鉄板 | E13: 150φ | F13: 22 | G13: ｍ
D14: (低圧)
C15: スパイラルダクト | D15: 亜鉛鉄板 | E15: 200φ | F15: 18 | G15: ｍ
D16: (低圧)
C17: スパイラルダクト | D17: 亜鉛鉄板 | E17: 100φ | F17: 31 | G17: ｍ
D18: (低圧)
C19: スパイラルダクト | D19: 亜鉛鉄板 | E19: 150φ | F19: 13 | G19: ｍ
D20: (低圧)
C21: スパイラルダクト | D21: 亜鉛鉄板 | E21: 175φ | F21: 11 | G21: ｍ
D22: (低圧)
C23: スパイラルダクト | D23: 亜鉛鉄板 | E23: 200φ | F23: 19 | G23: ｍ
D24: (低圧)
C25: スパイラルダクト | D25: 亜鉛鉄板 | E25: 100φ | F25: 13 | G25: ｍ
D26: (低圧)
C27: スパイラルダクト | D27: 亜鉛鉄板 | E27: 125φ | F27: 9 | G27: ｍ
D28: (低圧)
C29: スパイラルダクト | D29: 亜鉛鉄板 | E29: 150φ | F29: 65 | G29: ｍ
D30: (低圧)
C31: スパイラルダクト | D31: 亜鉛鉄板 | E31: 175φ | F31: 6 | G31: ｍ
D32: (低圧)
C33: スパイラルダクト | D33: 亜鉛鉄板 | E33: 200φ | F33: 32 | G33: ｍ
D34: (低圧)
C35: スパイラルダクト | D35: 亜鉛鉄板 | E35: 325φ | F35: 5 | G35: ｍ
D36: (低圧)
C37: スパイラルダクト | D37: 亜鉛鉄板 | E37: 150φ | F37: 2 | G37: ｍ
C41: 計
I51: =IF(C51<>"計",ROUNDDOWN(F51*H51,0),SUM(I$3:I50)) -> 0
I53: =IF(C53<>"計",ROUNDDOWN(F53*H53,0),SUM(I$3:I52)) -> 0
I55: =IF(C55<>"計",ROUNDDOWN(F55*H55,0),SUM(I$3:I54)) -> 0
I57: =IF(C57<>"計",ROUNDDOWN(F57*H57,0),SUM(I$3:I56)) -> 0
I59: =IF(C59<>"計",ROUNDDOWN(F59*H59,0),SUM(I$3:I58)) -> 0
I61: =IF(C61<>"計",ROUNDDOWN(F61*H61,0),SUM(I$3:I60)) -> 0
I63: =IF(C63<>"計",ROUNDDOWN(F63*H63,0),SUM(I$3:I62)) -> 0
I65: =IF(C65<>"計",ROUNDDOWN(F65*H65,0),SUM(I$3:I64)) -> 0
I67: =IF(C67<>"計",ROUNDDOWN(F67*H67,0),SUM(I$3:I66)) -> 0
I69: =IF(C69<>"計",ROUNDDOWN(F69*H69,0),SUM(I$3:I68)) -> 0
I71: =IF(C71<>"計",ROUNDDOWN(F71*H71,0),SUM(I$3:I70)) -> 0
I73: =IF(C73<>"計",ROUNDDOWN(F73*H73,0),SUM(I$3:I72)) -> 0
... I267: =IF(C267<>"計",ROUNDDOWN(F267*H267,0),SUM(I$3:I266)) -> 0
I269: =ROUNDDOWN(F269*H269,0) -> 0
I271: =ROUNDDOWN(F271*H271,0) -> 0
I273: =ROUNDDOWN(F273*H273,0) -> 0
I275: =ROUNDDOWN(F275*H275,0) -> 0
I277: =ROUNDDOWN(F277*H277,0) -> 0
I279: =ROUNDDOWN(F279*H279,0) -> 0
I281: =ROUNDDOWN(F281*H281,0) -> 0
I283: =ROUNDDOWN(F283*H283,0) -> 0
I285: =ROUNDDOWN(F285*H285,0) -> 0
I287: =ROUNDDOWN(F287*H287,0) -> 0
I289: =ROUNDDOWN(F289*H289,0) -> 0
I291: =ROUNDDOWN(F291*H291,0) -> 0
... I419: =ROUNDDOWN(F419*H419,0) -> 0

Sheet 別紙明細2-5-4-1
C3: 名 称 | D3: 摘 要 | F3: 数 量 | G3: 単位 | H3: 単 価 | I3: 金 額 | J3: 備 考
C4: 別紙明細2-5-4-1-1
C5: 機器類撤去 | F5: 1 | G5: 式
C9: 空調設備機器 搬出 | F9: 6.38 | G9: ｔ
D10: 設備機械工
C11: 空調設備機器 撤去 | D11: 歩掛り52.60人×0.3 | F11: =52.6*0.3 -> 15.78 | G11: 人
D12: 設備機械工
C13: 空調設備機器（再取付品） 撤去 | D13: 歩掛り42.58人×0.4 | F13: =42.58*0.4 -> 17.032 | G13: 人
C15: 冷媒回収作業 | F15: 83 | G15: 台
C17: 換気設備機器 搬出 | F17: 2.66 | G17: ｔ
D18: 設備機械工
C19: 換気設備機器 撤去 | D19: 歩掛り59.4人×0.3 | F19: =59.4*0.3 -> 17.82 | G19: 人
C21: 衛生設備機器 搬出 | F21: 5.12 | G21: ｔ
D22: 設備機械工
C23: 衛生設備機器 撤去 | D23: 歩掛り14.18人×0.3 | F23: =14.18*0.3 -> 4.254 | G23: 人
C27: 計
C30: 別紙明細2-5-4-1-2
C31: ダクト類撤去 | F31: 1 | G31: 式
C35: 長方形ダクト 撤去 | E35: 0.8mm厚 | F35: 5 | G35: ㎡
C37: 長方形ダクト 撤去 | E37: 0.8mm厚 | F37: 5 | G37: ㎡
C39: スパイラルダクト 撤去 | E39: 175φ | F39: 8 | G39: ｍ
C41: スパイラルダクト 撤去 | E41: 100φ | F41: 141 | G41: ｍ
C43: スパイラルダクト 撤去 | E43: 125φ | F43: 8 | G43: ｍ
C45: スパイラルダクト 撤去 | E45: 150φ | F45: 19 | G45: ｍ
C47: スパイラルダクト 撤去 | E47: 175φ | F47: 11 | G47: ｍ
C49: スパイラルダクト 撤去 | E49: 300φ | F49: 6 | G49: ｍ
D50: ﾕﾆﾊﾞｰｻﾙ形吹出口 | E50: 0.04㎡以下
C51: 制気口 撤去 | D51: HS | E51: 150×150 | F51: 7 | G51: 個
D52: ﾕﾆﾊﾞｰｻﾙ形吹出口 | E52: 0.04㎡以下
C53: 制気口 撤去 | D53: HS | E53: 200×150 | F53: 1 | G53: 個
D54: ﾕﾆﾊﾞｰｻﾙ形吹出口 | E54: 0.04㎡以下
C55: 制気口 撤去 | D55: HS | E55: 200×200 | F55: 3 | G55: 個
C57: ベントキャップ | E57: 100φ | F57: 8 | G57: 個
C59: 長方形ダクト 撤去 | E59: 0.8mm厚 | F59: 29.53 | G59: ㎡
C61: 長方形ダクト 撤去 | E61: 1.0mm厚 | F61: 6.52 | G61: ㎡
C63: 長方形ダクト 撤去 | E63: 1.2mm厚 | F63: 10.54 | G63: ㎡
C65: 消音内貼 撤去 | D65: GW25t | E65: ｱﾐ付 | F65: 42.46 | G65: ㎡
C67: 長方形ダクト 撤去 | E67: 0.5mm厚 | F67: 1.68 | G67: ㎡
D68: 機械室露出 | E68: ｱﾙﾐｶﾞﾗｽｸﾛｽ
C69: 保温 撤去 | D69: GW | E69: 長方形ﾀﾞｸﾄ | F69: 5 | G69: ㎡
D70: 屋内露出 | E70: ｶﾗｰ亜鉛鉄板
C71: 保温 撤去 | D71: GW | E71: ｽﾊﾟｲﾗﾙﾀﾞｸﾄ | F71: 4.4 | G71: ㎡
D72: 屋内露出 | E72: ｶﾗｰ亜鉛鉄板
C73: 保温 撤去 | D73: GW | E73: ｽﾊﾟｲﾗﾙﾀﾞｸﾄ | F73: 10 | G73: ㎡
D74: 隠蔽 | E74: ｱﾙﾐｶﾞﾗｽｸﾛｽ
C75: 保温 撤去 | D75: GW | E75: ｽﾊﾟｲﾗﾙﾀﾞｸﾄ | F75: 48.95 | G75: ㎡
C79: 計
C82: 別紙明細2-5-4-1-3
C83: 配管類撤去 | F83: 1 | G83: 式
C87: ＜空調配管＞
D88: SGP-白 | E88: ねじ接合
C89: 冷温水管 撤去 | D89: 屋内一般 | E89: 20A | F89: 54 | G89: ｍ
D90: SGP-白 | E90: ねじ接合
C91: 冷温水管 撤去 | D91: 屋内一般 | E91: 100A | F91: 14 | G91: ｍ
D92: SGP-白 | E92: ねじ接合
C93: 冷温水管 撤去 | D93: 機械室・便所 | E93: 100A | F93: 39 | G93: ｍ
D94: SGP-白 | E94: ねじ接合
C95: 冷水管 撤去 | D95: 屋内一般 | E95: 20A | F95: 5 | G95: ｍ
D96: SGP-白 | E96: ねじ接合
C97: 冷水管 撤去 | D97: 屋内一般 | E97: 50A | F97: 3 | G97: ｍ
D98: SGP-白 | E98: ねじ接合
C99: 冷水管 撤去 | D99: 屋内一般 | E99: 65A | F99: 10 | G99: ｍ
D100: SGP-白 | E100: ねじ接合
C101: 冷水管 撤去 | D101: 屋内一般 | E101: 80A | F101: 26 | G101: ｍ
D102: SGP-白 | E102: ねじ接合
C103: 冷水管 撤去 | D103: 機械室・便所 | E103: 20A | F103: 22 | G103: ｍ
D104: SGP-白 | E104: ねじ接合
C105: 冷水管 撤去 | D105: 機械室・便所 | E105: 40A | F105: 5 | G105: ｍ
D106: SGP-白 | E106: ねじ接合
C107: 冷水管 撤去 | D107: 機械室・便所 | E107: 50A | F107: 9 | G107: ｍ
D108: SGP-白 | E108: ねじ接合
C109: 冷水管 撤去 | D109: 機械室・便所 | E109: 65A | F109: 22 | G109: ｍ
D110: SGP-白 | E110: ねじ接合
C111: 冷水管 撤去 | D111: 機械室・便所 | E111: 80A | F111: 18 | G111: ｍ
D112: SGP-白 | E112: ねじ接合
C113: 冷水管 撤去 | D113: 機械室・便所 | E113: 100A | F113: 29 | G113: ｍ
D114: SGP-白 | E114: ねじ接合
C115: 温水管 撤去 | D115: 屋内一般 | E115: 80A | F115: 20 | G115: ｍ
D116: SGP-白 | E116: ねじ接合
C117: 温水管 撤去 | D117: 機械室・便所 | E117: 80A | F117: 49 | G117: ｍ
D118: SGP-白 | E118: ねじ接合
C119: 冷却水管 撤去 | D119: 機械室・便所 | E119: 100A | F119: 14 | G119: ｍ
D120: 一般配管用SUS | E120: 溶接接合
C121: 給水管 撤去 | D121: 機械室・便所 | E121: 100SU | F121: 23 | G121: ｍ
D122: SGP-白 | E122: ねじ接合
C123: ドレン管 撤去 | D123: 屋内一般 | E123: 20A | F123: 3 | G123: ｍ
D124: SGP-白 | E124: ねじ接合
C125: ドレン管 撤去 | D125: 屋内一般 | E125: 25A | F125: 10 | G125: ｍ
D126: SGP-白 | E126: ねじ接合
C127: ドレン管 撤去 | D127: 屋内一般 | E127: 32A | F127: 17 | G127: ｍ
D128: SGP-白 | E128: ねじ接合
C129: ドレン管 撤去 | D129: 屋内一般 | E129: 40A | F129: 24 | G129: ｍ
D130: SGP-白 | E130: ねじ接合
C131: ドレン管 撤去 | D131: 機械室・便所 | E131: 50A | F131: 7 | G131: ｍ
D132: ACドレン | E132: 融着接合
C133: ドレン管 撤去 | D133: 屋内一般 | E133: 20A | F133: 11 | G133: ｍ
D134: ACドレン | E134: 融着接合
C135: ドレン管 撤去 | D135: 屋外 | E135: 20A | F135: 63 | G135: ｍ
D136: 冷媒用断熱材被服銅管
C137: 冷媒管 撤去 | D137: 液管(10mm) | E137: 6.4φ | F137: 139 | G137: ｍ
...

Sheet 別紙明細2-5-6-1
C3: 名 称 | D3: 摘 要 | F3: 数 量 | G3: 単位 | H3: 単 価 | I3: 金 額 | J3: 備 考
C4: 別紙明細2-5-6-1-1
C5: 足場組立及び解体工事 | F5: 1 | G5: 式
C9: 足場組立及び解体工事 | F9: 1 | G9: 式
C13: 計
I25: =IF(C25<>"計",ROUNDDOWN(F25*H25,0),SUM(I$3:I24)) -> 0
I27: =IF(C27<>"計",ROUNDDOWN(F27*H27,0),SUM(I$3:I26)) -> 0
I29: =IF(C29<>"計",ROUNDDOWN(F29*H29,0),SUM(I$3:I28)) -> 0
I31: =IF(C31<>"計",ROUNDDOWN(F31*H31,0),SUM(I$3:I30)) -> 0
I33: =IF(C33<>"計",ROUNDDOWN(F33*H33,0),SUM(I$3:I32)) -> 0
I35: =IF(C35<>"計",ROUNDDOWN(F35*H35,0),SUM(I$3:I34)) -> 0
I37: =IF(C37<>"計",ROUNDDOWN(F37*H37,0),SUM(I$3:I36)) -> 0
I39: =IF(C39<>"計",ROUNDDOWN(F39*H39,0),SUM(I$3:I38)) -> 0
I41: =IF(C41<>"計",ROUNDDOWN(F41*H41,0),SUM(I$3:I40)) -> 0
I43: =IF(C43<>"計",ROUNDDOWN(F43*H43,0),SUM(I$3:I42)) -> 0
I45: =IF(C45<>"計",ROUNDDOWN(F45*H45,0),SUM(I$3:I44)) -> 0
I47: =IF(C47<>"計",ROUNDDOWN(F47*H47,0),SUM(I$3:I46)) -> 0
... I243: =IF(C243<>"計",ROUNDDOWN(F243*H243,0),SUM(I$3:I242)) -> 0
I245: =ROUNDDOWN(F245*H245,0) -> 0
I247: =ROUNDDOWN(F247*H247,0) -> 0
I249: =ROUNDDOWN(F249*H249,0) -> 0
I251: =ROUNDDOWN(F251*H251,0) -> 0
I253: =ROUNDDOWN(F253*H253,0) -> 0
I255: =ROUNDDOWN(F255*H255,0) -> 0
I257: =ROUNDDOWN(F257*H257,0) -> 0
I259: =ROUNDDOWN(F259*H259,0) -> 0
I261: =ROUNDDOWN(F261*H261,0) -> 0
I263: =ROUNDDOWN(F263*H263,0) -> 0
I265: =ROUNDDOWN(F265*H265,0) -> 0
I267: =ROUNDDOWN(F267*H267,0) -> 0
... I395: =ROUNDDOWN(F395*H395,0) -> 0

Sheet 別紙明細2-5-7-1
C3: 名 称 | D3: 摘 要 | F3: 数 量 | G3: 単位 | H3: 単 価 | I3: 金 額 | J3: 備 考
C4: 別紙明細2-5-7-1-1
C5: 発生材処理 | F5: 1 | G5: 式
D8: 運搬費
C9: 発生材処理 | D9: 4tダンプ | E9: 概ね25km | F9: 9.38 | G9: ｔ
C11: 発生材処理 | D11: 安定型混合廃棄物 | F11: 62.64 | G11: ㎥
C15: 計
I25: =IF(C25<>"計",ROUNDDOWN(F25*H25,0),SUM(I$3:I24)) -> 0
I27: =IF(C27<>"計",ROUNDDOWN(F27*H27,0),SUM(I$3:I26)) -> 0
I29: =IF(C29<>"計",ROUNDDOWN(F29*H29,0),SUM(I$3:I28)) -> 0
I31: =IF(C31<>"計",ROUNDDOWN(F31*H31,0),SUM(I$3:I30)) -> 0
I33: =IF(C33<>"計",ROUNDDOWN(F33*H33,0),SUM(I$3:I32)) -> 0
I35: =IF(C35<>"計",ROUNDDOWN(F35*H35,0),SUM(I$3:I34)) -> 0
I37: =IF(C37<>"計",ROUNDDOWN(F37*H37,0),SUM(I$3:I36)) -> 0
I39: =IF(C39<>"計",ROUNDDOWN(F39*H39,0),SUM(I$3:I38)) -> 0
I41: =IF(C41<>"計",ROUNDDOWN(F41*H41,0),SUM(I$3:I40)) -> 0
I43: =IF(C43<>"計",ROUNDDOWN(F43*H43,0),SUM(I$3:I42)) -> 0
I45: =IF(C45<>"計",ROUNDDOWN(F45*H45,0),SUM(I$3:I44)) -> 0
I47: =IF(C47<>"計",ROUNDDOWN(F47*H47,0),SUM(I$3:I46)) -> 0
... I243: =IF(C243<>"計",ROUNDDOWN(F243*H243,0),SUM(I$3:I242)) -> 0
I245: =ROUNDDOWN(F245*H245,0) -> 0
I247: =ROUNDDOWN(F247*H247,0) -> 0
I249: =ROUNDDOWN(F249*H249,0) -> 0
I251: =ROUNDDOWN(F251*H251,0) -> 0
I253: =ROUNDDOWN(F253*H253,0) -> 0
I255: =ROUNDDOWN(F255*H255,0) -> 0
I257: =ROUNDDOWN(F257*H257,0) -> 0
I259: =ROUNDDOWN(F259*H259,0) -> 0
I261: =ROUNDDOWN(F261*H261,0) -> 0
I263: =ROUNDDOWN(F263*H263,0) -> 0
I265: =ROUNDDOWN(F265*H265,0) -> 0
I267: =ROUNDDOWN(F267*H267,0) -> 0
... I395: =ROUNDDOWN(F395*H395,0) -> 0
