Workbook

Sheet 調査票②
A2: JDS受入大学要望調査（2026年度）
A3: 調査票② 基本情報
A5: ※調査票①の内容に関し、受入れを想定する研究科／専攻単位でご記入ください（日本語のみ）。 | H5: ←はじめにお読みください。
A6: ※想定されるJDS留学生の受入先が特定の専攻（プログラム）となる場合は、専攻（プログラム）単位で作成願います。
A7: ※複数の対象国・コンポーネントに対し調査票①をご提出いただく場合も、受入れを想定する研究科／専攻（プログラム）及び下記２以降の条件が共通する場合、本調査票②の回答は1件で結構です。
A9: 大学名 | H9: ←以下、水色セルすべてにご記入ください。
A10: 研究科名
A11: 専攻、コース、プログラム名
A12: 所在地 | B12: 郵便番号
B13: 住所
A14: 調査票②に関するご担当窓口 | B14: 部署名
B15: 役職
B16: 名前
B17: TEL
B18: mail
A19: 結果通知文書に記載する方の情報 (研究科長、教授、事務局長等に相当する方が望ましい。) | B19: 部署名 | H19: ←後日、弊機構無償資金協力部長名で結果通知書を発出いたします。 通知文書に記載する方(研究科長、教授、事務局長に相当する方が望ましい)の情報をご記入ください。 通知文書は、弊機構無償資金協力部担当者より、ご担当窓口のメールアドレスにお送りします。
B20: 役職
B21: 名前
A23: 以下３点について同意いただいた上で、１～５をご記入ください。
A24: ●入学月は9月もしくは10月の秋入学である | G24: （チェックボックスにチェックを入れてください）
A25: ●対象コースにおいて、JDS留学生は英語で受講可能な科目のみを履修することで、卒業に必要な単位を取得することが可能である | G25: 同意します。
A26: ●JDS独自の選考方法への対応が可能である。 ①書類審査（大学教員）：JDS専用応募書類にて選考 12-1月頃 ②専門面接（大学教員）：1-2月頃 ③最終面接（最終合格者は運営委員会で選定し、決定）：3月頃 ④大学での受入確定（正規入学願書提出）3-5月頃 ※④の段階で、③の合格者を不合格にはできません。 | G26: FALSE
A28: １．応募される対象国・コンポーネント（開発課題）について
A29: 国名、コンポーネント名 | E29: 非表示 | F29: １期(バッチ)当たり 受入許容人数 | G29: 次期(バッチ)合計 （自動計算） | H29: ←（自動計算）モンゴル、ウズベキスタン、タジキスタンは１期当たり人数x３、キルギスは１期当たり人数x４
E30: =IF(A30="","",VLOOKUP(A30,【JICA使用】国別コンポーネント一覧2026!$A$3:$C$18,3,FALSE)) | G30: =IF(A30="","",F30*E30) | H30: ←「国名、コンポーネント名」（黄色セルに入力）は、プルダウンリストから選択
E31: =IF(A31="","",VLOOKUP(A31,【JICA使用】国別コンポーネント一覧2026!$A$3:$C$18,3,FALSE)) | G31: =IF(A31="","",F31*E31) | H31: ←水色セル欄に、貴学/研究科における１期当たりの受入許容人数を、ご記入ください。
E32: =IF(A32="","",VLOOKUP(A32,【JICA使用】国別コンポーネント一覧2026!$A$3:$C$18,3,FALSE)) | G32: =IF(A32="","",F32*E32)
E33: =IF(A33="","",VLOOKUP(A33,【JICA使用】国別コンポーネント一覧2026!$A$3:$C$18,3,FALSE)) | G33: =IF(A33="","",F33*E33)
E34: =IF(A34="","",VLOOKUP(A34,【JICA使用】国別コンポーネント一覧2026!$A$3:$C$18,3,FALSE)) | G34: =IF(A34="","",F34*E34)
E35: =IF(A35="","",VLOOKUP(A35,【JICA使用】国別コンポーネント一覧2026!$A$3:$C$18,3,FALSE)) | G35: =IF(A35="","",F35*E35)
E36: =IF(A36="","",VLOOKUP(A36,【JICA使用】国別コンポーネント一覧2026!$A$3:$C$18,3,FALSE)) | G36: =IF(A36="","",F36*E36)
E37: =IF(A37="","",VLOOKUP(A37,【JICA使用】国別コンポーネント一覧2026!$A$3:$C$18,3,FALSE)) | G37: =IF(A37="","",F37*E37)
E38: =IF(A38="","",VLOOKUP(A38,【JICA使用】国別コンポーネント一覧2026!$A$3:$C$18,3,FALSE)) | G38: =IF(A38="","",F38*E38)
E39: =IF(A39="","",VLOOKUP(A39,【JICA使用】国別コンポーネント一覧2026!$A$3:$C$18,3,FALSE)) | G39: =IF(A39="","",F39*E39) | H39: ←調査票①を10件以上提出される場合には、行を挿入（追加）してください。
A40: 上記の提案全体での大学／研究科での受入許容人数 | H40: ←水色セルに、提案全体での貴学/研究科における１期当たりの受入許容人数をご記入ください。
A42: ２．コース開設状況
A43: 対象コースの全体科目数 | B43: 【必修】 | G43: 科目 | H43: ←水色セルに数字をご記入ください。
B44: 【選択】 | G44: 科目 | H44: ←水色セルに数字をご記入ください。
A45: 対象コースでJDS留学生が英語で受講可能な 科目数 | B45: 【必修】 | G45: 科目 | H45: ←水色セルに数字をご記入ください。
B46: 【選択】 | G46: 科目 | H46: ←水色セルに数字をご記入ください。
...

Sheet 【JICA使用】国別コンポーネント一覧2026
A1: 【対象国・コンポーネント（開発課題）一覧】
A3: モンゴル 1-1-1 公共財政管理 | B3: MO1-1-1 | C3: 3
A4: モンゴル 1-1-2 金融政策と資本市場政策 | B4: MO1-1-2 | C4: 3
A5: モンゴル 1-2-1 公共政策 | B5: MO1-2-1 | C5: 3
A6: モンゴル 1-2-2 ビジネス/経済/国際法整備 | B6: MO1-2-2 | C6: 3
A7: モンゴル 2-1 国内産業の強化と輸出産品の多様化 | B7: MO2-1 | C7: 3
A8: モンゴル 2-2 持続可能なエネルギー開発・政策 | B8: MO2-2 | C8: 3
A9: ウズベキスタン 1-1 国際公共政策 | B9: UZ1-1 | C9: 3
A10: ウズベキスタン 1-2 法の支配／法秩序構築 | B10: UZ1-2 | C10: 3
A11: ウズベキスタン 2-1 産業開発／多角化 | B11: UZ2-1 | C11: 3
A12: ウズベキスタン 2-2 公共経営 | B12: UZ2-2 | C12: 3
A13: タジキスタン 1 国際関係 | B13: TA1 | C13: 3
A14: タジキスタン 2 経済開発 | B14: TA2 | C14: 3
... A17: キルギス 2-1 経済政策/ビジネス振興政策 | B17: KZ2-1 | C17: 4
A21: シート保護解除PW：ｊｄｓ
A24: TOEFL
A25: TOEIC
A26: IELTS
A27: その他

Sheet 【JICA使用】マスタコピー用2026
A1: 通知文書番号 | B1: 番号 | C1: 大学名 | D1: 研究科名 | E1: 専攻、コース、プログラム名 | F1: 郵便番号 | G1: 住所 | H1: 連絡先(担当窓口) | M1: 結果通知書宛先 | P1: 応募国と応募コンポーネント(作業用) | Z1: 応募国と応募コンポーネント(転記用) | AJ1: 応募コンポーネント受入人数(転記用)
H2: 部署名 | I2: 役職 | J2: 名前 | K2: TEL | L2: mail | M2: 部署名 | N2: 役職 | O2: 名前 | P2: ① | Q2: ② | R2: ③ | S2: ④ | T2: ⑤ | U2: ⑥ | V2: ⑦ | W2: ⑧ | X2: ⑨ | Y2: ⑩ | Z2: ① | AA2: ② | AB2: ③ | AC2: ④ | AD2: ⑤ | AE2: ⑥ | AF2: ⑦ | AG2: ⑧ | AH2: ⑨ | AI2: ⑩ | AJ2: ① | AK2: ② | AL2: ③ | AM2: ④ | AN2: ⑤ | AO2: ⑥ | AP2: ⑦ | AQ2: ⑧ | AR2: ⑨ | AS2: ⑩ | AT2: 最終結果 | AU2: (差し込み印刷用) 応募国① | AV2: (差し込み印刷用) 応募コンポーネント名① | AW2: (差し込み印刷用) 応募国② ※ベタ打ち | AX2: (差し込み印刷用) 応募コンポーネント名② ※ベタ打ち | AY2: (差し込み印刷用) 受入国 | AZ2: (差し込み印刷用) 受入コンポーネント名 | BA2: 備考
C3: =調査票②!C9 -> 0 | D3: =調査票②!C10 -> 0 | E3: =調査票②!C11 -> 0 | F3: =調査票②!C12 -> 0 | G3: =調査票②!C13 -> 0 | H3: =調査票②!C14 -> 0 | I3: =調査票②!C15 -> 0 | J3: =調査票②!C16 -> 0 | K3: =調査票②!C17 -> 0 | L3: =調査票②!C18 -> 0 | M3: =調査票②!C19 -> 0 | N3: =調査票②!C20 -> 0 | O3: =調査票②!C21 -> 0 | P3: =調査票②!$A30 -> 0 | Q3: =調査票②!$A31 -> 0 | R3: =調査票②!$A32 -> 0 | S3: =調査票②!$A33 -> 0 | T3: =調査票②!$A34 -> 0 | U3: =調査票②!$A35 -> 0 | V3: =調査票②!$A36 -> 0 | W3: =調査票②!$A37 -> 0 | X3: =調査票②!$A38 -> 0 | Y3: =調査票②!$A39 -> 0 | Z3: =VLOOKUP(P$3,【JICA使用】国別コンポーネント一覧2026!$A$3:$C$18,2,0) -> #N/A | AA3: =VLOOKUP(Q$3,【JICA使用】国別コンポーネント一覧2026!$A$3:$C$18,2,0) -> #N/A | AB3: =VLOOKUP(R$3,【JICA使用】国別コンポーネント一覧2026!$A$3:$C$18,2,0) -> #N/A | AC3: =VLOOKUP(S$3,【JICA使用】国別コンポーネント一覧2026!$A$3:$C$18,2,0) -> #N/A | AD3: =VLOOKUP(T$3,【JICA使用】国別コンポーネント一覧2026!$A$3:$C$18,2,0) -> #N/A | AE3: =VLOOKUP(U$3,【JICA使用】国別コンポーネント一覧2026!$A$3:$C$18,2,0) -> #N/A | AF3: =VLOOKUP(V$3,【JICA使用】国別コンポーネント一覧2026!$A$3:$C$18,2,0) -> #N/A | AG3: =VLOOKUP(W$3,【JICA使用】国別コンポーネント一覧2026!$A$3:$C$18,2,0) -> #N/A | ... AI3: =VLOOKUP(Y$3,【JICA使用】国別コンポーネント一覧2026!$A$3:$C$18,2,0) -> #N/A | AJ3: =調査票②!$F30 -> 0 | AK3: =調査票②!$F31 -> 0 | AL3: =調査票②!$F32 -> 0 | AM3: =調査票②!$F33 -> 0 | AN3: =調査票②!$F34 -> 0 | AO3: =調査票②!$F35 -> 0 | AP3: =調査票②!$F36 -> 0 | AQ3: =調査票②!$F37 -> 0 | AR3: =調査票②!$F38 -> 0 | AS3: =調査票②!$F39 -> 0
